{"text_format":"3","workbook":"xlsx","n_sheets":14,"sheets":["Початок","Сер-09","Вер-09","Жов-09","Лис-09","Гру-09","Січ-10","Лют-10","Бер-10","Кві-10","Тра-10","Чер-10","Лип-10","Сер-10"],"not_rendered":{"images":5,"defined_names":14},"read":"whole","date_system":"1900"}

{"sheet":"Початок","index":0,"n_rows":10,"n_cols":8,"rows_kept":10,"merged":[[1,6,1,7],[3,1,8,2],[3,3,3,5],[3,6,8,7],[9,1,10,5],[9,6,10,6],[9,7,10,7],[11,1,14,7]]}
[]
[{"$nulls":6},"2009 | 2010"]
[]
[]
[{"$nulls":4},"Серпень\nВересень\nЖовтень"]
[{"$nulls":4},"Листопад\nГрудень\nСічень"]
[{"$nulls":4},"Лютий\nБерезень\nКвітень"]
[{"$nulls":4},"Травень\nЧервень\nЛипень"]
[{"$nulls":4},"Серпень"]
[null,"С е р п е н ь   2 0 0 9  -  С е р п е н ь  2 0 1 0",{"$nulls":5},"П о ч а т о к"]

{"sheet":"Сер-09","index":1,"n_rows":13,"n_cols":8,"rows_kept":13,"merged":[[1,1,1,5],[1,6,1,7],[9,1,9,5],[9,6,10,6],[9,7,10,7],[10,1,10,2],[10,3,10,5],[11,3,14,6],[11,7,13,7]]}
[]
[{"$nulls":6},"Серпень"]
[null,"ПН","ВТ","СР","ЧТ","ПТ","СБ","НД"]
[]
[]
[]
[]
[]
[]
[{"$nulls":6},"Додому","Наступний"]
[null,"Розклади та записи"]
[null,"Цього місяця",{"$f":"COUNTA(B4:H9)","v":0}]
[null,"Наступного місяця",{"$f":"COUNTA('Вер-09'!B4:H8)","v":0}]

{"sheet":"Вер-09","index":2,"n_rows":13,"n_cols":8,"rows_kept":13,"merged":[[1,1,1,5],[1,6,1,7],[8,1,8,5],[8,6,9,6],[8,7,9,7],[9,1,9,2],[9,3,9,5],[10,3,13,6],[10,7,12,7]]}
[]
[{"$nulls":6},"Вересень"]
[null,"ПН","ВТ","СР","ЧТ","ПТ","СБ","НД"]
[]
[]
[]
[]
[]
[{"$nulls":6},"Попередній","Наступний"]
[null,"Розклади та записи"]
[null,"Цього місяця",{"$f":"COUNTA(B4:H8)","v":0}]
[null,"Попереднього місяця",{"$f":"COUNTA('Сер-09'!B4:H9)","v":0}]
[null,"Наступного місяця",{"$f":"COUNTA('Жов-09'!B4:H8)","v":0}]

{"sheet":"Жов-09","index":3,"n_rows":13,"n_cols":8,"rows_kept":13,"merged":[[1,1,1,5],[1,6,1,7],[8,1,8,5],[8,6,9,6],[8,7,9,7],[9,1,9,2],[9,3,9,5],[10,3,13,6],[10,7,12,7]]}
[]
[{"$nulls":6},"Жовтень"]
[null,"ПН","ВТ","СР","ЧТ","ПТ","СБ","НД"]
[]
[]
[]
[]
[]
[{"$nulls":6},"Попередній","Наступний"]
[null,"Розклади та записи"]
[null,"Цього місяця",{"$f":"COUNTA(B4:H8)","v":0}]
[null,"Попереднього місяця",{"$f":"COUNTA('Вер-09'!B4:H8)","v":0}]
[null,"Наступного місяця",{"$f":"COUNTA('Лис-09'!B4:H9)","v":0}]

{"sheet":"Лис-09","index":4,"n_rows":14,"n_cols":8,"rows_kept":14,"merged":[[1,1,1,5],[1,6,1,7],[9,1,9,5],[9,6,10,6],[9,7,10,7],[10,1,10,2],[10,3,10,5],[11,3,14,6],[11,7,13,7]]}
[]
[{"$nulls":6},"Листопад"]
[null,"ПН","ВТ","СР","ЧТ","ПТ","СБ","НД"]
[]
[]
[]
[]
[]
[]
[{"$nulls":6},"Попередній","Наступний"]
[null,"Розклади та записи"]
[null,"Цього місяця",{"$f":"COUNTA(B4:H9)","v":0}]
[null,"Попереднього місяця",{"$f":"COUNTA('Жов-09'!B4:H8)","v":0}]
[null,"Наступного місяця",{"$f":"COUNTA('Гру-09'!B4:H8)","v":0}]

{"sheet":"Гру-09","index":5,"n_rows":13,"n_cols":8,"rows_kept":13,"merged":[[1,1,1,5],[1,6,1,7],[8,1,8,5],[8,6,9,6],[8,7,9,7],[9,1,9,2],[9,3,9,5],[10,3,13,6],[10,7,12,7]]}
[]
[{"$nulls":6},"Грудень"]
[null,"ПН","ВТ","СР","ЧТ","ПТ","СБ","НД"]
[]
[]
[]
[]
[]
[{"$nulls":6},"Попередній","Наступний"]
[null,"Розклади та записи"]
[null,"Цього місяця",{"$f":"COUNTA(B4:H8)","v":0}]
[null,"Попереднього місяця",{"$f":"COUNTA('Лис-09'!B4:H9)","v":0}]
[null,"Наступного місяця",{"$f":"COUNTA('Січ-10'!B4:H8)","v":0}]

{"sheet":"Січ-10","index":6,"n_rows":13,"n_cols":8,"rows_kept":13,"merged":[[1,1,1,5],[1,6,1,7],[8,1,8,5],[8,6,9,6],[8,7,9,7],[9,1,9,2],[9,3,9,5],[10,3,13,6],[10,7,12,7]]}
[]
[{"$nulls":6},"Січень"]
[null,"ПН","ВТ","СР","ЧТ","ПТ","СБ","НД"]
[]
[]
[]
[]
[]
[{"$nulls":6},"Попередній","Наступний"]
[null,"Розклади та записи"]
[null,"Цього місяця",{"$f":"COUNTA(B4:H8)","v":0}]
[null,"Попереднього місяця",{"$f":"COUNTA('Гру-09'!B4:H8)","v":0}]
[null,"Наступного місяця",{"$f":"COUNTA('Лют-10'!B4:H7)","v":0}]

{"sheet":"Лют-10","index":7,"n_rows":12,"n_cols":8,"rows_kept":12,"merged":[[1,1,1,5],[1,6,1,7],[7,1,7,5],[7,6,8,6],[7,7,8,7],[8,1,8,2],[8,3,8,5],[9,3,12,6],[9,7,11,7]]}
[]
[{"$nulls":6},"Лютий"]
[null,"ПН","ВТ","СР","ЧТ","ПТ","СБ","НД"]
[]
[]
[]
[]
[{"$nulls":6},"Попередній","Наступний"]
[null,"Розклади та записи"]
[null,"Цього місяця",{"$f":"COUNTA(B4:H7)","v":0}]
[null,"Попереднього місяця",{"$f":"COUNTA('Січ-10'!B4:H8)","v":0}]
[null,"Наступного місяця",{"$f":"COUNTA('Бер-10'!B4:H8)","v":0}]

{"sheet":"Бер-10","index":8,"n_rows":13,"n_cols":8,"rows_kept":13,"merged":[[1,1,1,5],[1,6,1,7],[8,1,8,5],[8,6,9,6],[8,7,9,7],[9,1,9,2],[9,3,9,5],[10,3,13,6],[10,7,12,7]]}
[]
[{"$nulls":6},"Березень"]
[null,"ПН","ВТ","СР","ЧТ","ПТ","СБ","НД"]
[]
[]
[]
[]
[]
[{"$nulls":6},"Попередній","Наступний"]
[null,"Розклади та записи"]
[null,"Цього місяця",{"$f":"COUNTA(B4:H8)","v":0}]
[null,"Попереднього місяця",{"$f":"COUNTA('Лют-10'!B4:H7)","v":0}]
[null,"Наступного місяця",{"$f":"COUNTA('Кві-10'!B4:H8)","v":0}]

{"sheet":"Кві-10","index":9,"n_rows":13,"n_cols":8,"rows_kept":13,"merged":[[1,1,1,5],[1,6,1,7],[8,1,8,5],[8,6,9,6],[8,7,9,7],[9,1,9,2],[9,3,9,5],[10,3,13,6],[10,7,12,7]]}
[]
[{"$nulls":6},"Квітень"]
[null,"ПН","ВТ","СР","ЧТ","ПТ","СБ","НД"]
[]
[]
[]
[]
[]
[{"$nulls":6},"Попередній","Наступний"]
[null,"Розклади та записи"]
[null,"Цього місяця",{"$f":"COUNTA(B4:H8)","v":0}]
[null,"Попереднього місяця",{"$f":"COUNTA('Бер-10'!B4:H8)","v":0}]
[null,"Наступного місяця",{"$f":"COUNTA('Тра-10'!B4:H9)","v":0}]

{"sheet":"Тра-10","index":10,"n_rows":14,"n_cols":8,"rows_kept":14,"merged":[[1,1,1,5],[1,6,1,7],[9,1,9,5],[9,6,10,6],[9,7,10,7],[10,1,10,2],[10,3,10,5],[11,3,14,6],[11,7,13,7]]}
[]
[{"$nulls":6},"Травень"]
[null,"ПН","ВТ","СР","ЧТ","ПТ","СБ","НД"]
[]
[]
[]
[]
[]
[]
[{"$nulls":6},"Попередній","Наступний"]
[null,"Розклади та записи"]
[null,"Цього місяця",{"$f":"COUNTA(B4:H9)","v":0}]
[null,"Попереднього місяця",{"$f":"COUNTA('Кві-10'!B4:H8)","v":0}]
[null,"Наступного місяця",{"$f":"COUNTA('Чер-10'!B4:H8)","v":0}]

{"sheet":"Чер-10","index":11,"n_rows":13,"n_cols":8,"rows_kept":13,"merged":[[1,1,1,5],[1,6,1,7],[8,1,8,5],[8,6,9,6],[8,7,9,7],[9,1,9,2],[9,3,9,5],[10,3,13,6],[10,7,12,7]]}
[]
[{"$nulls":6},"Червень"]
[null,"ПН","ВТ","СР","ЧТ","ПТ","СБ","НД"]
[]
[]
[]
[]
[]
[{"$nulls":6},"Попередній","Наступний"]
[null,"Розклади та записи"]
[null,"Цього місяця",{"$f":"COUNTA(B4:H8)","v":0}]
[null,"Попереднього місяця",{"$f":"COUNTA('Тра-10'!B4:H9)","v":0}]
[null,"Наступного місяця",{"$f":"COUNTA('Лип-10'!B4:H8)","v":0}]

{"sheet":"Лип-10","index":12,"n_rows":13,"n_cols":8,"rows_kept":13,"merged":[[1,1,1,5],[1,6,1,7],[8,1,8,5],[8,6,9,6],[8,7,9,7],[9,1,9,2],[9,3,9,5],[10,3,13,6],[10,7,12,7]]}
[]
[{"$nulls":6},"Липень"]
[null,"ПН","ВТ","СР","ЧТ","ПТ","СБ","НД"]
[]
[]
[]
[]
[]
[{"$nulls":6},"Попередній","Наступний"]
[null,"Розклади та записи"]
[null,"Цього місяця",{"$f":"COUNTA(B4:H8)","v":0}]
[null,"Попереднього місяця",{"$f":"COUNTA('Лип-10'!B4:H8)","v":0}]
[null,"Наступного місяця",{"$f":"COUNTA('Сер-10'!B4:H8)","v":0}]

{"sheet":"Сер-10","index":13,"n_rows":13,"n_cols":8,"rows_kept":13,"merged":[[1,1,1,5],[1,6,1,7],[9,1,9,5],[9,6,10,6],[9,7,10,7],[10,1,10,2],[10,3,10,5],[11,3,14,6],[11,7,13,7]]}
[]
[{"$nulls":6},"Серпень"]
[null,"ПН","ВТ","СР","ЧТ","ПТ","СБ","НД"]
[]
[]
[]
[]
[]
[]
[{"$nulls":6},"Попередній","Додому"]
[null,"Розклади та записи"]
[null,"Цього місяця",{"$f":"COUNTA(B4:H8)","v":0}]
[null,"Попереднього місяця",{"$f":"COUNTA('Лип-10'!B4:H8)","v":0}]