{"text_format":"3","workbook":"xlsx","n_sheets":2,"sheets":["Foaie de pontaj pentru angajați","Căutare_ZiSăptămână"],"not_rendered":{"defined_names":27},"read":"whole","date_system":"1900"}

{"sheet":"Foaie de pontaj pentru angajați","index":0,"n_rows":36,"n_cols":26,"rows_kept":36,"merged":[[0,1,2,4],[0,5,2,9],[0,10,2,14],[0,15,3,23],[0,24,3,24],[3,1,3,3],[3,5,3,9],[3,10,3,14],[4,1,6,3],[4,4,6,6],[5,14,7,14],[5,22,7,22],[5,23,7,23],[5,24,7,24],[21,1,21,6],[22,1,23,3],[22,4,23,6],[23,14,24,14],[23,22,24,22],[23,23,24,23],[23,24,24,24],[32,1,32,6],[32,24,33,24],[32,25,33,25],[33,1,33,6],[34,1,34,6],[35,1,35,3],[35,4,35,5],[35,6,35,7],[35,8,35,14],[35,15,35,16],[35,17,35,23]]}
[null,"FOAIE DE PONTAJ PENTRU ANGAJAȚI",{"$nulls":3},"Nume angajat",{"$nulls":9},"Selectați Da în celula din dreapta, dacă este necesară \nautorizarea pentru ore suplimentare"]
[]
[]
[null,"Data de sfârșit a statului de plată",null,null,{"$f":"V7","v":"2025-06-14"},"Număr angajat"]
[null,"ORE NORMALE:",null,null,"Data:"]
[{"$nulls":14},"Total\nore normale\nsăptămâna 1",{"$nulls":7},"Total\nore normale\nsăptămâna 2","Total\nore\nnormale","Stat de plată\n(folosiți doar\ncodul de plată)"]
[{"$nulls":7},"2025-06-01",{"$f":"O_Zi+1","v":"2025-06-02"},{"$f":"O_Zi+2","v":"2025-06-03"},{"$f":"O_Zi+3","v":"2025-06-04"},{"$f":"O_Zi+4","v":"2025-06-05"},{"$f":"O_Zi+5","v":"2025-06-06"},{"$f":"O_Zi+6","v":"2025-06-07"},null,{"$f":"O_Zi+7","v":"2025-06-08"},{"$f":"O_Zi+8","v":"2025-06-09"},{"$f":"O_Zi+9","v":"2025-06-10"},{"$f":"O_Zi+10","v":"2025-06-11"},{"$f":"O_Zi+11","v":"2025-06-12"},{"$f":"O_Zi+12","v":"2025-06-13"},{"$f":"O_Zi+13","v":"2025-06-14"}]
[null,"Activitate","Loc","Număr comandă de lucru","Descriere activitate","Denumirea funcției","Nr. funcție",{"$f":"VLOOKUP(WEEKDAY(O_Zi),Căutare_ZiSăptămână!$B$2:$C$8,2)","v":"Dum"},{"$f":"VLOOKUP(WEEKDAY(I7),Căutare_ZiSăptămână!$B$2:$C$8,2)","v":"Lun"},{"$f":"VLOOKUP(WEEKDAY(J7),Căutare_ZiSăptămână!$B$2:$C$8,2)","v":"Mar"},{"$f":"VLOOKUP(WEEKDAY(K7),Căutare_ZiSăptămână!$B$2:$C$8,2)","v":"Mie"},{"$f":"VLOOKUP(WEEKDAY(L7),Căutare_ZiSăptămână!$B$2:$C$8,2)","v":"Joi"},{"$f":"VLOOKUP(WEEKDAY(M7),Căutare_ZiSăptămână!$B$2:$C$8,2)","v":"Vin"},{"$f":"VLOOKUP(WEEKDAY(N7),Căutare_ZiSăptămână!$B$2:$C$8,2)","v":"Sâm"},null,{"$f":"VLOOKUP(WEEKDAY(P7),Căutare_ZiSăptămână!$B$2:$C$8,2)","v":"Dum"},{"$f":"VLOOKUP(WEEKDAY(Q7),Căutare_ZiSăptămână!$B$2:$C$8,2)","v":"Lun"},{"$f":"VLOOKUP(WEEKDAY(R7),Căutare_ZiSăptămână!$B$2:$C$8,2)","v":"Mar"},{"$f":"VLOOKUP(WEEKDAY(S7),Căutare_ZiSăptămână!$B$2:$C$8,2)","v":"Mie"},{"$f":"VLOOKUP(WEEKDAY(T7),Căutare_ZiSăptămână!$B$2:$C$8,2)","v":"Joi"},{"$f":"VLOOKUP(WEEKDAY(U7),Căutare_ZiSăptămână!$B$2:$C$8,2)","v":"Vin"},{"$f":"VLOOKUP(WEEKDAY(V7),Căutare_ZiSăptămână!$B$2:$C$8,2)","v":"Sâm"}]
[{"$nulls":14},{"$f":"SUM(H9:N9)","v":{"v":0,"d":"0.00"}},{"$nulls":7},{"$f":"SUM(P9:V9)","v":{"v":0,"d":"0.00"}},{"$f":"O9+W9","v":{"v":0,"d":"0.00"}}]
[{"$nulls":14},{"v":0,"d":"0.00"},{"$nulls":7},{"v":0,"d":"0.00"},{"v":0,"d":"0.00"}]
[{"$nulls":14},{"v":0,"d":"0.00"},{"$nulls":7},{"v":0,"d":"0.00"},{"v":0,"d":"0.00"}]
[{"$nulls":14},{"v":0,"d":"0.00"},{"$nulls":7},{"v":0,"d":"0.00"},{"v":0,"d":"0.00"}]
[{"$nulls":14},{"v":0,"d":"0.00"},{"$nulls":7},{"v":0,"d":"0.00"},{"v":0,"d":"0.00"}]
[{"$nulls":14},{"v":0,"d":"0.00"},{"$nulls":7},{"v":0,"d":"0.00"},{"v":0,"d":"0.00"}]
[{"$nulls":14},{"v":0,"d":"0.00"},{"$nulls":7},{"v":0,"d":"0.00"},{"v":0,"d":"0.00"}]
[{"$nulls":14},{"$f":"SUM(H16:N16)","v":{"v":0,"d":"0.00"}},{"$nulls":7},{"$f":"SUM(P16:V16)","v":{"v":0,"d":"0.00"}},{"$f":"O16+W16","v":{"v":0,"d":"0.00"}}]
[{"$nulls":14},{"v":0,"d":"0.00"},{"$nulls":7},{"v":0,"d":"0.00"},{"v":0,"d":"0.00"}]
[{"$nulls":14},{"v":0,"d":"0.00"},{"$nulls":7},{"v":0,"d":"0.00"},{"v":0,"d":"0.00"}]
[{"$nulls":14},{"v":0,"d":"0.00"},{"$nulls":7},{"v":0,"d":"0.00"},{"v":0,"d":"0.00"}]
[{"$nulls":14},{"v":0,"d":"0.00"},{"$nulls":7},{"v":0,"d":"0.00"},{"v":0,"d":"0.00"}]
[{"$nulls":14},{"v":0,"d":"0.00"},{"$nulls":7},{"v":0,"d":"0.00"},{"v":0,"d":"0.00"}]
[null,"Total ore normale   ",{"$nulls":5},{"$f":"SUM(H9:H21)","v":{"v":0,"d":"0.00"}},{"v":0,"d":"0.00"},{"v":0,"d":"0.00"},{"v":0,"d":"0.00"},{"v":0,"d":"0.00"},{"v":0,"d":"0.00"},{"v":0,"d":"0.00"},{"v":0,"d":"0.00"},{"v":0,"d":"0.00"},{"$f":"SUM(Q9:Q21)","v":{"v":0,"d":"0.00"}},{"v":0,"d":"0.00"},{"v":0,"d":"0.00"},{"v":0,"d":"0.00"},{"v":0,"d":"0.00"},{"v":0,"d":"0.00"},{"$f":"SUM(W9:W21)","v":{"v":0,"d":"0.00"}},{"$f":"SUM(X9:X21)","v":{"v":0,"d":"0.00"}}]
[null,"ORE SUPLIMENTARE:",null,null,"Data:"]
[{"$nulls":7},{"$f":"O_Zi","v":"2025-06-01"},{"$f":"O_Zi+1","v":"2025-06-02"},{"$f":"O_Zi+2","v":"2025-06-03"},{"$f":"O_Zi+3","v":"2025-06-04"},{"$f":"O_Zi+4","v":"2025-06-05"},{"$f":"O_Zi+5","v":"2025-06-06"},{"$f":"O_Zi+6","v":"2025-06-07"},"Ore suplimentare săptămâna 1",{"$f":"O_Zi+7","v":"2025-06-08"},{"$f":"O_Zi+8","v":"2025-06-09"},{"$f":"O_Zi+9","v":"2025-06-10"},{"$f":"O_Zi+10","v":"2025-06-11"},{"$f":"O_Zi+11","v":"2025-06-12"},{"$f":"O_Zi+12","v":"2025-06-13"},{"$f":"O_Zi+13","v":"2025-06-14"},"Ore suplimentare săptămâna 2","Total ore suplimentare","Cod\nore suplimentare"]
[null,"Activitate","Loc","Număr comandă de lucru","Descriere activitate","Denumirea funcției","Nr. funcție",{"$f":"VLOOKUP(WEEKDAY(O_Zi),Căutare_ZiSăptămână!$B$2:$C$8,2)","v":"Dum"},{"$f":"VLOOKUP(WEEKDAY(I24),Căutare_ZiSăptămână!$B$2:$C$8,2)","v":"Lun"},{"$f":"VLOOKUP(WEEKDAY(J24),Căutare_ZiSăptămână!$B$2:$C$8,2)","v":"Mar"},{"$f":"VLOOKUP(WEEKDAY(K24),Căutare_ZiSăptămână!$B$2:$C$8,2)","v":"Mie"},{"$f":"VLOOKUP(WEEKDAY(L24),Căutare_ZiSăptămână!$B$2:$C$8,2)","v":"Joi"},{"$f":"VLOOKUP(WEEKDAY(M24),Căutare_ZiSăptămână!$B$2:$C$8,2)","v":"Vin"},{"$f":"VLOOKUP(WEEKDAY(N24),Căutare_ZiSăptămână!$B$2:$C$8,2)","v":"Sâm"},null,{"$f":"VLOOKUP(WEEKDAY(P24),Căutare_ZiSăptămână!$B$2:$C$8,2)","v":"Dum"},{"$f":"VLOOKUP(WEEKDAY(Q24),Căutare_ZiSăptămână!$B$2:$C$8,2)","v":"Lun"},{"$f":"VLOOKUP(WEEKDAY(R24),Căutare_ZiSăptămână!$B$2:$C$8,2)","v":"Mar"},{"$f":"VLOOKUP(WEEKDAY(S24),Căutare_ZiSăptămână!$B$2:$C$8,2)","v":"Mie"},{"$f":"VLOOKUP(WEEKDAY(T24),Căutare_ZiSăptămână!$B$2:$C$8,2)","v":"Joi"},{"$f":"VLOOKUP(WEEKDAY(U24),Căutare_ZiSăptămână!$B$2:$C$8,2)","v":"Vin"},{"$f":"VLOOKUP(WEEKDAY(V24),Căutare_ZiSăptămână!$B$2:$C$8,2)","v":"Sâm"}]
[{"$nulls":14},{"$f":"SUM(H26:N26)","v":{"v":0,"d":"0.00"}},{"$nulls":7},{"$f":"SUM(P26:V26)","v":{"v":0,"d":"0.00"}},{"$f":"O26+W26","v":{"v":0,"d":"0.00"}}]
[{"$nulls":14},{"v":0,"d":"0.00"},{"$nulls":7},{"v":0,"d":"0.00"},{"v":0,"d":"0.00"}]
[{"$nulls":14},{"v":0,"d":"0.00"},{"$nulls":7},{"v":0,"d":"0.00"},{"v":0,"d":"0.00"}]
[{"$nulls":14},{"v":0,"d":"0.00"},{"$nulls":7},{"v":0,"d":"0.00"},{"v":0,"d":"0.00"}]
[{"$nulls":14},{"v":0,"d":"0.00"},{"$nulls":7},{"v":0,"d":"0.00"},{"v":0,"d":"0.00"}]
[{"$nulls":14},{"v":0,"d":"0.00"},{"$nulls":7},{"v":0,"d":"0.00"},{"v":0,"d":"0.00"}]
[{"$nulls":14},{"v":0,"d":"0.00"},{"$nulls":7},{"v":0,"d":"0.00"},{"v":0,"d":"0.00"}]
[null,"Total ore suplimentare     ",{"$nulls":5},{"$f":"SUM(H26:H32)","v":{"v":0,"d":"0.00"}},{"v":0,"d":"0.00"},{"v":0,"d":"0.00"},{"v":0,"d":"0.00"},{"v":0,"d":"0.00"},{"v":0,"d":"0.00"},{"v":0,"d":"0.00"},{"$f":"SUM(O26:O32)","v":{"v":0,"d":"0.00"}},{"v":0,"d":"0.00"},{"v":0,"d":"0.00"},{"v":0,"d":"0.00"},{"v":0,"d":"0.00"},{"v":0,"d":"0.00"},{"v":0,"d":"0.00"},{"v":0,"d":"0.00"},{"$f":"SUM(P33:V33)","v":{"v":0,"d":"0.00"}},{"$f":"SUM(X26:X32)","v":{"v":0,"d":"0.00"}},"Total\nnormale\nlucrate","Total\nnormale\nplătite"]
[null,"Compensație pentru orele suplimentare     ",{"$nulls":12},{"$f":"IF(SUM(H34:N34)<=O33,SUM(H34:N34),O33)","v":{"v":0,"d":"0.00"}},{"$nulls":7},{"$f":"IF(SUM(P34:V34)<=W33,SUM(P34:V34),W33)","v":{"v":0,"d":"0.00"}},{"$f":"IF(SUM(Q34:W34)<=X33,SUM(Q34:W34),X33)","v":{"v":0,"d":"0.00"}}]
[null,"Ore suplimentare plătite     ",{"$nulls":5},{"$f":"IF(H33>=H34,H33-H34,H33)","v":{"v":0,"d":"0.00"}},{"$f":"IF(I33>=I34,I33-I34,I33)","v":{"v":0,"d":"0.00"}},{"v":0,"d":"0.00"},{"v":0,"d":"0.00"},{"v":0,"d":"0.00"},{"v":0,"d":"0.00"},{"v":0,"d":"0.00"},{"v":0,"d":"0.00"},{"v":0,"d":"0.00"},{"v":0,"d":"0.00"},{"v":0,"d":"0.00"},{"v":0,"d":"0.00"},{"v":0,"d":"0.00"},{"v":0,"d":"0.00"},{"v":0,"d":"0.00"},{"$f":"IF(W33>=W34,W33-W34,W33)","v":{"v":0,"d":"0.00"}},{"$f":"IF(X33>=X34,X33-X34,X33)","v":{"v":0,"d":"0.00"}},{"$f":"$X$22+$X$33","v":{"v":0,"d":"0.00"}},{"$f":"X22+X35","v":{"v":0,"d":"0.00"}}]
[null,"Angajat ",{"$nulls":4},"Supervizor ",{"$nulls":8},"Supervizor "]

{"sheet":"Căutare_ZiSăptămână","index":1,"n_rows":8,"n_cols":3,"rows_kept":8}
[null,"Număr\nzi","Inițială\nzi"]
[null,1,"Dum"]
[null,2,"Lun"]
[null,3,"Mar"]
[null,4,"Mie"]
[null,5,"Joi"]
[null,6,"Vin"]
[null,7,"Sâm"]