{"text_format":"3","workbook":"xlsx","n_sheets":2,"sheets":["Início","Orçamento de marketing do canal"],"not_rendered":{"images":1,"defined_names":1},"read":"whole","date_system":"1900"}

{"sheet":"Início","index":0,"n_rows":7,"n_cols":2,"rows_kept":7}
[null,"SOBRE ESTE MODELO"]
[null,"Use este modelo para criar um Orçamento de marketing de canal."]
[null,"Insira as Vendas previstas para cada mês e outros detalhes nas tabelas."]
[null,"Os totais são calculados automaticamente e os minigráficos são atualizados."]
[null,"Observação: "]
[null,"Há instruções adicionais na coluna A da planilha ORÇAMENTO DE MARKETING DE CANAL. Este texto está oculto de propósito. Para removê-lo, selecione a coluna A e selecione Excluir. Para reexibir o texto, selecione a coluna A e altere a cor da fonte."]
[null,"Para saber mais sobre tabelas, pressione Shift e F10 dentro de uma tabela, selecione a opção TABELA e, em seguida, selecione TEXTO ALTERNATIVO."]

{"sheet":"Orçamento de marketing do canal","index":1,"n_rows":70,"n_cols":17,"rows_kept":70,"merged":[[0,1,0,19],[1,16,1,19],[2,16,2,19],[4,16,4,19],[5,16,5,19],[30,16,30,19],[31,16,31,19],[32,16,32,19],[33,16,33,17],[34,16,34,19],[35,16,35,19],[36,16,36,19],[37,16,37,19],[38,16,38,19],[39,16,39,19],[40,16,40,19],[41,16,41,17],[48,16,48,17],[61,16,61,17],[67,16,67,17]]}
["Crie o Orçamento de marketing do canal nesta planilha. O título desta planilha está na célula à direita. Há instruções úteis nas células desta coluna. Pressione Seta para baixo para começar. O título desta planilha está na célula à direita."]
["Os rótulos Taxa e Meses estão nesta linha, nas células C2 a O2, e o rótulo Total está na célula T2."," ","Taxa","Mês 1","Mês 2","Mês 3","Mês 4","Mês 5","Mês 6","Mês 7","Mês 8","Mês 9","Mês 10","Mês 11","Mês 12",null,"Total"]
["O rótulo Total de vendas previstas está na célula à direita. Insira as Vendas previstas para cada mês nas células D3 a O3. O total é calculado automaticamente na célula Q3.","TOTAL DE VENDAS PREVISTAS R$ (000)"," ",750,200,500,{"v":1500,"d":"1,500"},{"v":1200,"d":"1,200"},{"v":1500,"d":"1,500"},{"v":1500,"d":"1,500"},{"v":1800,"d":"1,800"},{"v":2000,"d":"2,000"},{"v":2000,"d":"2,000"},{"v":2000,"d":"2,000"},{"v":2000,"d":"2,000"},null,{"$f":"SUM(D3:O3)","v":{"v":16950,"d":"16,950"}}]
["Insira detalhes na tabela Funcionários, começando na célula à direita. O Total de funcionários para cada mês é calculado automaticamente no fim da tabela, e o Total anual na célula Q9. O Minigráfico é atualizado na célula S9. A próxima instrução está na célula A10.","Itens de funcionários","Taxa","Mês 1","Mês 2","Mês 3","Mês 4","Mês 5","Mês 6","Mês 7","Mês 8","Mês 9","Mês 10","Mês 11","Mês 12"]
[null,"FUNCIONÁRIOS (% DO TOTAL DE VENDAS)",null,{"$f":"D11+D36+D44+D51","v":{"v":1.1,"d":"110%"}},{"v":1.1,"d":"110%"},{"$f":"F11+F36+F44+F51","v":{"v":1.1,"d":"110%"}},{"v":1.1,"d":"110%"},{"v":1.1,"d":"110%"},{"v":1.1,"d":"110%"},{"v":1.1,"d":"110%"},{"v":1.1,"d":"110%"},{"v":0.8500000000000001,"d":"85%"},{"v":0.8500000000000001,"d":"85%"},{"v":0.8500000000000001,"d":"85%"},{"v":0.8500000000000001,"d":"85%"}]
[null,"Recursos Humanos ‒ Quantidade de funcionários",5,{"$f":"+$C$6","v":5},5,5,5,5,5,5,5,5,5,5,5]
[null,"Recursos Humanos ‒ Custo",null,{"$f":"$C$6*D6","v":{"v":25,"d":"25.00"}},{"v":25,"d":"25.00"},{"v":25,"d":"25.00"},{"v":25,"d":"25.00"},{"v":25,"d":"25.00"},{"v":25,"d":"25.00"},{"v":25,"d":"25.00"},{"v":25,"d":"25.00"},{"v":25,"d":"25.00"},{"v":25,"d":"25.00"},{"v":25,"d":"25.00"},{"v":25,"d":"25.00"},null,{"$f":"SUM('Orçamento de marketing do canal'!$D7:$O7)","v":{"v":300,"d":"300.00"}}]
[null,"Comissão",{"v":1E-3,"d":"0.10%"},{"$f":"D3*$C$8","v":0.75},{"v":0.2,"d":"0.20"},{"v":0.5,"d":"0.50"},{"v":1.5,"d":"1.50"},{"v":1.2,"d":"1.20"},{"v":1.5,"d":"1.50"},{"v":1.5,"d":"1.50"},{"v":1.8,"d":"1.80"},{"v":2,"d":"2.00"},{"v":2,"d":"2.00"},{"v":2,"d":"2.00"},{"v":2,"d":"2.00"},null,{"$f":"SUM('Orçamento de marketing do canal'!$D8:$O8)","v":{"v":16.950000000000003,"d":"16.95"}}]
[null,"Total de funcionários R$ (000)",null,{"$f":"SUM(D7:D8)","v":25.75},{"$f":"SUM(E7:E8)","v":{"v":25.2,"d":"25.20"}},{"v":25.5,"d":"25.50"},{"v":26.5,"d":"26.50"},{"v":26.2,"d":"26.20"},{"v":26.5,"d":"26.50"},{"v":26.5,"d":"26.50"},{"v":26.8,"d":"26.80"},{"v":27,"d":"27.00"},{"v":27,"d":"27.00"},{"v":27,"d":"27.00"},{"v":27,"d":"27.00"},null,{"$f":"SUM(Q7:Q8)","v":316.95}]
["Insira detalhes na tabela Marketing direto, começando na célula à direita. O Total de telemarketing para cada mês é calculado automaticamente no fim da tabela, e o Total anual na célula Q17. O Minigráfico é atualizado na célula S17. A próxima instrução está na célula A18.","ITENS DE MARKETING DIRETO","Taxa","Mês 1","Mês 2","Mês 3","Mês 4","Mês 5","Mês 6","Mês 7","Mês 8","Mês 9","Mês 10","Mês 11","Mês 12"]
[null,"MARKETING DIRETO (% DO TOTAL DE VENDAS)",null,{"v":1,"d":"100%"},{"v":1,"d":"100%"},{"v":0.75,"d":"75%"},{"v":0.4,"d":"40%"},{"v":0.33,"d":"33%"},{"v":0.25,"d":"25%"},{"v":0.2,"d":"20%"},{"v":0.1,"d":"10%"},{"v":0.05,"d":"5%"},{"v":0.05,"d":"5%"},{"v":0.05,"d":"5%"},{"v":0.05,"d":"5%"}]
[null,"Telemarketing (% das vendas diretas)",null,{"v":1,"d":"100%"},{"v":0.5,"d":"50%"},{"v":0.5,"d":"50%"},{"v":0.5,"d":"50%"},{"v":0.5,"d":"50%"},{"v":0.5,"d":"50%"},{"v":0.5,"d":"50%"},{"v":0.5,"d":"50%"},{"v":0.5,"d":"50%"},{"v":0.5,"d":"50%"},{"v":0.5,"d":"50%"},{"v":0.5,"d":"50%"}]
[null,"Recursos Humanos ‒ Quantidade de funcionários",3,{"$f":"$C$13*D12","v":3},1.5,1.5,1.5,1.5,1.5,1.5,1.5,1.5,1.5,1.5,1.5,null,{"$f":"SUM('Orçamento de marketing do canal'!$D13:$O13)","v":{"v":19.5,"d":"19.50"}}]
[null,"Suporte à infraestrutura",null,25,10,25,10,25,10,25,10,25,10,25,10,null,{"$f":"SUM('Orçamento de marketing do canal'!$D14:$O14)","v":{"v":210,"d":"210.00"}}]
[null,"Comissão",{"v":1E-3,"d":"0.10%"},{"$f":"$C$15*D3*D11*D12","v":0.75},{"v":0.1,"d":"0.10"},{"v":0.1875,"d":"0.19"},{"v":0.30000000000000004,"d":"0.30"},{"v":0.198,"d":"0.20"},{"v":0.1875,"d":"0.19"},{"v":0.15000000000000002,"d":"0.15"},{"v":0.09000000000000001,"d":"0.09"},0.05,0.05,0.05,0.05,null,{"$f":"SUM('Orçamento de marketing do canal'!$D15:$O15)","v":{"v":2.163,"d":"2.16"}}]
[null,"Treinamento",null,25,10,25,10,25,10,25,10,25,10,25,10,null,{"$f":"SUM('Orçamento de marketing do canal'!$D16:$O16)","v":{"v":210,"d":"210.00"}}]
[null,"Total de telemarketing R$ (000)",null,{"$f":"SUM(D13:D16)","v":53.75},{"$f":"SUM(E13:E16)","v":{"v":21.6,"d":"21.60"}},{"$f":"SUM(F13:F16)","v":{"v":51.6875,"d":"51.69"}},{"v":21.8,"d":"21.80"},{"v":51.698,"d":"51.70"},{"v":21.6875,"d":"21.69"},51.65,21.59,51.55,21.55,51.55,21.55,null,{"$f":"SUM(Q13:Q16)","v":{"v":441.663,"d":"441.66"}}]
["Insira detalhes na tabela Marketing da Internet, começando na célula à direita. O Total de marketing da Internet para cada mês é calculado automaticamente no fim da tabela, e o Total anual na célula Q27. O Minigráfico é atualizado na célula S27. A próxima instrução está na célula A28.","ITENS DE MARKETING DA INTERNET","Taxa","Mês 1","Mês 2","Mês 3","Mês 4","Mês 5","Mês 6","Mês 7","Mês 8","Mês 9","Mês 10","Mês 11","Mês 12"]
[null,"MARKETING DA INTERNET (% DE VENDAS DIRETAS)",null,{"v":0.25,"d":"25%"},{"v":0.25,"d":"25%"},{"v":0.25,"d":"25%"},{"v":0.25,"d":"25%"},{"v":0.25,"d":"25%"},{"v":0.25,"d":"25%"},{"v":0.25,"d":"25%"},{"v":0.25,"d":"25%"},{"v":0.25,"d":"25%"},{"v":0.25,"d":"25%"},{"v":0.25,"d":"25%"},{"v":0.25,"d":"25%"}]
[null,"Recursos Humanos ‒ Quantidade de funcionários",1,{"$f":"$C$20*D19","v":0.25},0.25,0.25,0.25,0.25,0.25,0.25,0.25,0.25,0.25,0.25,0.25,null,{"$f":"SUM('Orçamento de marketing do canal'!$D20:$O20)","v":{"v":3,"d":"3.00"}}]
[null,"Desenvolvimento do site (custo único)",null,500,{"$nulls":12},{"$f":"SUM('Orçamento de marketing do canal'!$D21:$O21)","v":{"v":500,"d":"500.00"}}]
[null,"Hospedagem",null,10,10,10,10,10,10,10,10,10,10,10,10,null,{"$f":"SUM('Orçamento de marketing do canal'!$D22:$O22)","v":{"v":120,"d":"120.00"}}]
[null,"Suporte e manutenção",null,25,{"$nulls":9},25,null,null,{"$f":"SUM('Orçamento de marketing do canal'!$D23:$O23)","v":{"v":50,"d":"50.00"}}]
[null,"Facebook",null,null,100,null,100,null,100,null,100,null,100,null,100,null,{"$f":"SUM('Orçamento de marketing do canal'!$D24:$O24)","v":{"v":600,"d":"600.00"}}]
[null,"Twitter",null,100,null,100,null,100,null,100,null,100,null,100,null,null,{"$f":"SUM('Orçamento de marketing do canal'!$D25:$O25)","v":{"v":600,"d":"600.00"}}]
[null,"YouTube",null,null,100,null,100,100,{"$nulls":3},100,100,null,100,null,{"$f":"SUM('Orçamento de marketing do canal'!$D26:$O26)","v":{"v":600,"d":"600.00"}}]
[null,"Total de marketing da Internet R$ (000)",null,{"$f":"SUM(D20:D26)","v":635.25},{"$f":"SUM(E20:E26)","v":210.25},110.25,210.25,210.25,110.25,110.25,110.25,210.25,210.25,135.25,{"$f":"SUM(O20:O26)","v":210.25},null,{"$f":"SUM(Q20:Q26)","v":{"v":2473,"d":"2,473.00"}}]
["Insira detalhes na tabela Mala direta, começando na célula à direita. O Total de mala direta para cada mês é calculado automaticamente no fim da tabela e o Total anual na célula Q34. A próxima instrução está na célula A35.","ITENS DE MALA DIRETA","Taxa","Mês 1","Mês 2","Mês 3","Mês 4","Mês 5","Mês 6","Mês 7","Mês 8","Mês 9","Mês 10","Mês 11","Mês 12"]
[null,"MALA DIRETA (% DAS VENDAS DIRETAS)"]
[null,"Recursos Humanos ‒ Custo",{"$nulls":14},{"$f":"SUM('Orçamento de marketing do canal'!$D30:$O30)","v":{"v":0,"d":"0.00"}}]
[null,"Material",null,1000,1000,1000,1000,1000,1000,1000,1000,1000,1000,1000,1000,null,{"$f":"SUM('Orçamento de marketing do canal'!$D31:$O31)","v":{"v":12000,"d":"12,000.00"}}]
[null,"Postagem",null,250,250,250,250,250,250,250,250,250,250,250,250,null,{"$f":"SUM('Orçamento de marketing do canal'!$D32:$O32)","v":{"v":3000,"d":"3,000.00"}}]
[null,"Total de mala direta R$ (000)",null,{"$f":"SUM(D30:D32)","v":{"v":1250,"d":"1,250.00"}},{"$f":"SUM(E30:E32)","v":{"v":1250,"d":"1,250.00"}},{"v":1250,"d":"1,250.00"},{"v":1250,"d":"1,250.00"},{"v":1250,"d":"1,250.00"},{"v":1250,"d":"1,250.00"},{"v":1250,"d":"1,250.00"},{"v":1250,"d":"1,250.00"},{"v":1250,"d":"1,250.00"},{"v":1250,"d":"1,250.00"},{"v":1250,"d":"1,250.00"},{"v":1250,"d":"1,250.00"},null,{"$f":"SUM(Q30:Q32)","v":{"v":15000,"d":"15,000.00"}}]
["O Total de marketing direto é calculado automaticamente nesta linha, nas células D31 a O31, e o Total anual na célula Q31. O Minigráfico é atualizado na célula S31.","Total de marketing direto R$ (000)",null,{"$f":"SUM(MalaDireta[[#Totals],[Mês 1]],MarketingDaInternet[[#Totals],[Mês 1]],MarketingDireto[[#Totals],[Mês 1]])","v":{"v":1939,"d":"1,939.00"}},{"$f":"SUM(MalaDireta[[#Totals],[Mês 2]],MarketingDaInternet[[#Totals],[Mês 2]],MarketingDireto[[#Totals],[Mês 2]])","v":{"v":1481.85,"d":"1,481.85"}},{"$f":"SUM(MalaDireta[[#Totals],[Mês 3]],MarketingDaInternet[[#Totals],[Mês 3]],MarketingDireto[[#Totals],[Mês 3]])","v":{"v":1411.9375,"d":"1,411.94"}},{"$f":"SUM(MalaDireta[[#Totals],[Mês 4]],MarketingDaInternet[[#Totals],[Mês 4]],MarketingDireto[[#Totals],[Mês 4]])","v":{"v":1482.05,"d":"1,482.05"}},{"$f":"SUM(MalaDireta[[#Totals],[Mês 5]],MarketingDaInternet[[#Totals],[Mês 5]],MarketingDireto[[#Totals],[Mês 5]])","v":{"v":1511.948,"d":"1,511.95"}},{"$f":"SUM(MalaDireta[[#Totals],[Mês 6]],MarketingDaInternet[[#Totals],[Mês 6]],MarketingDireto[[#Totals],[Mês 6]])","v":{"v":1381.9375,"d":"1,381.94"}},{"$f":"SUM(MalaDireta[[#Totals],[Mês 7]],MarketingDaInternet[[#Totals],[Mês 7]],MarketingDireto[[#Totals],[Mês 7]])","v":{"v":1411.9,"d":"1,411.90"}},{"$f":"SUM(MalaDireta[[#Totals],[Mês 8]],MarketingDaInternet[[#Totals],[Mês 8]],MarketingDireto[[#Totals],[Mês 8]])","v":{"v":1381.84,"d":"1,381.84"}},{"$f":"SUM(MalaDireta[[#Totals],[Mês 9]],MarketingDaInternet[[#Totals],[Mês 9]],MarketingDireto[[#Totals],[Mês 9]])","v":{"v":1511.8,"d":"1,511.80"}},{"$f":"SUM(MalaDireta[[#Totals],[Mês 10]],MarketingDaInternet[[#Totals],[Mês 10]],MarketingDireto[[#Totals],[Mês 10]])","v":{"v":1481.8,"d":"1,481.80"}},{"$f":"SUM(MalaDireta[[#Totals],[Mês 11]],MarketingDaInternet[[#Totals],[Mês 11]],MarketingDireto[[#Totals],[Mês 11]])","v":{"v":1436.8,"d":"1,436.80"}},{"$f":"SUM(MalaDireta[[#Totals],[Mês 12]],MarketingDaInternet[[#Totals],[Mês 12]],MarketingDireto[[#Totals],[Mês 12]])","v":{"v":1481.8,"d":"1,481.80"}},null,{"$f":"SUM(Q33,Q27,Q17,Q9)","v":{"v":18231.613,"d":"18,231.61"}}]
["Insira detalhes na tabela Agente corretor, começando na célula à direita. O Total de agente e corretor para cada mês é calculado automaticamente no fim da tabela e o Total anual na célula Q42. O Minigráfico é atualizado na célula S42. A próxima instrução está na célula A43.","AGENTE/AGENTE INTERMEDIÁRIO ITENS","Taxa","Mês 1","Mês 2","Mês 3","Mês 4","Mês 5","Mês 6","Mês 7","Mês 8","Mês 9","Mês 10","Mês 11","Mês 12"]
[null,"AGENTE/CORRETOR (% DO TOTAL DE VENDAS)",null,{"v":0.1,"d":"10%"},{"v":0.1,"d":"10%"},{"v":0.1,"d":"10%"},{"v":0.1,"d":"10%"},{"v":0.1,"d":"10%"},{"v":0.1,"d":"10%"},{"v":0.1,"d":"10%"},{"v":0.1,"d":"10%"},{"v":0.1,"d":"10%"},{"v":0.1,"d":"10%"},{"v":0.1,"d":"10%"},{"v":0.1,"d":"10%"}]
[null,"Comunicação",null,50,50,50,50,50,50,50,50,50,50,50,50,null,{"$f":"SUM('Orçamento de marketing do canal'!$D37:$O37)","v":{"v":600,"d":"600.00"}}]
[null,"Treinamento",null,{"v":250,"d":"250.00"},{"v":250,"d":"250.00"},{"v":250,"d":"250.00"},{"v":250,"d":"250.00"},{"v":250,"d":"250.00"},{"v":250,"d":"250.00"},{"v":250,"d":"250.00"},{"v":250,"d":"250.00"},{"v":250,"d":"250.00"},{"v":250,"d":"250.00"},{"v":250,"d":"250.00"},{"v":250,"d":"250.00"},null,{"$f":"SUM('Orçamento de marketing do canal'!$D38:$O38)","v":{"v":3000,"d":"3,000.00"}}]
[null,"Promoções",null,{"v":600,"d":"600.00"},{"v":600,"d":"600.00"},{"v":600,"d":"600.00"},{"v":600,"d":"600.00"},{"v":600,"d":"600.00"},{"v":600,"d":"600.00"},{"v":600,"d":"600.00"},{"v":600,"d":"600.00"},{"v":600,"d":"600.00"},{"v":600,"d":"600.00"},{"v":600,"d":"600.00"},{"v":600,"d":"600.00"},null,{"$f":"SUM('Orçamento de marketing do canal'!$D39:$O39)","v":{"v":7200,"d":"7,200.00"}}]
[null,"Descontos",{"v":0.1,"d":"10.00%"},{"$f":"D3*D36*$C$40","v":{"v":7.5,"d":"7.50"}},{"v":2,"d":"2.00"},{"v":5,"d":"5.00"},{"v":15,"d":"15.00"},{"v":12,"d":"12.00"},{"v":15,"d":"15.00"},{"v":15,"d":"15.00"},{"v":18,"d":"18.00"},{"v":20,"d":"20.00"},{"v":20,"d":"20.00"},{"v":20,"d":"20.00"},{"v":20,"d":"20.00"},null,{"$f":"SUM('Orçamento de marketing do canal'!$D40:$O40)","v":{"v":169.5,"d":"169.50"}}]
[null,"Comissão (% das vendas do corretor)",{"v":0.1,"d":"10.00%"},{"$f":"D3*D36*$C$41","v":{"v":7.5,"d":"7.50"}},{"v":2,"d":"2.00"},{"v":5,"d":"5.00"},{"v":15,"d":"15.00"},{"v":12,"d":"12.00"},{"v":15,"d":"15.00"},{"v":15,"d":"15.00"},{"v":18,"d":"18.00"},{"v":20,"d":"20.00"},{"v":20,"d":"20.00"},{"v":20,"d":"20.00"},{"v":20,"d":"20.00"},null,{"$f":"SUM('Orçamento de marketing do canal'!$D41:$O41)","v":{"v":169.5,"d":"169.50"}}]
[null,"Total de agente/corretor R$ (000)",null,{"$f":"SUM(D37:D41)","v":{"v":915,"d":"915.00"}},{"$f":"SUM(E37:E41)","v":{"v":904,"d":"904.00"}},{"v":910,"d":"910.00"},{"v":930,"d":"930.00"},{"v":924,"d":"924.00"},{"v":930,"d":"930.00"},{"v":930,"d":"930.00"},{"v":936,"d":"936.00"},{"v":940,"d":"940.00"},{"v":940,"d":"940.00"},{"v":940,"d":"940.00"},{"v":940,"d":"940.00"},null,{"$f":"SUM(Q37:Q41)","v":{"v":11139,"d":"11,139.00"}}]
["Insira detalhes na tabela Distribuidores, começando na célula à direita. O Total de distribuidores para cada mês é calculado automaticamente no fim da tabela, e o Total anual na célula Q49. O Minigráfico é atualizado na célula S49. A próxima instrução está na célula A50.","ITENS DE DISTRIBUIDORES","Taxa","Mês 1","Mês 2","Mês 3","Mês 4","Mês 5","Mês 6","Mês 7","Mês 8","Mês 9","Mês 10","Mês 11","Mês 12"]
[null,"DISTRIBUIDORES (% DO TOTAL DE VENDAS)",null,{"v":0,"d":"0%"},{"v":0,"d":"0%"},{"v":0,"d":"0%"},{"v":0,"d":"0%"},{"v":0,"d":"0%"},{"v":0.15,"d":"15%"},{"v":0.2,"d":"20%"},{"v":0.4,"d":"40%"},{"v":0.4,"d":"40%"},{"v":0.4,"d":"40%"},{"v":0.4,"d":"40%"},{"v":0.4,"d":"40%"}]
[null,"Comunicação",null,50,50,50,50,50,50,50,50,50,50,50,50,null,{"$f":"SUM('Orçamento de marketing do canal'!$D45:$O45)","v":{"v":600,"d":"600.00"}}]
[null,"Treinamento",null,{"v":250,"d":"250.00"},{"v":250,"d":"250.00"},{"v":250,"d":"250.00"},{"v":250,"d":"250.00"},{"v":250,"d":"250.00"},{"v":250,"d":"250.00"},{"v":250,"d":"250.00"},{"v":250,"d":"250.00"},{"v":250,"d":"250.00"},{"v":250,"d":"250.00"},{"v":250,"d":"250.00"},{"v":250,"d":"250.00"},null,{"$f":"SUM(Distribuidores[[#This Row],[Mês 1]:[Mês 12]])","v":{"v":3000,"d":"3,000.00"}}]
[null,"Promoções",null,{"v":600,"d":"600.00"},{"v":600,"d":"600.00"},{"v":600,"d":"600.00"},{"v":600,"d":"600.00"},{"v":600,"d":"600.00"},{"v":600,"d":"600.00"},{"v":600,"d":"600.00"},{"v":600,"d":"600.00"},{"v":600,"d":"600.00"},{"v":600,"d":"600.00"},{"v":600,"d":"600.00"},{"v":600,"d":"600.00"},null,{"$f":"SUM(Distribuidores[[#This Row],[Mês 1]:[Mês 12]])","v":{"v":7200,"d":"7,200.00"}}]
[null,"Comissão/Descontos (% das vendas de distribuidores)",{"v":0.15,"d":"15.00%"},{"$f":"D3*D44*$C$48","v":0},0,0,0,0,33.75,45,108,120,120,120,120,null,{"$f":"SUM(Distribuidores[[#This Row],[Mês 1]:[Mês 12]])","v":666.75}]
[null,"Total de distribuidores R$ (000)",null,{"$f":"SUM(D45:D48)","v":{"v":900,"d":"900.00"}},{"$f":"SUM(E45:E48)","v":{"v":900,"d":"900.00"}},{"v":900,"d":"900.00"},{"v":900,"d":"900.00"},{"v":900,"d":"900.00"},933.75,{"v":945,"d":"945.00"},{"v":1008,"d":"1,008.00"},{"v":1020,"d":"1,020.00"},{"v":1020,"d":"1,020.00"},{"v":1020,"d":"1,020.00"},{"v":1020,"d":"1,020.00"},null,{"$f":"SUM(Q45:Q48)","v":{"v":11466.75,"d":"11,466.75"}}]
["Insira detalhes na tabela Revendedor, começando na célula à direita. O Total de revendedores para cada mês é calculado automaticamente no fim da tabela e o Total anual na célula Q56. O Minigráfico é atualizado na célula S56. A próxima instrução está na célula A57.","ITENS DE VAREJO","Taxa","Mês 1","Mês 2","Mês 3","Mês 4","Mês 5","Mês 6","Mês 7","Mês 8","Mês 9","Mês 10","Mês 11","Mês 12"]
[null,"REVENDEDORES (% DO TOTAL DE VENDAS)",null,{"v":0,"d":"0%"},{"v":0,"d":"0%"},{"v":0.25,"d":"25%"},{"v":0.6,"d":"60%"},{"v":0.67,"d":"67%"},{"v":0.6,"d":"60%"},{"v":0.6,"d":"60%"},{"v":0.5,"d":"50%"},{"v":0.3,"d":"30%"},{"v":0.3,"d":"30%"},{"v":0.3,"d":"30%"},{"v":0.3,"d":"30%"}]
[null,"Comunicação",null,50,50,50,50,50,50,50,50,50,50,50,50]
[null,"Treinamento",null,{"v":250,"d":"250.00"},{"v":250,"d":"250.00"},{"v":250,"d":"250.00"},{"v":250,"d":"250.00"},{"v":250,"d":"250.00"},{"v":250,"d":"250.00"},{"v":250,"d":"250.00"},{"v":250,"d":"250.00"},{"v":250,"d":"250.00"},{"v":250,"d":"250.00"},{"v":250,"d":"250.00"},{"v":250,"d":"250.00"},null,{"$f":"SUM('Orçamento de marketing do canal'!$D52:$O52)","v":{"v":600,"d":"600.00"}}]
[null,"Promoções",null,{"v":600,"d":"600.00"},{"v":600,"d":"600.00"},{"v":600,"d":"600.00"},{"v":600,"d":"600.00"},{"v":600,"d":"600.00"},{"v":600,"d":"600.00"},{"v":600,"d":"600.00"},{"v":600,"d":"600.00"},{"v":600,"d":"600.00"},{"v":600,"d":"600.00"},{"v":600,"d":"600.00"},{"v":600,"d":"600.00"},null,{"$f":"SUM('Orçamento de marketing do canal'!$D53:$O53)","v":{"v":3000,"d":"3,000.00"}}]
[null,"Comissão/Descontos (% das vendas de varejo)",{"v":0.1,"d":"10.00%"},{"$f":"D3*D51*$C$55","v":0},0,12.5,90,80.4,90,90,90,60,60,60,60,null,{"$f":"SUM('Orçamento de marketing do canal'!$D55:$O55)","v":{"v":692.9,"d":"692.90"}}]
[null,"Total de revendedores R$ (000)",null,{"$f":"SUM(D52:D55)","v":{"v":900,"d":"900.00"}},{"$f":"SUM(E52:E55)","v":{"v":900,"d":"900.00"}},{"v":912.5,"d":"912.50"},{"v":990,"d":"990.00"},{"v":980.4,"d":"980.40"},{"v":990,"d":"990.00"},{"v":990,"d":"990.00"},{"v":990,"d":"990.00"},{"v":960,"d":"960.00"},{"v":960,"d":"960.00"},{"v":960,"d":"960.00"},{"v":960,"d":"960.00"},null,{"$f":"SUM(Q53:Q55)","v":{"v":4292.9,"d":"4,292.90"}}]
["Insira detalhes na tabela Aquisição e retenção de clientes, começando na célula à direita. O Total de ARC para cada mês é calculado automaticamente no fim da tabela e o Total anual na célula Q62. O Minigráfico é atualizado na célula S62. A próxima instrução está na célula A63.","ITENS DE AQUISIÇÃO E RETENÇÃO DE CLIENTES (ARC)","Taxa","Mês 1","Mês 2","Mês 3","Mês 4","Mês 5","Mês 6","Mês 7","Mês 8","Mês 9","Mês 10","Mês 11","Mês 12"]
[null,"AQUISIÇÃO E RETENÇÃO DE CLIENTES (ARC)"]
[null,"Recursos humanos",null,50,50,50,50,50,50,50,50,50,50,50,50,null,{"$f":"SUM('Orçamento de marketing do canal'!$D59:$O59)","v":{"v":600,"d":"600.00"}}]
[null,"Comunicações",null,{"v":250,"d":"250.00"},{"v":250,"d":"250.00"},{"v":250,"d":"250.00"},{"v":250,"d":"250.00"},{"v":250,"d":"250.00"},{"v":250,"d":"250.00"},{"v":250,"d":"250.00"},{"v":250,"d":"250.00"},{"v":250,"d":"250.00"},{"v":250,"d":"250.00"},{"v":250,"d":"250.00"},{"v":250,"d":"250.00"},null,{"$f":"SUM('Orçamento de marketing do canal'!$D60:$O60)","v":{"v":3000,"d":"3,000.00"}}]
[null,"Promoções/Cupons",null,600,600,600,600,600,600,600,600,600,600,600,600,null,{"$f":"SUM('Orçamento de marketing do canal'!$D61:$O61)","v":{"v":7200,"d":"7,200.00"}}]
[null,"Total de ARC R$ (000)",null,{"$f":"SUM(D59:D61)","v":{"v":900,"d":"900.00"}},{"$f":"SUM(E59:E61)","v":{"v":900,"d":"900.00"}},{"v":900,"d":"900.00"},{"v":900,"d":"900.00"},{"v":900,"d":"900.00"},{"v":900,"d":"900.00"},{"v":900,"d":"900.00"},{"v":900,"d":"900.00"},{"v":900,"d":"900.00"},{"v":900,"d":"900.00"},{"v":900,"d":"900.00"},{"v":900,"d":"900.00"},null,{"$f":"SUM(Q59:Q61)","v":{"v":10800,"d":"10,800.00"}}]
["Insira os detalhes na tabela Outras despesas, começando na célula à direita. O Total de outras despesas para cada mês é calculado automaticamente no fim da tabela, e o Total anual na célula Q68. O Minigráfico é atualizado na célula S68. A próxima instrução está na célula A70.","ITENS DE OUTRAS DESPESAS","Taxa","Mês 1","Mês 2","Mês 3","Mês 4","Mês 5","Mês 6","Mês 7","Mês 8","Mês 9","Mês 10","Mês 11","Mês 12"]
[null,"OUTRAS DESPESAS"]
[null,"Viagem",null,50,50,50,50,50,50,50,50,50,50,50,50,null,{"$f":"SUM('Orçamento de marketing do canal'!$D65:$O65)","v":{"v":600,"d":"600.00"}}]
[null,"Infraestrutura (computador, telefone, etc.)",null,{"v":250,"d":"250.00"},{"v":250,"d":"250.00"},{"v":250,"d":"250.00"},{"v":250,"d":"250.00"},{"v":250,"d":"250.00"},{"v":250,"d":"250.00"},{"v":250,"d":"250.00"},{"v":250,"d":"250.00"},{"v":250,"d":"250.00"},{"v":250,"d":"250.00"},{"v":250,"d":"250.00"},{"v":250,"d":"250.00"},null,{"$f":"SUM('Orçamento de marketing do canal'!$D66:$O66)","v":{"v":3000,"d":"3,000.00"}}]
[null,"Suporte ao canal",null,600,600,600,600,600,600,600,600,600,600,600,600,null,{"$f":"SUM('Orçamento de marketing do canal'!$D67:$O67)","v":{"v":7200,"d":"7,200.00"}}]
[null,"Total de outras despesas R$ (000)",null,{"$f":"SUM(D65:D67)","v":{"v":900,"d":"900.00"}},{"$f":"SUM(E65:E67)","v":{"v":900,"d":"900.00"}},{"v":900,"d":"900.00"},{"v":900,"d":"900.00"},{"v":900,"d":"900.00"},{"v":900,"d":"900.00"},{"v":900,"d":"900.00"},{"v":900,"d":"900.00"},{"v":900,"d":"900.00"},{"v":900,"d":"900.00"},{"v":900,"d":"900.00"},{"v":900,"d":"900.00"},null,{"$f":"SUM(Q65:Q67)","v":{"v":10800,"d":"10,800.00"}}]
[]
["O Orçamento de marketing total é calculado automaticamente para cada mês nesta linha, nas células D70 a O70, e o Total anual na célula Q70. O Minigráfico é atualizado automaticamente na célula S70.","ORÇAMENTO DE MARKETING TOTAL:",null,{"$f":"SUM(D34,AgenteCorretor[[#Totals],[Mês 1]],Distribuidores[[#Totals],[Mês 1]],Revendedor[[#Totals],[Mês 1]],ARC[[#Totals],[Mês 1]],OutrasDespesas[[#Totals],[Mês 1]])","v":{"v":6454,"d":"6,454.00"}},{"$f":"SUM(OutrasDespesas[[#Totals],[Mês 2]],ARC[[#Totals],[Mês 2]],Revendedor[[#Totals],[Mês 2]],Distribuidores[[#Totals],[Mês 2]],AgenteCorretor[[#Totals],[Mês 2]],E34)","v":{"v":5985.85,"d":"5,985.85"}},{"$f":"SUM(OutrasDespesas[[#Totals],[Mês 3]],ARC[[#Totals],[Mês 3]],Revendedor[[#Totals],[Mês 3]],Distribuidores[[#Totals],[Mês 3]],AgenteCorretor[[#Totals],[Mês 3]],F34)","v":{"v":5934.4375,"d":"5,934.44"}},{"$f":"SUM(OutrasDespesas[[#Totals],[Mês 4]],ARC[[#Totals],[Mês 4]],Revendedor[[#Totals],[Mês 4]],Distribuidores[[#Totals],[Mês 4]],AgenteCorretor[[#Totals],[Mês 4]],G34)","v":{"v":6102.05,"d":"6,102.05"}},{"$f":"SUM(OutrasDespesas[[#Totals],[Mês 5]],ARC[[#Totals],[Mês 5]],Revendedor[[#Totals],[Mês 5]],Distribuidores[[#Totals],[Mês 5]],AgenteCorretor[[#Totals],[Mês 5]],H34)","v":{"v":6116.348,"d":"6,116.35"}},{"$f":"SUM(OutrasDespesas[[#Totals],[Mês 6]],ARC[[#Totals],[Mês 6]],Revendedor[[#Totals],[Mês 6]],Distribuidores[[#Totals],[Mês 6]],AgenteCorretor[[#Totals],[Mês 6]],I34)","v":{"v":6035.6875,"d":"6,035.69"}},{"$f":"SUM(OutrasDespesas[[#Totals],[Mês 7]],ARC[[#Totals],[Mês 7]],Revendedor[[#Totals],[Mês 7]],Distribuidores[[#Totals],[Mês 7]],AgenteCorretor[[#Totals],[Mês 7]],J34)","v":{"v":6076.9,"d":"6,076.90"}},{"$f":"SUM(OutrasDespesas[[#Totals],[Mês 8]],ARC[[#Totals],[Mês 8]],Revendedor[[#Totals],[Mês 8]],Distribuidores[[#Totals],[Mês 8]],AgenteCorretor[[#Totals],[Mês 8]],K34)","v":{"v":6115.84,"d":"6,115.84"}},{"$f":"SUM(OutrasDespesas[[#Totals],[Mês 9]],ARC[[#Totals],[Mês 9]],Revendedor[[#Totals],[Mês 9]],Distribuidores[[#Totals],[Mês 9]],AgenteCorretor[[#Totals],[Mês 9]],L34)","v":{"v":6231.8,"d":"6,231.80"}},{"$f":"SUM(OutrasDespesas[[#Totals],[Mês 10]],ARC[[#Totals],[Mês 10]],Revendedor[[#Totals],[Mês 10]],Distribuidores[[#Totals],[Mês 10]],AgenteCorretor[[#Totals],[Mês 10]],M34)","v":{"v":6201.8,"d":"6,201.80"}},{"$f":"SUM(OutrasDespesas[[#Totals],[Mês 11]],ARC[[#Totals],[Mês 11]],Revendedor[[#Totals],[Mês 11]],Distribuidores[[#Totals],[Mês 11]],AgenteCorretor[[#Totals],[Mês 11]],N34)","v":{"v":6156.8,"d":"6,156.80"}},{"$f":"SUM(OutrasDespesas[[#Totals],[Mês 12]],ARC[[#Totals],[Mês 12]],Revendedor[[#Totals],[Mês 12]],Distribuidores[[#Totals],[Mês 12]],AgenteCorretor[[#Totals],[Mês 12]],O34)","v":{"v":6201.8,"d":"6,201.80"}},null,{"$f":"SUM(D70:O70)","v":{"v":73613.31300000001,"d":"73,613.31"}}]