{"text_format":"3","workbook":"xlsx","n_sheets":13,"sheets":["Kopā","Janvāris","Februāris","Marts","Aprīlis","Maijs","Jūnijs","Jūlijs","Augusts","Septembris","Oktobris","Novembris","Decembris"],"not_rendered":{"defined_names":13},"read":"whole","date_system":"1900"}

{"sheet":"Kopā","index":0,"n_rows":18,"n_cols":17,"rows_kept":18,"merged":[[2,4,2,11],[4,1,4,4],[9,1,9,4],[14,1,14,4]]}
[null,"Darbinieku prombūtnes reģistrēšana",{"$nulls":14},"Kopsavilkums par 2004. gadu"]
[{"$nulls":16},"[Uzņēmuma nosaukums]"]
[{"$nulls":16},"[Vadītāja vārds un uzvārds]"]
[]
[null,"Erickson, Gregory J"]
[null,2004,"Jan","Feb","Mar","Apr","Mai","Jūn","Jūl","Aug","Sep","Okt","Nov","Dec","Kopā izmantots","Kopā piešķirts","Kopā pārpalikums"]
[null,"Izmantotās atvaļinājuma stundas",{"$f":"SUM(Janvāris!AH7)","v":28},{"$f":"SUM(Februāris!AF7)","v":0},{"$f":"SUM(Marts!AH7)","v":0},{"$f":"SUM(Aprīlis!AG7)","v":0},{"$f":"SUM(Maijs!AH7)","v":0},{"$f":"SUM(Jūnijs!AG7)","v":0},{"$f":"SUM(Jūlijs!AH7)","v":0},{"$f":"SUM(Augusts!AH7)","v":0},{"$f":"SUM(Septembris!AG7)","v":0},{"$f":"SUM(Oktobris!AH7)","v":0},{"$f":"SUM(Novembris!AG7)","v":0},{"$f":"SUM(Decembris!AH7)","v":0},{"$f":"SUM(C7:N7)","v":28},80,{"$f":"SUM(P7-O7)","v":52}]
[null,"Izmantotās slimības lapu stundas",{"$f":"SUM(Janvāris!AH8)","v":6},{"$f":"SUM(Februāris!AF8)","v":0},{"$f":"SUM(Marts!AH8)","v":0},{"$f":"SUM(Aprīlis!AG8)","v":0},{"$f":"SUM(Maijs!AH8)","v":0},{"$f":"SUM(Jūnijs!AG8)","v":0},{"$f":"SUM(Jūlijs!AH8)","v":0},{"$f":"SUM(Augusts!AH8)","v":0},{"$f":"SUM(Septembris!AG8)","v":0},{"$f":"SUM(Oktobris!AH8)","v":0},{"$f":"SUM(Novembris!AG8)","v":0},{"$f":"SUM(Decembris!AH8)","v":0},{"$f":"SUM(C8:N8)","v":6},80,{"$f":"SUM(P8-O8)","v":74}]
[]
[null,"Sun, Nate"]
[null,2004,"Jan","Feb","Mar","Apr","Mai","Jūn","Jūl","Aug","Sep","Okt","Nov","Dec","Kopā izmantots","Kopā piešķirts","Kopā pārpalikums"]
[null,"Izmantotās atvaļinājuma stundas",{"$f":"SUM(Janvāris!AH12)","v":0},{"$f":"SUM(Februāris!AF12)","v":40},{"$f":"SUM(Marts!AH12)","v":0},{"$f":"SUM(Aprīlis!AG12)","v":0},{"$f":"SUM(Maijs!AH12)","v":0},{"$f":"SUM(Jūnijs!AG12)","v":0},{"$f":"SUM(Jūlijs!AH12)","v":0},{"$f":"SUM(Augusts!AH12)","v":0},{"$f":"SUM(Septembris!AG12)","v":0},{"$f":"SUM(Oktobris!AH12)","v":0},{"$f":"SUM(Novembris!AG12)","v":0},{"$f":"SUM(Decembris!AH12)","v":0},{"$f":"SUM(C12:N12)","v":40},80,{"$f":"SUM(P12-O12)","v":40}]
[null,"Izmantotās slimības lapu stundas",{"$f":"SUM(Janvāris!AH13)","v":0},{"$f":"SUM(Februāris!AF13)","v":0},{"$f":"SUM(Marts!AH13)","v":0},{"$f":"SUM(Aprīlis!AG13)","v":0},{"$f":"SUM(Maijs!AH13)","v":0},{"$f":"SUM(Jūnijs!AG13)","v":0},{"$f":"SUM(Jūlijs!AH13)","v":0},{"$f":"SUM(Augusts!AH13)","v":0},{"$f":"SUM(Septembris!AG13)","v":0},{"$f":"SUM(Oktobris!AH13)","v":0},{"$f":"SUM(Novembris!AG13)","v":0},{"$f":"SUM(Decembris!AH13)","v":0},{"$f":"SUM(C13:N13)","v":0},80,{"$f":"SUM(P13-O13)","v":80}]
[]
[null,"Siedl, Birgit"]
[null,2004,"Jan","Feb","Mar","Apr","Mai","Jūn","Jūl","Aug","Sep","Okt","Nov","Dec","Kopā izmantots","Kopā piešķirts","Kopā pārpalikums"]
[null,"Izmantotās atvaļinājuma stundas",{"$f":"SUM(Janvāris!AH17)","v":0},{"$f":"SUM(Februāris!AF17)","v":0},{"$f":"SUM(Marts!AH17)","v":0},{"$f":"SUM(Aprīlis!AG17)","v":0},{"$f":"SUM(Maijs!AH17)","v":0},{"$f":"SUM(Jūnijs!AG17)","v":0},{"$f":"SUM(Jūlijs!AH17)","v":0},{"$f":"SUM(Augusts!AH17)","v":0},{"$f":"SUM(Septembris!AG17)","v":0},{"$f":"SUM(Oktobris!AH17)","v":0},{"$f":"SUM(Novembris!AG17)","v":0},{"$f":"SUM(Decembris!AH17)","v":0},{"$f":"SUM(C17:N17)","v":0},80,{"$f":"SUM(P17-O17)","v":80}]
[null,"Izmantotās slimības lapu stundas",{"$f":"SUM(Janvāris!AH18)","v":0},{"$f":"SUM(Februāris!AF18)","v":0},{"$f":"SUM(Marts!AH18)","v":0},{"$f":"SUM(Aprīlis!AG18)","v":0},{"$f":"SUM(Maijs!AH18)","v":0},{"$f":"SUM(Jūnijs!AG18)","v":0},{"$f":"SUM(Jūlijs!AH18)","v":0},{"$f":"SUM(Augusts!AH18)","v":0},{"$f":"SUM(Septembris!AG18)","v":0},{"$f":"SUM(Oktobris!AH18)","v":0},{"$f":"SUM(Novembris!AG18)","v":0},{"$f":"SUM(Decembris!AH18)","v":0},{"$f":"SUM(C18:N18)","v":0},80,{"$f":"SUM(P18-O18)","v":80}]

{"sheet":"Janvāris","index":1,"n_rows":18,"n_cols":34,"rows_kept":18,"merged":[[1,4,1,11],[2,4,2,11],[4,1,4,4],[9,1,9,4],[14,1,14,4]]}
[null,"Darbinieku prombūtnes reģistrēšana ",{"$nulls":31},"2004. gada janvāris"]
[{"$nulls":33},"[Uzņēmuma nosaukums]"]
[{"$nulls":33},"[Vadītāja vārds un uzvārds]"]
[]
[null,{"$f":"Kopā!B5","v":"Erickson, Gregory J"}]
[null,"Janvāris",1,2,3,4,5,6,7,8,9,10,11,12,13,14,15,16,17,18,19,20,21,22,23,24,25,26,27,28,29,30,31,"KOPĀ"]
[null,"Izmantotās atvaļinājuma stundas",null,8,8,8,4,{"$nulls":26},{"$f":"SUM(C7:AG7)","v":28}]
[null,"Izmantotās slimības lapu stundas",{"$nulls":9},3,{"$nulls":4},3,{"$nulls":16},{"$f":"SUM(C8:AG8)","v":6}]
[]
[null,{"$f":"Kopā!B10","v":"Sun, Nate"}]
[null,"Janvāris",1,2,3,4,5,6,7,8,9,10,11,12,13,14,15,16,17,18,19,20,21,22,23,24,25,26,27,28,29,30,31,"KOPĀ"]
[null,"Izmantotās atvaļinājuma stundas",{"$nulls":31},{"$f":"SUM(C12:AG12)","v":0}]
[null,"Izmantotās slimības lapu stundas",{"$nulls":31},{"$f":"SUM(C13:AG13)","v":0}]
[]
[null,{"$f":"Kopā!B15","v":"Siedl, Birgit"}]
[null,"Janvāris",1,2,3,4,5,6,7,8,9,10,11,12,13,14,15,16,17,18,19,20,21,22,23,24,25,26,27,28,29,30,31,"KOPĀ"]
[null,"Izmantotās atvaļinājuma stundas",{"$nulls":31},{"$f":"SUM(C17:AG17)","v":0}]
[null,"Izmantotās slimības lapu stundas",{"$nulls":31},{"$f":"SUM(C18:AG18)","v":0}]

{"sheet":"Februāris","index":2,"n_rows":18,"n_cols":32,"rows_kept":18,"merged":[[4,1,4,4],[9,1,9,4],[14,1,14,4]]}
[null,"Darbinieku prombūtnes reģistrēšana",{"$nulls":29},"2004. gada februāris"]
[{"$nulls":31},"[Uzņēmuma nosaukums]"]
[{"$nulls":31},"[Vadītāja vārds un uzvārds]"]
[]
[null,{"$f":"Janvāris!B5","v":"Erickson, Gregory J"}]
[null,"Februāris",1,2,3,4,5,6,7,8,9,10,11,12,13,14,15,16,17,18,19,20,21,22,23,24,25,26,27,28,29,"KOPĀ"]
[null,"Izmantotās atvaļinājuma stundas",{"$nulls":29},{"$f":"SUM(C7:AE7)","v":0}]
[null,"Izmantotās slimības lapu stundas",{"$nulls":29},{"$f":"SUM(C8:AE8)","v":0}]
[]
[null,{"$f":"Janvāris!B10","v":"Sun, Nate"}]
[null,"Februāris",1,2,3,4,5,6,7,8,9,10,11,12,13,14,15,16,17,18,19,20,21,22,23,24,25,26,27,28,29,"KOPĀ"]
[null,"Izmantotās atvaļinājuma stundas",null,null,8,8,8,8,8,{"$nulls":22},{"$f":"SUM(C12:AE12)","v":40}]
[null,"Izmantotās slimības lapu stundas",{"$nulls":29},{"$f":"SUM(C13:AE13)","v":0}]
[]
[null,{"$f":"Janvāris!B15","v":"Siedl, Birgit"}]
[null,"Februāris",1,2,3,4,5,6,7,8,9,10,11,12,13,14,15,16,17,18,19,20,21,22,23,24,25,26,27,28,29,"KOPĀ"]
[null,"Izmantotās atvaļinājuma stundas",{"$nulls":29},{"$f":"SUM(C17:AE17)","v":0}]
[null,"Izmantotās slimības lapu stundas",{"$nulls":29},{"$f":"SUM(C18:AE18)","v":0}]

{"sheet":"Marts","index":3,"n_rows":18,"n_cols":34,"rows_kept":18,"merged":[[1,1,1,3],[1,4,1,11],[2,1,2,3],[2,4,2,11],[4,1,4,4],[9,1,9,4],[14,1,14,4]]}
[null,"Darbinieku prombūtnes reģistrēšana ",{"$nulls":31},"2004. gada marts"]
[{"$nulls":33},"[Uzņēmuma nosaukums]"]
[{"$nulls":33},"[Vadītāja vārds un uzvārds]"]
[]
[null,{"$f":"Janvāris!B5","v":"Erickson, Gregory J"}]
[null,"Marts",1,2,3,4,5,6,7,8,9,10,11,12,13,14,15,16,17,18,19,20,21,22,23,24,25,26,27,28,29,30,31,"KOPĀ"]
[null,"Izmantotās atvaļinājuma stundas",{"$nulls":31},{"$f":"SUM(C7:AG7)","v":0}]
[null,"Izmantotās slimības lapu stundas",{"$nulls":31},{"$f":"SUM(C8:AG8)","v":0}]
[]
[null,{"$f":"Janvāris!B10","v":"Sun, Nate"}]
[null,"Marts",1,2,3,4,5,6,7,8,9,10,11,12,13,14,15,16,17,18,19,20,21,22,23,24,25,26,27,28,29,30,31,"KOPĀ"]
[null,"Izmantotās atvaļinājuma stundas",{"$nulls":31},{"$f":"SUM(C12:AG12)","v":0}]
[null,"Izmantotās slimības lapu stundas",{"$nulls":31},{"$f":"SUM(C13:AG13)","v":0}]
[]
[null,{"$f":"Janvāris!B15","v":"Siedl, Birgit"}]
[null,"Marts",1,2,3,4,5,6,7,8,9,10,11,12,13,14,15,16,17,18,19,20,21,22,23,24,25,26,27,28,29,30,31,"KOPĀ"]
[null,"Izmantotās atvaļinājuma stundas",{"$nulls":31},{"$f":"SUM(C17:AG17)","v":0}]
[null,"Izmantotās slimības lapu stundas",{"$nulls":31},{"$f":"SUM(C18:AG18)","v":0}]

{"sheet":"Aprīlis","index":4,"n_rows":18,"n_cols":33,"rows_kept":18,"merged":[[1,1,1,3],[1,4,1,11],[2,1,2,3],[2,4,2,11],[4,1,4,4],[9,1,9,4],[14,1,14,4]]}
[null,"Darbinieku prombūtnes reģistrēšana ",{"$nulls":30},"2004. gada aprīlis"]
[{"$nulls":32},"[Uzņēmuma nosaukums]"]
[{"$nulls":32},"[Vadītāja vārds un uzvārds]"]
[]
[null,{"$f":"Janvāris!B5","v":"Erickson, Gregory J"}]
[null,"Aprīlis",1,2,3,4,5,6,7,8,9,10,11,12,13,14,15,16,17,18,19,20,21,22,23,24,25,26,27,28,29,30,"KOPĀ"]
[null,"Izmantotās atvaļinājuma stundas",{"$nulls":30},{"$f":"SUM(C7:AF7)","v":0}]
[null,"Izmantotās slimības lapu stundas",{"$nulls":30},{"$f":"SUM(C8:AF8)","v":0}]
[]
[null,{"$f":"Janvāris!B10","v":"Sun, Nate"}]
[null,"Aprīlis",1,2,3,4,5,6,7,8,9,10,11,12,13,14,15,16,17,18,19,20,21,22,23,24,25,26,27,28,29,30,"KOPĀ"]
[null,"Izmantotās atvaļinājuma stundas",{"$nulls":30},{"$f":"SUM(C12:AF12)","v":0}]
[null,"Izmantotās slimības lapu stundas",{"$nulls":30},{"$f":"SUM(C13:AF13)","v":0}]
[]
[null,{"$f":"Janvāris!B15","v":"Siedl, Birgit"}]
[null,"Aprīlis",1,2,3,4,5,6,7,8,9,10,11,12,13,14,15,16,17,18,19,20,21,22,23,24,25,26,27,28,29,30,"KOPĀ"]
[null,"Izmantotās atvaļinājuma stundas",{"$nulls":30},{"$f":"SUM(C17:AF17)","v":0}]
[null,"Izmantotās slimības lapu stundas",{"$nulls":30},{"$f":"SUM(C18:AF18)","v":0}]

{"sheet":"Maijs","index":5,"n_rows":18,"n_cols":34,"rows_kept":18,"merged":[[1,1,1,3],[1,4,1,11],[2,1,2,3],[2,4,2,11],[4,1,4,4],[9,1,9,4],[14,1,14,4]]}
[null,"Darbinieku prombūtnes reģistrēšana ",{"$nulls":31},"2004. gada maijs"]
[{"$nulls":33},"[Uzņēmuma nosaukums]"]
[{"$nulls":33},"[Vadītāja vārds un uzvārds]"]
[]
[null,{"$f":"Janvāris!B5","v":"Erickson, Gregory J"}]
[null,"Maijs",1,2,3,4,5,6,7,8,9,10,11,12,13,14,15,16,17,18,19,20,21,22,23,24,25,26,27,28,29,30,31,"KOPĀ"]
[null,"Izmantotās atvaļinājuma stundas",{"$nulls":31},{"$f":"SUM(C7:AG7)","v":0}]
[null,"Izmantotās slimības lapu stundas",{"$nulls":31},{"$f":"SUM(C8:AG8)","v":0}]
[]
[null,{"$f":"Janvāris!B10","v":"Sun, Nate"}]
[null,"Maijs",1,2,3,4,5,6,7,8,9,10,11,12,13,14,15,16,17,18,19,20,21,22,23,24,25,26,27,28,29,30,31,"KOPĀ"]
[null,"Izmantotās atvaļinājuma stundas",{"$nulls":31},{"$f":"SUM(C12:AG12)","v":0}]
[null,"Izmantotās slimības lapu stundas",{"$nulls":31},{"$f":"SUM(C13:AG13)","v":0}]
[]
[null,{"$f":"Janvāris!B15","v":"Siedl, Birgit"}]
[null,"Maijs",1,2,3,4,5,6,7,8,9,10,11,12,13,14,15,16,17,18,19,20,21,22,23,24,25,26,27,28,29,30,31,"KOPĀ"]
[null,"Izmantotās atvaļinājuma stundas",{"$nulls":31},{"$f":"SUM(C17:AG17)","v":0}]
[null,"Izmantotās slimības lapu stundas",{"$nulls":31},{"$f":"SUM(C18:AG18)","v":0}]

{"sheet":"Jūnijs","index":6,"n_rows":18,"n_cols":33,"rows_kept":18,"merged":[[1,1,1,3],[1,4,1,11],[2,1,2,3],[2,4,2,11],[4,1,4,4],[9,1,9,4],[14,1,14,4]]}
[null,"Darbinieku prombūtnes reģistrēšana ",{"$nulls":30},"2004. gada jūnijs"]
[{"$nulls":32},"[Uzņēmuma nosaukums]"]
[{"$nulls":32},"[Vadītāja vārds un uzvārds]"]
[]
[null,{"$f":"Janvāris!B5","v":"Erickson, Gregory J"}]
[null,"Jūnijs",1,2,3,4,5,6,7,8,9,10,11,12,13,14,15,16,17,18,19,20,21,22,23,24,25,26,27,28,29,30,"KOPĀ"]
[null,"Izmantotās atvaļinājuma stundas",{"$nulls":30},{"$f":"SUM(C7:AF7)","v":0}]
[null,"Izmantotās slimības lapu stundas",{"$nulls":30},{"$f":"SUM(C8:AF8)","v":0}]
[]
[null,{"$f":"Janvāris!B10","v":"Sun, Nate"}]
[null,"Jūnijs",1,2,3,4,5,6,7,8,9,10,11,12,13,14,15,16,17,18,19,20,21,22,23,24,25,26,27,28,29,30,"KOPĀ"]
[null,"Izmantotās atvaļinājuma stundas",{"$nulls":30},{"$f":"SUM(C12:AF12)","v":0}]
[null,"Izmantotās slimības lapu stundas",{"$nulls":30},{"$f":"SUM(C13:AF13)","v":0}]
[]
[null,{"$f":"Janvāris!B15","v":"Siedl, Birgit"},{"$nulls":30},"Kopā par"]
[null,"Jūnijs",1,2,3,4,5,6,7,8,9,10,11,12,13,14,15,16,17,18,19,20,21,22,23,24,25,26,27,28,29,30,"KOPĀ"]
[null,"Izmantotās atvaļinājuma stundas",{"$nulls":30},{"$f":"SUM(C17:AF17)","v":0}]
[null,"Izmantotās slimības lapu stundas",{"$nulls":30},{"$f":"SUM(C18:AF18)","v":0}]

{"sheet":"Jūlijs","index":7,"n_rows":18,"n_cols":34,"rows_kept":18,"merged":[[1,1,1,3],[1,4,1,11],[2,1,2,3],[2,4,2,11],[4,1,4,4],[9,1,9,4],[14,1,14,4]]}
[null,"Darbinieku prombūtnes reģistrēšana ",{"$nulls":31},"2004. gada jūlijs"]
[{"$nulls":33},"[Uzņēmuma nosaukums]"]
[{"$nulls":33},"[Vadītāja vārds un uzvārds]"]
[]
[null,{"$f":"Janvāris!B5","v":"Erickson, Gregory J"}]
[null,"Jūlijs",1,2,3,4,5,6,7,8,9,10,11,12,13,14,15,16,17,18,19,20,21,22,23,24,25,26,27,28,29,30,31,"KOPĀ"]
[null,"Izmantotās atvaļinājuma stundas",{"$nulls":31},{"$f":"SUM(C7:AG7)","v":0}]
[null,"Izmantotās slimības lapu stundas",{"$nulls":31},{"$f":"SUM(C8:AG8)","v":0}]
[]
[null,{"$f":"Janvāris!B10","v":"Sun, Nate"}]
[null,"Jūlijs",1,2,3,4,5,6,7,8,9,10,11,12,13,14,15,16,17,18,19,20,21,22,23,24,25,26,27,28,29,30,31,"KOPĀ"]
[null,"Izmantotās atvaļinājuma stundas",{"$nulls":31},{"$f":"SUM(C12:AG12)","v":0}]
[null,"Izmantotās slimības lapu stundas",{"$nulls":31},{"$f":"SUM(C13:AG13)","v":0}]
[]
[null,{"$f":"Janvāris!B15","v":"Siedl, Birgit"}]
[null,"Jūlijs",1,2,3,4,5,6,7,8,9,10,11,12,13,14,15,16,17,18,19,20,21,22,23,24,25,26,27,28,29,30,31,"KOPĀ"]
[null,"Izmantotās atvaļinājuma stundas",{"$nulls":31},{"$f":"SUM(C17:AG17)","v":0}]
[null,"Izmantotās slimības lapu stundas",{"$nulls":31},{"$f":"SUM(C18:AG18)","v":0}]

{"sheet":"Augusts","index":8,"n_rows":18,"n_cols":34,"rows_kept":18,"merged":[[1,1,1,3],[1,4,1,11],[2,1,2,3],[2,4,2,11],[4,1,4,4],[9,1,9,4],[14,1,14,4]]}
[null,"Darbinieku prombūtnes reģistrēšana ",{"$nulls":31},"2004. gada augusts"]
[{"$nulls":33},"[Uzņēmuma nosaukums]"]
[{"$nulls":33},"[Vadītāja vārds un uzvārds]"]
[]
[null,{"$f":"Janvāris!B5","v":"Erickson, Gregory J"}]
[null,"Augusts",1,2,3,4,5,6,7,8,9,10,11,12,13,14,15,16,17,18,19,20,21,22,23,24,25,26,27,28,29,30,31,"KOPĀ"]
[null,"Izmantotās atvaļinājuma stundas",{"$nulls":31},{"$f":"SUM(C7:AG7)","v":0}]
[null,"Izmantotās slimības lapu stundas",{"$nulls":31},{"$f":"SUM(C8:AG8)","v":0}]
[]
[null,{"$f":"Janvāris!B10","v":"Sun, Nate"}]
[null,"Augusts",1,2,3,4,5,6,7,8,9,10,11,12,13,14,15,16,17,18,19,20,21,22,23,24,25,26,27,28,29,30,31,"KOPĀ"]
[null,"Izmantotās atvaļinājuma stundas",{"$nulls":31},{"$f":"SUM(C12:AG12)","v":0}]
[null,"Izmantotās slimības lapu stundas",{"$nulls":31},{"$f":"SUM(C13:AG13)","v":0}]
[]
[null,{"$f":"Janvāris!B15","v":"Siedl, Birgit"}]
[null,"Augusts",1,2,3,4,5,6,7,8,9,10,11,12,13,14,15,16,17,18,19,20,21,22,23,24,25,26,27,28,29,30,31,"KOPĀ"]
[null,"Izmantotās atvaļinājuma stundas",{"$nulls":31},{"$f":"SUM(C17:AG17)","v":0}]
[null,"Izmantotās slimības lapu stundas",{"$nulls":31},{"$f":"SUM(C18:AG18)","v":0}]

{"sheet":"Septembris","index":9,"n_rows":18,"n_cols":33,"rows_kept":18,"merged":[[1,1,1,3],[1,4,1,11],[2,1,2,3],[2,4,2,11],[4,1,4,4],[9,1,9,4],[14,1,14,4]]}
[null,"Darbinieku prombūtnes reģistrēšana ",{"$nulls":30},"2004. gada septembris"]
[{"$nulls":32},"[Uzņēmuma nosaukums]"]
[{"$nulls":32},"[Vadītāja vārds un uzvārds]"]
[]
[null,{"$f":"Janvāris!B5","v":"Erickson, Gregory J"}]
[null,"Septembris",1,2,3,4,5,6,7,8,9,10,11,12,13,14,15,16,17,18,19,20,21,22,23,24,25,26,27,28,29,30,"KOPĀ"]
[null,"Izmantotās atvaļinājuma stundas",{"$nulls":30},{"$f":"SUM(C7:AF7)","v":0}]
[null,"Izmantotās slimības lapu stundas",{"$nulls":30},{"$f":"SUM(C8:AF8)","v":0}]
[]
[null,{"$f":"Janvāris!B10","v":"Sun, Nate"}]
[null,"Septembris",1,2,3,4,5,6,7,8,9,10,11,12,13,14,15,16,17,18,19,20,21,22,23,24,25,26,27,28,29,30,"KOPĀ"]
[null,"Izmantotās atvaļinājuma stundas",{"$nulls":30},{"$f":"SUM(C12:AF12)","v":0}]
[null,"Izmantotās slimības lapu stundas",{"$nulls":30},{"$f":"SUM(C13:AF13)","v":0}]
[]
[null,{"$f":"Janvāris!B15","v":"Siedl, Birgit"}]
[null,"Septembris",1,2,3,4,5,6,7,8,9,10,11,12,13,14,15,16,17,18,19,20,21,22,23,24,25,26,27,28,29,30,"KOPĀ"]
[null,"Izmantotās atvaļinājuma stundas",{"$nulls":30},{"$f":"SUM(C17:AF17)","v":0}]
[null,"Izmantotās slimības lapu stundas",{"$nulls":30},{"$f":"SUM(C18:AF18)","v":0}]

{"sheet":"Oktobris","index":10,"n_rows":18,"n_cols":34,"rows_kept":18,"merged":[[1,1,1,3],[1,4,1,11],[2,1,2,3],[2,4,2,11],[4,1,4,4],[9,1,9,4],[14,1,14,4]]}
[null,"Darbinieku prombūtnes reģistrēšana ",{"$nulls":31},"2004. gada oktobris"]
[{"$nulls":33},"[Uzņēmuma nosaukums]"]
[{"$nulls":33},"[Vadītāja vārds un uzvārds]"]
[]
[null,{"$f":"Janvāris!B5","v":"Erickson, Gregory J"}]
[null,"Oktobris",1,2,3,4,5,6,7,8,9,10,11,12,13,14,15,16,17,18,19,20,21,22,23,24,25,26,27,28,29,30,31,"KOPĀ"]
[null,"Izmantotās atvaļinājuma stundas",{"$nulls":31},{"$f":"SUM(C7:AG7)","v":0}]
[null,"Izmantotās slimības lapu stundas",{"$nulls":31},{"$f":"SUM(C8:AG8)","v":0}]
[]
[null,{"$f":"Janvāris!B10","v":"Sun, Nate"}]
[null,"Oktobris",1,2,3,4,5,6,7,8,9,10,11,12,13,14,15,16,17,18,19,20,21,22,23,24,25,26,27,28,29,30,31,"KOPĀ"]
[null,"Izmantotās atvaļinājuma stundas",{"$nulls":31},{"$f":"SUM(C12:AG12)","v":0}]
[null,"Izmantotās slimības lapu stundas",{"$nulls":31},{"$f":"SUM(C13:AG13)","v":0}]
[]
[null,{"$f":"Janvāris!B15","v":"Siedl, Birgit"}]
[null,"Oktobris",1,2,3,4,5,6,7,8,9,10,11,12,13,14,15,16,17,18,19,20,21,22,23,24,25,26,27,28,29,30,31,"KOPĀ"]
[null,"Izmantotās atvaļinājuma stundas",{"$nulls":31},{"$f":"SUM(C17:AG17)","v":0}]
[null,"Izmantotās slimības lapu stundas",{"$nulls":31},{"$f":"SUM(C18:AG18)","v":0}]

{"sheet":"Novembris","index":11,"n_rows":18,"n_cols":33,"rows_kept":18,"merged":[[1,1,1,3],[1,4,1,11],[2,1,2,3],[2,4,2,11],[4,1,4,4],[9,1,9,4],[14,1,14,4]]}
[null,"Darbinieku prombūtnes reģistrēšana ",{"$nulls":30},"2004. gada novembris"]
[{"$nulls":32},"[Uzņēmuma nosaukums]"]
[{"$nulls":32},"[Vadītāja vārds un uzvārds]"]
[]
[null,{"$f":"Janvāris!B5","v":"Erickson, Gregory J"}]
[null,"Novembris",1,2,3,4,5,6,7,8,9,10,11,12,13,14,15,16,17,18,19,20,21,22,23,24,25,26,27,28,29,30,"KOPĀ"]
[null,"Izmantotās atvaļinājuma stundas",{"$nulls":30},{"$f":"SUM(C7:AF7)","v":0}]
[null,"Izmantotās slimības lapu stundas",{"$nulls":30},{"$f":"SUM(C8:AF8)","v":0}]
[]
[null,{"$f":"Janvāris!B10","v":"Sun, Nate"}]
[null,"Novembris",1,2,3,4,5,6,7,8,9,10,11,12,13,14,15,16,17,18,19,20,21,22,23,24,25,26,27,28,29,30,"KOPĀ"]
[null,"Izmantotās atvaļinājuma stundas",{"$nulls":30},{"$f":"SUM(C12:AF12)","v":0}]
[null,"Izmantotās slimības lapu stundas",{"$nulls":30},{"$f":"SUM(C13:AF13)","v":0}]
[]
[null,{"$f":"Janvāris!B15","v":"Siedl, Birgit"}]
[null,"Novembris",1,2,3,4,5,6,7,8,9,10,11,12,13,14,15,16,17,18,19,20,21,22,23,24,25,26,27,28,29,30,"KOPĀ"]
[null,"Izmantotās atvaļinājuma stundas",{"$nulls":30},{"$f":"SUM(C17:AF17)","v":0}]
[null,"Izmantotās slimības lapu stundas",{"$nulls":30},{"$f":"SUM(C18:AF18)","v":0}]

{"sheet":"Decembris","index":12,"n_rows":18,"n_cols":34,"rows_kept":18,"merged":[[1,1,1,3],[1,4,1,11],[2,1,2,3],[2,4,2,11],[4,1,4,4],[9,1,9,4],[14,1,14,4]]}
[null,"Darbinieku prombūtnes reģistrēšana ",{"$nulls":31},"2004. gada decembris"]
[{"$nulls":33},"[Uzņēmuma nosaukums]"]
[{"$nulls":33},"[Vadītāja vārds un uzvārds]"]
[]
[null,{"$f":"Janvāris!B5","v":"Erickson, Gregory J"}]
[null,"Decembris",1,2,3,4,5,6,7,8,9,10,11,12,13,14,15,16,17,18,19,20,21,22,23,24,25,26,27,28,29,30,31,"KOPĀ"]
[null,"Izmantotās atvaļinājuma stundas",{"$nulls":31},{"$f":"SUM(C7:AG7)","v":0}]
[null,"Izmantotās slimības lapu stundas",{"$nulls":31},{"$f":"SUM(C8:AG8)","v":0}]
[]
[null,{"$f":"Janvāris!B10","v":"Sun, Nate"}]
[null,"Decembris",1,2,3,4,5,6,7,8,9,10,11,12,13,14,15,16,17,18,19,20,21,22,23,24,25,26,27,28,29,30,31,"KOPĀ"]
[null,"Izmantotās atvaļinājuma stundas",{"$nulls":31},{"$f":"SUM(C12:AG12)","v":0}]
[null,"Izmantotās slimības lapu stundas",{"$nulls":31},{"$f":"SUM(C13:AG13)","v":0}]
[]
[null,{"$f":"Janvāris!B15","v":"Siedl, Birgit"}]
[null,"Decembris",1,2,3,4,5,6,7,8,9,10,11,12,13,14,15,16,17,18,19,20,21,22,23,24,25,26,27,28,29,30,31,"KOPĀ"]
[null,"Izmantotās atvaļinājuma stundas",{"$nulls":31},{"$f":"SUM(C17:AG17)","v":0}]
[null,"Izmantotās slimības lapu stundas",{"$nulls":31},{"$f":"SUM(C18:AG18)","v":0}]