{"text_format":"3","workbook":"xlsx","n_sheets":9,"sheets":["Kopsavilkums","1. nodarbība","2. nodarbība","3. nodarbība","4. nodarbība","5. nodarbība","6. nodarbība","7. nodarbība","Vidējās atzīmes aprēķina tabula"],"not_rendered":{"defined_names":9},"read":"whole","date_system":"1900"}

{"sheet":"Kopsavilkums","index":0,"n_rows":12,"n_cols":7,"rows_kept":12,"merged":[[1,1,1,2]]}
[]
[null,"Skolas nosaukums",null,"  Jūsu vārds:",null," Semestris/gads:"]
[]
[null,"Nodarbības","Kredītstundas","Pašreizējais procents","Atzīmju izraksts","Vidējā atzīme","Svērtā vidējā atzīme"]
[null,"1. nodarbība",{"v":3,"d":"3.0"},{"$f":"'1. nodarbība'!D$36","v":{"v":0.8661764705882353,"d":"86.62%"}},{"$f":"IF(D5<>\"\",HLOOKUP(D5,'Vidējās atzīmes aprēķina tabula'!$C$5:$O$7,2),\"\")","v":"B"},{"$f":"IF(D5<>\"\",HLOOKUP(D5,'Vidējās atzīmes aprēķina tabula'!$C$5:$O$7,3),\"\")","v":{"v":3,"d":"3.00"}},{"$f":"IF(F5<>\"\",F5*C5/(SUM($C$5:$C$11)), \"\")","v":{"v":0.5625,"d":"0.56"}}]
[null,"2. nodarbība",{"v":4,"d":"4.0"},{"$f":"'2. nodarbība'!D$36","v":""},{"$f":"IF(D6<>\"\",HLOOKUP(D6,'Vidējās atzīmes aprēķina tabula'!$C$5:$O$7,2),\"\")","v":""},{"$f":"IF(D6<>\"\",HLOOKUP(D6,'Vidējās atzīmes aprēķina tabula'!$C$5:$O$7,3),\"\")","v":""},""]
[null,"3. nodarbība",{"v":2,"d":"2.0"},{"$f":"'3. nodarbība'!D$36","v":""},{"$f":"IF(D7<>\"\",HLOOKUP(D7,'Vidējās atzīmes aprēķina tabula'!$C$5:$O$7,2),\"\")","v":""},{"$f":"IF(D7<>\"\",HLOOKUP(D7,'Vidējās atzīmes aprēķina tabula'!$C$5:$O$7,3),\"\")","v":""},""]
[null,"4. nodarbība",{"v":4,"d":"4.0"},{"$f":"'4. nodarbība'!D$36","v":""},{"$f":"IF(D8<>\"\",HLOOKUP(D8,'Vidējās atzīmes aprēķina tabula'!$C$5:$O$7,2),\"\")","v":""},{"$f":"IF(D8<>\"\",HLOOKUP(D8,'Vidējās atzīmes aprēķina tabula'!$C$5:$O$7,3),\"\")","v":""},""]
[null,"5. nodarbība",{"v":1,"d":"1.0"},{"$f":"'5. nodarbība'!D$36","v":""},{"$f":"IF(D9<>\"\",HLOOKUP(D9,'Vidējās atzīmes aprēķina tabula'!$C$5:$O$7,2),\"\")","v":""},{"$f":"IF(D9<>\"\",HLOOKUP(D9,'Vidējās atzīmes aprēķina tabula'!$C$5:$O$7,3),\"\")","v":""},""]
[null,"6. nodarbība",{"v":1,"d":"1.0"},{"$f":"'6. nodarbība'!D$36","v":""},{"$f":"IF(D10<>\"\",HLOOKUP(D10,'Vidējās atzīmes aprēķina tabula'!$C$5:$O$7,2),\"\")","v":""},{"$f":"IF(D10<>\"\",HLOOKUP(D10,'Vidējās atzīmes aprēķina tabula'!$C$5:$O$7,3),\"\")","v":""},""]
[null,"7. nodarbība",{"v":1,"d":"1.0"},{"$f":"'7. nodarbība'!D$36","v":""},{"$f":"IF(D11<>\"\",HLOOKUP(D11,'Vidējās atzīmes aprēķina tabula'!$C$5:$O$7,2),\"\")","v":""},{"$f":"IF(D11<>\"\",HLOOKUP(D11,'Vidējās atzīmes aprēķina tabula'!$C$5:$O$7,3),\"\")","v":""},""]
[null,"Kopā",{"$f":"SUM(C5:C11)","v":16},{"$f":"AVERAGE(D5:D11)","v":{"v":0.8661764705882353,"d":"86.62%"}},{"$f":"IF(D12<>\"\",HLOOKUP(D12,'Vidējās atzīmes aprēķina tabula'!$C$5:$O$7,2),\"\")","v":"B"},{"$f":"AVERAGE(F5:F11)","v":{"v":3,"d":"3.00"}},{"$f":"SUM(G5:G11)","v":{"v":0.5625,"d":"0.56"}}]

{"sheet":"1. nodarbība","index":1,"n_rows":38,"n_cols":8,"rows_kept":38,"merged":[[1,1,1,2]]}
[]
[null,{"$f":"Kopsavilkums!B5","v":"1. nodarbība"}]
[null,"Profesors:",null,null,"Procenti no pavisam iespējamā punktu skaita",null,null,{"$f":"IF(SUM($C$35:$H$35) <> 0,SUM($C$34:$H$34)/SUM($C$35:$H$35),\"\")","v":{"v":0.8661764705882353,"d":"86.62%"}}]
[null,"E-pasts:",null,null,"Pašreizējā atzīme",null,null,{"$f":"SUM($C$34:$H$34)","v":{"v":0.17323529411764707,"d":"17.32%"}}]
[]
[null,"Uzdevumi","Mājasdarbi","Esejas","Viktorīnas","Projekti","Starpeksāmens","Gala eksāmens"]
[null,"Novērtējums",{"v":0.1,"d":"10.0%"},{"v":0.1,"d":"10.0%"},{"v":0.15,"d":"15.0%"},{"v":0.15,"d":"15.0%"},{"v":0.2,"d":"20.0%"},{"v":0.3,"d":"30.0%"}]
[null,"Pirmais darbs par aparatūru",{"v":0.8823529411764706,"d":"0.88"}]
[null,"Kontroldarbs par Otro pasaules karu",null,0.85]
{"$rows_empty":24}
[null,"Punkti kopā",{"$f":"IF(COUNT(C8:C33) <> 0,AVERAGE(C8:C33) *C7, \"\")","v":{"v":0.08823529411764706,"d":"0.0882"}},{"v":0.085,"d":"0.0850"},"","","",""]
[null,"Pavisam iespējamie punkti",{"$f":"IF(COUNT(C8:C33)<>0,C7,\"\")","v":0.1},0.1,"","","",""]
[null,"Procenti no pavisam iespējamā punktu skaita",null,{"$f":"IF(SUM($C$35:$H$35) <> 0,SUM($C$34:$H$34)/SUM($C$35:$H$35),\"\")","v":{"v":0.8661764705882353,"d":"86.62%"}}]
[null,"Lai ievadītu atzīmes:","Ievadiet iegūto punktu daudzuma un pavisam iespējamo punktu daudzuma attiecību (piemēram, 15/17)."]
[null,null,"Ievadiet iegūto punktu daudzumu procentu izteiksmē (piemēram, 85%)."]

{"sheet":"2. nodarbība","index":2,"n_rows":38,"n_cols":8,"rows_kept":38,"merged":[[1,1,1,2]]}
[]
[null,{"$f":"Kopsavilkums!B6","v":"2. nodarbība"}]
[null,"Profesors:",null,null,"Procenti no pavisam iespējamā punktu skaita",null,null,{"$f":"IF(SUM($C$35:$H$35) <> 0,SUM($C$34:$H$34)/SUM($C$35:$H$35),\"\")","v":""}]
[null,"E-pasts:",null,null,"Pašreizējā atzīme",null,null,{"$f":"SUM($C$34:$H$34)","v":{"v":0,"d":"0.00%"}}]
[]
[null,"Uzdevumi","Mājasdarbi","Esejas","Viktorīnas","Projekti","Starpeksāmens","Gala eksāmens"]
[null,"Svars",{"v":0.1,"d":"10.0%"},{"v":0.1,"d":"10.0%"},{"v":0.15,"d":"15.0%"},{"v":0.15,"d":"15.0%"},{"v":0.2,"d":"20.0%"},{"v":0.3,"d":"30.0%"}]
{"$rows_empty":26}
[null,"Punkti kopā",{"$f":"IF(COUNT(C8:C33) <> 0,AVERAGE(C8:C33) *C7, \"\")","v":""},"","","","",""]
[null,"Pavisam iespējamie punkti",{"$f":"IF(COUNT(C8:C33)<>0,C7,\"\")","v":""},"","","","",""]
[null,"Procenti no pavisam iespējamā punktu skaita",null,{"$f":"IF(SUM($C$35:$H$35) <> 0,SUM($C$34:$H$34)/SUM($C$35:$H$35),\"\")","v":""}]
[null,"Lai ievadītu atzīmes:","Ievadiet iegūto punktu daudzuma un pavisam iespējamo punktu daudzuma attiecību (piemēram, 15/17)."]
[null,null,"Ievadiet iegūto punktu daudzumu procentu izteiksmē (piemēram, 85%)."]

{"sheet":"3. nodarbība","index":3,"n_rows":38,"n_cols":8,"rows_kept":38,"merged":[[1,1,1,2]]}
[]
[null,{"$f":"Kopsavilkums!B7","v":"3. nodarbība"}]
[null,"Profesors:",null,null,"Procenti no pavisam iespējamā punktu skaita",null,null,{"$f":"IF(SUM($C$35:$H$35) <> 0,SUM($C$34:$H$34)/SUM($C$35:$H$35),\"\")","v":""}]
[null,"E-pasts:",null,null,"Pašreizējā atzīme",null,null,{"$f":"SUM($C$34:$H$34)","v":{"v":0,"d":"0.00%"}}]
[]
[null,"Uzdevumi","Mājasdarbi","Esejas","Viktorīnas","Projekti","Starpeksāmens","Gala eksāmens"]
[null,"Novērtējums",{"v":0.1,"d":"10.0%"},{"v":0.1,"d":"10.0%"},{"v":0.15,"d":"15.0%"},{"v":0.15,"d":"15.0%"},{"v":0.2,"d":"20.0%"},{"v":0.3,"d":"30.0%"}]
{"$rows_empty":26}
[null,"Punkti kopā",{"$f":"IF(COUNT(C8:C33) <> 0,AVERAGE(C8:C33) *C7, \"\")","v":""},"","","","",""]
[null,"Pavisam iespējamie punkti",{"$f":"IF(COUNT(C8:C33)<>0,C7,\"\")","v":""},"","","","",""]
[null,"Procenti no pavisam iespējamā punktu skaita",null,{"$f":"IF(SUM($C$35:$H$35) <> 0,SUM($C$34:$H$34)/SUM($C$35:$H$35),\"\")","v":""}]
[null,"Lai ievadītu atzīmes:","Ievadiet iegūto punktu daudzuma un pavisam iespējamo punktu daudzuma attiecību (piemēram, 15/17)."]
[null,null,"Ievadiet iegūto punktu daudzumu procentu izteiksmē (piemēram, 85%)."]

{"sheet":"4. nodarbība","index":4,"n_rows":38,"n_cols":8,"rows_kept":38,"merged":[[1,1,1,2]]}
[]
[null,{"$f":"Kopsavilkums!B8","v":"4. nodarbība"}]
[null,"Profesors:",null,null,"Procenti no pavisam iespējamā punktu skaita"]
[null,"E-pasts:",null,null,"Pašreizējā atzīme",null,null,{"$f":"SUM($C$34:$H$34)","v":{"v":0,"d":"0.00%"}}]
[]
[null,"Uzdevumi","Mājasdarbi","Esejas","Viktorīnas","Projekti","Starpeksāmens","Gala eksāmens"]
[null,"Novērtējums",{"v":0.1,"d":"10.0%"},{"v":0.1,"d":"10.0%"},{"v":0.15,"d":"15.0%"},{"v":0.15,"d":"15.0%"},{"v":0.2,"d":"20.0%"},{"v":0.3,"d":"30.0%"}]
{"$rows_empty":26}
[null,"Punkti kopā",{"$f":"IF(COUNT(C8:C33) <> 0,AVERAGE(C8:C33) *C7, \"\")","v":""},"","","","",""]
[null,"Pavisam iespējamie punkti",{"$f":"IF(COUNT(C8:C33)<>0,C7,\"\")","v":""},"","","","",""]
[null,"Procenti no pavisam iespējamā punktu skaita",null,{"$f":"IF(SUM($C$35:$H$35) <> 0,SUM($C$34:$H$34)/SUM($C$35:$H$35),\"\")","v":""}]
[null,"Lai ievadītu atzīmes:","Ievadiet iegūto punktu daudzuma un pavisam iespējamo punktu daudzuma attiecību (piemēram, 15/17)."]
[null,null,"Ievadiet iegūto punktu daudzumu procentu izteiksmē (piemēram, 85%)."]

{"sheet":"5. nodarbība","index":5,"n_rows":38,"n_cols":8,"rows_kept":38,"merged":[[1,1,1,2]]}
[]
[null,{"$f":"Kopsavilkums!B9","v":"5. nodarbība"}]
[null,"Profesors:",null,null,"Procenti no pavisam iespējamā punktu skaita",null,null,{"$f":"IF(SUM($C$35:$H$35) <> 0,SUM($C$34:$H$34)/SUM($C$35:$H$35),\"\")","v":""}]
[null,"E-pasts:",null,null,"Pašreizējā atzīme",null,null,{"$f":"SUM($C$34:$H$34)","v":{"v":0,"d":"0.00%"}}]
[]
[null,"Uzdevumi","Mājasdarbi","Esejas","Viktorīnas","Projekti","Starpeksāmens","Gala eksāmens"]
[null,"Novērtējums",{"v":0.1,"d":"10.0%"},{"v":0.1,"d":"10.0%"},{"v":0.15,"d":"15.0%"},{"v":0.15,"d":"15.0%"},{"v":0.2,"d":"20.0%"},{"v":0.3,"d":"30.0%"}]
{"$rows_empty":26}
[null,"Punkti kopā",{"$f":"IF(COUNT(C8:C33) <> 0,AVERAGE(C8:C33) *C7, \"\")","v":""},"","","","",""]
[null,"Pavisam iespējamie punkti",{"$f":"IF(COUNT(C8:C33)<>0,C7,\"\")","v":""},"","","","",""]
[null,"Procenti no pavisam iespējamā punktu skaita",null,{"$f":"IF(SUM($C$35:$H$35) <> 0,SUM($C$34:$H$34)/SUM($C$35:$H$35),\"\")","v":""}]
[null,"Lai ievadītu atzīmes:","Ievadiet iegūto punktu daudzuma un pavisam iespējamo punktu daudzuma attiecību (piemēram, 15/17)."]
[null,null,"Ievadiet iegūto punktu daudzumu procentu izteiksmē (piemēram, 85%)."]

{"sheet":"6. nodarbība","index":6,"n_rows":38,"n_cols":8,"rows_kept":38,"merged":[[1,1,1,2]]}
[]
[null,{"$f":"Kopsavilkums!B10","v":"6. nodarbība"}]
[null,"Profesors:",null,null,"Procenti no pavisam iespējamā punktu skaita",null,null,{"$f":"IF(SUM($C$35:$H$35) <> 0,SUM($C$34:$H$34)/SUM($C$35:$H$35),\"\")","v":""}]
[null,"E-pasts:",null,null,"Pašreizējā atzīme",null,null,{"$f":"SUM($C$34:$H$34)","v":{"v":0,"d":"0.00%"}}]
[]
[null,"Uzdevumi","Mājasdarbi","Esejas","Viktorīnas","Projekti","Starpeksāmens","Gala eksāmens"]
[null,"Novērtējums",{"v":0.1,"d":"10.0%"},{"v":0.1,"d":"10.0%"},{"v":0.15,"d":"15.0%"},{"v":0.15,"d":"15.0%"},{"v":0.2,"d":"20.0%"},{"v":0.3,"d":"30.0%"}]
{"$rows_empty":26}
[null,"Punkti kopā",{"$f":"IF(COUNT(C8:C33) <> 0,AVERAGE(C8:C33) *C7, \"\")","v":""},"","","","",""]
[null,"Pavisam iespējamie punkti",{"$f":"IF(COUNT(C8:C33)<>0,C7,\"\")","v":""},"","","","",""]
[null,"Procenti no pavisam iespējamā punktu skaita",null,{"$f":"IF(SUM($C$35:$H$35) <> 0,SUM($C$34:$H$34)/SUM($C$35:$H$35),\"\")","v":""},{"$f":"IF(SUM($C$35:$H$35) <> 0,SUM($C$34:$H$34)/SUM($C$35:$H$35),\"\")","v":""}]
[null,"Lai ievadītu atzīmes:","Ievadiet iegūto punktu daudzuma un pavisam iespējamo punktu daudzuma attiecību (piemēram, 15/17)."]
[null,null,"Ievadiet iegūto punktu daudzumu procentu izteiksmē (piemēram, 85%)."]

{"sheet":"7. nodarbība","index":7,"n_rows":38,"n_cols":8,"rows_kept":38,"merged":[[1,1,1,2]]}
[]
[null,{"$f":"Kopsavilkums!B11","v":"7. nodarbība"}]
[null,"Profesors:",null,null,"Procenti no pavisam iespējamā punktu skaita",null,null,{"$f":"IF(SUM($C$35:$H$35) <> 0,SUM($C$34:$H$34)/SUM($C$35:$H$35),\"\")","v":""}]
[null,"E-pasts:",null,null,"Pašreizējā atzīme",null,null,{"$f":"SUM($C$34:$H$34)","v":{"v":0,"d":"0.00%"}}]
[]
[null,"Uzdevumi","Mājasdarbi","Esejas","Viktorīnas","Projekti","Starpeksāmens","Gala eksāmens"]
[null,"Novērtējums",{"v":0.1,"d":"10.0%"},{"v":0.1,"d":"10.0%"},{"v":0.15,"d":"15.0%"},{"v":0.15,"d":"15.0%"},{"v":0.2,"d":"20.0%"},{"v":0.3,"d":"30.0%"}]
{"$rows_empty":26}
[null,"Punkti kopā",{"$f":"IF(COUNT(C8:C33) <> 0,AVERAGE(C8:C33) *C7, \"\")","v":""},"","","","",""]
[null,"Pavisam iespējamie punkti",{"$f":"IF(COUNT(C8:C33)<>0,C7,\"\")","v":""},"","","","",""]
[null,"Procenti no pavisam iespējamā punktu skaita",null,{"$f":"IF(SUM($C$35:$H$35) <> 0,SUM($C$34:$H$34)/SUM($C$35:$H$35),\"\")","v":""}]
[null,"Lai ievadītu atzīmes:","Ievadiet iegūto punktu daudzuma un pavisam iespējamo punktu daudzuma attiecību (piemēram, 15/17)."]
[null,null,"Ievadiet iegūto punktu daudzumu procentu izteiksmē (piemēram, 85%)."]

{"sheet":"Vidējās atzīmes aprēķina tabula","index":8,"n_rows":7,"n_cols":15,"rows_kept":7}
[]
[]
[]
[null,"Atzīmju un vidējās atzīmes tabula"]
[null,"Vidējā atzīme",{"v":0,"d":"0%"},{"v":0.6,"d":"60%"},{"v":0.63,"d":"63%"},{"v":0.67,"d":"67%"},{"v":0.7,"d":"70%"},{"v":0.73,"d":"73%"},{"v":0.77,"d":"77%"},{"v":0.8,"d":"80%"},{"v":0.83,"d":"83%"},{"v":0.87,"d":"87%"},{"v":0.9,"d":"90%"},{"v":0.93,"d":"93%"},{"v":0.97,"d":"97%"}]
[null,"Atzīmju izraksts","F","D-","D","D+","C-","C","C+","B-","B","B+","A-","A","A+"]
[null,"Vidējā atzīme",0,0.67,1,1.33,1.67,2,2.33,2.67,3,3.33,3.67,4,4]