{"text_format":"3","workbook":"xlsx","n_sheets":2,"sheets":["Darba laika uzskaites tabula","Darba_nedēļas_uzmeklēšana"],"not_rendered":{"defined_names":27},"read":"whole","date_system":"1900"}

{"sheet":"Darba laika uzskaites tabula","index":0,"n_rows":36,"n_cols":26,"rows_kept":36,"merged":[[0,1,2,4],[0,5,2,9],[0,10,2,14],[0,15,3,23],[0,24,3,24],[3,1,3,3],[3,5,3,9],[3,10,3,14],[4,1,6,3],[4,4,6,6],[5,14,7,14],[5,22,7,22],[5,23,7,23],[5,24,7,24],[21,1,21,6],[22,1,23,3],[22,4,23,6],[23,14,24,14],[23,22,24,22],[23,23,24,23],[23,24,24,24],[32,1,32,6],[32,24,33,24],[32,25,33,25],[33,1,33,6],[34,1,34,6],[35,1,35,3],[35,4,35,5],[35,6,35,7],[35,8,35,14],[35,15,35,16],[35,17,35,23]]}
[null,"DARBINIEKU DARBA LAIKA UZSKAITES TABULA",{"$nulls":3},"Darbinieka vārds, uzvārds",{"$nulls":9},"Atlasiet Jā šūnā pa labi, ja virsstundām \nir nepieciešama atļauja"]
[]
[]
[null,"Izmaksas beigu datums",null,null,{"$f":"V7","v":"2025-06-14"},"Darbinieka numurs"]
[null,"PASTĀVĪGĀS DARBA STUNDAS:",null,null,"Datums:"]
[{"$nulls":14},"Kopā\n1. nedēļa\nPastāvīgi",{"$nulls":7},"Kopā\n2. nedēļa\nPastāvīgi","Kopā\nPastāvīgās\nstundas","Alga\nIzmantot tikai\nalgas kodu"]
[{"$nulls":7},"2025-06-01",{"$f":"Pirmā_diena+1","v":"2025-06-02"},{"$f":"Pirmā_diena+2","v":"2025-06-03"},{"$f":"Pirmā_diena+3","v":"2025-06-04"},{"$f":"Pirmā_diena+4","v":"2025-06-05"},{"$f":"Pirmā_diena+5","v":"2025-06-06"},{"$f":"Pirmā_diena+6","v":"2025-06-07"},null,{"$f":"Pirmā_diena+7","v":"2025-06-08"},{"$f":"Pirmā_diena+8","v":"2025-06-09"},{"$f":"Pirmā_diena+9","v":"2025-06-10"},{"$f":"Pirmā_diena+10","v":"2025-06-11"},{"$f":"Pirmā_diena+11","v":"2025-06-12"},{"$f":"Pirmā_diena+12","v":"2025-06-13"},{"$f":"Pirmā_diena+13","v":"2025-06-14"}]
[null,"Uzdevums","Vieta","DU#","Darba apraksts","Darba nosaukums","Nosaukuma #",{"$f":"VLOOKUP(WEEKDAY(Pirmā_diena),Darba_nedēļas_uzmeklēšana!$B$2:$C$8,2)","v":"Sv"},{"$f":"VLOOKUP(WEEKDAY(I7),Darba_nedēļas_uzmeklēšana!$B$2:$C$8,2)","v":"Pr"},{"$f":"VLOOKUP(WEEKDAY(J7),Darba_nedēļas_uzmeklēšana!$B$2:$C$8,2)","v":"Ot"},{"$f":"VLOOKUP(WEEKDAY(K7),Darba_nedēļas_uzmeklēšana!$B$2:$C$8,2)","v":"Tr."},{"$f":"VLOOKUP(WEEKDAY(L7),Darba_nedēļas_uzmeklēšana!$B$2:$C$8,2)","v":"Ce"},{"$f":"VLOOKUP(WEEKDAY(M7),Darba_nedēļas_uzmeklēšana!$B$2:$C$8,2)","v":"Pk"},{"$f":"VLOOKUP(WEEKDAY(N7),Darba_nedēļas_uzmeklēšana!$B$2:$C$8,2)","v":"Se"},null,{"$f":"VLOOKUP(WEEKDAY(P7),Darba_nedēļas_uzmeklēšana!$B$2:$C$8,2)","v":"Sv"},{"$f":"VLOOKUP(WEEKDAY(Q7),Darba_nedēļas_uzmeklēšana!$B$2:$C$8,2)","v":"Pr"},{"$f":"VLOOKUP(WEEKDAY(R7),Darba_nedēļas_uzmeklēšana!$B$2:$C$8,2)","v":"Ot"},{"$f":"VLOOKUP(WEEKDAY(S7),Darba_nedēļas_uzmeklēšana!$B$2:$C$8,2)","v":"Tr."},{"$f":"VLOOKUP(WEEKDAY(T7),Darba_nedēļas_uzmeklēšana!$B$2:$C$8,2)","v":"Ce"},{"$f":"VLOOKUP(WEEKDAY(U7),Darba_nedēļas_uzmeklēšana!$B$2:$C$8,2)","v":"Pk"},{"$f":"VLOOKUP(WEEKDAY(V7),Darba_nedēļas_uzmeklēšana!$B$2:$C$8,2)","v":"Se"}]
[{"$nulls":14},{"$f":"SUM(H9:N9)","v":{"v":0,"d":"0.00"}},{"$nulls":7},{"$f":"SUM(P9:V9)","v":{"v":0,"d":"0.00"}},{"$f":"O9+W9","v":{"v":0,"d":"0.00"}}]
[{"$nulls":14},{"v":0,"d":"0.00"},{"$nulls":7},{"v":0,"d":"0.00"},{"v":0,"d":"0.00"}]
[{"$nulls":14},{"v":0,"d":"0.00"},{"$nulls":7},{"v":0,"d":"0.00"},{"v":0,"d":"0.00"}]
[{"$nulls":14},{"v":0,"d":"0.00"},{"$nulls":7},{"v":0,"d":"0.00"},{"v":0,"d":"0.00"}]
[{"$nulls":14},{"v":0,"d":"0.00"},{"$nulls":7},{"v":0,"d":"0.00"},{"v":0,"d":"0.00"}]
[{"$nulls":14},{"v":0,"d":"0.00"},{"$nulls":7},{"v":0,"d":"0.00"},{"v":0,"d":"0.00"}]
[{"$nulls":14},{"v":0,"d":"0.00"},{"$nulls":7},{"v":0,"d":"0.00"},{"v":0,"d":"0.00"}]
[{"$nulls":14},{"$f":"SUM(H16:N16)","v":{"v":0,"d":"0.00"}},{"$nulls":7},{"$f":"SUM(P16:V16)","v":{"v":0,"d":"0.00"}},{"$f":"O16+W16","v":{"v":0,"d":"0.00"}}]
[{"$nulls":14},{"v":0,"d":"0.00"},{"$nulls":7},{"v":0,"d":"0.00"},{"v":0,"d":"0.00"}]
[{"$nulls":14},{"v":0,"d":"0.00"},{"$nulls":7},{"v":0,"d":"0.00"},{"v":0,"d":"0.00"}]
[{"$nulls":14},{"v":0,"d":"0.00"},{"$nulls":7},{"v":0,"d":"0.00"},{"v":0,"d":"0.00"}]
[{"$nulls":14},{"v":0,"d":"0.00"},{"$nulls":7},{"v":0,"d":"0.00"},{"v":0,"d":"0.00"}]
[{"$nulls":14},{"v":0,"d":"0.00"},{"$nulls":7},{"v":0,"d":"0.00"},{"v":0,"d":"0.00"}]
[null,"Pastāvīgās darba stundas (kopā)   ",{"$nulls":5},{"$f":"SUM(H9:H21)","v":{"v":0,"d":"0.00"}},{"v":0,"d":"0.00"},{"v":0,"d":"0.00"},{"v":0,"d":"0.00"},{"v":0,"d":"0.00"},{"v":0,"d":"0.00"},{"v":0,"d":"0.00"},{"v":0,"d":"0.00"},{"v":0,"d":"0.00"},{"$f":"SUM(Q9:Q21)","v":{"v":0,"d":"0.00"}},{"v":0,"d":"0.00"},{"v":0,"d":"0.00"},{"v":0,"d":"0.00"},{"v":0,"d":"0.00"},{"v":0,"d":"0.00"},{"$f":"SUM(W9:W21)","v":{"v":0,"d":"0.00"}},{"$f":"SUM(X9:X21)","v":{"v":0,"d":"0.00"}}]
[null,"VIRSSTUNDAS:",null,null,"Datums:"]
[{"$nulls":7},{"$f":"Pirmā_diena","v":"2025-06-01"},{"$f":"Pirmā_diena+1","v":"2025-06-02"},{"$f":"Pirmā_diena+2","v":"2025-06-03"},{"$f":"Pirmā_diena+3","v":"2025-06-04"},{"$f":"Pirmā_diena+4","v":"2025-06-05"},{"$f":"Pirmā_diena+5","v":"2025-06-06"},{"$f":"Pirmā_diena+6","v":"2025-06-07"},"1. nedēļa Virsst.",{"$f":"Pirmā_diena+7","v":"2025-06-08"},{"$f":"Pirmā_diena+8","v":"2025-06-09"},{"$f":"Pirmā_diena+9","v":"2025-06-10"},{"$f":"Pirmā_diena+10","v":"2025-06-11"},{"$f":"Pirmā_diena+11","v":"2025-06-12"},{"$f":"Pirmā_diena+12","v":"2025-06-13"},{"$f":"Pirmā_diena+13","v":"2025-06-14"},"2. nedēļa Virsst.","Kopā virsst.","Virsstundu\nkods"]
[null,"Uzdevums","Vieta","DU#","Darba apraksts","Darba nosaukums","Nosaukuma #",{"$f":"VLOOKUP(WEEKDAY(Pirmā_diena),Darba_nedēļas_uzmeklēšana!$B$2:$C$8,2)","v":"Sv"},{"$f":"VLOOKUP(WEEKDAY(I24),Darba_nedēļas_uzmeklēšana!$B$2:$C$8,2)","v":"Pr"},{"$f":"VLOOKUP(WEEKDAY(J24),Darba_nedēļas_uzmeklēšana!$B$2:$C$8,2)","v":"Ot"},{"$f":"VLOOKUP(WEEKDAY(K24),Darba_nedēļas_uzmeklēšana!$B$2:$C$8,2)","v":"Tr."},{"$f":"VLOOKUP(WEEKDAY(L24),Darba_nedēļas_uzmeklēšana!$B$2:$C$8,2)","v":"Ce"},{"$f":"VLOOKUP(WEEKDAY(M24),Darba_nedēļas_uzmeklēšana!$B$2:$C$8,2)","v":"Pk"},{"$f":"VLOOKUP(WEEKDAY(N24),Darba_nedēļas_uzmeklēšana!$B$2:$C$8,2)","v":"Se"},null,{"$f":"VLOOKUP(WEEKDAY(P24),Darba_nedēļas_uzmeklēšana!$B$2:$C$8,2)","v":"Sv"},{"$f":"VLOOKUP(WEEKDAY(Q24),Darba_nedēļas_uzmeklēšana!$B$2:$C$8,2)","v":"Pr"},{"$f":"VLOOKUP(WEEKDAY(R24),Darba_nedēļas_uzmeklēšana!$B$2:$C$8,2)","v":"Ot"},{"$f":"VLOOKUP(WEEKDAY(S24),Darba_nedēļas_uzmeklēšana!$B$2:$C$8,2)","v":"Tr."},{"$f":"VLOOKUP(WEEKDAY(T24),Darba_nedēļas_uzmeklēšana!$B$2:$C$8,2)","v":"Ce"},{"$f":"VLOOKUP(WEEKDAY(U24),Darba_nedēļas_uzmeklēšana!$B$2:$C$8,2)","v":"Pk"},{"$f":"VLOOKUP(WEEKDAY(V24),Darba_nedēļas_uzmeklēšana!$B$2:$C$8,2)","v":"Se"}]
[{"$nulls":14},{"$f":"SUM(H26:N26)","v":{"v":0,"d":"0.00"}},{"$nulls":7},{"$f":"SUM(P26:V26)","v":{"v":0,"d":"0.00"}},{"$f":"O26+W26","v":{"v":0,"d":"0.00"}}]
[{"$nulls":14},{"v":0,"d":"0.00"},{"$nulls":7},{"v":0,"d":"0.00"},{"v":0,"d":"0.00"}]
[{"$nulls":14},{"v":0,"d":"0.00"},{"$nulls":7},{"v":0,"d":"0.00"},{"v":0,"d":"0.00"}]
[{"$nulls":14},{"v":0,"d":"0.00"},{"$nulls":7},{"v":0,"d":"0.00"},{"v":0,"d":"0.00"}]
[{"$nulls":14},{"v":0,"d":"0.00"},{"$nulls":7},{"v":0,"d":"0.00"},{"v":0,"d":"0.00"}]
[{"$nulls":14},{"v":0,"d":"0.00"},{"$nulls":7},{"v":0,"d":"0.00"},{"v":0,"d":"0.00"}]
[{"$nulls":14},{"v":0,"d":"0.00"},{"$nulls":7},{"v":0,"d":"0.00"},{"v":0,"d":"0.00"}]
[null,"Virsstundas (kopā)     ",{"$nulls":5},{"$f":"SUM(H26:H32)","v":{"v":0,"d":"0.00"}},{"v":0,"d":"0.00"},{"v":0,"d":"0.00"},{"v":0,"d":"0.00"},{"v":0,"d":"0.00"},{"v":0,"d":"0.00"},{"v":0,"d":"0.00"},{"$f":"SUM(O26:O32)","v":{"v":0,"d":"0.00"}},{"v":0,"d":"0.00"},{"v":0,"d":"0.00"},{"v":0,"d":"0.00"},{"v":0,"d":"0.00"},{"v":0,"d":"0.00"},{"v":0,"d":"0.00"},{"v":0,"d":"0.00"},{"$f":"SUM(P33:V33)","v":{"v":0,"d":"0.00"}},{"$f":"SUM(X26:X32)","v":{"v":0,"d":"0.00"}},"Kopā\nstundas\nnostrādātas","Kopā\nstundas\napmaksātas"]
[null,"Virsstundu komp.     ",{"$nulls":12},{"$f":"IF(SUM(H34:N34)<=O33,SUM(H34:N34),O33)","v":{"v":0,"d":"0.00"}},{"$nulls":7},{"$f":"IF(SUM(P34:V34)<=W33,SUM(P34:V34),W33)","v":{"v":0,"d":"0.00"}},{"$f":"IF(SUM(Q34:W34)<=X33,SUM(Q34:W34),X33)","v":{"v":0,"d":"0.00"}}]
[null,"Apmaksātās virsstundas     ",{"$nulls":5},{"$f":"IF(H33>=H34,H33-H34,H33)","v":{"v":0,"d":"0.00"}},{"$f":"IF(I33>=I34,I33-I34,I33)","v":{"v":0,"d":"0.00"}},{"v":0,"d":"0.00"},{"v":0,"d":"0.00"},{"v":0,"d":"0.00"},{"v":0,"d":"0.00"},{"v":0,"d":"0.00"},{"v":0,"d":"0.00"},{"v":0,"d":"0.00"},{"v":0,"d":"0.00"},{"v":0,"d":"0.00"},{"v":0,"d":"0.00"},{"v":0,"d":"0.00"},{"v":0,"d":"0.00"},{"v":0,"d":"0.00"},{"$f":"IF(W33>=W34,W33-W34,W33)","v":{"v":0,"d":"0.00"}},{"$f":"IF(X33>=X34,X33-X34,X33)","v":{"v":0,"d":"0.00"}},{"$f":"$X$22+$X$33","v":{"v":0,"d":"0.00"}},{"$f":"X22+X35","v":{"v":0,"d":"0.00"}}]
[null,"Darbinieks ",{"$nulls":4},"Vadītājs ",{"$nulls":8},"Vadītājs "]

{"sheet":"Darba_nedēļas_uzmeklēšana","index":1,"n_rows":8,"n_cols":3,"rows_kept":8}
[null,"Nedēļas diena\nVesels skaitlis","Nedēļas diena\nIniciāļi"]
[null,1,"Sv"]
[null,2,"Pr"]
[null,3,"Ot"]
[null,4,"Tr."]
[null,5,"Ce"]
[null,6,"Pk"]
[null,7,"Se"]