{"text_format":"3","workbook":"xlsx","n_sheets":4,"sheets":["YTD 예산 요약","월간 지출 요약","항목별 지출","자선 사업 및 후원"],"not_rendered":{"defined_names":8,"comments":2},"read":"whole","date_system":"1900"}

{"sheet":"YTD 예산 요약","index":0,"n_rows":30,"n_cols":6,"rows_kept":30,"merged":[[1,0,1,5]]}
[]
["2005 실제 금액 대 예산 YTD"]
[]
["G/L 코드","계정 이름","실제 금액","예산","남은 금액 \\","남은 금액 %"]
[]
[1000,"광고비",{"$f":"'월간 지출 요약'!O6","v":{"v":750750,"d":"\\750,750.00"}},{"v":100000000,"d":"\\100,000,000.00"},{"$f":"SUM(+D6-C6)","v":{"v":99249250,"d":"\\99,249,250.00"}},{"$f":"SUM(E6/D6)","v":{"v":0.9924925,"d":"99.25%"}}]
[]
[2000,"사무실 장비",{"$f":"'월간 지출 요약'!O8","v":0},{"v":100000000,"d":"\\100,000,000.00"},{"$f":"SUM(+D8-C8)","v":{"v":100000000,"d":"\\100,000,000.00"}},{"$f":"SUM(E8/D8)","v":{"v":1,"d":"100.00%"}}]
[]
[3000,"프린터",{"$f":"'월간 지출 요약'!O10","v":0},{"v":100000000,"d":"\\100,000,000.00"},{"$f":"SUM(+D10-C10)","v":{"v":100000000,"d":"\\100,000,000.00"}},{"$f":"SUM(E10/D10)","v":{"v":1,"d":"100.00%"}}]
[]
[4000,"서버 비용",{"$f":"'월간 지출 요약'!O12","v":0},{"v":100000000,"d":"\\100,000,000.00"},{"$f":"SUM(+D12-C12)","v":{"v":100000000,"d":"\\100,000,000.00"}},{"$f":"SUM(E12/D12)","v":{"v":1,"d":"100.00%"}}]
[]
[5000,"비품",{"$f":"'월간 지출 요약'!O14","v":0},{"v":50000000,"d":"\\50,000,000.00"},{"$f":"SUM(+D14-C14)","v":{"v":50000000,"d":"\\50,000,000.00"}},{"$f":"SUM(E14/D14)","v":{"v":1,"d":"100.00%"}}]
[]
[6000,"고객 경비",{"$f":"'월간 지출 요약'!O16","v":0},{"v":25000000,"d":"\\25,000,000.00"},{"$f":"SUM(+D16-C16)","v":{"v":25000000,"d":"\\25,000,000.00"}},{"$f":"SUM(E16/D16)","v":{"v":1,"d":"100.00%"}}]
[]
[7000,"컴퓨터",{"$f":"'월간 지출 요약'!O18","v":{"v":2500000,"d":"\\2,500,000.00"}},{"v":75000000,"d":"\\75,000,000.00"},{"$f":"SUM(+D18-C18)","v":{"v":72500000,"d":"\\72,500,000.00"}},{"$f":"SUM(E18/D18)","v":{"v":0.9666666666666667,"d":"96.67%"}}]
[]
[8000,"의료 계획",{"$f":"'월간 지출 요약'!O20","v":0},{"v":65000000,"d":"\\65,000,000.00"},{"$f":"SUM(+D20-C20)","v":{"v":65000000,"d":"\\65,000,000.00"}},{"$f":"SUM(E20/D20)","v":{"v":1,"d":"100.00%"}}]
[]
[9000,"건물 비용",{"$f":"'월간 지출 요약'!O22","v":0},{"v":125000000,"d":"\\125,000,000.00"},{"$f":"SUM(+D22-C22)","v":{"v":125000000,"d":"\\125,000,000.00"}},{"$f":"SUM(E22/D22)","v":{"v":1,"d":"100.00%"}}]
[]
[10000,"마케팅",{"$f":"'월간 지출 요약'!O24","v":0},{"v":100000000,"d":"\\100,000,000.00"},{"$f":"SUM(+D24-C24)","v":{"v":100000000,"d":"\\100,000,000.00"}},{"$f":"SUM(E24/D24)","v":{"v":1,"d":"100.00%"}}]
[]
[11000,"자선 사업",{"$f":"'월간 지출 요약'!O26","v":{"v":2500000,"d":"\\2,500,000.00"}},{"v":250000000,"d":"\\250,000,000.00"},{"$f":"SUM(+D26-C26)","v":{"v":247500000,"d":"\\247,500,000.00"}},{"$f":"SUM(E26/D26)","v":{"v":0.99,"d":"99.00%"}}]
[]
[12000,"후원금",{"$f":"'월간 지출 요약'!O28","v":{"v":1000000,"d":"\\1,000,000.00"}},{"v":50000000,"d":"\\50,000,000.00"},{"$f":"SUM(+D28-C28)","v":{"v":49000000,"d":"\\49,000,000.00"}},{"$f":"SUM(E28/D28)","v":{"v":0.98,"d":"98.00%"}}]
[]
[null,"합계",{"$f":"SUM(C6:C28)","v":{"v":6750750,"d":"\\6,750,750.00"}},{"$f":"SUM(D6:D28)","v":{"v":1140000000,"d":"\\1,140,000,000.00"}},{"$f":"SUM(E6:E28)","v":{"v":1133249250,"d":"\\1,133,249,250.00"}},{"$f":"SUM(E30/D30)","v":{"v":0.9940782894736843,"d":"99.41%"}}]

{"sheet":"월간 지출 요약","index":1,"n_rows":30,"n_cols":15,"rows_kept":30,"merged":[[1,0,1,14]]}
[]
["2005년 월간 지출"]
[]
["G/L 코드","계정 이름","2005-01-01","2005-02-01","2005-03-01","2005-04-01","2005-05-01","2005-06-01","2005-07-01","2005-08-01","2005-09-01","2005-10-01","2005-11-01","2005-12-01",2005]
[]
[1000,"광고비",{"$f":"SUMIF('자선 사업 및 후원'!$L:$L,\"=\"&($A6&TEXT(C$4,\"yyyy-mm\")),'자선 사업 및 후원'!$D:$D)+SUMIF('항목별 지출'!$J:$J,\"=\"&($A6&TEXT(C$4,\"yyyy-mm\")),'항목별 지출'!$E:$E)","v":{"v":750750,"d":"\\750,750.00"}},{"$f":"(SUMIF('자선 사업 및 후원'!$L:$L,\"=\"&($A6&TEXT(D$4,\"yyyy-mm\")),'자선 사업 및 후원'!$D:$D)+SUMIF('항목별 지출'!$J:$J,\"=\"&($A6&TEXT(D$4,\"yyyy-mm\")),'항목별 지출'!$E:$E))*1000","v":0},{"$f":"(SUMIF('자선 사업 및 후원'!$L:$L,\"=\"&($A6&TEXT(E$4,\"yyyy-mm\")),'자선 사업 및 후원'!$D:$D)+SUMIF('항목별 지출'!$J:$J,\"=\"&($A6&TEXT(E$4,\"yyyy-mm\")),'항목별 지출'!$E:$E))*1000","v":0},{"$f":"(SUMIF('자선 사업 및 후원'!$L:$L,\"=\"&($A6&TEXT(F$4,\"yyyy-mm\")),'자선 사업 및 후원'!$D:$D)+SUMIF('항목별 지출'!$J:$J,\"=\"&($A6&TEXT(F$4,\"yyyy-mm\")),'항목별 지출'!$E:$E))*1000","v":0},{"$f":"(SUMIF('자선 사업 및 후원'!$L:$L,\"=\"&($A6&TEXT(G$4,\"yyyy-mm\")),'자선 사업 및 후원'!$D:$D)+SUMIF('항목별 지출'!$J:$J,\"=\"&($A6&TEXT(G$4,\"yyyy-mm\")),'항목별 지출'!$E:$E))*1000","v":0},{"$f":"(SUMIF('자선 사업 및 후원'!$L:$L,\"=\"&($A6&TEXT(H$4,\"yyyy-mm\")),'자선 사업 및 후원'!$D:$D)+SUMIF('항목별 지출'!$J:$J,\"=\"&($A6&TEXT(H$4,\"yyyy-mm\")),'항목별 지출'!$E:$E))*1000","v":0},{"$f":"(SUMIF('자선 사업 및 후원'!$L:$L,\"=\"&($A6&TEXT(I$4,\"yyyy-mm\")),'자선 사업 및 후원'!$D:$D)+SUMIF('항목별 지출'!$J:$J,\"=\"&($A6&TEXT(I$4,\"yyyy-mm\")),'항목별 지출'!$E:$E))*1000","v":0},{"$f":"(SUMIF('자선 사업 및 후원'!$L:$L,\"=\"&($A6&TEXT(J$4,\"yyyy-mm\")),'자선 사업 및 후원'!$D:$D)+SUMIF('항목별 지출'!$J:$J,\"=\"&($A6&TEXT(J$4,\"yyyy-mm\")),'항목별 지출'!$E:$E))*1000","v":0},{"$f":"(SUMIF('자선 사업 및 후원'!$L:$L,\"=\"&($A6&TEXT(K$4,\"yyyy-mm\")),'자선 사업 및 후원'!$D:$D)+SUMIF('항목별 지출'!$J:$J,\"=\"&($A6&TEXT(K$4,\"yyyy-mm\")),'항목별 지출'!$E:$E))*1000","v":0},{"$f":"(SUMIF('자선 사업 및 후원'!$L:$L,\"=\"&($A6&TEXT(L$4,\"yyyy-mm\")),'자선 사업 및 후원'!$D:$D)+SUMIF('항목별 지출'!$J:$J,\"=\"&($A6&TEXT(L$4,\"yyyy-mm\")),'항목별 지출'!$E:$E))*1000","v":0},{"$f":"(SUMIF('자선 사업 및 후원'!$L:$L,\"=\"&($A6&TEXT(M$4,\"yyyy-mm\")),'자선 사업 및 후원'!$D:$D)+SUMIF('항목별 지출'!$J:$J,\"=\"&($A6&TEXT(M$4,\"yyyy-mm\")),'항목별 지출'!$E:$E))*1000","v":0},{"$f":"(SUMIF('자선 사업 및 후원'!$L:$L,\"=\"&($A6&TEXT(N$4,\"yyyy-mm\")),'자선 사업 및 후원'!$D:$D)+SUMIF('항목별 지출'!$J:$J,\"=\"&($A6&TEXT(N$4,\"yyyy-mm\")),'항목별 지출'!$E:$E))*1000","v":0},{"$f":"SUM(C6:N6)","v":{"v":750750,"d":"\\750,750.00"}}]
[]
[2000,"사무실 장비",{"$f":"SUMIF('자선 사업 및 후원'!$L:$L,\"=\"&($A8&TEXT(C$4,\"yyyy-mm\")),'자선 사업 및 후원'!$D:$D)+SUMIF('항목별 지출'!$J:$J,\"=\"&($A8&TEXT(C$4,\"yyyy-mm\")),'항목별 지출'!$E:$E)","v":0},{"$f":"(SUMIF('자선 사업 및 후원'!$L:$L,\"=\"&($A8&TEXT(D$4,\"yyyy-mm\")),'자선 사업 및 후원'!$D:$D)+SUMIF('항목별 지출'!$J:$J,\"=\"&($A8&TEXT(D$4,\"yyyy-mm\")),'항목별 지출'!$E:$E))*1000","v":0},{"$f":"(SUMIF('자선 사업 및 후원'!$L:$L,\"=\"&($A8&TEXT(E$4,\"yyyy-mm\")),'자선 사업 및 후원'!$D:$D)+SUMIF('항목별 지출'!$J:$J,\"=\"&($A8&TEXT(E$4,\"yyyy-mm\")),'항목별 지출'!$E:$E))*1000","v":0},{"$f":"(SUMIF('자선 사업 및 후원'!$L:$L,\"=\"&($A8&TEXT(F$4,\"yyyy-mm\")),'자선 사업 및 후원'!$D:$D)+SUMIF('항목별 지출'!$J:$J,\"=\"&($A8&TEXT(F$4,\"yyyy-mm\")),'항목별 지출'!$E:$E))*1000","v":0},{"$f":"(SUMIF('자선 사업 및 후원'!$L:$L,\"=\"&($A8&TEXT(G$4,\"yyyy-mm\")),'자선 사업 및 후원'!$D:$D)+SUMIF('항목별 지출'!$J:$J,\"=\"&($A8&TEXT(G$4,\"yyyy-mm\")),'항목별 지출'!$E:$E))*1000","v":0},{"$f":"(SUMIF('자선 사업 및 후원'!$L:$L,\"=\"&($A8&TEXT(H$4,\"yyyy-mm\")),'자선 사업 및 후원'!$D:$D)+SUMIF('항목별 지출'!$J:$J,\"=\"&($A8&TEXT(H$4,\"yyyy-mm\")),'항목별 지출'!$E:$E))*1000","v":0},{"$f":"(SUMIF('자선 사업 및 후원'!$L:$L,\"=\"&($A8&TEXT(I$4,\"yyyy-mm\")),'자선 사업 및 후원'!$D:$D)+SUMIF('항목별 지출'!$J:$J,\"=\"&($A8&TEXT(I$4,\"yyyy-mm\")),'항목별 지출'!$E:$E))*1000","v":0},{"$f":"(SUMIF('자선 사업 및 후원'!$L:$L,\"=\"&($A8&TEXT(J$4,\"yyyy-mm\")),'자선 사업 및 후원'!$D:$D)+SUMIF('항목별 지출'!$J:$J,\"=\"&($A8&TEXT(J$4,\"yyyy-mm\")),'항목별 지출'!$E:$E))*1000","v":0},{"$f":"(SUMIF('자선 사업 및 후원'!$L:$L,\"=\"&($A8&TEXT(K$4,\"yyyy-mm\")),'자선 사업 및 후원'!$D:$D)+SUMIF('항목별 지출'!$J:$J,\"=\"&($A8&TEXT(K$4,\"yyyy-mm\")),'항목별 지출'!$E:$E))*1000","v":0},{"$f":"(SUMIF('자선 사업 및 후원'!$L:$L,\"=\"&($A8&TEXT(L$4,\"yyyy-mm\")),'자선 사업 및 후원'!$D:$D)+SUMIF('항목별 지출'!$J:$J,\"=\"&($A8&TEXT(L$4,\"yyyy-mm\")),'항목별 지출'!$E:$E))*1000","v":0},{"$f":"(SUMIF('자선 사업 및 후원'!$L:$L,\"=\"&($A8&TEXT(M$4,\"yyyy-mm\")),'자선 사업 및 후원'!$D:$D)+SUMIF('항목별 지출'!$J:$J,\"=\"&($A8&TEXT(M$4,\"yyyy-mm\")),'항목별 지출'!$E:$E))*1000","v":0},{"$f":"(SUMIF('자선 사업 및 후원'!$L:$L,\"=\"&($A8&TEXT(N$4,\"yyyy-mm\")),'자선 사업 및 후원'!$D:$D)+SUMIF('항목별 지출'!$J:$J,\"=\"&($A8&TEXT(N$4,\"yyyy-mm\")),'항목별 지출'!$E:$E))*1000","v":0},{"$f":"(SUM(C8:N8))*1000","v":0}]
[]
[3000,"프린터",{"$f":"SUMIF('자선 사업 및 후원'!$L:$L,\"=\"&($A10&TEXT(C$4,\"yyyy-mm\")),'자선 사업 및 후원'!$D:$D)+SUMIF('항목별 지출'!$J:$J,\"=\"&($A10&TEXT(C$4,\"yyyy-mm\")),'항목별 지출'!$E:$E)","v":0},{"$f":"(SUMIF('자선 사업 및 후원'!$L:$L,\"=\"&($A10&TEXT(D$4,\"yyyy-mm\")),'자선 사업 및 후원'!$D:$D)+SUMIF('항목별 지출'!$J:$J,\"=\"&($A10&TEXT(D$4,\"yyyy-mm\")),'항목별 지출'!$E:$E))*1000","v":0},{"$f":"(SUMIF('자선 사업 및 후원'!$L:$L,\"=\"&($A10&TEXT(E$4,\"yyyy-mm\")),'자선 사업 및 후원'!$D:$D)+SUMIF('항목별 지출'!$J:$J,\"=\"&($A10&TEXT(E$4,\"yyyy-mm\")),'항목별 지출'!$E:$E))*1000","v":0},{"$f":"(SUMIF('자선 사업 및 후원'!$L:$L,\"=\"&($A10&TEXT(F$4,\"yyyy-mm\")),'자선 사업 및 후원'!$D:$D)+SUMIF('항목별 지출'!$J:$J,\"=\"&($A10&TEXT(F$4,\"yyyy-mm\")),'항목별 지출'!$E:$E))*1000","v":0},{"$f":"(SUMIF('자선 사업 및 후원'!$L:$L,\"=\"&($A10&TEXT(G$4,\"yyyy-mm\")),'자선 사업 및 후원'!$D:$D)+SUMIF('항목별 지출'!$J:$J,\"=\"&($A10&TEXT(G$4,\"yyyy-mm\")),'항목별 지출'!$E:$E))*1000","v":0},{"$f":"(SUMIF('자선 사업 및 후원'!$L:$L,\"=\"&($A10&TEXT(H$4,\"yyyy-mm\")),'자선 사업 및 후원'!$D:$D)+SUMIF('항목별 지출'!$J:$J,\"=\"&($A10&TEXT(H$4,\"yyyy-mm\")),'항목별 지출'!$E:$E))*1000","v":0},{"$f":"(SUMIF('자선 사업 및 후원'!$L:$L,\"=\"&($A10&TEXT(I$4,\"yyyy-mm\")),'자선 사업 및 후원'!$D:$D)+SUMIF('항목별 지출'!$J:$J,\"=\"&($A10&TEXT(I$4,\"yyyy-mm\")),'항목별 지출'!$E:$E))*1000","v":0},{"$f":"(SUMIF('자선 사업 및 후원'!$L:$L,\"=\"&($A10&TEXT(J$4,\"yyyy-mm\")),'자선 사업 및 후원'!$D:$D)+SUMIF('항목별 지출'!$J:$J,\"=\"&($A10&TEXT(J$4,\"yyyy-mm\")),'항목별 지출'!$E:$E))*1000","v":0},{"$f":"(SUMIF('자선 사업 및 후원'!$L:$L,\"=\"&($A10&TEXT(K$4,\"yyyy-mm\")),'자선 사업 및 후원'!$D:$D)+SUMIF('항목별 지출'!$J:$J,\"=\"&($A10&TEXT(K$4,\"yyyy-mm\")),'항목별 지출'!$E:$E))*1000","v":0},{"$f":"(SUMIF('자선 사업 및 후원'!$L:$L,\"=\"&($A10&TEXT(L$4,\"yyyy-mm\")),'자선 사업 및 후원'!$D:$D)+SUMIF('항목별 지출'!$J:$J,\"=\"&($A10&TEXT(L$4,\"yyyy-mm\")),'항목별 지출'!$E:$E))*1000","v":0},{"$f":"(SUMIF('자선 사업 및 후원'!$L:$L,\"=\"&($A10&TEXT(M$4,\"yyyy-mm\")),'자선 사업 및 후원'!$D:$D)+SUMIF('항목별 지출'!$J:$J,\"=\"&($A10&TEXT(M$4,\"yyyy-mm\")),'항목별 지출'!$E:$E))*1000","v":0},{"$f":"(SUMIF('자선 사업 및 후원'!$L:$L,\"=\"&($A10&TEXT(N$4,\"yyyy-mm\")),'자선 사업 및 후원'!$D:$D)+SUMIF('항목별 지출'!$J:$J,\"=\"&($A10&TEXT(N$4,\"yyyy-mm\")),'항목별 지출'!$E:$E))*1000","v":0},{"$f":"(SUM(C10:N10))*1000","v":0}]
[]
[4000,"서버 비용",{"$f":"SUMIF('자선 사업 및 후원'!$L:$L,\"=\"&($A12&TEXT(C$4,\"yyyy-mm\")),'자선 사업 및 후원'!$D:$D)+SUMIF('항목별 지출'!$J:$J,\"=\"&($A12&TEXT(C$4,\"yyyy-mm\")),'항목별 지출'!$E:$E)","v":0},{"$f":"(SUMIF('자선 사업 및 후원'!$L:$L,\"=\"&($A12&TEXT(D$4,\"yyyy-mm\")),'자선 사업 및 후원'!$D:$D)+SUMIF('항목별 지출'!$J:$J,\"=\"&($A12&TEXT(D$4,\"yyyy-mm\")),'항목별 지출'!$E:$E))*1000","v":0},{"$f":"(SUMIF('자선 사업 및 후원'!$L:$L,\"=\"&($A12&TEXT(E$4,\"yyyy-mm\")),'자선 사업 및 후원'!$D:$D)+SUMIF('항목별 지출'!$J:$J,\"=\"&($A12&TEXT(E$4,\"yyyy-mm\")),'항목별 지출'!$E:$E))*1000","v":0},{"$f":"(SUMIF('자선 사업 및 후원'!$L:$L,\"=\"&($A12&TEXT(F$4,\"yyyy-mm\")),'자선 사업 및 후원'!$D:$D)+SUMIF('항목별 지출'!$J:$J,\"=\"&($A12&TEXT(F$4,\"yyyy-mm\")),'항목별 지출'!$E:$E))*1000","v":0},{"$f":"(SUMIF('자선 사업 및 후원'!$L:$L,\"=\"&($A12&TEXT(G$4,\"yyyy-mm\")),'자선 사업 및 후원'!$D:$D)+SUMIF('항목별 지출'!$J:$J,\"=\"&($A12&TEXT(G$4,\"yyyy-mm\")),'항목별 지출'!$E:$E))*1000","v":0},{"$f":"(SUMIF('자선 사업 및 후원'!$L:$L,\"=\"&($A12&TEXT(H$4,\"yyyy-mm\")),'자선 사업 및 후원'!$D:$D)+SUMIF('항목별 지출'!$J:$J,\"=\"&($A12&TEXT(H$4,\"yyyy-mm\")),'항목별 지출'!$E:$E))*1000","v":0},{"$f":"(SUMIF('자선 사업 및 후원'!$L:$L,\"=\"&($A12&TEXT(I$4,\"yyyy-mm\")),'자선 사업 및 후원'!$D:$D)+SUMIF('항목별 지출'!$J:$J,\"=\"&($A12&TEXT(I$4,\"yyyy-mm\")),'항목별 지출'!$E:$E))*1000","v":0},{"$f":"(SUMIF('자선 사업 및 후원'!$L:$L,\"=\"&($A12&TEXT(J$4,\"yyyy-mm\")),'자선 사업 및 후원'!$D:$D)+SUMIF('항목별 지출'!$J:$J,\"=\"&($A12&TEXT(J$4,\"yyyy-mm\")),'항목별 지출'!$E:$E))*1000","v":0},{"$f":"(SUMIF('자선 사업 및 후원'!$L:$L,\"=\"&($A12&TEXT(K$4,\"yyyy-mm\")),'자선 사업 및 후원'!$D:$D)+SUMIF('항목별 지출'!$J:$J,\"=\"&($A12&TEXT(K$4,\"yyyy-mm\")),'항목별 지출'!$E:$E))*1000","v":0},{"$f":"(SUMIF('자선 사업 및 후원'!$L:$L,\"=\"&($A12&TEXT(L$4,\"yyyy-mm\")),'자선 사업 및 후원'!$D:$D)+SUMIF('항목별 지출'!$J:$J,\"=\"&($A12&TEXT(L$4,\"yyyy-mm\")),'항목별 지출'!$E:$E))*1000","v":0},{"$f":"(SUMIF('자선 사업 및 후원'!$L:$L,\"=\"&($A12&TEXT(M$4,\"yyyy-mm\")),'자선 사업 및 후원'!$D:$D)+SUMIF('항목별 지출'!$J:$J,\"=\"&($A12&TEXT(M$4,\"yyyy-mm\")),'항목별 지출'!$E:$E))*1000","v":0},{"$f":"(SUMIF('자선 사업 및 후원'!$L:$L,\"=\"&($A12&TEXT(N$4,\"yyyy-mm\")),'자선 사업 및 후원'!$D:$D)+SUMIF('항목별 지출'!$J:$J,\"=\"&($A12&TEXT(N$4,\"yyyy-mm\")),'항목별 지출'!$E:$E))*1000","v":0},{"$f":"(SUM(C12:N12))*1000","v":0}]
[]
[5000,"비품",{"$f":"SUMIF('자선 사업 및 후원'!$L:$L,\"=\"&($A14&TEXT(C$4,\"yyyy-mm\")),'자선 사업 및 후원'!$D:$D)+SUMIF('항목별 지출'!$J:$J,\"=\"&($A14&TEXT(C$4,\"yyyy-mm\")),'항목별 지출'!$E:$E)","v":0},{"$f":"(SUMIF('자선 사업 및 후원'!$L:$L,\"=\"&($A14&TEXT(D$4,\"yyyy-mm\")),'자선 사업 및 후원'!$D:$D)+SUMIF('항목별 지출'!$J:$J,\"=\"&($A14&TEXT(D$4,\"yyyy-mm\")),'항목별 지출'!$E:$E))*1000","v":0},{"$f":"(SUMIF('자선 사업 및 후원'!$L:$L,\"=\"&($A14&TEXT(E$4,\"yyyy-mm\")),'자선 사업 및 후원'!$D:$D)+SUMIF('항목별 지출'!$J:$J,\"=\"&($A14&TEXT(E$4,\"yyyy-mm\")),'항목별 지출'!$E:$E))*1000","v":0},{"$f":"(SUMIF('자선 사업 및 후원'!$L:$L,\"=\"&($A14&TEXT(F$4,\"yyyy-mm\")),'자선 사업 및 후원'!$D:$D)+SUMIF('항목별 지출'!$J:$J,\"=\"&($A14&TEXT(F$4,\"yyyy-mm\")),'항목별 지출'!$E:$E))*1000","v":0},{"$f":"(SUMIF('자선 사업 및 후원'!$L:$L,\"=\"&($A14&TEXT(G$4,\"yyyy-mm\")),'자선 사업 및 후원'!$D:$D)+SUMIF('항목별 지출'!$J:$J,\"=\"&($A14&TEXT(G$4,\"yyyy-mm\")),'항목별 지출'!$E:$E))*1000","v":0},{"$f":"(SUMIF('자선 사업 및 후원'!$L:$L,\"=\"&($A14&TEXT(H$4,\"yyyy-mm\")),'자선 사업 및 후원'!$D:$D)+SUMIF('항목별 지출'!$J:$J,\"=\"&($A14&TEXT(H$4,\"yyyy-mm\")),'항목별 지출'!$E:$E))*1000","v":0},{"$f":"(SUMIF('자선 사업 및 후원'!$L:$L,\"=\"&($A14&TEXT(I$4,\"yyyy-mm\")),'자선 사업 및 후원'!$D:$D)+SUMIF('항목별 지출'!$J:$J,\"=\"&($A14&TEXT(I$4,\"yyyy-mm\")),'항목별 지출'!$E:$E))*1000","v":0},{"$f":"(SUMIF('자선 사업 및 후원'!$L:$L,\"=\"&($A14&TEXT(J$4,\"yyyy-mm\")),'자선 사업 및 후원'!$D:$D)+SUMIF('항목별 지출'!$J:$J,\"=\"&($A14&TEXT(J$4,\"yyyy-mm\")),'항목별 지출'!$E:$E))*1000","v":0},{"$f":"(SUMIF('자선 사업 및 후원'!$L:$L,\"=\"&($A14&TEXT(K$4,\"yyyy-mm\")),'자선 사업 및 후원'!$D:$D)+SUMIF('항목별 지출'!$J:$J,\"=\"&($A14&TEXT(K$4,\"yyyy-mm\")),'항목별 지출'!$E:$E))*1000","v":0},{"$f":"(SUMIF('자선 사업 및 후원'!$L:$L,\"=\"&($A14&TEXT(L$4,\"yyyy-mm\")),'자선 사업 및 후원'!$D:$D)+SUMIF('항목별 지출'!$J:$J,\"=\"&($A14&TEXT(L$4,\"yyyy-mm\")),'항목별 지출'!$E:$E))*1000","v":0},{"$f":"(SUMIF('자선 사업 및 후원'!$L:$L,\"=\"&($A14&TEXT(M$4,\"yyyy-mm\")),'자선 사업 및 후원'!$D:$D)+SUMIF('항목별 지출'!$J:$J,\"=\"&($A14&TEXT(M$4,\"yyyy-mm\")),'항목별 지출'!$E:$E))*1000","v":0},{"$f":"(SUMIF('자선 사업 및 후원'!$L:$L,\"=\"&($A14&TEXT(N$4,\"yyyy-mm\")),'자선 사업 및 후원'!$D:$D)+SUMIF('항목별 지출'!$J:$J,\"=\"&($A14&TEXT(N$4,\"yyyy-mm\")),'항목별 지출'!$E:$E))*1000","v":0},{"$f":"(SUM(C14:N14))*1000","v":0}]
[]
[6000,"고객 경비",{"$f":"SUMIF('자선 사업 및 후원'!$L:$L,\"=\"&($A16&TEXT(C$4,\"yyyy-mm\")),'자선 사업 및 후원'!$D:$D)+SUMIF('항목별 지출'!$J:$J,\"=\"&($A16&TEXT(C$4,\"yyyy-mm\")),'항목별 지출'!$E:$E)","v":0},{"$f":"(SUMIF('자선 사업 및 후원'!$L:$L,\"=\"&($A16&TEXT(D$4,\"yyyy-mm\")),'자선 사업 및 후원'!$D:$D)+SUMIF('항목별 지출'!$J:$J,\"=\"&($A16&TEXT(D$4,\"yyyy-mm\")),'항목별 지출'!$E:$E))*1000","v":0},{"$f":"(SUMIF('자선 사업 및 후원'!$L:$L,\"=\"&($A16&TEXT(E$4,\"yyyy-mm\")),'자선 사업 및 후원'!$D:$D)+SUMIF('항목별 지출'!$J:$J,\"=\"&($A16&TEXT(E$4,\"yyyy-mm\")),'항목별 지출'!$E:$E))*1000","v":0},{"$f":"(SUMIF('자선 사업 및 후원'!$L:$L,\"=\"&($A16&TEXT(F$4,\"yyyy-mm\")),'자선 사업 및 후원'!$D:$D)+SUMIF('항목별 지출'!$J:$J,\"=\"&($A16&TEXT(F$4,\"yyyy-mm\")),'항목별 지출'!$E:$E))*1000","v":0},{"$f":"(SUMIF('자선 사업 및 후원'!$L:$L,\"=\"&($A16&TEXT(G$4,\"yyyy-mm\")),'자선 사업 및 후원'!$D:$D)+SUMIF('항목별 지출'!$J:$J,\"=\"&($A16&TEXT(G$4,\"yyyy-mm\")),'항목별 지출'!$E:$E))*1000","v":0},{"$f":"(SUMIF('자선 사업 및 후원'!$L:$L,\"=\"&($A16&TEXT(H$4,\"yyyy-mm\")),'자선 사업 및 후원'!$D:$D)+SUMIF('항목별 지출'!$J:$J,\"=\"&($A16&TEXT(H$4,\"yyyy-mm\")),'항목별 지출'!$E:$E))*1000","v":0},{"$f":"(SUMIF('자선 사업 및 후원'!$L:$L,\"=\"&($A16&TEXT(I$4,\"yyyy-mm\")),'자선 사업 및 후원'!$D:$D)+SUMIF('항목별 지출'!$J:$J,\"=\"&($A16&TEXT(I$4,\"yyyy-mm\")),'항목별 지출'!$E:$E))*1000","v":0},{"$f":"(SUMIF('자선 사업 및 후원'!$L:$L,\"=\"&($A16&TEXT(J$4,\"yyyy-mm\")),'자선 사업 및 후원'!$D:$D)+SUMIF('항목별 지출'!$J:$J,\"=\"&($A16&TEXT(J$4,\"yyyy-mm\")),'항목별 지출'!$E:$E))*1000","v":0},{"$f":"(SUMIF('자선 사업 및 후원'!$L:$L,\"=\"&($A16&TEXT(K$4,\"yyyy-mm\")),'자선 사업 및 후원'!$D:$D)+SUMIF('항목별 지출'!$J:$J,\"=\"&($A16&TEXT(K$4,\"yyyy-mm\")),'항목별 지출'!$E:$E))*1000","v":0},{"$f":"(SUMIF('자선 사업 및 후원'!$L:$L,\"=\"&($A16&TEXT(L$4,\"yyyy-mm\")),'자선 사업 및 후원'!$D:$D)+SUMIF('항목별 지출'!$J:$J,\"=\"&($A16&TEXT(L$4,\"yyyy-mm\")),'항목별 지출'!$E:$E))*1000","v":0},{"$f":"(SUMIF('자선 사업 및 후원'!$L:$L,\"=\"&($A16&TEXT(M$4,\"yyyy-mm\")),'자선 사업 및 후원'!$D:$D)+SUMIF('항목별 지출'!$J:$J,\"=\"&($A16&TEXT(M$4,\"yyyy-mm\")),'항목별 지출'!$E:$E))*1000","v":0},{"$f":"(SUMIF('자선 사업 및 후원'!$L:$L,\"=\"&($A16&TEXT(N$4,\"yyyy-mm\")),'자선 사업 및 후원'!$D:$D)+SUMIF('항목별 지출'!$J:$J,\"=\"&($A16&TEXT(N$4,\"yyyy-mm\")),'항목별 지출'!$E:$E))*1000","v":0},{"$f":"(SUM(C16:N16))*1000","v":0}]
[]
[7000,"컴퓨터",{"$f":"SUMIF('자선 사업 및 후원'!$L:$L,\"=\"&($A18&TEXT(C$4,\"yyyy-mm\")),'자선 사업 및 후원'!$D:$D)+SUMIF('항목별 지출'!$J:$J,\"=\"&($A18&TEXT(C$4,\"yyyy-mm\")),'항목별 지출'!$E:$E)","v":{"v":2500000,"d":"\\2,500,000.00"}},{"$f":"(SUMIF('자선 사업 및 후원'!$L:$L,\"=\"&($A18&TEXT(D$4,\"yyyy-mm\")),'자선 사업 및 후원'!$D:$D)+SUMIF('항목별 지출'!$J:$J,\"=\"&($A18&TEXT(D$4,\"yyyy-mm\")),'항목별 지출'!$E:$E))*1000","v":0},{"$f":"(SUMIF('자선 사업 및 후원'!$L:$L,\"=\"&($A18&TEXT(E$4,\"yyyy-mm\")),'자선 사업 및 후원'!$D:$D)+SUMIF('항목별 지출'!$J:$J,\"=\"&($A18&TEXT(E$4,\"yyyy-mm\")),'항목별 지출'!$E:$E))*1000","v":0},{"$f":"(SUMIF('자선 사업 및 후원'!$L:$L,\"=\"&($A18&TEXT(F$4,\"yyyy-mm\")),'자선 사업 및 후원'!$D:$D)+SUMIF('항목별 지출'!$J:$J,\"=\"&($A18&TEXT(F$4,\"yyyy-mm\")),'항목별 지출'!$E:$E))*1000","v":0},{"$f":"(SUMIF('자선 사업 및 후원'!$L:$L,\"=\"&($A18&TEXT(G$4,\"yyyy-mm\")),'자선 사업 및 후원'!$D:$D)+SUMIF('항목별 지출'!$J:$J,\"=\"&($A18&TEXT(G$4,\"yyyy-mm\")),'항목별 지출'!$E:$E))*1000","v":0},{"$f":"(SUMIF('자선 사업 및 후원'!$L:$L,\"=\"&($A18&TEXT(H$4,\"yyyy-mm\")),'자선 사업 및 후원'!$D:$D)+SUMIF('항목별 지출'!$J:$J,\"=\"&($A18&TEXT(H$4,\"yyyy-mm\")),'항목별 지출'!$E:$E))*1000","v":0},{"$f":"(SUMIF('자선 사업 및 후원'!$L:$L,\"=\"&($A18&TEXT(I$4,\"yyyy-mm\")),'자선 사업 및 후원'!$D:$D)+SUMIF('항목별 지출'!$J:$J,\"=\"&($A18&TEXT(I$4,\"yyyy-mm\")),'항목별 지출'!$E:$E))*1000","v":0},{"$f":"(SUMIF('자선 사업 및 후원'!$L:$L,\"=\"&($A18&TEXT(J$4,\"yyyy-mm\")),'자선 사업 및 후원'!$D:$D)+SUMIF('항목별 지출'!$J:$J,\"=\"&($A18&TEXT(J$4,\"yyyy-mm\")),'항목별 지출'!$E:$E))*1000","v":0},{"$f":"(SUMIF('자선 사업 및 후원'!$L:$L,\"=\"&($A18&TEXT(K$4,\"yyyy-mm\")),'자선 사업 및 후원'!$D:$D)+SUMIF('항목별 지출'!$J:$J,\"=\"&($A18&TEXT(K$4,\"yyyy-mm\")),'항목별 지출'!$E:$E))*1000","v":0},{"$f":"(SUMIF('자선 사업 및 후원'!$L:$L,\"=\"&($A18&TEXT(L$4,\"yyyy-mm\")),'자선 사업 및 후원'!$D:$D)+SUMIF('항목별 지출'!$J:$J,\"=\"&($A18&TEXT(L$4,\"yyyy-mm\")),'항목별 지출'!$E:$E))*1000","v":0},{"$f":"(SUMIF('자선 사업 및 후원'!$L:$L,\"=\"&($A18&TEXT(M$4,\"yyyy-mm\")),'자선 사업 및 후원'!$D:$D)+SUMIF('항목별 지출'!$J:$J,\"=\"&($A18&TEXT(M$4,\"yyyy-mm\")),'항목별 지출'!$E:$E))*1000","v":0},{"$f":"(SUMIF('자선 사업 및 후원'!$L:$L,\"=\"&($A18&TEXT(N$4,\"yyyy-mm\")),'자선 사업 및 후원'!$D:$D)+SUMIF('항목별 지출'!$J:$J,\"=\"&($A18&TEXT(N$4,\"yyyy-mm\")),'항목별 지출'!$E:$E))*1000","v":0},{"$f":"SUM(C18:N18)","v":{"v":2500000,"d":"\\2,500,000.00"}}]
[]
[8000,"의료 계획",{"$f":"SUMIF('자선 사업 및 후원'!$L:$L,\"=\"&($A20&TEXT(C$4,\"yyyy-mm\")),'자선 사업 및 후원'!$D:$D)+SUMIF('항목별 지출'!$J:$J,\"=\"&($A20&TEXT(C$4,\"yyyy-mm\")),'항목별 지출'!$E:$E)","v":0},{"$f":"(SUMIF('자선 사업 및 후원'!$L:$L,\"=\"&($A20&TEXT(D$4,\"yyyy-mm\")),'자선 사업 및 후원'!$D:$D)+SUMIF('항목별 지출'!$J:$J,\"=\"&($A20&TEXT(D$4,\"yyyy-mm\")),'항목별 지출'!$E:$E))*1000","v":0},{"$f":"(SUMIF('자선 사업 및 후원'!$L:$L,\"=\"&($A20&TEXT(E$4,\"yyyy-mm\")),'자선 사업 및 후원'!$D:$D)+SUMIF('항목별 지출'!$J:$J,\"=\"&($A20&TEXT(E$4,\"yyyy-mm\")),'항목별 지출'!$E:$E))*1000","v":0},{"$f":"(SUMIF('자선 사업 및 후원'!$L:$L,\"=\"&($A20&TEXT(F$4,\"yyyy-mm\")),'자선 사업 및 후원'!$D:$D)+SUMIF('항목별 지출'!$J:$J,\"=\"&($A20&TEXT(F$4,\"yyyy-mm\")),'항목별 지출'!$E:$E))*1000","v":0},{"$f":"(SUMIF('자선 사업 및 후원'!$L:$L,\"=\"&($A20&TEXT(G$4,\"yyyy-mm\")),'자선 사업 및 후원'!$D:$D)+SUMIF('항목별 지출'!$J:$J,\"=\"&($A20&TEXT(G$4,\"yyyy-mm\")),'항목별 지출'!$E:$E))*1000","v":0},{"$f":"(SUMIF('자선 사업 및 후원'!$L:$L,\"=\"&($A20&TEXT(H$4,\"yyyy-mm\")),'자선 사업 및 후원'!$D:$D)+SUMIF('항목별 지출'!$J:$J,\"=\"&($A20&TEXT(H$4,\"yyyy-mm\")),'항목별 지출'!$E:$E))*1000","v":0},{"$f":"(SUMIF('자선 사업 및 후원'!$L:$L,\"=\"&($A20&TEXT(I$4,\"yyyy-mm\")),'자선 사업 및 후원'!$D:$D)+SUMIF('항목별 지출'!$J:$J,\"=\"&($A20&TEXT(I$4,\"yyyy-mm\")),'항목별 지출'!$E:$E))*1000","v":0},{"$f":"(SUMIF('자선 사업 및 후원'!$L:$L,\"=\"&($A20&TEXT(J$4,\"yyyy-mm\")),'자선 사업 및 후원'!$D:$D)+SUMIF('항목별 지출'!$J:$J,\"=\"&($A20&TEXT(J$4,\"yyyy-mm\")),'항목별 지출'!$E:$E))*1000","v":0},{"$f":"(SUMIF('자선 사업 및 후원'!$L:$L,\"=\"&($A20&TEXT(K$4,\"yyyy-mm\")),'자선 사업 및 후원'!$D:$D)+SUMIF('항목별 지출'!$J:$J,\"=\"&($A20&TEXT(K$4,\"yyyy-mm\")),'항목별 지출'!$E:$E))*1000","v":0},{"$f":"(SUMIF('자선 사업 및 후원'!$L:$L,\"=\"&($A20&TEXT(L$4,\"yyyy-mm\")),'자선 사업 및 후원'!$D:$D)+SUMIF('항목별 지출'!$J:$J,\"=\"&($A20&TEXT(L$4,\"yyyy-mm\")),'항목별 지출'!$E:$E))*1000","v":0},{"$f":"(SUMIF('자선 사업 및 후원'!$L:$L,\"=\"&($A20&TEXT(M$4,\"yyyy-mm\")),'자선 사업 및 후원'!$D:$D)+SUMIF('항목별 지출'!$J:$J,\"=\"&($A20&TEXT(M$4,\"yyyy-mm\")),'항목별 지출'!$E:$E))*1000","v":0},{"$f":"(SUMIF('자선 사업 및 후원'!$L:$L,\"=\"&($A20&TEXT(N$4,\"yyyy-mm\")),'자선 사업 및 후원'!$D:$D)+SUMIF('항목별 지출'!$J:$J,\"=\"&($A20&TEXT(N$4,\"yyyy-mm\")),'항목별 지출'!$E:$E))*1000","v":0},{"$f":"(SUM(C20:N20))*1000","v":0}]
[]
[9000,"건물 비용",{"$f":"SUMIF('자선 사업 및 후원'!$L:$L,\"=\"&($A22&TEXT(C$4,\"yyyy-mm\")),'자선 사업 및 후원'!$D:$D)+SUMIF('항목별 지출'!$J:$J,\"=\"&($A22&TEXT(C$4,\"yyyy-mm\")),'항목별 지출'!$E:$E)","v":0},{"$f":"(SUMIF('자선 사업 및 후원'!$L:$L,\"=\"&($A22&TEXT(D$4,\"yyyy-mm\")),'자선 사업 및 후원'!$D:$D)+SUMIF('항목별 지출'!$J:$J,\"=\"&($A22&TEXT(D$4,\"yyyy-mm\")),'항목별 지출'!$E:$E))*1000","v":0},{"$f":"(SUMIF('자선 사업 및 후원'!$L:$L,\"=\"&($A22&TEXT(E$4,\"yyyy-mm\")),'자선 사업 및 후원'!$D:$D)+SUMIF('항목별 지출'!$J:$J,\"=\"&($A22&TEXT(E$4,\"yyyy-mm\")),'항목별 지출'!$E:$E))*1000","v":0},{"$f":"(SUMIF('자선 사업 및 후원'!$L:$L,\"=\"&($A22&TEXT(F$4,\"yyyy-mm\")),'자선 사업 및 후원'!$D:$D)+SUMIF('항목별 지출'!$J:$J,\"=\"&($A22&TEXT(F$4,\"yyyy-mm\")),'항목별 지출'!$E:$E))*1000","v":0},{"$f":"(SUMIF('자선 사업 및 후원'!$L:$L,\"=\"&($A22&TEXT(G$4,\"yyyy-mm\")),'자선 사업 및 후원'!$D:$D)+SUMIF('항목별 지출'!$J:$J,\"=\"&($A22&TEXT(G$4,\"yyyy-mm\")),'항목별 지출'!$E:$E))*1000","v":0},{"$f":"(SUMIF('자선 사업 및 후원'!$L:$L,\"=\"&($A22&TEXT(H$4,\"yyyy-mm\")),'자선 사업 및 후원'!$D:$D)+SUMIF('항목별 지출'!$J:$J,\"=\"&($A22&TEXT(H$4,\"yyyy-mm\")),'항목별 지출'!$E:$E))*1000","v":0},{"$f":"(SUMIF('자선 사업 및 후원'!$L:$L,\"=\"&($A22&TEXT(I$4,\"yyyy-mm\")),'자선 사업 및 후원'!$D:$D)+SUMIF('항목별 지출'!$J:$J,\"=\"&($A22&TEXT(I$4,\"yyyy-mm\")),'항목별 지출'!$E:$E))*1000","v":0},{"$f":"(SUMIF('자선 사업 및 후원'!$L:$L,\"=\"&($A22&TEXT(J$4,\"yyyy-mm\")),'자선 사업 및 후원'!$D:$D)+SUMIF('항목별 지출'!$J:$J,\"=\"&($A22&TEXT(J$4,\"yyyy-mm\")),'항목별 지출'!$E:$E))*1000","v":0},{"$f":"(SUMIF('자선 사업 및 후원'!$L:$L,\"=\"&($A22&TEXT(K$4,\"yyyy-mm\")),'자선 사업 및 후원'!$D:$D)+SUMIF('항목별 지출'!$J:$J,\"=\"&($A22&TEXT(K$4,\"yyyy-mm\")),'항목별 지출'!$E:$E))*1000","v":0},{"$f":"(SUMIF('자선 사업 및 후원'!$L:$L,\"=\"&($A22&TEXT(L$4,\"yyyy-mm\")),'자선 사업 및 후원'!$D:$D)+SUMIF('항목별 지출'!$J:$J,\"=\"&($A22&TEXT(L$4,\"yyyy-mm\")),'항목별 지출'!$E:$E))*1000","v":0},{"$f":"(SUMIF('자선 사업 및 후원'!$L:$L,\"=\"&($A22&TEXT(M$4,\"yyyy-mm\")),'자선 사업 및 후원'!$D:$D)+SUMIF('항목별 지출'!$J:$J,\"=\"&($A22&TEXT(M$4,\"yyyy-mm\")),'항목별 지출'!$E:$E))*1000","v":0},{"$f":"(SUMIF('자선 사업 및 후원'!$L:$L,\"=\"&($A22&TEXT(N$4,\"yyyy-mm\")),'자선 사업 및 후원'!$D:$D)+SUMIF('항목별 지출'!$J:$J,\"=\"&($A22&TEXT(N$4,\"yyyy-mm\")),'항목별 지출'!$E:$E))*1000","v":0},{"$f":"(SUM(C22:N22))*1000","v":0}]
[]
[10000,"마케팅",{"$f":"SUMIF('자선 사업 및 후원'!$L:$L,\"=\"&($A24&TEXT(C$4,\"yyyy-mm\")),'자선 사업 및 후원'!$D:$D)+SUMIF('항목별 지출'!$J:$J,\"=\"&($A24&TEXT(C$4,\"yyyy-mm\")),'항목별 지출'!$E:$E)","v":0},{"$f":"(SUMIF('자선 사업 및 후원'!$L:$L,\"=\"&($A24&TEXT(D$4,\"yyyy-mm\")),'자선 사업 및 후원'!$D:$D)+SUMIF('항목별 지출'!$J:$J,\"=\"&($A24&TEXT(D$4,\"yyyy-mm\")),'항목별 지출'!$E:$E))*1000","v":0},{"$f":"(SUMIF('자선 사업 및 후원'!$L:$L,\"=\"&($A24&TEXT(E$4,\"yyyy-mm\")),'자선 사업 및 후원'!$D:$D)+SUMIF('항목별 지출'!$J:$J,\"=\"&($A24&TEXT(E$4,\"yyyy-mm\")),'항목별 지출'!$E:$E))*1000","v":0},{"$f":"(SUMIF('자선 사업 및 후원'!$L:$L,\"=\"&($A24&TEXT(F$4,\"yyyy-mm\")),'자선 사업 및 후원'!$D:$D)+SUMIF('항목별 지출'!$J:$J,\"=\"&($A24&TEXT(F$4,\"yyyy-mm\")),'항목별 지출'!$E:$E))*1000","v":0},{"$f":"(SUMIF('자선 사업 및 후원'!$L:$L,\"=\"&($A24&TEXT(G$4,\"yyyy-mm\")),'자선 사업 및 후원'!$D:$D)+SUMIF('항목별 지출'!$J:$J,\"=\"&($A24&TEXT(G$4,\"yyyy-mm\")),'항목별 지출'!$E:$E))*1000","v":0},{"$f":"(SUMIF('자선 사업 및 후원'!$L:$L,\"=\"&($A24&TEXT(H$4,\"yyyy-mm\")),'자선 사업 및 후원'!$D:$D)+SUMIF('항목별 지출'!$J:$J,\"=\"&($A24&TEXT(H$4,\"yyyy-mm\")),'항목별 지출'!$E:$E))*1000","v":0},{"$f":"(SUMIF('자선 사업 및 후원'!$L:$L,\"=\"&($A24&TEXT(I$4,\"yyyy-mm\")),'자선 사업 및 후원'!$D:$D)+SUMIF('항목별 지출'!$J:$J,\"=\"&($A24&TEXT(I$4,\"yyyy-mm\")),'항목별 지출'!$E:$E))*1000","v":0},{"$f":"(SUMIF('자선 사업 및 후원'!$L:$L,\"=\"&($A24&TEXT(J$4,\"yyyy-mm\")),'자선 사업 및 후원'!$D:$D)+SUMIF('항목별 지출'!$J:$J,\"=\"&($A24&TEXT(J$4,\"yyyy-mm\")),'항목별 지출'!$E:$E))*1000","v":0},{"$f":"(SUMIF('자선 사업 및 후원'!$L:$L,\"=\"&($A24&TEXT(K$4,\"yyyy-mm\")),'자선 사업 및 후원'!$D:$D)+SUMIF('항목별 지출'!$J:$J,\"=\"&($A24&TEXT(K$4,\"yyyy-mm\")),'항목별 지출'!$E:$E))*1000","v":0},{"$f":"(SUMIF('자선 사업 및 후원'!$L:$L,\"=\"&($A24&TEXT(L$4,\"yyyy-mm\")),'자선 사업 및 후원'!$D:$D)+SUMIF('항목별 지출'!$J:$J,\"=\"&($A24&TEXT(L$4,\"yyyy-mm\")),'항목별 지출'!$E:$E))*1000","v":0},{"$f":"(SUMIF('자선 사업 및 후원'!$L:$L,\"=\"&($A24&TEXT(M$4,\"yyyy-mm\")),'자선 사업 및 후원'!$D:$D)+SUMIF('항목별 지출'!$J:$J,\"=\"&($A24&TEXT(M$4,\"yyyy-mm\")),'항목별 지출'!$E:$E))*1000","v":0},{"$f":"(SUMIF('자선 사업 및 후원'!$L:$L,\"=\"&($A24&TEXT(N$4,\"yyyy-mm\")),'자선 사업 및 후원'!$D:$D)+SUMIF('항목별 지출'!$J:$J,\"=\"&($A24&TEXT(N$4,\"yyyy-mm\")),'항목별 지출'!$E:$E))*1000","v":0},{"$f":"(SUM(C24:N24))*1000","v":0}]
[]
[11000,"자선 사업",{"$f":"SUMIF('자선 사업 및 후원'!$L:$L,\"=\"&($A26&TEXT(C$4,\"yyyy-mm\")),'자선 사업 및 후원'!$D:$D)+SUMIF('항목별 지출'!$J:$J,\"=\"&($A26&TEXT(C$4,\"yyyy-mm\")),'항목별 지출'!$E:$E)","v":0},{"$f":"SUMIF('자선 사업 및 후원'!$L:$L,\"=\"&($A26&TEXT(D$4,\"yyyy-mm\")),'자선 사업 및 후원'!$D:$D)+SUMIF('항목별 지출'!$J:$J,\"=\"&($A26&TEXT(D$4,\"yyyy-mm\")),'항목별 지출'!$E:$E)","v":{"v":2500000,"d":"\\2,500,000.00"}},{"$f":"(SUMIF('자선 사업 및 후원'!$L:$L,\"=\"&($A26&TEXT(E$4,\"yyyy-mm\")),'자선 사업 및 후원'!$D:$D)+SUMIF('항목별 지출'!$J:$J,\"=\"&($A26&TEXT(E$4,\"yyyy-mm\")),'항목별 지출'!$E:$E))*1000","v":0},{"$f":"(SUMIF('자선 사업 및 후원'!$L:$L,\"=\"&($A26&TEXT(F$4,\"yyyy-mm\")),'자선 사업 및 후원'!$D:$D)+SUMIF('항목별 지출'!$J:$J,\"=\"&($A26&TEXT(F$4,\"yyyy-mm\")),'항목별 지출'!$E:$E))*1000","v":0},{"$f":"(SUMIF('자선 사업 및 후원'!$L:$L,\"=\"&($A26&TEXT(G$4,\"yyyy-mm\")),'자선 사업 및 후원'!$D:$D)+SUMIF('항목별 지출'!$J:$J,\"=\"&($A26&TEXT(G$4,\"yyyy-mm\")),'항목별 지출'!$E:$E))*1000","v":0},{"$f":"(SUMIF('자선 사업 및 후원'!$L:$L,\"=\"&($A26&TEXT(H$4,\"yyyy-mm\")),'자선 사업 및 후원'!$D:$D)+SUMIF('항목별 지출'!$J:$J,\"=\"&($A26&TEXT(H$4,\"yyyy-mm\")),'항목별 지출'!$E:$E))*1000","v":0},{"$f":"(SUMIF('자선 사업 및 후원'!$L:$L,\"=\"&($A26&TEXT(I$4,\"yyyy-mm\")),'자선 사업 및 후원'!$D:$D)+SUMIF('항목별 지출'!$J:$J,\"=\"&($A26&TEXT(I$4,\"yyyy-mm\")),'항목별 지출'!$E:$E))*1000","v":0},{"$f":"(SUMIF('자선 사업 및 후원'!$L:$L,\"=\"&($A26&TEXT(J$4,\"yyyy-mm\")),'자선 사업 및 후원'!$D:$D)+SUMIF('항목별 지출'!$J:$J,\"=\"&($A26&TEXT(J$4,\"yyyy-mm\")),'항목별 지출'!$E:$E))*1000","v":0},{"$f":"(SUMIF('자선 사업 및 후원'!$L:$L,\"=\"&($A26&TEXT(K$4,\"yyyy-mm\")),'자선 사업 및 후원'!$D:$D)+SUMIF('항목별 지출'!$J:$J,\"=\"&($A26&TEXT(K$4,\"yyyy-mm\")),'항목별 지출'!$E:$E))*1000","v":0},{"$f":"(SUMIF('자선 사업 및 후원'!$L:$L,\"=\"&($A26&TEXT(L$4,\"yyyy-mm\")),'자선 사업 및 후원'!$D:$D)+SUMIF('항목별 지출'!$J:$J,\"=\"&($A26&TEXT(L$4,\"yyyy-mm\")),'항목별 지출'!$E:$E))*1000","v":0},{"$f":"(SUMIF('자선 사업 및 후원'!$L:$L,\"=\"&($A26&TEXT(M$4,\"yyyy-mm\")),'자선 사업 및 후원'!$D:$D)+SUMIF('항목별 지출'!$J:$J,\"=\"&($A26&TEXT(M$4,\"yyyy-mm\")),'항목별 지출'!$E:$E))*1000","v":0},{"$f":"(SUMIF('자선 사업 및 후원'!$L:$L,\"=\"&($A26&TEXT(N$4,\"yyyy-mm\")),'자선 사업 및 후원'!$D:$D)+SUMIF('항목별 지출'!$J:$J,\"=\"&($A26&TEXT(N$4,\"yyyy-mm\")),'항목별 지출'!$E:$E))*1000","v":0},{"$f":"SUM(C26:N26)","v":{"v":2500000,"d":"\\2,500,000.00"}}]
[]
[12000,"후원금",{"$f":"SUMIF('자선 사업 및 후원'!$L:$L,\"=\"&($A28&TEXT(C$4,\"yyyy-mm\")),'자선 사업 및 후원'!$D:$D)+SUMIF('항목별 지출'!$J:$J,\"=\"&($A28&TEXT(C$4,\"yyyy-mm\")),'항목별 지출'!$E:$E)","v":{"v":1000000,"d":"\\1,000,000.00"}},{"$f":"(SUMIF('자선 사업 및 후원'!$L:$L,\"=\"&($A28&TEXT(D$4,\"yyyy-mm\")),'자선 사업 및 후원'!$D:$D)+SUMIF('항목별 지출'!$J:$J,\"=\"&($A28&TEXT(D$4,\"yyyy-mm\")),'항목별 지출'!$E:$E))*1000","v":0},{"$f":"(SUMIF('자선 사업 및 후원'!$L:$L,\"=\"&($A28&TEXT(E$4,\"yyyy-mm\")),'자선 사업 및 후원'!$D:$D)+SUMIF('항목별 지출'!$J:$J,\"=\"&($A28&TEXT(E$4,\"yyyy-mm\")),'항목별 지출'!$E:$E))*1000","v":0},{"$f":"(SUMIF('자선 사업 및 후원'!$L:$L,\"=\"&($A28&TEXT(F$4,\"yyyy-mm\")),'자선 사업 및 후원'!$D:$D)+SUMIF('항목별 지출'!$J:$J,\"=\"&($A28&TEXT(F$4,\"yyyy-mm\")),'항목별 지출'!$E:$E))*1000","v":0},{"$f":"(SUMIF('자선 사업 및 후원'!$L:$L,\"=\"&($A28&TEXT(G$4,\"yyyy-mm\")),'자선 사업 및 후원'!$D:$D)+SUMIF('항목별 지출'!$J:$J,\"=\"&($A28&TEXT(G$4,\"yyyy-mm\")),'항목별 지출'!$E:$E))*1000","v":0},{"$f":"(SUMIF('자선 사업 및 후원'!$L:$L,\"=\"&($A28&TEXT(H$4,\"yyyy-mm\")),'자선 사업 및 후원'!$D:$D)+SUMIF('항목별 지출'!$J:$J,\"=\"&($A28&TEXT(H$4,\"yyyy-mm\")),'항목별 지출'!$E:$E))*1000","v":0},{"$f":"(SUMIF('자선 사업 및 후원'!$L:$L,\"=\"&($A28&TEXT(I$4,\"yyyy-mm\")),'자선 사업 및 후원'!$D:$D)+SUMIF('항목별 지출'!$J:$J,\"=\"&($A28&TEXT(I$4,\"yyyy-mm\")),'항목별 지출'!$E:$E))*1000","v":0},{"$f":"(SUMIF('자선 사업 및 후원'!$L:$L,\"=\"&($A28&TEXT(J$4,\"yyyy-mm\")),'자선 사업 및 후원'!$D:$D)+SUMIF('항목별 지출'!$J:$J,\"=\"&($A28&TEXT(J$4,\"yyyy-mm\")),'항목별 지출'!$E:$E))*1000","v":0},{"$f":"(SUMIF('자선 사업 및 후원'!$L:$L,\"=\"&($A28&TEXT(K$4,\"yyyy-mm\")),'자선 사업 및 후원'!$D:$D)+SUMIF('항목별 지출'!$J:$J,\"=\"&($A28&TEXT(K$4,\"yyyy-mm\")),'항목별 지출'!$E:$E))*1000","v":0},{"$f":"(SUMIF('자선 사업 및 후원'!$L:$L,\"=\"&($A28&TEXT(L$4,\"yyyy-mm\")),'자선 사업 및 후원'!$D:$D)+SUMIF('항목별 지출'!$J:$J,\"=\"&($A28&TEXT(L$4,\"yyyy-mm\")),'항목별 지출'!$E:$E))*1000","v":0},{"$f":"(SUMIF('자선 사업 및 후원'!$L:$L,\"=\"&($A28&TEXT(M$4,\"yyyy-mm\")),'자선 사업 및 후원'!$D:$D)+SUMIF('항목별 지출'!$J:$J,\"=\"&($A28&TEXT(M$4,\"yyyy-mm\")),'항목별 지출'!$E:$E))*1000","v":0},{"$f":"(SUMIF('자선 사업 및 후원'!$L:$L,\"=\"&($A28&TEXT(N$4,\"yyyy-mm\")),'자선 사업 및 후원'!$D:$D)+SUMIF('항목별 지출'!$J:$J,\"=\"&($A28&TEXT(N$4,\"yyyy-mm\")),'항목별 지출'!$E:$E))*1000","v":0},{"$f":"SUM(C28:N28)","v":{"v":1000000,"d":"\\1,000,000.00"}}]
[]
[null,"총계",{"$f":"SUM(C6:C28)","v":{"v":4250750,"d":"\\4,250,750.00"}},{"$f":"SUM(D6:D28)","v":{"v":2500000,"d":"\\2,500,000.00"}},{"$f":"(SUMIF('자선 사업 및 후원'!$L:$L,\"=\"&($A30&TEXT(E$4,\"yyyy-mm\")),'자선 사업 및 후원'!$D:$D)+SUMIF('항목별 지출'!$J:$J,\"=\"&($A30&TEXT(E$4,\"yyyy-mm\")),'항목별 지출'!$E:$E))*1000","v":0},{"$f":"(SUMIF('자선 사업 및 후원'!$L:$L,\"=\"&($A30&TEXT(F$4,\"yyyy-mm\")),'자선 사업 및 후원'!$D:$D)+SUMIF('항목별 지출'!$J:$J,\"=\"&($A30&TEXT(F$4,\"yyyy-mm\")),'항목별 지출'!$E:$E))*1000","v":0},{"$f":"(SUMIF('자선 사업 및 후원'!$L:$L,\"=\"&($A30&TEXT(G$4,\"yyyy-mm\")),'자선 사업 및 후원'!$D:$D)+SUMIF('항목별 지출'!$J:$J,\"=\"&($A30&TEXT(G$4,\"yyyy-mm\")),'항목별 지출'!$E:$E))*1000","v":0},{"$f":"(SUMIF('자선 사업 및 후원'!$L:$L,\"=\"&($A30&TEXT(H$4,\"yyyy-mm\")),'자선 사업 및 후원'!$D:$D)+SUMIF('항목별 지출'!$J:$J,\"=\"&($A30&TEXT(H$4,\"yyyy-mm\")),'항목별 지출'!$E:$E))*1000","v":0},{"$f":"(SUMIF('자선 사업 및 후원'!$L:$L,\"=\"&($A30&TEXT(I$4,\"yyyy-mm\")),'자선 사업 및 후원'!$D:$D)+SUMIF('항목별 지출'!$J:$J,\"=\"&($A30&TEXT(I$4,\"yyyy-mm\")),'항목별 지출'!$E:$E))*1000","v":0},{"$f":"(SUMIF('자선 사업 및 후원'!$L:$L,\"=\"&($A30&TEXT(J$4,\"yyyy-mm\")),'자선 사업 및 후원'!$D:$D)+SUMIF('항목별 지출'!$J:$J,\"=\"&($A30&TEXT(J$4,\"yyyy-mm\")),'항목별 지출'!$E:$E))*1000","v":0},{"$f":"(SUMIF('자선 사업 및 후원'!$L:$L,\"=\"&($A30&TEXT(K$4,\"yyyy-mm\")),'자선 사업 및 후원'!$D:$D)+SUMIF('항목별 지출'!$J:$J,\"=\"&($A30&TEXT(K$4,\"yyyy-mm\")),'항목별 지출'!$E:$E))*1000","v":0},{"$f":"(SUMIF('자선 사업 및 후원'!$L:$L,\"=\"&($A30&TEXT(L$4,\"yyyy-mm\")),'자선 사업 및 후원'!$D:$D)+SUMIF('항목별 지출'!$J:$J,\"=\"&($A30&TEXT(L$4,\"yyyy-mm\")),'항목별 지출'!$E:$E))*1000","v":0},{"$f":"(SUMIF('자선 사업 및 후원'!$L:$L,\"=\"&($A30&TEXT(M$4,\"yyyy-mm\")),'자선 사업 및 후원'!$D:$D)+SUMIF('항목별 지출'!$J:$J,\"=\"&($A30&TEXT(M$4,\"yyyy-mm\")),'항목별 지출'!$E:$E))*1000","v":0},{"$f":"(SUMIF('자선 사업 및 후원'!$L:$L,\"=\"&($A30&TEXT(N$4,\"yyyy-mm\")),'자선 사업 및 후원'!$D:$D)+SUMIF('항목별 지출'!$J:$J,\"=\"&($A30&TEXT(N$4,\"yyyy-mm\")),'항목별 지출'!$E:$E))*1000","v":0},{"$f":"SUM(O6:O28)","v":{"v":6750750,"d":"\\6,750,750.00"}}]

{"sheet":"항목별 지출","index":2,"n_rows":103,"n_cols":10,"rows_kept":103}
["G/L 코드","송장 날짜","송장 번호","요청한 사람"," 수표 금액 ","수취인","수표 사용","배포 방법","파일 날짜","생성된 주요 필드"]
[1000,"2005-01-01",100,"지명환",{"v":750750,"d":"\\750,750.00"},"통합 메신저 ","발송자","메일","2005-01-04",{"$f":"A2&TEXT(B2,\"yyyy-mm\")","v":"10002005-01"}]
[7000,"2005-01-15",101,"유민수",{"v":2500000,"d":"\\2,500,000.00"},"A. 국제 무역 ","데스크톱 컴퓨터 2대","신용","2005-01-20","70002005-01"]
[{"$nulls":9},"1900-01"]
[{"$nulls":9},"1900-01"]
[{"$nulls":9},"1900-01"]
[{"$nulls":9},"1900-01"]
[{"$nulls":9},"1900-01"]
[{"$nulls":9},"1900-01"]
[{"$nulls":9},"1900-01"]
[{"$nulls":9},"1900-01"]
[{"$nulls":9},"1900-01"]
[{"$nulls":9},"1900-01"]
[{"$nulls":9},"1900-01"]
[{"$nulls":9},"1900-01"]
[{"$nulls":9},"1900-01"]
[{"$nulls":9},"1900-01"]
[{"$nulls":9},"1900-01"]
[{"$nulls":9},"1900-01"]
[{"$nulls":9},"1900-01"]
[{"$nulls":9},"1900-01"]
[{"$nulls":9},"1900-01"]
[{"$nulls":9},"1900-01"]
[{"$nulls":9},"1900-01"]
[{"$nulls":9},"1900-01"]
[{"$nulls":9},"1900-01"]
[{"$nulls":9},"1900-01"]
[{"$nulls":9},"1900-01"]
[{"$nulls":9},"1900-01"]
[{"$nulls":9},"1900-01"]
[{"$nulls":9},"1900-01"]
[{"$nulls":9},"1900-01"]
[{"$nulls":9},"1900-01"]
[{"$nulls":9},{"$f":"A34&TEXT(B34,\"yyyy-mm\")","v":"1900-01"}]
[{"$nulls":9},"1900-01"]
[{"$nulls":9},"1900-01"]
[{"$nulls":9},"1900-01"]
[{"$nulls":9},"1900-01"]
[{"$nulls":9},"1900-01"]
[{"$nulls":9},"1900-01"]
[{"$nulls":9},"1900-01"]
[{"$nulls":9},"1900-01"]
[{"$nulls":9},"1900-01"]
[{"$nulls":9},"1900-01"]
[{"$nulls":9},"1900-01"]
[{"$nulls":9},"1900-01"]
[{"$nulls":9},"1900-01"]
[{"$nulls":9},"1900-01"]
[{"$nulls":9},"1900-01"]
[{"$nulls":9},"1900-01"]
[{"$nulls":9},"1900-01"]
[{"$nulls":9},"1900-01"]
[{"$nulls":9},"1900-01"]
[{"$nulls":9},"1900-01"]
[{"$nulls":9},"1900-01"]
[{"$nulls":9},"1900-01"]
[{"$nulls":9},"1900-01"]
[{"$nulls":9},"1900-01"]
[{"$nulls":9},"1900-01"]
[{"$nulls":9},"1900-01"]
[{"$nulls":9},"1900-01"]
[{"$nulls":9},"1900-01"]
[{"$nulls":9},"1900-01"]
[{"$nulls":9},"1900-01"]
[{"$nulls":9},"1900-01"]
[{"$nulls":9},{"$f":"A66&TEXT(B66,\"yyyy-mm\")","v":"1900-01"}]
[{"$nulls":9},"1900-01"]
[{"$nulls":9},"1900-01"]
[{"$nulls":9},"1900-01"]
[{"$nulls":9},"1900-01"]
[{"$nulls":9},"1900-01"]
[{"$nulls":9},"1900-01"]
[{"$nulls":9},"1900-01"]
[{"$nulls":9},"1900-01"]
[{"$nulls":9},"1900-01"]
[{"$nulls":9},"1900-01"]
[{"$nulls":9},"1900-01"]
[{"$nulls":9},"1900-01"]
[{"$nulls":9},"1900-01"]
[{"$nulls":9},"1900-01"]
[{"$nulls":9},"1900-01"]
[{"$nulls":9},"1900-01"]
[{"$nulls":9},"1900-01"]
[{"$nulls":9},"1900-01"]
[{"$nulls":9},"1900-01"]
[{"$nulls":9},"1900-01"]
[{"$nulls":9},"1900-01"]
[{"$nulls":9},"1900-01"]
[{"$nulls":9},"1900-01"]
[{"$nulls":9},"1900-01"]
[{"$nulls":9},"1900-01"]
[{"$nulls":9},"1900-01"]
[{"$nulls":9},"1900-01"]
[{"$nulls":9},"1900-01"]
[{"$nulls":9},"1900-01"]
[{"$nulls":9},"1900-01"]
[{"$nulls":9},"1900-01"]
[{"$nulls":9},{"$f":"A98&TEXT(B98,\"yyyy-mm\")","v":"1900-01"}]
[{"$nulls":9},"1900-01"]
[{"$nulls":9},"1900-01"]
[{"$nulls":9},"1900-01"]
[{"$nulls":9},"1900-01"]
[{"$nulls":9},"1900-01"]

{"sheet":"자선 사업 및 후원","index":3,"n_rows":109,"n_cols":12,"rows_kept":109}
["G/L 코드","수표 요청이 시작된 날짜","요청한 사람"," 수표 금액 "," 전년도 성과 ","수취인","용도","서명한 사람","범주","배포 방법","파일 날짜","생성된 주요 필드"]
[12000,"2005-01-20","윤영미",{"v":1000000,"d":"\\1,000,000.00"},0,"미술 대학교 ","장학금","김은희","미술","수표","2005-01-30",{"$f":"A2&TEXT(B2,\"yyyy-mm\")","v":"120002005-01"}]
[11000,"2005-02-15","윤영미",{"v":2500000,"d":"\\2,500,000.00"},0,"날개 완구점 ","커뮤니티","허지혜","커뮤니티","수표","2005-03-01","110002005-02"]
[{"$nulls":11},"1900-01"]
[{"$nulls":11},"1900-01"]
[{"$nulls":11},"1900-01"]
[{"$nulls":11},"1900-01"]
[{"$nulls":11},"1900-01"]
[{"$nulls":11},"1900-01"]
[{"$nulls":11},"1900-01"]
[{"$nulls":11},"1900-01"]
[{"$nulls":11},"1900-01"]
[{"$nulls":11},"1900-01"]
[{"$nulls":11},"1900-01"]
[{"$nulls":11},"1900-01"]
[{"$nulls":11},"1900-01"]
[{"$nulls":11},"1900-01"]
[{"$nulls":11},"1900-01"]
[{"$nulls":11},"1900-01"]
[{"$nulls":11},"1900-01"]
[{"$nulls":11},"1900-01"]
[{"$nulls":11},"1900-01"]
[{"$nulls":11},"1900-01"]
[{"$nulls":11},"1900-01"]
[{"$nulls":11},"1900-01"]
[{"$nulls":11},"1900-01"]
[{"$nulls":11},"1900-01"]
[{"$nulls":11},"1900-01"]
[{"$nulls":11},"1900-01"]
[{"$nulls":11},"1900-01"]
[{"$nulls":11},"1900-01"]
[{"$nulls":11},"1900-01"]
[{"$nulls":11},"1900-01"]
[{"$nulls":11},{"$f":"A34&TEXT(B34,\"yyyy-mm\")","v":"1900-01"}]
[{"$nulls":11},"1900-01"]
[{"$nulls":11},"1900-01"]
[{"$nulls":11},"1900-01"]
[{"$nulls":11},"1900-01"]
[{"$nulls":11},"1900-01"]
[{"$nulls":11},"1900-01"]
[{"$nulls":11},"1900-01"]
[{"$nulls":11},"1900-01"]
[{"$nulls":11},"1900-01"]
[{"$nulls":11},"1900-01"]
[{"$nulls":11},"1900-01"]
[{"$nulls":11},"1900-01"]
[{"$nulls":11},"1900-01"]
[{"$nulls":11},"1900-01"]
[{"$nulls":11},"1900-01"]
[{"$nulls":11},"1900-01"]
[{"$nulls":11},"1900-01"]
[{"$nulls":11},"1900-01"]
[{"$nulls":11},"1900-01"]
[{"$nulls":11},"1900-01"]
[{"$nulls":11},"1900-01"]
[{"$nulls":11},"1900-01"]
[{"$nulls":11},"1900-01"]
[{"$nulls":11},"1900-01"]
[{"$nulls":11},"1900-01"]
[{"$nulls":11},"1900-01"]
[{"$nulls":11},"1900-01"]
[{"$nulls":11},"1900-01"]
[{"$nulls":11},"1900-01"]
[{"$nulls":11},"1900-01"]
[{"$nulls":11},"1900-01"]
[{"$nulls":11},{"$f":"A66&TEXT(B66,\"yyyy-mm\")","v":"1900-01"}]
[{"$nulls":11},"1900-01"]
[{"$nulls":11},"1900-01"]
[{"$nulls":11},"1900-01"]
[{"$nulls":11},"1900-01"]
[{"$nulls":11},"1900-01"]
[{"$nulls":11},"1900-01"]
[{"$nulls":11},"1900-01"]
[{"$nulls":11},"1900-01"]
[{"$nulls":11},"1900-01"]
[{"$nulls":11},"1900-01"]
[{"$nulls":11},"1900-01"]
[{"$nulls":11},"1900-01"]
[{"$nulls":11},"1900-01"]
[{"$nulls":11},"1900-01"]
[{"$nulls":11},"1900-01"]
[{"$nulls":11},"1900-01"]
[{"$nulls":11},"1900-01"]
[{"$nulls":11},"1900-01"]
[{"$nulls":11},"1900-01"]
[{"$nulls":11},"1900-01"]
[{"$nulls":11},"1900-01"]
[{"$nulls":11},"1900-01"]
[{"$nulls":11},"1900-01"]
[{"$nulls":11},"1900-01"]
[{"$nulls":11},"1900-01"]
[{"$nulls":11},"1900-01"]
[{"$nulls":11},"1900-01"]
[{"$nulls":11},"1900-01"]
[{"$nulls":11},"1900-01"]
[{"$nulls":11},"1900-01"]
[{"$nulls":11},"1900-01"]
[{"$nulls":11},{"$f":"A98&TEXT(B98,\"yyyy-mm\")","v":"1900-01"}]
[{"$nulls":11},"1900-01"]
[{"$nulls":11},"1900-01"]
[{"$nulls":11},"1900-01"]
[{"$nulls":11},"1900-01"]
[{"$nulls":11},"1900-01"]
[{"$nulls":11},"1900-01"]
[{"$nulls":11},"1900-01"]
[{"$nulls":11},"1900-01"]
[{"$nulls":11},"1900-01"]
[{"$nulls":11},"1900-01"]
[{"$nulls":11},"1900-01"]