{"text_format":"3","workbook":"xlsx","n_sheets":2,"sheets":["Табыстылық талдауы","Жиынтық өлшемдер диаграммасы"],"not_rendered":{"charts":1,"defined_names":3},"read":"whole","date_system":"1900"}

{"sheet":"Табыстылық талдауы","index":0,"n_rows":36,"n_cols":8,"rows_kept":36,"merged":[[2,3,2,7],[10,1,10,5],[14,1,14,5],[21,1,21,5],[27,1,27,5],[30,1,30,5]]}
[]
[null,"Тапсырыс берушінің кірістілігінің сараптамасы"]
[null,"20 қаңтар 2013 жыл",null,"КОМПАНИЯ АТЫ"]
[]
[]
[null,"Тапсырыс беруші әрекеті","Тапсырыс беруші 1","Тапсырыс беруші  2","Тапсырыс беруші  3","Жалпы",null," "]
[null,"Белсенді әрекет ететін тапсырыс берушілер саны—Кезеңнің басы",5,8,8,{"$f":"SUM(C7:E7)","v":21}]
[null,"Жаңадан қосылған тапсырыс берушілер саны",2,4,4,{"$f":"SUM(C8:E8)","v":10}]
[null,"Жоғалтқан/қол үзген тапсырыс берушілер саны",{"v":-1,"d":"-1 "},{"v":-2,"d":"-2 "},{"v":-2,"d":"-2 "},{"v":-5,"d":"-5 "}]
[null,"Белсенді әрекет ететін тапсырыс берушілер саны—Кезеңнің соңы",{"$f":"SUBTOTAL(109,'Табыстылық талдауы'!$C$7:$C$9)","v":6},{"$f":"SUBTOTAL(109,'Табыстылық талдауы'!$D$7:$D$9)","v":10},{"$f":"SUBTOTAL(109,'Табыстылық талдауы'!$E$7:$E$9)","v":10},26]
[]
[null,"Кірістілік сараптамасы"," ","  ","   ","    "]
[null,"Әр сегментке шаққандағы кіріс",{"v":1500000,"d":"Т1,500,000"},{"v":1800000,"d":"Т1,800,000"},{"v":2500000,"d":"Т2,500,000"},{"$f":"SUM('Табыстылық талдауы'!$C13:$E13)","v":{"v":5800000,"d":"Т5,800,000"}}]
[null,"Үстемелеу",{"$f":"C13/$F$13","v":{"v":0.25862068965517243,"d":"25.9%"}},{"$f":"D13/$F$13","v":{"v":0.3103448275862069,"d":"31.0%"}},{"v":0.43103448275862066,"d":"43.1%"},{"$f":"SUM(C14:E14)","v":{"v":1,"d":"100.0%"}}]
[]
[null,"Сатуға қатысты шығын"," ","  ","   ","    "]
[null,"Тұрақты қызмет және қолдау көрсету шығындары",{"v":1000000,"d":"Т1,000,000"},{"v":1400000,"d":"Т1,400,000"},{"v":1400000,"d":"Т1,400,000"},{"$f":"SUM('Табыстылық талдауы'!$C17:$E17)","v":{"v":3800000,"d":"Т3,800,000"}}]
[null,"Тапсырыс берушінің өзге де тікелей шығындары",{"v":200000,"d":"200,000"},{"v":100000,"d":"100,000"},{"v":100000,"d":"100,000"},{"$f":"SUM('Табыстылық талдауы'!$C18:$E18)","v":{"v":400000,"d":"400,000"}}]
[null,"Жалпы сатуға қатысты шығын",{"$f":"SUBTOTAL(109,'Табыстылық талдауы'!$C$17:$C$18)","v":{"v":1200000,"d":"1,200,000"}},{"$f":"SUBTOTAL(109,'Табыстылық талдауы'!$D$17:$D$18)","v":{"v":1500000,"d":"1,500,000"}},{"$f":"SUBTOTAL(109,'Табыстылық талдауы'!$E$17:$E$18)","v":{"v":1500000,"d":"1,500,000"}},{"$f":"SUBTOTAL(109,'Табыстылық талдауы'!$F$17:$F$18)","v":{"v":4200000,"d":"4,200,000"}}]
[null,"Жалпы кіріс",{"$f":"C13-'Табыстылық талдауы'!$C$19","v":{"v":300000,"d":"Т300,000"}},{"$f":"D13-'Табыстылық талдауы'!$D$19","v":{"v":300000,"d":"Т300,000"}},{"$f":"E13-'Табыстылық талдауы'!$E$19","v":{"v":1000000,"d":"Т1,000,000"}},{"$f":"F13-'Табыстылық талдауы'!$F$19","v":{"v":1600000,"d":"Т1,600,000"}}]
[null,"Үстемелеу",{"$f":"MAX(0,MIN(1,C20/$F$20))","v":{"v":0.1875,"d":"18.8%"}},{"$f":"MAX(0,MIN(1,D20/$F$20))","v":{"v":0.1875,"d":"18.8%"}},{"v":0.625,"d":"62.5%"},{"$f":"SUM('Табыстылық талдауы'!$C21:$E21)","v":{"v":1,"d":"100.0%"}}]
[]
[null,"Өзге шығындар"," ","  ","   ","    "]
[null,"Тапсырыс берушіні табу",{"v":105000,"d":"Т105,000"},{"v":120000,"d":"Т120,000"},{"v":235000,"d":"Т235,000"},{"$f":"SUM('Табыстылық талдауы'!$C24:$E24)","v":{"v":460000,"d":"Т460,000"}}]
[null,"Тапсырыс берушінің маркетингі",{"v":150000,"d":"150,000"},{"v":125000,"d":"125,000"},{"v":275000,"d":"275,000"},{"$f":"SUM('Табыстылық талдауы'!$C25:$E25)","v":{"v":550000,"d":"Т550,000"}}]
[null,"Тапсырыс берушіден қол үзу",{"v":80000,"d":"80,000"},{"v":190000,"d":"190,000"},{"v":140000,"d":"140,000"},{"$f":"SUM('Табыстылық талдауы'!$C26:$E26)","v":{"v":410000,"d":"Т410,000"}}]
[null,"Тапсырыс берушіге қатысты жалпы өзге шығындар",{"$f":"SUBTOTAL(109,'Табыстылық талдауы'!$C$24:$C$26)","v":{"v":335000,"d":"335,000"}},{"$f":"SUBTOTAL(109,'Табыстылық талдауы'!$D$24:$D$26)","v":{"v":435000,"d":"435,000"}},{"$f":"SUBTOTAL(109,'Табыстылық талдауы'!$E$24:$E$26)","v":{"v":650000,"d":"650,000"}},{"$f":"SUBTOTAL(109,'Табыстылық талдауы'!$F$24:$F$26)","v":{"v":1420000,"d":"1,420,000"}}]
[]
[null,"Сегментке шаққандағы тапсырыс беруші пайдасы",{"$f":"C20-C27","v":{"v":-35000,"d":"-Т35,000"}},{"$f":"D20-D27","v":{"v":-135000,"d":"-Т135,000"}},{"$f":"E20-E27","v":{"v":350000,"d":"Т350,000"}},{"$f":"F20-'Табыстылық талдауы'!$F$27","v":{"v":180000,"d":"Т180,000"}}]
[null,"Үстемелеу",{"$f":"MAX(0,MIN(1,C29/$F$29))","v":{"v":0,"d":"0.0%"}},{"$f":"MAX(0,MIN(1,D29/$F$29))","v":{"v":0,"d":"0.0%"}},{"v":1,"d":"100.0%"},{"$f":"SUM('Табыстылық талдауы'!$C30:$E30)","v":{"v":1,"d":"100.0%"}}]
[]
[null,"Қорытынды көрсеткіштер"]
[null,"Әр жаңа қабылданған тапсырыс берушіге қатысты орташа шығын",{"$f":"C24/C8","v":{"v":52500,"d":"Т52,500"}},{"$f":"D24/D8","v":{"v":30000,"d":"Т30,000"}},{"$f":"E24/E8","v":{"v":58750,"d":"Т58,750"}}]
[null,"Әр қол үзген тапсырыс берушіге қатысты орташа шығын",{"$f":"-C26/C9","v":{"v":80000,"d":"Т80,000"}},{"$f":"-D26/D9","v":{"v":95000,"d":"Т95,000"}},{"$f":"-E26/E9","v":{"v":70000,"d":"Т70,000"}}]
[null,"Әр белсенді әрекет ететін тапсырыс берушіге қатысты орташа маркетингтік шығын",{"$f":"C25/'Табыстылық талдауы'!$C$10","v":{"v":25000,"d":"Т25,000"}},{"$f":"D25/'Табыстылық талдауы'!$D$10","v":{"v":12500,"d":"Т12,500"}},{"$f":"E25/'Табыстылық талдауы'!$E$10","v":{"v":27500,"d":"Т27,500"}}]
[null,"Әр тапсырыс берушіге шаққандағы орташа пайда немесе шығын",{"$f":"C29/'Табыстылық талдауы'!$C$10","v":{"v":-5833.333333333333,"d":"-Т5,833.33"}},{"$f":"D29/'Табыстылық талдауы'!$D$10","v":{"v":-13500,"d":"-Т13,500.00"}},{"$f":"E29/'Табыстылық талдауы'!$E$10","v":{"v":35000,"d":"Т35,000.00"}}]

{"sheet":"Жиынтық өлшемдер диаграммасы","index":1,"n_rows":3,"n_cols":18,"rows_kept":3}
[]
[null,"Әр тапсырыс берушіге қатысты қорытынды көрсеткіштер",{"$nulls":13}," "]
[null,{"$f":"ЕсепКүні","v":"20 қаңтар 2013 жыл"},{"$nulls":15},{"$f":"КомпанияАтауы","v":"КОМПАНИЯ АТЫ"}]