{"text_format":"3","workbook":"xlsx","n_sheets":4,"sheets":["開始","結婚式の予算","衣料-披露宴-音楽-写真","装飾-花-ギフト-旅行"],"not_rendered":{"charts":1,"defined_names":22},"read":"whole","date_system":"1900"}

{"sheet":"開始","index":0,"n_rows":7,"n_cols":2,"rows_kept":7}
[null,"このテンプレートについて"]
[null,"このテンプレートを使って、結婚式の支出を把握します。"]
[null,"個別のワークシートにさまざまなカテゴリで発生した見積コストと実績コストを入力します。"]
[null,"結婚式の予算概要とグラフは、自動的に更新されます。"]
[null,"注:  "]
[null,"各ワークシートの列 A に詳細な手順が記載されています。このテキストは意図的に表示されません。テキストを削除するには、列 A を選択し、[削除] を選択します。テキストを再表示するには、列 A を選択し、フォントの色を変更します。"]
[null,"テーブルの詳細については、テーブル内で Shift キーを押しながら F10 キーを押して、[テーブル] オプション、[代替テキスト] の順に選択します。"]

{"sheet":"結婚式の予算","index":1,"n_rows":19,"n_cols":6,"rows_kept":19,"merged":[[2,2,4,5],[18,2,42,5]]}
["このワークシートでは、結婚式の予算を作成します。\"衣装-披露宴-音楽-写真\" ワークシートと \"装飾-花-ギフト-旅行\" ワークシートのテーブルに詳細を入力して、現在のワークシートの概要とグラフを更新します。このワークシートを使用する方法に関する役立つ説明がこの列の各セルに表示されます。結婚式の日付ラベルはセル C1 に表示されます。",null,"結婚式の日付:"]
["セル C2 に結婚式の日付を入力します。残り日数はセル E2 で自動的に計算されます。",null,{"$f":"TODAY()+365","v":"2019-12-27"},"残り日数:",{"$f":"C2-TODAY()","v":365}]
["このワークシートのタイトルはセル C3 に表示されます。次の指示はセル A6 に表示されます。",null,"結婚式の予算概要"]
[]
[]
["セル C6 から始まる予算概要テーブルは自動的に更新されます。次の指示はセル A19 に表示されます。",null,"カテゴリ","見積もり","実績","予算内/超過"]
[null,null,"衣装",{"$f":"衣装_合計_見積","v":{"v":9490,"d":"9,490.00"}},{"$f":"衣装_合計_実績","v":{"v":9770,"d":"9,770.00"}},{"$f":"予算_概要[[#This Row],[見積もり]]-予算_概要[[#This Row],[実績]]","v":{"v":-280,"d":"-280.00"}}]
[null,null,"披露宴",{"$f":"披露宴_合計_見積","v":{"v":1050,"d":"1,050.00"}},{"$f":"披露宴_合計_実績","v":{"v":928,"d":"928.00"}},{"$f":"予算_概要[[#This Row],[見積もり]]-予算_概要[[#This Row],[実績]]","v":{"v":122,"d":"122.00"}}]
[null,null,"音楽",{"$f":"音楽_エンターテイメント_合計_見積","v":{"v":600,"d":"600.00"}},{"$f":"音楽_エンターテイメント_合計_実績","v":{"v":400,"d":"400.00"}},{"$f":"予算_概要[[#This Row],[見積もり]]-予算_概要[[#This Row],[実績]]","v":{"v":200,"d":"200.00"}}]
[null,null,"印刷物",{"$f":"印刷物_便箋_合計_見積","v":{"v":935,"d":"935.00"}},{"$f":"印刷物_便箋_合計_実績","v":{"v":870,"d":"870.00"}},{"$f":"予算_概要[[#This Row],[見積もり]]-予算_概要[[#This Row],[実績]]","v":{"v":65,"d":"65.00"}}]
[null,null,"写真",{"$f":"写真_合計_見積","v":{"v":1625,"d":"1,625.00"}},{"$f":"写真_合計_実績","v":{"v":1575,"d":"1,575.00"}},{"$f":"予算_概要[[#This Row],[見積もり]]-予算_概要[[#This Row],[実績]]","v":{"v":50,"d":"50.00"}}]
[null,null,"装飾",{"$f":"装飾_合計_見積","v":{"v":700,"d":"700.00"}},{"$f":"装飾_合計_実績","v":{"v":720,"d":"720.00"}},{"$f":"予算_概要[[#This Row],[見積もり]]-予算_概要[[#This Row],[実績]]","v":{"v":-20,"d":"-20.00"}}]
[null,null,"花",{"$f":"花_合計_見積","v":{"v":900,"d":"900.00"}},{"$f":"花_合計_実績","v":{"v":850,"d":"850.00"}},{"$f":"予算_概要[[#This Row],[見積もり]]-予算_概要[[#This Row],[実績]]","v":{"v":50,"d":"50.00"}}]
[null,null,"ギフト",{"$f":"ギフト_合計_見積","v":{"v":1345,"d":"1,345.00"}},{"$f":"ギフト_合計_実績","v":{"v":1075,"d":"1,075.00"}},{"$f":"予算_概要[[#This Row],[見積もり]]-予算_概要[[#This Row],[実績]]","v":{"v":270,"d":"270.00"}}]
[null,null,"旅行",{"$f":"旅行_交通_合計_見積","v":{"v":100,"d":"100.00"}},{"$f":"旅行_交通_合計_実績","v":{"v":165,"d":"165.00"}},{"$f":"予算_概要[[#This Row],[見積もり]]-予算_概要[[#This Row],[実績]]","v":{"v":-65,"d":"-65.00"}}]
[null,null,"その他",{"$f":"その他_費用_合計_見積","v":{"v":885,"d":"885.00"}},{"$f":"その他_費用_合計_実績","v":{"v":1021,"d":"1,021.00"}},{"$f":"予算_概要[[#This Row],[見積もり]]-予算_概要[[#This Row],[実績]]","v":{"v":-136,"d":"-136.00"}}]
[null,null,"費用合計",{"$f":"SUBTOTAL(109,予算_概要[見積もり])","v":{"v":17630,"d":"17,630.00"}},{"$f":"SUBTOTAL(109,予算_概要[実績])","v":{"v":17374,"d":"17,374.00"}},{"$f":"SUBTOTAL(109,予算_概要[予算内/超過])","v":{"v":256,"d":"256.00"}}]
[]
["セル C19 の円グラフは自動的に更新されます。",null,"各カテゴリの経費率を示す円グラフはこのセルに表示されます。"]

{"sheet":"衣料-披露宴-音楽-写真","index":2,"n_rows":56,"n_cols":6,"rows_kept":56,"merged":[[16,1,16,4],[28,1,28,4],[29,1,29,4],[35,1,35,4],[48,1,48,4]]}
["このワークシートにある個別のテーブルの各カテゴリに見積コストと実績コストを入力します。予算内/超過の金額は自動的に計算されます。衣装ラベルは右のセルに表示されます。このワークシートを使用する方法に関する役立つ説明がこの列の各セルに表示されます。下向き矢印で開始します。","衣装",{"$nulls":3}," "]
[" 右のセルから始まる衣装テーブルに詳細を入力します。次の指示がセル A18 に表示されます。","カテゴリ","見積もり","実績","予算内/超過"," "]
[null,"婚約指輪",{"v":1500,"d":"1,500.0"},{"v":1500,"d":"1,500.0"},{"$f":"'衣料-披露宴-音楽-写真'!$C3-'衣料-披露宴-音楽-写真'!$D3","v":{"v":0,"d":"0.0"}}]
[null,"結婚予定者 1 指輪",{"v":2000,"d":"2,000.0"},{"v":2300,"d":"2,300.0"},{"$f":"'衣料-披露宴-音楽-写真'!$C4-'衣料-披露宴-音楽-写真'!$D4","v":{"v":-300,"d":"(300.0)"}}]
[null,"結婚予定者 1 ドレス/タキシード",{"v":3000,"d":"3,000.0"},{"v":2750,"d":"2,750.0"},{"$f":"'衣料-披露宴-音楽-写真'!$C5-'衣料-披露宴-音楽-写真'!$D5","v":{"v":250,"d":"250.0"}}]
[null,"結婚予定者 1 ベール/帽子",{"v":500,"d":"500.0"},{"v":500,"d":"500.0"},{"$f":"'衣料-披露宴-音楽-写真'!$C6-'衣料-披露宴-音楽-写真'!$D6","v":{"v":0,"d":"0.0"}}]
[null,"結婚予定者 1 靴",{"v":350,"d":"350.0"},{"v":300,"d":"300.0"},{"$f":"'衣料-披露宴-音楽-写真'!$C7-'衣料-披露宴-音楽-写真'!$D7","v":{"v":50,"d":"50.0"}}]
[null,"結婚予定者 1 ジュエリー",{"v":400,"d":"400.0"},{"v":550,"d":"550.0"},{"$f":"'衣料-披露宴-音楽-写真'!$C8-'衣料-披露宴-音楽-写真'!$D8","v":{"v":-150,"d":"(150.0)"}}]
[null,"結婚予定者 1 靴下",{"v":20,"d":"20.0"},{"v":20,"d":"20.0"},{"$f":"'衣料-披露宴-音楽-写真'!$C9-'衣料-披露宴-音楽-写真'!$D9","v":{"v":0,"d":"0.0"}}]
[null,"結婚予定者 2 指輪",{"v":300,"d":"300.0"},{"v":250,"d":"250.0"},{"$f":"'衣料-披露宴-音楽-写真'!$C10-'衣料-披露宴-音楽-写真'!$D10","v":{"v":50,"d":"50.0"}}]
[null,"結婚予定者 2 ドレス/タキシード",{"v":300,"d":"300.0"},{"v":350,"d":"350.0"},{"$f":"'衣料-披露宴-音楽-写真'!$C11-'衣料-披露宴-音楽-写真'!$D11","v":{"v":-50,"d":"(50.0)"}}]
[null,"結婚予定者 2 ベール/帽子",{"v":500,"d":"500.0"},{"v":500,"d":"500.0"},{"$f":"'衣料-披露宴-音楽-写真'!$C12-'衣料-披露宴-音楽-写真'!$D12","v":{"v":0,"d":"0.0"}}]
[null,"結婚予定者 2 靴",{"v":200,"d":"200.0"},{"v":175,"d":"175.0"},{"$f":"'衣料-披露宴-音楽-写真'!$C13-'衣料-披露宴-音楽-写真'!$D13","v":{"v":25,"d":"25.0"}}]
[null,"結婚予定者 2 ジュエリー",{"v":400,"d":"400.0"},{"v":550,"d":"550.0"},{"$f":"'衣料-披露宴-音楽-写真'!$C14-'衣料-披露宴-音楽-写真'!$D14","v":{"v":-150,"d":"(150.0)"}}]
[null,"結婚予定者 2 靴下",{"v":20,"d":"20.0"},{"v":25,"d":"25.0"},{"$f":"'衣料-披露宴-音楽-写真'!$C15-'衣料-披露宴-音楽-写真'!$D15","v":{"v":-5,"d":"(5.0)"}}]
[null,"衣装合計",{"$f":"SUBTOTAL(109,衣装[見積もり])","v":{"v":9490,"d":"9,490.0"}},{"$f":"SUBTOTAL(109,衣装[実績])","v":{"v":9770,"d":"9,770.0"}},{"$f":"SUBTOTAL(109,衣装[予算内/超過])","v":{"v":-280,"d":"(280.0)"}}]
[]
["披露宴ラベルは右のセルに表示されます。","披露宴*"]
["右のセルから始まるテーブルに、エンターテイメントと装飾の費用を除く、披露宴の費用を入力します。次の指示がセル A31 に表示されます。","カテゴリ","見積もり","実績","予算内/超過"]
[null,"会場/ホール料金",{"v":200,"d":"200.0"},{"v":150,"d":"150.0"},{"$f":"'衣料-披露宴-音楽-写真'!$C20-'衣料-披露宴-音楽-写真'!$D20","v":{"v":50,"d":"50.0"}}]
[null,"テーブルと椅子",{"v":100,"d":"100.0"},{"v":50,"d":"50.0"},{"$f":"'衣料-披露宴-音楽-写真'!$C21-'衣料-披露宴-音楽-写真'!$D21","v":{"v":50,"d":"50.0"}}]
[null,"食事",{"v":0,"d":"0.0"},{"v":0,"d":"0.0"},{"$f":"'衣料-披露宴-音楽-写真'!$C22-'衣料-披露宴-音楽-写真'!$D22","v":{"v":0,"d":"0.0"}}]
[null,"飲み物",{"v":0,"d":"0.0"},{"v":0,"d":"0.0"},{"$f":"'衣料-披露宴-音楽-写真'!$C23-'衣料-披露宴-音楽-写真'!$D23","v":{"v":0,"d":"0.0"}}]
[null,"テーブルクロス等",{"v":0,"d":"0.0"},{"v":0,"d":"0.0"},{"$f":"'衣料-披露宴-音楽-写真'!$C24-'衣料-披露宴-音楽-写真'!$D24","v":{"v":0,"d":"0.0"}}]
[null,"ケーキ",{"v":700,"d":"700.0"},{"v":700,"d":"700.0"},{"$f":"'衣料-披露宴-音楽-写真'!$C25-'衣料-披露宴-音楽-写真'!$D25","v":{"v":0,"d":"0.0"}}]
[null,"記念品",{"v":50,"d":"50.0"},{"v":28,"d":"28.0"},{"$f":"'衣料-披露宴-音楽-写真'!$C26-'衣料-披露宴-音楽-写真'!$D26","v":{"v":22,"d":"22.0"}}]
[null,"スタッフ、心づけ",{"v":0,"d":"0.0"},{"v":0,"d":"0.0"},{"$f":"'衣料-披露宴-音楽-写真'!$C27-'衣料-披露宴-音楽-写真'!$D27","v":{"v":0,"d":"0.0"}}]
[null,"披露宴合計",{"$f":"SUBTOTAL(109,披露宴[見積もり])","v":{"v":1050,"d":"1,050.0"}},{"$f":"SUBTOTAL(109,披露宴[実績])","v":{"v":928,"d":"928.0"}},{"$f":"SUBTOTAL(109,披露宴[予算内/超過])","v":{"v":122,"d":"122.0"}}]
[null,"* エンターテイメントと装飾を除外します"]
[]
["音楽/エンターテイメント ラベルは右のセルに表示されます。","音楽/エンターテイメント"]
["右のセルから始まる音楽テーブルに詳細を入力します。次の指示はセル A37 に表示されます。","カテゴリ","見積もり","実績","予算内/超過"]
[null,"式の演奏者",{"v":400,"d":"400.0"},{"v":400,"d":"400.0"},{"$f":"'衣料-披露宴-音楽-写真'!$C33-'衣料-披露宴-音楽-写真'!$D33","v":{"v":0,"d":"0.0"}}]
[null,"披露宴のバンド/DJ",{"v":200,"d":"200.0"},{"v":0,"d":"0.0"},{"$f":"'衣料-披露宴-音楽-写真'!$C34-'衣料-披露宴-音楽-写真'!$D34","v":{"v":200,"d":"200.0"}}]
[null,"音楽/エンターテイメント合計",{"$f":"SUBTOTAL(109,音楽[見積もり])","v":{"v":600,"d":"600.0"}},{"$f":"SUBTOTAL(109,音楽[実績])","v":{"v":400,"d":"400.0"}},{"$f":"SUBTOTAL(109,音楽[予算内/超過])","v":{"v":200,"d":"200.0"}}]
[]
["印刷物/便箋ラベルは右のセルに表示されます。","印刷物/便箋"]
["右のセルから始まる印刷物テーブルに詳細を入力します。次の指示はセル A50 に表示されます。","カテゴリ","見積もり","実績","予算内/超過"]
[null,"招待状",{"v":500,"d":"500.0"},{"v":450,"d":"450.0"},{"$f":"'衣料-披露宴-音楽-写真'!$C39-'衣料-披露宴-音楽-写真'!$D39","v":{"v":50,"d":"50.0"}}]
[null,"結婚報告",{"v":200,"d":"200.0"},{"v":175,"d":"175.0"},{"$f":"'衣料-披露宴-音楽-写真'!$C40-'衣料-披露宴-音楽-写真'!$D40","v":{"v":25,"d":"25.0"}}]
[null,"お礼状",{"v":100,"d":"100.0"},{"v":100,"d":"100.0"},{"$f":"'衣料-披露宴-音楽-写真'!$C41-'衣料-披露宴-音楽-写真'!$D41","v":{"v":0,"d":"0.0"}}]
[null,"オーダー ステーショナリー",{"v":0,"d":"0.0"},{"v":0,"d":"0.0"},{"$f":"'衣料-披露宴-音楽-写真'!$C42-'衣料-披露宴-音楽-写真'!$D42","v":{"v":0,"d":"0.0"}}]
[null,"来客名簿",{"v":25,"d":"25.0"},{"v":25,"d":"25.0"},{"$f":"'衣料-披露宴-音楽-写真'!$C43-'衣料-披露宴-音楽-写真'!$D43","v":{"v":0,"d":"0.0"}}]
[null,"プログラム",{"v":75,"d":"75.0"},{"v":80,"d":"80.0"},{"$f":"'衣料-披露宴-音楽-写真'!$C44-'衣料-披露宴-音楽-写真'!$D44","v":{"v":-5,"d":"(5.0)"}}]
[null,"披露宴用ナプキン",{"v":35,"d":"35.0"},{"v":40,"d":"40.0"},{"$f":"'衣料-披露宴-音楽-写真'!$C45-'衣料-披露宴-音楽-写真'!$D45","v":{"v":-5,"d":"(5.0)"}}]
[null,"ブックマッチ",{"v":0,"d":"0.0"},{"v":0,"d":"0.0"},{"$f":"'衣料-披露宴-音楽-写真'!$C46-'衣料-披露宴-音楽-写真'!$D46","v":{"v":0,"d":"0.0"}}]
[null,"カリグラフィ",{"v":0,"d":"0.0"},{"v":0,"d":"0.0"},{"$f":"'衣料-披露宴-音楽-写真'!$C47-'衣料-披露宴-音楽-写真'!$D47","v":{"v":0,"d":"0.0"}}]
[null,"印刷物/便箋合計",{"$f":"SUBTOTAL(109,印刷物[見積もり])","v":{"v":935,"d":"935.0"}},{"$f":"SUBTOTAL(109,印刷物[実績])","v":{"v":870,"d":"870.0"}},{"$f":"SUBTOTAL(109,印刷物[予算内/超過])","v":{"v":65,"d":"65.0"}}]
[]
["写真ラベルは右のセルに表示されます。","写真"]
["右のセルから始まる写真テーブルに詳細を入力します。","カテゴリ","見積もり","実績","予算内/超過"]
[null,"記念写真",{"v":1300,"d":"1,300.0"},{"v":1300,"d":"1,300.0"},{"$f":"'衣料-披露宴-音楽-写真'!$C52-'衣料-披露宴-音楽-写真'!$D52","v":{"v":0,"d":"0.0"}}]
[null,"追加のプリント",{"v":25,"d":"25.0"},{"v":25,"d":"25.0"},{"$f":"'衣料-披露宴-音楽-写真'!$C53-'衣料-披露宴-音楽-写真'!$D53","v":{"v":0,"d":"0.0"}}]
[null,"アルバム",{"v":100,"d":"100.0"},{"v":100,"d":"100.0"},{"$f":"'衣料-披露宴-音楽-写真'!$C54-'衣料-披露宴-音楽-写真'!$D54","v":{"v":0,"d":"0.0"}}]
[null,"ビデオ撮影",{"v":200,"d":"200.0"},{"v":150,"d":"150.0"},{"$f":"'衣料-披露宴-音楽-写真'!$C55-'衣料-披露宴-音楽-写真'!$D55","v":{"v":50,"d":"50.0"}}]
[null,"写真合計",{"$f":"SUBTOTAL(109,写真[見積もり])","v":{"v":1625,"d":"1,625.0"}},{"$f":"SUBTOTAL(109,写真[実績])","v":{"v":1575,"d":"1,575.0"}},{"$f":"SUBTOTAL(109,写真[予算内/超過])","v":{"v":50,"d":"50.0"}}]

{"sheet":"装飾-花-ギフト-旅行","index":3,"n_rows":48,"n_cols":5,"rows_kept":48,"merged":[[8,1,8,4],[9,1,9,4],[18,1,18,4],[27,1,27,4],[34,1,34,4]]}
["このワークシートにある個別のテーブルの各カテゴリに見積コストと実績コストを入力します。予算内/超過の金額は自動的に計算されます。装飾ラベルは右のセルに表示されます。このワークシートを使用する方法に関する役立つ説明がこの列の各セルに表示されます。下向き矢印で開始します。","装飾*"]
["右のセルから始まるテーブルに、花の費用を除く、装飾の費用を入力します。次の指示はセル A11 に表示されます。","カテゴリ","見積もり","実績","予算内/超過"]
[null,"椅子用のリボン",{"v":0,"d":"0.00"},{"v":0,"d":"0.00"},{"$f":"'装飾-花-ギフト-旅行'!$C3-'装飾-花-ギフト-旅行'!$D3","v":{"v":0,"d":"0.00"}}]
[null,"センターピース",{"v":300,"d":"300.00"},{"v":320,"d":"320.00"},{"$f":"'装飾-花-ギフト-旅行'!$C4-'装飾-花-ギフト-旅行'!$D4","v":{"v":-20,"d":"(20.00)"}}]
[null,"キャンドル",{"v":100,"d":"100.00"},{"v":75,"d":"75.00"},{"$f":"'装飾-花-ギフト-旅行'!$C5-'装飾-花-ギフト-旅行'!$D5","v":{"v":25,"d":"25.00"}}]
[null,"照明",{"v":100,"d":"100.00"},{"v":75,"d":"75.00"},{"$f":"'装飾-花-ギフト-旅行'!$C6-'装飾-花-ギフト-旅行'!$D6","v":{"v":25,"d":"25.00"}}]
[null,"風船",{"v":200,"d":"200.00"},{"v":250,"d":"250.00"},{"$f":"'装飾-花-ギフト-旅行'!$C7-'装飾-花-ギフト-旅行'!$D7","v":{"v":-50,"d":"(50.00)"}}]
[null,"装飾合計",{"$f":"SUBTOTAL(109,装飾[見積もり])","v":{"v":700,"d":"700.00"}},{"$f":"SUBTOTAL(109,装飾[実績])","v":{"v":720,"d":"720.00"}},{"$f":"SUBTOTAL(109,装飾[予算内/超過])","v":{"v":-20,"d":"(20.00)"}}]
[null,"* 花を除外します"]
[]
["花ラベルは右のセルに表示されます。","花"]
["右のセルから始まる花テーブルに詳細を入力します。次の指示はセル A20 に表示されます。","カテゴリ","見積もり","実績","予算内/超過"]
[null,"ブーケ",{"v":500,"d":"500.00"},{"v":450,"d":"450.00"},{"$f":"'装飾-花-ギフト-旅行'!$C13-'装飾-花-ギフト-旅行'!$D13","v":{"v":50,"d":"50.00"}}]
[null,"ブートニエール",{"v":0,"d":"0.00"},{"v":0,"d":"0.00"},{"$f":"'装飾-花-ギフト-旅行'!$C14-'装飾-花-ギフト-旅行'!$D14","v":{"v":0,"d":"0.00"}}]
[null,"コサージュ",{"v":0,"d":"0.00"},{"v":0,"d":"0.00"},{"$f":"'装飾-花-ギフト-旅行'!$C15-'装飾-花-ギフト-旅行'!$D15","v":{"v":0,"d":"0.00"}}]
[null,"式",{"v":400,"d":"400.00"},{"v":400,"d":"400.00"},{"$f":"'装飾-花-ギフト-旅行'!$C16-'装飾-花-ギフト-旅行'!$D16","v":{"v":0,"d":"0.00"}}]
[null,"披露宴",{"v":0,"d":"0.00"},{"v":0,"d":"0.00"},{"$f":"'装飾-花-ギフト-旅行'!$C17-'装飾-花-ギフト-旅行'!$D17","v":{"v":0,"d":"0.00"}}]
[null,"花合計",{"$f":"SUBTOTAL(109,花[見積もり])","v":{"v":900,"d":"900.00"}},{"$f":"SUBTOTAL(109,花[実績])","v":{"v":850,"d":"850.00"}},{"$f":"SUBTOTAL(109,花[予算内/超過])","v":{"v":50,"d":"50.00"}}]
[]
["ギフト ラベルは右のセルに表示されます。","ギフト"]
["右のセルから始まるギフト テーブルに詳細を入力します。次の指示はセル A29 に表示されます。","カテゴリ","見積もり","実績","予算内/超過"]
[null,"付添人",{"v":1000,"d":"1,000.00"},{"v":400,"d":"400.00"},{"$f":"'装飾-花-ギフト-旅行'!$C22-'装飾-花-ギフト-旅行'!$D22","v":{"v":600,"d":"600.00"}}]
[null,"結婚予定者 1",{"v":150,"d":"150.00"},{"v":200,"d":"200.00"},{"$f":"'装飾-花-ギフト-旅行'!$C23-'装飾-花-ギフト-旅行'!$D23","v":{"v":-50,"d":"(50.00)"}}]
[null,"結婚予定者 2",{"v":150,"d":"150.00"},{"v":200,"d":"200.00"},{"$f":"'装飾-花-ギフト-旅行'!$C24-'装飾-花-ギフト-旅行'!$D24","v":{"v":-50,"d":"(50.00)"}}]
[null,"親",{"v":25,"d":"25.00"},{"v":25,"d":"25.00"},{"$f":"'装飾-花-ギフト-旅行'!$C25-'装飾-花-ギフト-旅行'!$D25","v":{"v":0,"d":"0.00"}}]
[null,"スピーチ担当/その他の参加者",{"v":20,"d":"20.00"},{"v":250,"d":"250.00"},{"$f":"'装飾-花-ギフト-旅行'!$C26-'装飾-花-ギフト-旅行'!$D26","v":{"v":-230,"d":"(230.00)"}}]
[null,"ギフト合計",{"$f":"SUBTOTAL(109,ギフト[見積もり])","v":{"v":1345,"d":"1,345.00"}},{"$f":"SUBTOTAL(109,ギフト[実績])","v":{"v":1075,"d":"1,075.00"}},{"$f":"SUBTOTAL(109,ギフト[予算内/超過])","v":{"v":270,"d":"270.00"}}]
[]
["旅行/交通ラベルは右のセルに表示されます。","旅行/交通"]
["右のセルから始まる旅行テーブルに詳細を入力します。次の指示はセル A36 に表示されます。","カテゴリ","見積もり","実績","予算内/超過"]
[null,"リムジン/トロリー",{"v":100,"d":"100.00"},{"v":125,"d":"125.00"},{"$f":"'装飾-花-ギフト-旅行'!$C31-'装飾-花-ギフト-旅行'!$D31","v":{"v":-25,"d":"(25.00)"}}]
[null,"駐車場",{"v":0,"d":"0.00"},{"v":40,"d":"40.00"},{"$f":"'装飾-花-ギフト-旅行'!$C32-'装飾-花-ギフト-旅行'!$D32","v":{"v":-40,"d":"(40.00)"}}]
[null,"タクシー",{"v":0,"d":"0.00"},{"v":0,"d":"0.00"},{"$f":"'装飾-花-ギフト-旅行'!$C33-'装飾-花-ギフト-旅行'!$D33","v":{"v":0,"d":"0.00"}}]
[null,"旅行/交通合計",{"$f":"SUBTOTAL(109,旅行[見積もり])","v":{"v":100,"d":"100.00"}},{"$f":"SUBTOTAL(109,旅行[実績])","v":{"v":165,"d":"165.00"}},{"$f":"SUBTOTAL(109,旅行[予算内/超過])","v":{"v":-65,"d":"(65.00)"}}]
[]
["その他の費用ラベルは右のセルに表示されます。","その他の費用"]
["右のセルから始まるその他の費用テーブルに詳細を入力します。","カテゴリ","見積もり","実績","予算内/超過"]
[null,"司祭者",{"v":0,"d":"0.00"},{"v":0,"d":"0.00"},{"$f":"'装飾-花-ギフト-旅行'!$C38-'装飾-花-ギフト-旅行'!$D38","v":{"v":0,"d":"0.00"}}]
[null,"教会/式場料金",{"v":40,"d":"40.00"},{"v":55,"d":"55.00"},{"$f":"'装飾-花-ギフト-旅行'!$C39-'装飾-花-ギフト-旅行'!$D39","v":{"v":-15,"d":"(15.00)"}}]
[null,"ウエディング コーディネーター",{"v":0,"d":"0.00"},{"v":0,"d":"0.00"},{"$f":"'装飾-花-ギフト-旅行'!$C40-'装飾-花-ギフト-旅行'!$D40","v":{"v":0,"d":"0.00"}}]
[null,"リハーサル ディナー",{"v":450,"d":"450.00"},{"v":450,"d":"450.00"},{"$f":"'装飾-花-ギフト-旅行'!$C41-'装飾-花-ギフト-旅行'!$D41","v":{"v":0,"d":"0.00"}}]
[null,"婚約パーティー",{"v":20,"d":"20.00"},{"v":50,"d":"50.00"},{"$f":"'装飾-花-ギフト-旅行'!$C42-'装飾-花-ギフト-旅行'!$D42","v":{"v":-30,"d":"(30.00)"}}]
[null,"ブライダル シャワー",{"v":30,"d":"30.00"},{"v":20,"d":"20.00"},{"$f":"'装飾-花-ギフト-旅行'!$C43-'装飾-花-ギフト-旅行'!$D43","v":{"v":10,"d":"10.00"}}]
[null,"サロン利用",{"v":45,"d":"45.00"},{"v":46,"d":"46.00"},{"$f":"'装飾-花-ギフト-旅行'!$C44-'装飾-花-ギフト-旅行'!$D44","v":{"v":-1,"d":"(1.00)"}}]
[null,"バチェラー/バチェロッテ パーティー",{"v":0,"d":"0.00"},{"v":0,"d":"0.00"},{"$f":"'装飾-花-ギフト-旅行'!$C45-'装飾-花-ギフト-旅行'!$D45","v":{"v":0,"d":"0.00"}}]
[null,"ブランチ",{"v":300,"d":"300.00"},{"v":400,"d":"400.00"},{"$f":"'装飾-花-ギフト-旅行'!$C46-'装飾-花-ギフト-旅行'!$D46","v":{"v":-100,"d":"(100.00)"}}]
[null,"宿泊",{"v":0,"d":"0.00"},{"v":0,"d":"0.00"},{"$f":"'装飾-花-ギフト-旅行'!$C47-'装飾-花-ギフト-旅行'!$D47","v":{"v":0,"d":"0.00"}}]
[null,"その他の費用合計",{"$f":"SUBTOTAL(109,その他_費用[見積もり])","v":{"v":885,"d":"885.00"}},{"$f":"SUBTOTAL(109,その他_費用[実績])","v":{"v":1021,"d":"1,021.00"}},{"$f":"SUBTOTAL(109,その他_費用[予算内/超過])","v":{"v":-136,"d":"(136.00)"}}]