{"text_format":"3","workbook":"xlsx","n_sheets":4,"sheets":["busta paga","ccnl","irpef","assegni"],"not_rendered":{"defined_names":5,"comments":2},"read":"whole","date_system":"1900"}

{"sheet":"busta paga","index":0,"n_rows":55,"n_cols":7,"rows_kept":55,"merged":[[49,3,50,5],[49,6,50,6]]}
["DITTA"]
[{"$nulls":3},"Minimo tabellare"]
["Sede",null,null,"Contingenza"]
[{"$nulls":3},"Premio di produzione"]
["Città",null,null,"Terzo elemento"]
[{"$nulls":3},"E.D.R."]
["P.I.",null,null,"Superminimo individuale"]
["DIPENDENTE",null,null,"Scatti di anzianità n.",null,null,{"$f":"E8*F8","v":0}]
[]
[{"$nulls":3},"Retribuzione di fatto",null,null,{"$f":"SUM(G2:G8)","v":0}]
[]
[{"$nulls":3},"Retribuzione oraria di fatto",null,{"$f":"G10/173","v":0}]
["Cod. fiscale"]
["Reddito familiare",null,null,"Straordinario al 15%",null,{"$f":"F12*1.15","v":0},{"$f":"ROUND(E14*F14,2)","v":0}]
["Reddito complessivo ",null,null,"Straordinario al 20%",null,{"$f":"F12*1.2","v":0},{"$f":"ROUND(E15*F15,2)","v":0}]
["Data assunz.",null,null,"Straordinario al 25%",null,{"$f":"F12*1.25","v":0},{"$f":"ROUND(E16*F16,2)","v":0}]
["Qualifica",null,null,"Straordinario al 50%",null,{"$f":"F12*1.5","v":0},{"$f":"ROUND(E17*F17,2)","v":0}]
["Livello"]
["Matricola"]
["MESE di",null,null,"Festività non godute"]
["GG. lavorati",null,null,"Ferie non godute"]
[]
[{"$nulls":3},"Retribuzione lorda",null,null,{"$f":"SUM(G10,G14:G17)","v":0}]
["Scaglioni","Aliquota","Imposta","Imponibile previdenziale",null,null,{"$f":"ROUND(G23,0)","v":0}]
[0,{"v":0.23,"d":"23%"},0,"Fondo Pensioni",null,{"$f":"IF(A56<=15,9.19%,9.19%)","v":{"v":0.0919,"d":"9.19%"}},{"$f":"ROUND(G24*F25,2)","v":0}]
[{"v":1250,"d":"1,250.00"},{"v":0.27,"d":"27%"},{"$f":"ROUND(A26*B25,2)","v":{"v":287.5,"d":"287.50"}},"Cassa integr. Straord.",null,{"v":0.003,"d":"0.30%"},{"$f":"G24*F26","v":0}]
[{"v":2333.33,"d":"2,333.33"},{"v":0.38,"d":"38%"},{"$f":"ROUND((A27-A26)*B26+C26,2)","v":{"v":580,"d":"580.00"}}]
[{"v":4583.33,"d":"4,583.33"},{"v":0.41,"d":"41%"},{"$f":"ROUND((A28-A27)*B27+C27,2)","v":{"v":1435,"d":"1,435.00"}}]
[{"v":6250,"d":"6,250.00"},{"v":0.43,"d":"43%"},{"$f":"ROUND((A29-A28)*B28+C28,2)","v":{"v":2118.33,"d":"2,118.33"}},{"$nulls":3},{"$f":"SUM(G25:G28)","v":0}]
[{"$nulls":3},"Indennità di cassa"]
[{"$nulls":3},"Indennità malattia"]
[]
[{"$nulls":3},"Imponibile fiscale",null,null,{"$f":"G23-G29","v":0}]
[{"$nulls":3},"Irpef Lorda",null,null,{"$f":"(G33-(VLOOKUP(G33,IRPEF,1)))*(VLOOKUP(G33,IRPEF,2))+(VLOOKUP(G33,IRPEF,3))","v":0}]
["detraz coniuge",null,null,"Totale detraz d'imposta",null,null,{"$f":"B39","v":0}]
["detraz figli"]
["detraz lav dip",null,null,"Imposta netta",null,null,{"$f":"G34-G35","v":0}]
["detr ag lav dip"]
["TOTALE",{"$f":"SUM(B35:B38)","v":0},null,"Rata addiz. Reg. IRPEF"]
[{"$nulls":3},"Rata addiz. Comunale Irpef"]
[{"$nulls":3},"Totale Ritenute fiscali",null,null,{"$f":"SUM(G37:G40)","v":0}]
[{"$nulls":3},"Stipendio netto",null,null,{"$f":"G33-G41","v":0}]
[{"$nulls":3},"Assegno nucleo familiare"]
[]
[{"$nulls":3},"Anticipi"]
[null,null,{"$f":"SUM(C40:C44)","v":0}]
[{"$nulls":3},"Totale",null,null,{"$f":"G42+G43-G45","v":0}]
[{"$nulls":3},"Arrotondamento precedente"]
[{"$nulls":3},"Arrotondamento attuale"]
[{"$nulls":3},"NETTO IN BUSTA",null,null,{"$f":"G47+G48+G49","v":0}]
[]
[]
[]
[]
["Numero dipendenti"]

{"sheet":"ccnl","index":1,"n_rows":9,"n_cols":12,"rows_kept":9,"merged":[[0,0,0,11]]}
["DATI DA C.C.N.L. DEL COMMERCIO E TERZIARIO"]
["Livelli",{"$nulls":3},"Quadro",1,2,3,4,5,6,7]
["minimo tabellare",null,null,"€",1339.34,1206.49,1043.6,892,771.46,696.98,625.75,535.73]
["Indennità di contingenza",null,null,"€",540.37,537.52,532.54,527.9,524.22,521.94,519.76,517.41]
["Terzo elemento",null,null,"€",2.07,2.07,2.07,2.07,2.07,2.07,2.07,2.07]
["Indennità di funzione",null,null,"€",150]
["Scatti di anzianità",null,null,"€",25.46,24.84,22.83,21.95,20.66,20.3,19.73,19.47]
["Divisore convenzionale di settore",null,null,"ore",168,"mensili"]
["Giornate retribuite",null,null,"gg",26,"mensili"]

{"sheet":"irpef","index":2,"n_rows":41,"n_cols":8,"rows_kept":41,"merged":[[0,0,0,7],[1,0,1,4],[6,0,6,2],[8,0,8,5],[13,0,13,3],[17,0,17,5],[27,0,27,5],[31,0,31,7],[32,4,32,7]]}
["CALCOLO DELLE DETRAZIONI DALL'IMPOSTA"]
["Detrazioni spettanti art. 13 T.U.I.R  per lavoro dipendente                                           ",{"$nulls":4},"Giorni lavorati"]
["Fino a 8000",null,{"$f":"IF(B33<8001,B33,0)","v":0},{"$nulls":3},{"$f":"IF(C3=0,0,1840)","v":{"v":0,"d":"0.00"}}]
["da 8001 a 15000",null,{"$f":"IF(B33>8000,IF(B33<15001,B33,0),0)","v":0},null,{"$f":"IF(B33>28000,0,IF(B33>27700,40,IF(B33>26000,30,IF(B33>25000,20,IF(B33>24000,20,IF(B33>23000,10,0))))))","v":0},null,{"$f":"IF(C4=0,0,1388+(502*(15000-B33)/7000)+E4)","v":{"v":0,"d":"0.00"}}]
["da 15001 a 55000",null,{"$f":"IF(B33>15000,IF(B33<55001,B33,0),0)","v":0},{"$nulls":3},{"$f":"IF(C5=0,0,1388+(502*(55000-B33)/40000))","v":{"v":0,"d":"0.00"}}]
["Totale detrazione su base annuale",{"$nulls":5},{"$f":"SUM(G3:G5)","v":{"v":0,"d":"0.00"}}]
["Tot. detrazione per giorni lavorativi",{"$nulls":5},{"$f":"G6/365*G2","v":{"v":0,"d":"0.00"}}]
[]
["Tabella detrazioni teoriche per figli a carico al"]
["Figli di età inferiore ai 3 anni",null,null,"N.",null,{"$f":"IF(E10>3,1100,900)","v":{"v":900,"d":"900.00"}},{"$f":"ROUND(E10*F10*$G$9,2)","v":{"v":0,"d":"0.00"}}]
["Figli di età superiore ai 3 anni",null,null,"N.",null,{"$f":"IF(E11>3,1000,800)","v":{"v":800,"d":"800.00"}},{"$f":"ROUND(E11*F11*$G$9,2)","v":{"v":0,"d":"0.00"}}]
["Figlio portatore di handicap inferiore 3 anni",null,null,"N.",null,{"$f":"IF(E12>3,1320,1120)","v":{"v":1120,"d":"1120.00"}},{"$f":"ROUND(E12*F12*$G$9,2)","v":{"v":0,"d":"0.00"}}]
["Figlio portatore di handicap sup 3 anni",null,null,"N.",null,{"$f":"IF(E13>3,1220,1020)","v":{"v":1020,"d":"1,020.00"}},{"$f":"ROUND(E13*F13*$G$9,2)","v":{"v":0,"d":"0.00"}}]
["totale n. figli",{"$nulls":3},{"$f":"SUM(E10:E13)","v":0},"Totale detrazioni teoriche",{"$f":"SUM(G10:G13)","v":{"v":0,"d":"0.00"}}]
["coefficiente di detrazione",{"$nulls":5},{"$f":"IF(E14=1,((95000-B33)/95000),(((95000+(15000*(E14-1))-B33)/((95000+(15000*(E14-1)))))))","v":{"v":1,"d":"1.00"}}]
["Totale detrazioni effettive per figli ",{"$nulls":5},{"$f":"ROUND(G15*G14,2)","v":{"v":0,"d":"0.00"}}]
[]
["Detrazioni per coniuge e altre persone a carico "]
["Coniuge"]
["Fino a 15000",null,{"$f":"IF(B33<15001,B33,0)","v":0},{"$nulls":3},{"$f":"ROUND(IF(G18=\"SI\",IF(C20=0,0,(800-(110*B33/15000))),0),0)","v":{"v":0,"d":"0.00"}}]
["da 15001 a 40000",null,{"$f":"IF(B33>15000,IF(B33<40001,B33,0),0)","v":0},null,{"$f":"IF(B33>35200,0,IF(B33>35100,10,IF(B33>35000,20,IF(B33>34700,30,IF(B33>29200,20,IF(B33>29000,10,0))))))","v":0},null,{"$f":"ROUND(IF(G18=\"SI\",IF(C21=0,0,690+E21),0),0)","v":{"v":0,"d":"0.00"}}]
["da 40001 a 80000",null,{"$f":"IF(B33>40000,IF(B33<80001,B33,0),0)","v":0},{"$nulls":3},{"$f":"ROUND(IF(G18=\"SI\",IF(C22=0,0,690*(80000-B33)/40000),0),2)","v":{"v":0,"d":"0.00"}}]
["Totale detrazione coniuge ",{"$nulls":5},{"$f":"SUM(G20:G22)","v":{"v":0,"d":"0.00"}}]
["Altre persone",null,null,"N.",null,null,{"$f":"(IF(E24=0,0,750*(80000-B33)/80000)*C24)","v":{"v":0,"d":"0.00"}}]
[]
["Tot detrazione periodo lav carichi di famiglia (coniuge - figli - altre persone)",{"$nulls":5},{"$f":"ROUND((G24+G23+G16)/365*G2,2)","v":{"v":0,"d":"0.00"}}]
[]
["Totale detrazioni carichi di famiglia + lavoro dipendente",{"$nulls":5},{"$f":"ROUND(G26+G7,2)","v":{"v":0,"d":"0.00"}}]
[]
[]
[]
["CALCOLO DELL'IRE (ART. 11 TUIR)"]
["Reddito annuo",{"$f":"'busta paga'!C15","v":0},"Reddito mensile",{"$f":"'busta paga'!G33","v":0}]
["Scaglioni annui",null,"Scaglioni mensili",null,"importo","imponibile","aliquota","IRPEF"]
["da €","a €","da €","a €","scaglione","€","IRPEF","LORDA"]
[0,{"v":15000,"d":"15,000.00"},{"$f":"ROUND(A36/12,2)","v":0},{"$f":"ROUND(B36/12,2)","v":{"v":1250,"d":"1,250.00"}},{"$f":"D36-C36","v":{"v":1250,"d":"1,250.00"}},{"$f":"IF($D$33>C36,IF($D$33<=D36,$D$33-C36,E36),0)","v":0},{"v":0.23,"d":"23%"},{"$f":"ROUND(F36*G36,2)","v":0}]
[{"v":15000.01,"d":"15,000.01"},{"v":28000,"d":"28,000.00"},{"$f":"ROUND(A37/12,2)","v":{"v":1250,"d":"1,250.00"}},{"v":2333.33,"d":"2,333.33"},{"$f":"D37-C37","v":{"v":1083.33,"d":"1,083.33"}},{"$f":"IF($D$33>C37,IF($D$33<=D37,$D$33-C37,E37),0)","v":0},{"v":0.27,"d":"27%"},{"$f":"ROUND(F37*G37,2)","v":0}]
[{"v":28000.01,"d":"28,000.01"},{"v":55000,"d":"55,000.00"},{"v":2333.33,"d":"2,333.33"},{"v":4583.33,"d":"4,583.33"},{"$f":"D38-C38","v":{"v":2250,"d":"2,250.00"}},{"$f":"IF($D$33>C38,IF($D$33<=D38,$D$33-C38,E38),0)","v":0},{"v":0.38,"d":"38%"},{"$f":"ROUND(F38*G38,2)","v":{"v":0,"d":"0.00"}}]
[{"v":55000.01,"d":"55,000.01"},{"v":75000,"d":"75,000.00"},{"v":4583.33,"d":"4,583.33"},{"v":6250,"d":"6,250.00"},{"$f":"D39-C39","v":{"v":1666.67,"d":"1,666.67"}},{"$f":"IF($D$33>C39,IF($D$33<=D39,$D$33-C39,E39),0)","v":0},{"v":0.41,"d":"41%"},{"$f":"ROUND(F39*G39,2)","v":0}]
[{"v":75000.01,"d":"75,000.01"},"oltre",{"v":6250,"d":"6,250.00"},null,{"$f":"IF((D33-C40)>0,D33-C40,0)","v":0},{"$f":"IF($D$33>C40,IF($D$33<=D40,$D$33-C40,E40),0)","v":0},{"v":0.43,"d":"43%"},{"$f":"ROUND(F40*G40,2)","v":0}]
[{"$nulls":7},{"$f":"SUM(H36:H40)","v":0}]

{"sheet":"assegni","index":3,"n_rows":34,"n_cols":5,"rows_kept":34,"merged":[[0,0,0,4],[32,2,32,5],[33,2,33,6],[36,2,36,4]]}
["Assegni per nucleo familiare con entrambi i genitori o un solo genitore e nessun componente disabile"]
[]
["N. componenti (oltre i genitori/e)","Reddito fino a     € 12.500",null,"Reddito oltre     € 12.500"]
[null,"Importo assegno","Fascia di reddito","diminuzioni","Importo assegno"]
[1,null,"da 12500 a 24000",{"$f":"IF('busta paga'!C14>12500,IF('busta paga'!C14<24000.01,ROUNDUP(('busta paga'!C14-12500)/100,0)*9.3,),)","v":0}]
[null,null,"da 24001a 40000",{"$f":"IF('busta paga'!C14<40000.01,IF('busta paga'!C14> 24000,ROUNDUP((24000-12500)/100,0)*9.3+ROUNDUP(('busta paga'!C14-24000)/100,0)*0.5,),)","v":0}]
[null,null,"oltre 40000",{"$f":"IF('busta paga'!C14>40000.01,ROUNDUP((24000-12500)/100,0)*9.3+ROUNDUP((40000-24000)/100,0)*0.5+ROUNDUP(('busta paga'!C14-40000)/100,0)*2.3,)","v":0}]
[null,1650,null,{"$f":"SUM(D5:D7)","v":0},{"$f":"B8-D8","v":1650}]
[]
[2,null,"da 12500 a 29000",{"$f":"IF('busta paga'!C14>12500.01,IF('busta paga'!C14<29000.01,ROUNDUP(('busta paga'!C14-12500)/100,0)*13,),)","v":0}]
[null,null,"da 29001a 40000",{"$f":"IF('busta paga'!C14<40000.01,IF('busta paga'!C14> 29000,ROUNDUP((29000-12500)/100,0)*13+ROUNDUP(('busta paga'!C14-29000)/100,0)*0.9,),)","v":0}]
[null,null,"oltre 40000",{"$f":"IF('busta paga'!C14>40000.01,ROUNDUP((29000-12500)/100,0)*13+ROUNDUP((40000-29000)/100,0)*0.9+ROUNDUP(('busta paga'!C14-40000)/100,0)*3.1,)","v":0}]
[null,3100,null,{"$f":"SUM(D10:D12)","v":0},{"$f":"B13-D13","v":3100}]
[]
[3,null,"da 12500 a 34700",{"$f":"IF('busta paga'!C14>12500.01,IF('busta paga'!C14<34700.01,ROUNDUP(('busta paga'!C14-12500)/100,0)*11.5,),)","v":0}]
[null,null,"da 34701a 40000",{"$f":"IF('busta paga'!C14<40000.01,IF('busta paga'!C14>34700,ROUNDUP((34700-12500)/100,0)*11.5+ROUNDUP(('busta paga'!C14-34700)/100,0)*1.4,),)","v":0}]
[null,null,"oltre 40000",{"$f":"IF('busta paga'!C14>40000.01,ROUNDUP((34700-12500)/100,0)*11.5+ROUNDUP((40000-34700)/100,0)*1.4+ROUNDUP(('busta paga'!C14-40000)/100,0)*4.8,)","v":0}]
[null,4500,null,{"$f":"SUM(D15:D17)","v":0},{"$f":"B18-D18","v":4500}]
[]
[4,null,"da 12500 a 21300",{"$f":"IF('busta paga'!C14>12500.01,IF('busta paga'!C14<21300.01,ROUNDUP(('busta paga'!C14-12500)/100,0)*5,),)","v":0}]
[null,null,"da 21301 a 36100",{"$f":"IF('busta paga'!C14<36100.01,IF('busta paga'!C14>21300,ROUNDUP((21300-12500)/100,0)*5+ROUNDUP(('busta paga'!C14-21300)/100,0)*10.5,),)","v":0}]
[null,null,"da 36101 a 45000",{"$f":"IF('busta paga'!C14<45000.01,IF('busta paga'!C14>36100,ROUNDUP((21300-12500)/100,0)*5+ROUNDUP((36100-21300)/100,0)*10.5+ROUNDUP(('busta paga'!C14-45000)/100,0)*19.6,),)","v":0}]
[null,null,"oltre 45000",{"$f":"IF('busta paga'!C14>45000.01,ROUNDUP((21300-12500)/100,0)*5+ROUNDUP((36100-21300)/100,0)*10.5+ROUNDUP((45000-36100)/100,0)*19.6+ROUNDUP(('busta paga'!C14-45000)/100,0)*6.2,)","v":0}]
[null,6000,null,{"$f":"SUM(D20:D23)","v":0},{"$f":"B24-D24","v":6000}]
[]
[5,null,"da 12500 a 21300",{"$f":"IF('busta paga'!C14>12500.01,IF('busta paga'!C14<21300.01,ROUNDUP(('busta paga'!C14-12500)/100,0)*7.5,),)","v":0}]
[null,null,"da 21301 a 36100",{"$f":"IF('busta paga'!C14<36100.01,IF('busta paga'!C14>21300,ROUNDUP((21300-12500)/100,0)*7.5+ROUNDUP(('busta paga'!C14-21300)/100,0)*11.2,),)","v":0}]
[null,null,"da 36101 a 45000",{"$f":"IF('busta paga'!C14<45000.01,IF('busta paga'!C14>36100,ROUNDUP((21300-12500)/100,0)*7.5+ROUNDUP((36100-21300)/100,0)*11.2+ROUNDUP(('busta paga'!C14-45000)/100,0)*1.6,),)","v":0}]
[null,null,"oltre 45000",{"$f":"IF('busta paga'!C14>45000.01,ROUNDUP((21300-12500)/100,0)*7.5+ROUNDUP((36100-21300)/100,0)*11.2+ROUNDUP((45000-36100)/100,0)*1.6+ROUNDUP(('busta paga'!C14-45000)/100,0)*8.8,)","v":0}]
[null,7500,null,{"$f":"SUM(D26:D29)","v":0},{"$f":"B30-D30","v":7500}]
[]
[]
["oltre 5",null,"L'importo dell'assegno è quello previsto per 5 componenti"]
[null,null,"ma va maggiorato del 15% più € 650 per ogni componente oltre il quinto"]