{"text_format":"3","workbook":"xlsx","n_sheets":13,"sheets":["Végösszeg","Január","Február","Március","Április","Május","Június","Július","Augusztus","Szeptember","Október","November","December"],"not_rendered":{"defined_names":13},"read":"whole","date_system":"1900"}

{"sheet":"Végösszeg","index":0,"n_rows":18,"n_cols":17,"rows_kept":18,"merged":[[2,4,2,11],[4,1,4,4],[9,1,9,4],[14,1,14,4]]}
[null,"Alkalmazotti távollét nyomon követése",{"$nulls":14},"Összegzés – 2004"]
[{"$nulls":16},"[Cégnév]"]
[{"$nulls":16},"[Felettes neve]"]
[]
[null,"Kőszegi Emília"]
[null,2004,"Jan.","Febr.","Márc.","Ápr.","Máj.","Jún.","Júl.","Aug.","Szep","Okt.","Nov.","Dec.","Összes felhasznált","Összes kiosztott","Összes fennmaradó"]
[null,"Felhasznált szabadidő (óra)",{"$f":"SUM(Január!AH7)","v":28},{"$f":"SUM(Február!AF7)","v":0},{"$f":"SUM(Március!AH7)","v":0},{"$f":"SUM(Április!AG7)","v":0},{"$f":"SUM(Május!AH7)","v":0},{"$f":"SUM(Június!AG7)","v":0},{"$f":"SUM(Július!AH7)","v":0},{"$f":"SUM(Augusztus!AH7)","v":0},{"$f":"SUM(Szeptember!AG7)","v":0},{"$f":"SUM(Október!AH7)","v":0},{"$f":"SUM(November!AG7)","v":0},{"$f":"SUM(December!AH7)","v":0},{"$f":"SUM(C7:N7)","v":28},80,{"$f":"SUM(P7-O7)","v":52}]
[null,"Felhasznált egészségügyi szabadság (óra)",{"$f":"SUM(Január!AH8)","v":6},{"$f":"SUM(Február!AF8)","v":0},{"$f":"SUM(Március!AH8)","v":0},{"$f":"SUM(Április!AG8)","v":0},{"$f":"SUM(Május!AH8)","v":0},{"$f":"SUM(Június!AG8)","v":0},{"$f":"SUM(Július!AH8)","v":0},{"$f":"SUM(Augusztus!AH8)","v":0},{"$f":"SUM(Szeptember!AG8)","v":0},{"$f":"SUM(Október!AH8)","v":0},{"$f":"SUM(November!AG8)","v":0},{"$f":"SUM(December!AH8)","v":0},{"$f":"SUM(C8:N8)","v":6},80,{"$f":"SUM(P8-O8)","v":74}]
[]
[null,"Ambrus Zsolt"]
[null,2004,"Jan.","Febr.","Márc.","Ápr.","Máj.","Jún.","Júl.","Aug.","Szep.","Okt.","Nov.","Dec.","Összes felhasznált","Összes kiosztott","Összes fennmaradó"]
[null,"Felhasznált szabadidő (óra)",{"$f":"SUM(Január!AH12)","v":0},{"$f":"SUM(Február!AF12)","v":40},{"$f":"SUM(Március!AH12)","v":0},{"$f":"SUM(Április!AG12)","v":0},{"$f":"SUM(Május!AH12)","v":0},{"$f":"SUM(Június!AG12)","v":0},{"$f":"SUM(Július!AH12)","v":0},{"$f":"SUM(Augusztus!AH12)","v":0},{"$f":"SUM(Szeptember!AG12)","v":0},{"$f":"SUM(Október!AH12)","v":0},{"$f":"SUM(November!AG12)","v":0},{"$f":"SUM(December!AH12)","v":0},{"$f":"SUM(C12:N12)","v":40},80,{"$f":"SUM(P12-O12)","v":40}]
[null,"Felhasznált egészségügyi szabadság (óra)",{"$f":"SUM(Január!AH13)","v":0},{"$f":"SUM(Február!AF13)","v":0},{"$f":"SUM(Március!AH13)","v":0},{"$f":"SUM(Április!AG13)","v":0},{"$f":"SUM(Május!AH13)","v":0},{"$f":"SUM(Június!AG13)","v":0},{"$f":"SUM(Július!AH13)","v":0},{"$f":"SUM(Augusztus!AH13)","v":0},{"$f":"SUM(Szeptember!AG13)","v":0},{"$f":"SUM(Október!AH13)","v":0},{"$f":"SUM(November!AG13)","v":0},{"$f":"SUM(December!AH13)","v":0},{"$f":"SUM(C13:N13)","v":0},80,{"$f":"SUM(P13-O13)","v":80}]
[]
[null,"Belinszki Balázs"]
[null,2004,"Jan.","Febr.","Márc.","Ápr.","Máj.","Jún.","Júl.","Aug.","Szep.","Okt.","Nov.","Dec.","Összes felhasznált","Összes kiosztott","Összes fennmaradó"]
[null,"Felhasznált szabadidő (óra)",{"$f":"SUM(Január!AH17)","v":0},{"$f":"SUM(Február!AF17)","v":0},{"$f":"SUM(Március!AH17)","v":0},{"$f":"SUM(Április!AG17)","v":0},{"$f":"SUM(Május!AH17)","v":0},{"$f":"SUM(Június!AG17)","v":0},{"$f":"SUM(Július!AH17)","v":0},{"$f":"SUM(Augusztus!AH17)","v":0},{"$f":"SUM(Szeptember!AG17)","v":0},{"$f":"SUM(Október!AH17)","v":0},{"$f":"SUM(November!AG17)","v":0},{"$f":"SUM(December!AH17)","v":0},{"$f":"SUM(C17:N17)","v":0},80,{"$f":"SUM(P17-O17)","v":80}]
[null,"Felhasznált egészségügyi szabadság (óra)",{"$f":"SUM(Január!AH18)","v":0},{"$f":"SUM(Február!AF18)","v":0},{"$f":"SUM(Március!AH18)","v":0},{"$f":"SUM(Április!AG18)","v":0},{"$f":"SUM(Május!AH18)","v":0},{"$f":"SUM(Június!AG18)","v":0},{"$f":"SUM(Július!AH18)","v":0},{"$f":"SUM(Augusztus!AH18)","v":0},{"$f":"SUM(Szeptember!AG18)","v":0},{"$f":"SUM(Október!AH18)","v":0},{"$f":"SUM(November!AG18)","v":0},{"$f":"SUM(December!AH18)","v":0},{"$f":"SUM(C18:N18)","v":0},80,{"$f":"SUM(P18-O18)","v":80}]

{"sheet":"Január","index":1,"n_rows":18,"n_cols":34,"rows_kept":18,"merged":[[1,4,1,11],[2,4,2,11],[4,1,4,4],[9,1,9,4],[14,1,14,4]]}
[null,"Alkalmazotti távollét nyomon követése ",{"$nulls":31},"2004. január"]
[{"$nulls":33},"[Cégnév]"]
[{"$nulls":33},"[Felettes neve]"]
[]
[null,{"$f":"Végösszeg!B5","v":"Kőszegi Emília"}]
[null,"Január",1,2,3,4,5,6,7,8,9,10,11,12,13,14,15,16,17,18,19,20,21,22,23,24,25,26,27,28,29,30,31,"ÖSSZESEN"]
[null,"Felhasznált szabadidő (óra)",null,8,8,8,4,{"$nulls":26},{"$f":"SUM(C7:AG7)","v":28}]
[null,"Felhasznált egészségügyi szabadság (óra)",{"$nulls":9},3,{"$nulls":4},3,{"$nulls":16},{"$f":"SUM(C8:AG8)","v":6}]
[]
[null,{"$f":"Végösszeg!B10","v":"Ambrus Zsolt"}]
[null,"Január",1,2,3,4,5,6,7,8,9,10,11,12,13,14,15,16,17,18,19,20,21,22,23,24,25,26,27,28,29,30,31,"ÖSSZESEN"]
[null,"Felhasznált szabadidő (óra)",{"$nulls":31},{"$f":"SUM(C12:AG12)","v":0}]
[null,"Felhasznált egészségügyi szabadság (óra)",{"$nulls":31},{"$f":"SUM(C13:AG13)","v":0}]
[]
[null,{"$f":"Végösszeg!B15","v":"Belinszki Balázs"}]
[null,"Január",1,2,3,4,5,6,7,8,9,10,11,12,13,14,15,16,17,18,19,20,21,22,23,24,25,26,27,28,29,30,31,"ÖSSZESEN"]
[null,"Felhasznált szabadidő (óra)",{"$nulls":31},{"$f":"SUM(C17:AG17)","v":0}]
[null,"Felhasznált egészségügyi szabadság (óra)",{"$nulls":31},{"$f":"SUM(C18:AG18)","v":0}]

{"sheet":"Február","index":2,"n_rows":18,"n_cols":32,"rows_kept":18,"merged":[[4,1,4,4],[9,1,9,4],[14,1,14,4]]}
[null,"Alkalmazotti távollét nyomon követése",{"$nulls":29},"2004. február"]
[{"$nulls":31},"[Cégnév]"]
[{"$nulls":31},"[Felettes neve]"]
[]
[null,{"$f":"Január!B5","v":"Kőszegi Emília"}]
[null,"Február",1,2,3,4,5,6,7,8,9,10,11,12,13,14,15,16,17,18,19,20,21,22,23,24,25,26,27,28,29,"ÖSSZESEN"]
[null,"Felhasznált szabadidő (óra)",{"$nulls":29},{"$f":"SUM(C7:AE7)","v":0}]
[null,"Felhasznált egészségügyi szabadság (óra)",{"$nulls":29},{"$f":"SUM(C8:AE8)","v":0}]
[]
[null,{"$f":"Január!B10","v":"Ambrus Zsolt"}]
[null,"Február",1,2,3,4,5,6,7,8,9,10,11,12,13,14,15,16,17,18,19,20,21,22,23,24,25,26,27,28,29,"ÖSSZESEN"]
[null,"Felhasznált szabadidő (óra)",null,null,8,8,8,8,8,{"$nulls":22},{"$f":"SUM(C12:AE12)","v":40}]
[null,"Felhasznált egészségügyi szabadság (óra)",{"$nulls":29},{"$f":"SUM(C13:AE13)","v":0}]
[]
[null,{"$f":"Január!B15","v":"Belinszki Balázs"}]
[null,"Február",1,2,3,4,5,6,7,8,9,10,11,12,13,14,15,16,17,18,19,20,21,22,23,24,25,26,27,28,29,"ÖSSZESEN"]
[null,"Felhasznált szabadidő (óra)",{"$nulls":29},{"$f":"SUM(C17:AE17)","v":0}]
[null,"Felhasznált egészségügyi szabadság (óra)",{"$nulls":29},{"$f":"SUM(C18:AE18)","v":0}]

{"sheet":"Március","index":3,"n_rows":18,"n_cols":34,"rows_kept":18,"merged":[[1,1,1,3],[1,4,1,11],[2,1,2,3],[2,4,2,11],[4,1,4,4],[9,1,9,4],[14,1,14,4]]}
[null,"Alkalmazotti távollét nyomon követése ",{"$nulls":31},"2004. március"]
[{"$nulls":33},"[Cégnév]"]
[{"$nulls":33},"[Felettes neve]"]
[]
[null,{"$f":"Január!B5","v":"Kőszegi Emília"}]
[null,"Március",1,2,3,4,5,6,7,8,9,10,11,12,13,14,15,16,17,18,19,20,21,22,23,24,25,26,27,28,29,30,31,"ÖSSZESEN"]
[null,"Felhasznált szabadidő (óra)",{"$nulls":31},{"$f":"SUM(C7:AG7)","v":0}]
[null,"Felhasznált egészségügyi szabadság (óra)",{"$nulls":31},{"$f":"SUM(C8:AG8)","v":0}]
[]
[null,{"$f":"Január!B10","v":"Ambrus Zsolt"}]
[null,"Március",1,2,3,4,5,6,7,8,9,10,11,12,13,14,15,16,17,18,19,20,21,22,23,24,25,26,27,28,29,30,31,"ÖSSZESEN"]
[null,"Felhasznált szabadidő (óra)",{"$nulls":31},{"$f":"SUM(C12:AG12)","v":0}]
[null,"Felhasznált egészségügyi szabadság (óra)",{"$nulls":31},{"$f":"SUM(C13:AG13)","v":0}]
[]
[null,{"$f":"Január!B15","v":"Belinszki Balázs"}]
[null,"Március",1,2,3,4,5,6,7,8,9,10,11,12,13,14,15,16,17,18,19,20,21,22,23,24,25,26,27,28,29,30,31,"ÖSSZESEN"]
[null,"Felhasznált szabadidő (óra)",{"$nulls":31},{"$f":"SUM(C17:AG17)","v":0}]
[null,"Felhasznált egészségügyi szabadság (óra)",{"$nulls":31},{"$f":"SUM(C18:AG18)","v":0}]

{"sheet":"Április","index":4,"n_rows":18,"n_cols":33,"rows_kept":18,"merged":[[1,1,1,3],[1,4,1,11],[2,1,2,3],[2,4,2,11],[4,1,4,4],[9,1,9,4],[14,1,14,4]]}
[null,"Alkalmazotti távollét nyomon követése ",{"$nulls":30},"2004. április"]
[{"$nulls":32},"[Cégnév]"]
[{"$nulls":32},"[Felettes neve]"]
[]
[null,{"$f":"Január!B5","v":"Kőszegi Emília"}]
[null,"Április",1,2,3,4,5,6,7,8,9,10,11,12,13,14,15,16,17,18,19,20,21,22,23,24,25,26,27,28,29,30,"ÖSSZESEN"]
[null,"Felhasznált szabadidő (óra)",{"$nulls":30},{"$f":"SUM(C7:AF7)","v":0}]
[null,"Felhasznált egészségügyi szabadság (óra)",{"$nulls":30},{"$f":"SUM(C8:AF8)","v":0}]
[]
[null,{"$f":"Január!B10","v":"Ambrus Zsolt"}]
[null,"Április",1,2,3,4,5,6,7,8,9,10,11,12,13,14,15,16,17,18,19,20,21,22,23,24,25,26,27,28,29,30,"ÖSSZESEN"]
[null,"Felhasznált szabadidő (óra)",{"$nulls":30},{"$f":"SUM(C12:AF12)","v":0}]
[null,"Felhasznált egészségügyi szabadság (óra)",{"$nulls":30},{"$f":"SUM(C13:AF13)","v":0}]
[]
[null,{"$f":"Január!B15","v":"Belinszki Balázs"}]
[null,"Április",1,2,3,4,5,6,7,8,9,10,11,12,13,14,15,16,17,18,19,20,21,22,23,24,25,26,27,28,29,30,"ÖSSZESEN"]
[null,"Felhasznált szabadidő (óra)",{"$nulls":30},{"$f":"SUM(C17:AF17)","v":0}]
[null,"Felhasznált egészségügyi szabadság (óra)",{"$nulls":30},{"$f":"SUM(C18:AF18)","v":0}]

{"sheet":"Május","index":5,"n_rows":18,"n_cols":34,"rows_kept":18,"merged":[[1,1,1,3],[1,4,1,11],[2,1,2,3],[2,4,2,11],[4,1,4,4],[9,1,9,4],[14,1,14,4]]}
[null,"Alkalmazotti távollét nyomon követése ",{"$nulls":31},"2004. május"]
[{"$nulls":33},"[Cégnév]"]
[{"$nulls":33},"[Felettes neve]"]
[]
[null,{"$f":"Január!B5","v":"Kőszegi Emília"}]
[null,"Május",1,2,3,4,5,6,7,8,9,10,11,12,13,14,15,16,17,18,19,20,21,22,23,24,25,26,27,28,29,30,31,"ÖSSZESEN"]
[null,"Felhasznált szabadidő (óra)",{"$nulls":31},{"$f":"SUM(C7:AG7)","v":0}]
[null,"Felhasznált egészségügyi szabadság (óra)",{"$nulls":31},{"$f":"SUM(C8:AG8)","v":0}]
[]
[null,{"$f":"Január!B10","v":"Ambrus Zsolt"}]
[null,"Május",1,2,3,4,5,6,7,8,9,10,11,12,13,14,15,16,17,18,19,20,21,22,23,24,25,26,27,28,29,30,31,"ÖSSZESEN"]
[null,"Felhasznált szabadidő (óra)",{"$nulls":31},{"$f":"SUM(C12:AG12)","v":0}]
[null,"Felhasznált egészségügyi szabadság (óra)",{"$nulls":31},{"$f":"SUM(C13:AG13)","v":0}]
[]
[null,{"$f":"Január!B15","v":"Belinszki Balázs"}]
[null,"Május",1,2,3,4,5,6,7,8,9,10,11,12,13,14,15,16,17,18,19,20,21,22,23,24,25,26,27,28,29,30,31,"ÖSSZESEN"]
[null,"Felhasznált szabadidő (óra)",{"$nulls":31},{"$f":"SUM(C17:AG17)","v":0}]
[null,"Felhasznált egészségügyi szabadság (óra)",{"$nulls":31},{"$f":"SUM(C18:AG18)","v":0}]

{"sheet":"Június","index":6,"n_rows":18,"n_cols":33,"rows_kept":18,"merged":[[1,1,1,3],[1,4,1,11],[2,1,2,3],[2,4,2,11],[4,1,4,4],[9,1,9,4],[14,1,14,4]]}
[null,"Alkalmazotti távollét nyomon követése ",{"$nulls":30},"2004. június"]
[{"$nulls":32},"[Cégnév]"]
[{"$nulls":32},"[Felettes neve]"]
[]
[null,{"$f":"Január!B5","v":"Kőszegi Emília"}]
[null,"Június",1,2,3,4,5,6,7,8,9,10,11,12,13,14,15,16,17,18,19,20,21,22,23,24,25,26,27,28,29,30,"ÖSSZESEN"]
[null,"Felhasznált szabadidő (óra)",{"$nulls":30},{"$f":"SUM(C7:AF7)","v":0}]
[null,"Felhasznált egészségügyi szabadság (óra)",{"$nulls":30},{"$f":"SUM(C8:AF8)","v":0}]
[]
[null,{"$f":"Január!B10","v":"Ambrus Zsolt"}]
[null,"Június",1,2,3,4,5,6,7,8,9,10,11,12,13,14,15,16,17,18,19,20,21,22,23,24,25,26,27,28,29,30,"ÖSSZESEN"]
[null,"Felhasznált szabadidő (óra)",{"$nulls":30},{"$f":"SUM(C12:AF12)","v":0}]
[null,"Felhasznált egészségügyi szabadság (óra)",{"$nulls":30},{"$f":"SUM(C13:AF13)","v":0}]
[]
[null,{"$f":"Január!B15","v":"Belinszki Balázs"},{"$nulls":30},"Összesen –"]
[null,"Június",1,2,3,4,5,6,7,8,9,10,11,12,13,14,15,16,17,18,19,20,21,22,23,24,25,26,27,28,29,30,"ÖSSZESEN"]
[null,"Felhasznált szabadidő (óra)",{"$nulls":30},{"$f":"SUM(C17:AF17)","v":0}]
[null,"Felhasznált egészségügyi szabadság (óra)",{"$nulls":30},{"$f":"SUM(C18:AF18)","v":0}]

{"sheet":"Július","index":7,"n_rows":18,"n_cols":34,"rows_kept":18,"merged":[[1,1,1,3],[1,4,1,11],[2,1,2,3],[2,4,2,11],[4,1,4,4],[9,1,9,4],[14,1,14,4]]}
[null,"Alkalmazotti távollét nyomon követése ",{"$nulls":31},"2004. július"]
[{"$nulls":33},"[Cégnév]"]
[{"$nulls":33},"[Felettes neve]"]
[]
[null,{"$f":"Január!B5","v":"Kőszegi Emília"}]
[null,"Július",1,2,3,4,5,6,7,8,9,10,11,12,13,14,15,16,17,18,19,20,21,22,23,24,25,26,27,28,29,30,31,"ÖSSZESEN"]
[null,"Felhasznált szabadidő (óra)",{"$nulls":31},{"$f":"SUM(C7:AG7)","v":0}]
[null,"Felhasznált egészségügyi szabadság (óra)",{"$nulls":31},{"$f":"SUM(C8:AG8)","v":0}]
[]
[null,{"$f":"Január!B10","v":"Ambrus Zsolt"}]
[null,"Július",1,2,3,4,5,6,7,8,9,10,11,12,13,14,15,16,17,18,19,20,21,22,23,24,25,26,27,28,29,30,31,"ÖSSZESEN"]
[null,"Felhasznált szabadidő (óra)",{"$nulls":31},{"$f":"SUM(C12:AG12)","v":0}]
[null,"Felhasznált egészségügyi szabadság (óra)",{"$nulls":31},{"$f":"SUM(C13:AG13)","v":0}]
[]
[null,{"$f":"Január!B15","v":"Belinszki Balázs"}]
[null,"Július",1,2,3,4,5,6,7,8,9,10,11,12,13,14,15,16,17,18,19,20,21,22,23,24,25,26,27,28,29,30,31,"ÖSSZESEN"]
[null,"Felhasznált szabadidő (óra)",{"$nulls":31},{"$f":"SUM(C17:AG17)","v":0}]
[null,"Felhasznált egészségügyi szabadság (óra)",{"$nulls":31},{"$f":"SUM(C18:AG18)","v":0}]

{"sheet":"Augusztus","index":8,"n_rows":18,"n_cols":34,"rows_kept":18,"merged":[[1,1,1,3],[1,4,1,11],[2,1,2,3],[2,4,2,11],[4,1,4,4],[9,1,9,4],[14,1,14,4]]}
[null,"Alkalmazotti távollét nyomon követése ",{"$nulls":31},"2004. augusztus"]
[{"$nulls":33},"[Cégnév]"]
[{"$nulls":33},"[Felettes neve]"]
[]
[null,{"$f":"Január!B5","v":"Kőszegi Emília"}]
[null,"Augusztus",1,2,3,4,5,6,7,8,9,10,11,12,13,14,15,16,17,18,19,20,21,22,23,24,25,26,27,28,29,30,31,"ÖSSZESEN"]
[null,"Felhasznált szabadidő (óra)",{"$nulls":31},{"$f":"SUM(C7:AG7)","v":0}]
[null,"Felhasznált egészségügyi szabadság (óra)",{"$nulls":31},{"$f":"SUM(C8:AG8)","v":0}]
[]
[null,{"$f":"Január!B10","v":"Ambrus Zsolt"}]
[null,"Augusztus",1,2,3,4,5,6,7,8,9,10,11,12,13,14,15,16,17,18,19,20,21,22,23,24,25,26,27,28,29,30,31,"ÖSSZESEN"]
[null,"Felhasznált szabadidő (óra)",{"$nulls":31},{"$f":"SUM(C12:AG12)","v":0}]
[null,"Felhasznált egészségügyi szabadság (óra)",{"$nulls":31},{"$f":"SUM(C13:AG13)","v":0}]
[]
[null,{"$f":"Január!B15","v":"Belinszki Balázs"}]
[null,"Augusztus",1,2,3,4,5,6,7,8,9,10,11,12,13,14,15,16,17,18,19,20,21,22,23,24,25,26,27,28,29,30,31,"ÖSSZESEN"]
[null,"Felhasznált szabadidő (óra)",{"$nulls":31},{"$f":"SUM(C17:AG17)","v":0}]
[null,"Felhasznált egészségügyi szabadság (óra)",{"$nulls":31},{"$f":"SUM(C18:AG18)","v":0}]

{"sheet":"Szeptember","index":9,"n_rows":18,"n_cols":33,"rows_kept":18,"merged":[[1,1,1,3],[1,4,1,11],[2,1,2,3],[2,4,2,11],[4,1,4,4],[9,1,9,4],[14,1,14,4]]}
[null,"Alkalmazotti távollét nyomon követése ",{"$nulls":30},"2004. szeptember"]
[{"$nulls":32},"[Cégnév]"]
[{"$nulls":32},"[Felettes neve]"]
[]
[null,{"$f":"Január!B5","v":"Kőszegi Emília"}]
[null,"Szeptember",1,2,3,4,5,6,7,8,9,10,11,12,13,14,15,16,17,18,19,20,21,22,23,24,25,26,27,28,29,30,"ÖSSZESEN"]
[null,"Felhasznált szabadidő (óra)",{"$nulls":30},{"$f":"SUM(C7:AF7)","v":0}]
[null,"Felhasznált egészségügyi szabadság (óra)",{"$nulls":30},{"$f":"SUM(C8:AF8)","v":0}]
[]
[null,{"$f":"Január!B10","v":"Ambrus Zsolt"}]
[null,"Szeptember",1,2,3,4,5,6,7,8,9,10,11,12,13,14,15,16,17,18,19,20,21,22,23,24,25,26,27,28,29,30,"ÖSSZESEN"]
[null,"Felhasznált szabadidő (óra)",{"$nulls":30},{"$f":"SUM(C12:AF12)","v":0}]
[null,"Felhasznált egészségügyi szabadság (óra)",{"$nulls":30},{"$f":"SUM(C13:AF13)","v":0}]
[]
[null,{"$f":"Január!B15","v":"Belinszki Balázs"}]
[null,"Szeptember",1,2,3,4,5,6,7,8,9,10,11,12,13,14,15,16,17,18,19,20,21,22,23,24,25,26,27,28,29,30,"ÖSSZESEN"]
[null,"Felhasznált szabadidő (óra)",{"$nulls":30},{"$f":"SUM(C17:AF17)","v":0}]
[null,"Felhasznált egészségügyi szabadság (óra)",{"$nulls":30},{"$f":"SUM(C18:AF18)","v":0}]

{"sheet":"Október","index":10,"n_rows":18,"n_cols":34,"rows_kept":18,"merged":[[1,1,1,3],[1,4,1,11],[2,1,2,3],[2,4,2,11],[4,1,4,4],[9,1,9,4],[14,1,14,4]]}
[null,"Alkalmazotti távollét nyomon követése ",{"$nulls":31},"Október 2004."]
[{"$nulls":33},"[Cégnév]"]
[{"$nulls":33},"[Felettes neve]"]
[]
[null,{"$f":"Január!B5","v":"Kőszegi Emília"}]
[null,"Október",1,2,3,4,5,6,7,8,9,10,11,12,13,14,15,16,17,18,19,20,21,22,23,24,25,26,27,28,29,30,31,"ÖSSZESEN"]
[null,"Felhasznált szabadidő (óra)",{"$nulls":31},{"$f":"SUM(C7:AG7)","v":0}]
[null,"Felhasznált egészségügyi szabadság (óra)",{"$nulls":31},{"$f":"SUM(C8:AG8)","v":0}]
[]
[null,{"$f":"Január!B10","v":"Ambrus Zsolt"}]
[null,"Október",1,2,3,4,5,6,7,8,9,10,11,12,13,14,15,16,17,18,19,20,21,22,23,24,25,26,27,28,29,30,31,"ÖSSZESEN"]
[null,"Felhasznált szabadidő (óra)",{"$nulls":31},{"$f":"SUM(C12:AG12)","v":0}]
[null,"Felhasznált egészségügyi szabadság (óra)",{"$nulls":31},{"$f":"SUM(C13:AG13)","v":0}]
[]
[null,{"$f":"Január!B15","v":"Belinszki Balázs"}]
[null,"Október",1,2,3,4,5,6,7,8,9,10,11,12,13,14,15,16,17,18,19,20,21,22,23,24,25,26,27,28,29,30,31,"ÖSSZESEN"]
[null,"Felhasznált szabadidő (óra)",{"$nulls":31},{"$f":"SUM(C17:AG17)","v":0}]
[null,"Felhasznált egészségügyi szabadság (óra)",{"$nulls":31},{"$f":"SUM(C18:AG18)","v":0}]

{"sheet":"November","index":11,"n_rows":18,"n_cols":33,"rows_kept":18,"merged":[[1,1,1,3],[1,4,1,11],[2,1,2,3],[2,4,2,11],[4,1,4,4],[9,1,9,4],[14,1,14,4]]}
[null,"Alkalmazotti távollét nyomon követése ",{"$nulls":30},"2004. november"]
[{"$nulls":32},"[Cégnév]"]
[{"$nulls":32},"[Felettes neve]"]
[]
[null,{"$f":"Január!B5","v":"Kőszegi Emília"}]
[null,"November",1,2,3,4,5,6,7,8,9,10,11,12,13,14,15,16,17,18,19,20,21,22,23,24,25,26,27,28,29,30,"ÖSSZESEN"]
[null,"Felhasznált szabadidő (óra)",{"$nulls":30},{"$f":"SUM(C7:AF7)","v":0}]
[null,"Felhasznált egészségügyi szabadság (óra)",{"$nulls":30},{"$f":"SUM(C8:AF8)","v":0}]
[]
[null,{"$f":"Január!B10","v":"Ambrus Zsolt"}]
[null,"November",1,2,3,4,5,6,7,8,9,10,11,12,13,14,15,16,17,18,19,20,21,22,23,24,25,26,27,28,29,30,"ÖSSZESEN"]
[null,"Felhasznált szabadidő (óra)",{"$nulls":30},{"$f":"SUM(C12:AF12)","v":0}]
[null,"Felhasznált egészségügyi szabadság (óra)",{"$nulls":30},{"$f":"SUM(C13:AF13)","v":0}]
[]
[null,{"$f":"Január!B15","v":"Belinszki Balázs"}]
[null,"November",1,2,3,4,5,6,7,8,9,10,11,12,13,14,15,16,17,18,19,20,21,22,23,24,25,26,27,28,29,30,"ÖSSZESEN"]
[null,"Felhasznált szabadidő (óra)",{"$nulls":30},{"$f":"SUM(C17:AF17)","v":0}]
[null,"Felhasznált egészségügyi szabadság (óra)",{"$nulls":30},{"$f":"SUM(C18:AF18)","v":0}]

{"sheet":"December","index":12,"n_rows":18,"n_cols":34,"rows_kept":18,"merged":[[1,1,1,3],[1,4,1,11],[2,1,2,3],[2,4,2,11],[4,1,4,4],[9,1,9,4],[14,1,14,4]]}
[null,"Alkalmazotti távollét nyomon követése ",{"$nulls":31},"2004. december"]
[{"$nulls":33},"[Cégnév]"]
[{"$nulls":33},"[Felettes neve]"]
[]
[null,{"$f":"Január!B5","v":"Kőszegi Emília"}]
[null,"December",1,2,3,4,5,6,7,8,9,10,11,12,13,14,15,16,17,18,19,20,21,22,23,24,25,26,27,28,29,30,31,"ÖSSZESEN"]
[null,"Felhasznált szabadidő (óra)",{"$nulls":31},{"$f":"SUM(C7:AG7)","v":0}]
[null,"Felhasznált egészségügyi szabadság (óra)",{"$nulls":31},{"$f":"SUM(C8:AG8)","v":0}]
[]
[null,{"$f":"Január!B10","v":"Ambrus Zsolt"}]
[null,"December",1,2,3,4,5,6,7,8,9,10,11,12,13,14,15,16,17,18,19,20,21,22,23,24,25,26,27,28,29,30,31,"ÖSSZESEN"]
[null,"Felhasznált szabadidő (óra)",{"$nulls":31},{"$f":"SUM(C12:AG12)","v":0}]
[null,"Felhasznált egészségügyi szabadság (óra)",{"$nulls":31},{"$f":"SUM(C13:AG13)","v":0}]
[]
[null,{"$f":"Január!B15","v":"Belinszki Balázs"}]
[null,"December",1,2,3,4,5,6,7,8,9,10,11,12,13,14,15,16,17,18,19,20,21,22,23,24,25,26,27,28,29,30,31,"ÖSSZESEN"]
[null,"Felhasznált szabadidő (óra)",{"$nulls":31},{"$f":"SUM(C17:AG17)","v":0}]
[null,"Felhasznált egészségügyi szabadság (óra)",{"$nulls":31},{"$f":"SUM(C18:AG18)","v":0}]