{"text_format":"3","workbook":"xlsx","n_sheets":4,"sheets":["स्कोर ट्रैकर","आपका प्रदर्शन","सेटिंग्स","परिकलन"],"not_rendered":{"defined_names":3,"comments":1},"read":"whole","date_system":"1900"}

{"sheet":"स्कोर ट्रैकर","index":0,"n_rows":14,"n_cols":6,"rows_kept":14}
[null,"अपने स्कोर यहाँ दर्ज करें"]
[]
[null,null,"कक्षा","प्रकार","वर्णन","स्कोर"]
[null,null,"आधुनिक फ़्रेंच","गृहकार्य","WW II इतिहास",{"v":0.8,"d":"80%"}]
[null,null,"Java में उन्नत प्रोग्रामिंग","मध्यावधि",null,{"v":0.75,"d":"75%"}]
[null,null,"स्पैनिश","गृहकार्य",null,{"v":0.5,"d":"50%"}]
[null,null,"सैद्धांतिक भौतिकी","गृहकार्य",null,{"v":0.95,"d":"95%"}]
[null,null,"आधुनिक फ़्रेंच","गृहकार्य","WW I इतिहास",{"v":0.9,"d":"90%"}]
[null,null,"आधुनिक फ़्रेंच","गृहकार्य","पृष्ठ 30 - 41",{"v":0.8,"d":"80%"}]
[null,null,"संरचना","निबंध","प्रबोधन पत्र",{"v":0.95,"d":"95%"}]
[null,null,"गणित 1","गृहकार्य","पृष्ठ 21 और 26",{"v":0.8,"d":"80%"}]
[null,null,"गणित 2","गृहकार्य","पृष्ठ 15 और 18",{"v":0.85,"d":"85%"}]
[null,null,"गणित 1","गृहकार्य","पृष्ठ 34 - 36",{"v":0.8,"d":"80%"}]
[null,null,"गणित 2","क्विज़",null,{"v":0.95,"d":"95%"}]

{"sheet":"आपका प्रदर्शन","index":1,"n_rows":31,"n_cols":8,"rows_kept":31}
[null,"आपका प्रदर्शन"]
[]
[null,null,"कुल"]
[null,null,{"$f":"\"घंटे: \"&SUM(tblClasses[क्रेडिट घंटे])","v":"घंटे: 24"},{"$f":"AVERAGE(D7:D31)","v":{"v":0.8104761904761906,"d":"81%"}},{"$f":"AVERAGE(E7:E31)","v":{"v":2.7142857142857144,"d":"2.71"}},{"$f":"SUM(F7:F31)","v":{"v":2.625,"d":"2.63"}},{"$f":"IFERROR(HLOOKUP(D4,lstGPAMapping,2),\"\")","v":"B-"}]
[]
[null,null,"कक्षाएँ","%","GPA","wGPA","वर्ण","समग्री प्रदर्शन"]
[null,null,{"$f":"परिकलन!C6","v":"आधुनिक फ़्रेंच"},{"$f":"परिकलन!AL6","v":{"v":0.8333333333333334,"d":"83%"}},{"$f":"परिकलन!AM6","v":{"v":3,"d":"3.00"}},{"$f":"IFERROR(E7*सेटिंग्स!D9/SUM(tblClasses[क्रेडिट घंटे]),\"\")","v":{"v":0.375,"d":"0.38"}},{"$f":"परिकलन!AN6","v":"B"}]
[null,null,{"$f":"परिकलन!C7","v":"सैद्धांतिक भौतिकी"},{"$f":"परिकलन!AL7","v":{"v":0.95,"d":"95%"}},{"$f":"परिकलन!AM7","v":{"v":4,"d":"4.00"}},{"$f":"IFERROR(E8*सेटिंग्स!D10/SUM(tblClasses[क्रेडिट घंटे]),\"\")","v":{"v":0.5,"d":"0.50"}},{"$f":"परिकलन!AN7","v":"A"}]
[null,null,{"$f":"परिकलन!C8","v":"गणित 1"},{"$f":"परिकलन!AL8","v":{"v":0.8000000000000002,"d":"80%"}},{"$f":"परिकलन!AM8","v":2.67},{"$f":"IFERROR(E9*सेटिंग्स!D11/SUM(tblClasses[क्रेडिट घंटे]),\"\")","v":{"v":0.445,"d":"0.45"}},{"$f":"परिकलन!AN8","v":"B-"}]
[null,null,{"$f":"परिकलन!C9","v":"गणित 2"},{"$f":"परिकलन!AL9","v":{"v":0.89,"d":"89%"}},{"$f":"परिकलन!AM9","v":3.33},{"$f":"IFERROR(E10*सेटिंग्स!D12/SUM(tblClasses[क्रेडिट घंटे]),\"\")","v":{"v":0.555,"d":"0.56"}},{"$f":"परिकलन!AN9","v":"B+"}]
[null,null,{"$f":"परिकलन!C10","v":"Java में उन्नत प्रोग्रामिंग"},{"$f":"परिकलन!AL10","v":{"v":0.7500000000000001,"d":"75%"}},{"$f":"परिकलन!AM10","v":{"v":2,"d":"2.00"}},{"$f":"IFERROR(E11*सेटिंग्स!D13/SUM(tblClasses[क्रेडिट घंटे]),\"\")","v":{"v":0.4166666666666667,"d":"0.42"}},{"$f":"परिकलन!AN10","v":"C"}]
[null,null,{"$f":"परिकलन!C11","v":"स्पैनिश"},{"$f":"परिकलन!AL11","v":{"v":0.5,"d":"50%"}},{"$f":"परिकलन!AM11","v":{"v":0,"d":"0.00"}},{"$f":"IFERROR(E12*सेटिंग्स!D14/SUM(tblClasses[क्रेडिट घंटे]),\"\")","v":{"v":0,"d":"0.00"}},{"$f":"परिकलन!AN11","v":"F"}]
[null,null,{"$f":"परिकलन!C12","v":"संरचना"},{"$f":"परिकलन!AL12","v":{"v":0.95,"d":"95%"}},{"$f":"परिकलन!AM12","v":{"v":4,"d":"4.00"}},{"$f":"IFERROR(E13*सेटिंग्स!D15/SUM(tblClasses[क्रेडिट घंटे]),\"\")","v":{"v":0.3333333333333333,"d":"0.33"}},{"$f":"परिकलन!AN12","v":"A"}]
[null,null,{"$f":"परिकलन!C13","v":""},{"$f":"परिकलन!AL13","v":""},{"$f":"परिकलन!AM13","v":""},{"$f":"IFERROR(E14*सेटिंग्स!D16/SUM(tblClasses[क्रेडिट घंटे]),\"\")","v":""},{"$f":"परिकलन!AN13","v":""}]
[null,null,{"$f":"परिकलन!C14","v":""},{"$f":"परिकलन!AL14","v":""},{"$f":"परिकलन!AM14","v":""},{"$f":"IFERROR(E15*सेटिंग्स!D17/SUM(tblClasses[क्रेडिट घंटे]),\"\")","v":""},{"$f":"परिकलन!AN14","v":""}]
[null,null,{"$f":"परिकलन!C15","v":""},{"$f":"परिकलन!AL15","v":""},{"$f":"परिकलन!AM15","v":""},{"$f":"IFERROR(E16*सेटिंग्स!D18/SUM(tblClasses[क्रेडिट घंटे]),\"\")","v":""},{"$f":"परिकलन!AN15","v":""}]
[null,null,{"$f":"परिकलन!C16","v":""},{"$f":"परिकलन!AL16","v":""},{"$f":"परिकलन!AM16","v":""},{"$f":"IFERROR(E17*सेटिंग्स!D19/SUM(tblClasses[क्रेडिट घंटे]),\"\")","v":""},{"$f":"परिकलन!AN16","v":""}]
[null,null,{"$f":"परिकलन!C17","v":""},{"$f":"परिकलन!AL17","v":""},{"$f":"परिकलन!AM17","v":""},{"$f":"IFERROR(E18*सेटिंग्स!D20/SUM(tblClasses[क्रेडिट घंटे]),\"\")","v":""},{"$f":"परिकलन!AN17","v":""}]
[null,null,{"$f":"परिकलन!C18","v":""},{"$f":"परिकलन!AL18","v":""},{"$f":"परिकलन!AM18","v":""},{"$f":"IFERROR(E19*सेटिंग्स!D21/SUM(tblClasses[क्रेडिट घंटे]),\"\")","v":""},{"$f":"परिकलन!AN18","v":""}]
[null,null,{"$f":"परिकलन!C19","v":""},{"$f":"परिकलन!AL19","v":""},{"$f":"परिकलन!AM19","v":""},{"$f":"IFERROR(E20*सेटिंग्स!D22/SUM(tblClasses[क्रेडिट घंटे]),\"\")","v":""},{"$f":"परिकलन!AN19","v":""}]
[null,null,{"$f":"परिकलन!C20","v":""},{"$f":"परिकलन!AL20","v":""},{"$f":"परिकलन!AM20","v":""},{"$f":"IFERROR(E21*सेटिंग्स!D23/SUM(tblClasses[क्रेडिट घंटे]),\"\")","v":""},{"$f":"परिकलन!AN20","v":""}]
[null,null,{"$f":"परिकलन!C21","v":""},{"$f":"परिकलन!AL21","v":""},{"$f":"परिकलन!AM21","v":""},{"$f":"IFERROR(E22*सेटिंग्स!D24/SUM(tblClasses[क्रेडिट घंटे]),\"\")","v":""},{"$f":"परिकलन!AN21","v":""}]
[null,null,{"$f":"परिकलन!C22","v":""},{"$f":"परिकलन!AL22","v":""},{"$f":"परिकलन!AM22","v":""},{"$f":"IFERROR(E23*सेटिंग्स!D25/SUM(tblClasses[क्रेडिट घंटे]),\"\")","v":""},{"$f":"परिकलन!AN22","v":""}]
[null,null,{"$f":"परिकलन!C23","v":""},{"$f":"परिकलन!AL23","v":""},{"$f":"परिकलन!AM23","v":""},{"$f":"IFERROR(E24*सेटिंग्स!D26/SUM(tblClasses[क्रेडिट घंटे]),\"\")","v":""},{"$f":"परिकलन!AN23","v":""}]
[null,null,{"$f":"परिकलन!C24","v":""},{"$f":"परिकलन!AL24","v":""},{"$f":"परिकलन!AM24","v":""},{"$f":"IFERROR(E25*सेटिंग्स!D27/SUM(tblClasses[क्रेडिट घंटे]),\"\")","v":""},{"$f":"परिकलन!AN24","v":""}]
[null,null,{"$f":"परिकलन!C25","v":""},{"$f":"परिकलन!AL25","v":""},{"$f":"परिकलन!AM25","v":""},{"$f":"IFERROR(E26*सेटिंग्स!D28/SUM(tblClasses[क्रेडिट घंटे]),\"\")","v":""},{"$f":"परिकलन!AN25","v":""}]
[null,null,{"$f":"परिकलन!C26","v":""},{"$f":"परिकलन!AL26","v":""},{"$f":"परिकलन!AM26","v":""},{"$f":"IFERROR(E27*सेटिंग्स!D29/SUM(tblClasses[क्रेडिट घंटे]),\"\")","v":""},{"$f":"परिकलन!AN26","v":""}]
[null,null,{"$f":"परिकलन!C27","v":""},{"$f":"परिकलन!AL27","v":""},{"$f":"परिकलन!AM27","v":""},{"$f":"IFERROR(E28*सेटिंग्स!D30/SUM(tblClasses[क्रेडिट घंटे]),\"\")","v":""},{"$f":"परिकलन!AN27","v":""}]
[null,null,{"$f":"परिकलन!C28","v":""},{"$f":"परिकलन!AL28","v":""},{"$f":"परिकलन!AM28","v":""},{"$f":"IFERROR(E29*सेटिंग्स!D31/SUM(tblClasses[क्रेडिट घंटे]),\"\")","v":""},{"$f":"परिकलन!AN28","v":""}]
[null,null,{"$f":"परिकलन!C29","v":""},{"$f":"परिकलन!AL29","v":""},{"$f":"परिकलन!AM29","v":""},{"$f":"IFERROR(E30*सेटिंग्स!D32/SUM(tblClasses[क्रेडिट घंटे]),\"\")","v":""},{"$f":"परिकलन!AN29","v":""}]
[null,null,{"$f":"परिकलन!C30","v":""},{"$f":"परिकलन!AL30","v":""},{"$f":"परिकलन!AM30","v":""},{"$f":"IFERROR(E31*सेटिंग्स!D33/SUM(tblClasses[क्रेडिट घंटे]),\"\")","v":""},{"$f":"परिकलन!AN30","v":""}]

{"sheet":"सेटिंग्स","index":2,"n_rows":15,"n_cols":16,"rows_kept":15,"merged":[[5,2,5,15]]}
[null,"सेटिंग्स"]
[null,null,"स्कोर और GPA मैपिंग"]
[null,null,"प्रतिशत",{"v":0,"d":"0%"},{"v":0.6,"d":"60%"},{"v":0.63,"d":"63%"},{"v":0.67,"d":"67%"},{"v":0.7,"d":"70%"},{"v":0.73,"d":"73%"},{"v":0.77,"d":"77%"},{"v":0.8,"d":"80%"},{"v":0.83,"d":"83%"},{"v":0.87,"d":"87%"},{"v":0.9,"d":"90%"},{"v":0.93,"d":"93%"},{"v":0.97,"d":"97%"}]
[null,null,"लेटर ग्रेड","F","D-","D","D+","C-","C","C+","B-","B","B+","A-","A","A+"]
[null,null,"GPA",0,0.67,1,1.33,1.67,2,2.33,2.67,3,3.33,3.67,4,4]
[]
[null,null,"25 कक्षाओं तक के लिए भारित स्कोर"]
[null,null,"आपके द्वारा ली जाने वाली कक्षाएँ","क्रेडिट घंटे","गृहकार्य","निबंध","क्विज़","प्रोजेक्ट","मध्यावधि","अंतिम परीक्षा","अन्य","% कुल"]
[null,null,"आधुनिक फ़्रेंच",{"v":3,"d":"3.0"},{"v":0.1,"d":"10%"},{"v":0.15,"d":"15%"},{"v":0.15,"d":"15%"},{"v":0.1,"d":"10%"},{"v":0.2,"d":"20%"},{"v":0.3,"d":"30%"},null,{"$f":"SUM(tblClasses[[#This Row],[गृहकार्य]:[अन्य]])","v":{"v":1,"d":"100%"}}]
[null,null,"सैद्धांतिक भौतिकी",{"v":3,"d":"3.0"},{"v":0.15,"d":"15%"},{"v":0.15,"d":"15%"},{"v":0.1,"d":"10%"},{"v":0.1,"d":"10%"},{"v":0.15,"d":"15%"},{"v":0.3,"d":"30%"},{"v":0.05,"d":"5%"},{"$f":"SUM(tblClasses[[#This Row],[गृहकार्य]:[अन्य]])","v":{"v":1,"d":"100%"}}]
[null,null,"गणित 1",{"v":4,"d":"4.0"},{"v":0.1,"d":"10%"},{"v":0.15,"d":"15%"},{"v":0.15,"d":"15%"},{"v":0.1,"d":"10%"},{"v":0.2,"d":"20%"},{"v":0.3,"d":"30%"},null,{"$f":"SUM(tblClasses[[#This Row],[गृहकार्य]:[अन्य]])","v":{"v":1,"d":"100%"}}]
[null,null,"गणित 2",{"v":4,"d":"4.0"},{"v":0.15,"d":"15%"},{"v":0.15,"d":"15%"},{"v":0.1,"d":"10%"},{"v":0.1,"d":"10%"},{"v":0.15,"d":"15%"},{"v":0.3,"d":"30%"},{"v":0.05,"d":"5%"},{"$f":"SUM(tblClasses[[#This Row],[गृहकार्य]:[अन्य]])","v":{"v":1,"d":"100%"}}]
[null,null,"Java में उन्नत प्रोग्रामिंग",{"v":5,"d":"5.0"},{"v":0.15,"d":"15%"},{"v":0.15,"d":"15%"},{"v":0.1,"d":"10%"},{"v":0.1,"d":"10%"},{"v":0.2,"d":"20%"},{"v":0.3,"d":"30%"},null,{"$f":"SUM(tblClasses[[#This Row],[गृहकार्य]:[अन्य]])","v":{"v":1,"d":"100%"}}]
[null,null,"स्पैनिश",{"v":3,"d":"3.0"},{"v":0.1,"d":"10%"},{"v":0.15,"d":"15%"},{"v":0.17,"d":"17%"},{"v":0.13,"d":"13%"},{"v":0.2,"d":"20%"},{"v":0.2,"d":"20%"},{"v":0.05,"d":"5%"},{"$f":"SUM(tblClasses[[#This Row],[गृहकार्य]:[अन्य]])","v":{"v":1,"d":"100%"}}]
[null,null,"संरचना",{"v":2,"d":"2.0"},{"v":0.15,"d":"15%"},{"v":0.15,"d":"15%"},{"v":0.12,"d":"12%"},{"v":0.15,"d":"15%"},{"v":0.15,"d":"15%"},{"v":0.25,"d":"25%"},{"v":0.03,"d":"3%"},{"$f":"SUM(tblClasses[[#This Row],[गृहकार्य]:[अन्य]])","v":{"v":1,"d":"100%"}}]

{"sheet":"परिकलन","index":3,"n_rows":657,"n_cols":40,"rows_kept":657,"hidden":true}
[null,"परिकलन"]
[null,null,"यह कार्यपत्रक आपके ग्रेड्स और GPA का परिकलन प्रदान करता है और यह छुपा रहना चाहिए. इस पत्रक में किसी भी परिवर्तन से त्रुटियाँ आ सकती हैं."]
[]
[null,null,"वर्तमान कक्षा सूची","स्कोर (1 में से)",{"$nulls":24},"ग्रेड परिकलन"]
[null,null,"कक्षा",1,2,3,4,5,6,7,8,9,10,11,12,13,14,15,16,17,18,19,20,21,22,23,24,25,{"$f":"tblClasses[[#Headers],[गृहकार्य]]","v":"गृहकार्य"},{"$f":"tblClasses[[#Headers],[निबंध]]","v":"निबंध"},{"$f":"tblClasses[[#Headers],[क्विज़]]","v":"क्विज़"},{"$f":"tblClasses[[#Headers],[प्रोजेक्ट]]","v":"प्रोजेक्ट"},{"$f":"tblClasses[[#Headers],[मध्यावधि]]","v":"मध्यावधि"},{"$f":"tblClasses[[#Headers],[अंतिम परीक्षा]]","v":"अंतिम परीक्षा"},{"$f":"tblClasses[[#Headers],[अन्य]]","v":"अन्य"},"कुल","कुल संभव पॉइंट्स","कुल %","ग्रेड पॉइंट","लेटर ग्रेड"]
[null,null,{"$f":"IF(सेटिंग्स!C9=\"\",\"\",सेटिंग्स!C9)","v":"आधुनिक फ़्रेंच"},{"$f":"IFERROR(INDEX(tblClassScores[],MATCH($C6:$C30&D$5:AB$5,परिकलन!$C$33:$C$657,0),4),\"\")","v":{"v":0.8,"d":"80%"}},{"v":0.9,"d":"90%"},{"v":0.8,"d":"80%"},"","","","","","","","","","","","","","","","","","","","","","",{"$f":"IFERROR(AVERAGEIFS(tblClassScores[स्कोर],tblClassScores[कक्षा],परिकलन!$C6,tblClassScores[प्रकार],परिकलन!AC$5)*सेटिंग्स!E9,\"\")","v":0.08333333333333334},{"$f":"IFERROR(AVERAGEIFS(tblClassScores[स्कोर],tblClassScores[कक्षा],परिकलन!$C6,tblClassScores[प्रकार],परिकलन!AD$5)*सेटिंग्स!F9,\"\")","v":""},{"$f":"IFERROR(AVERAGEIFS(tblClassScores[स्कोर],tblClassScores[कक्षा],परिकलन!$C6,tblClassScores[प्रकार],परिकलन!AE$5)*सेटिंग्स!G9,\"\")","v":""},{"$f":"IFERROR(AVERAGEIFS(tblClassScores[स्कोर],tblClassScores[कक्षा],परिकलन!$C6,tblClassScores[प्रकार],परिकलन!AF$5)*सेटिंग्स!H9,\"\")","v":""},{"$f":"IFERROR(AVERAGEIFS(tblClassScores[स्कोर],tblClassScores[कक्षा],परिकलन!$C6,tblClassScores[प्रकार],परिकलन!AG$5)*सेटिंग्स!I9,\"\")","v":""},{"$f":"IFERROR(AVERAGEIFS(tblClassScores[स्कोर],tblClassScores[कक्षा],परिकलन!$C6,tblClassScores[प्रकार],परिकलन!AH$5)*सेटिंग्स!J9,\"\")","v":""},{"$f":"IFERROR(AVERAGEIFS(tblClassScores[स्कोर],tblClassScores[कक्षा],परिकलन!$C6,tblClassScores[प्रकार],परिकलन!AI$5)*सेटिंग्स!K9,\"\")","v":""},{"$f":"SUM(AC6:AI6)","v":0.08333333333333334},{"$f":"SUMIFS(सेटिंग्स!E9:K9,परिकलन!AC6:AI6,\">0\")","v":0.1},{"$f":"IFERROR(AJ6/AK6,\"\")","v":{"v":0.8333333333333334,"d":"83%"}},{"$f":"IFERROR(HLOOKUP(AL6,lstGPAMapping,3),\"\")","v":3},{"$f":"IFERROR(HLOOKUP(AL6,lstGPAMapping,2),\"\")","v":"B"}]
[null,null,{"$f":"IF(सेटिंग्स!C10=\"\",\"\",सेटिंग्स!C10)","v":"सैद्धांतिक भौतिकी"},{"v":0.95,"d":"95%"},"","","","","","","","","","","","","","","","","","","","","","","","",{"$f":"IFERROR(AVERAGEIFS(tblClassScores[स्कोर],tblClassScores[कक्षा],परिकलन!$C7,tblClassScores[प्रकार],परिकलन!AC$5)*सेटिंग्स!E10,\"\")","v":0.1425},{"$f":"IFERROR(AVERAGEIFS(tblClassScores[स्कोर],tblClassScores[कक्षा],परिकलन!$C7,tblClassScores[प्रकार],परिकलन!AD$5)*सेटिंग्स!F10,\"\")","v":""},{"$f":"IFERROR(AVERAGEIFS(tblClassScores[स्कोर],tblClassScores[कक्षा],परिकलन!$C7,tblClassScores[प्रकार],परिकलन!AE$5)*सेटिंग्स!G10,\"\")","v":""},{"$f":"IFERROR(AVERAGEIFS(tblClassScores[स्कोर],tblClassScores[कक्षा],परिकलन!$C7,tblClassScores[प्रकार],परिकलन!AF$5)*सेटिंग्स!H10,\"\")","v":""},{"$f":"IFERROR(AVERAGEIFS(tblClassScores[स्कोर],tblClassScores[कक्षा],परिकलन!$C7,tblClassScores[प्रकार],परिकलन!AG$5)*सेटिंग्स!I10,\"\")","v":""},{"$f":"IFERROR(AVERAGEIFS(tblClassScores[स्कोर],tblClassScores[कक्षा],परिकलन!$C7,tblClassScores[प्रकार],परिकलन!AH$5)*सेटिंग्स!J10,\"\")","v":""},{"$f":"IFERROR(AVERAGEIFS(tblClassScores[स्कोर],tblClassScores[कक्षा],परिकलन!$C7,tblClassScores[प्रकार],परिकलन!AI$5)*सेटिंग्स!K10,\"\")","v":""},{"$f":"SUM(AC7:AI7)","v":0.1425},{"$f":"SUMIFS(सेटिंग्स!E10:K10,परिकलन!AC7:AI7,\">0\")","v":0.15},{"$f":"IFERROR(AJ7/AK7,\"\")","v":{"v":0.95,"d":"95%"}},4,"A"]
[null,null,{"$f":"IF(सेटिंग्स!C11=\"\",\"\",सेटिंग्स!C11)","v":"गणित 1"},{"v":0.8,"d":"80%"},{"v":0.8,"d":"80%"},"","","","","","","","","","","","","","","","","","","","","","","",{"$f":"IFERROR(AVERAGEIFS(tblClassScores[स्कोर],tblClassScores[कक्षा],परिकलन!$C8,tblClassScores[प्रकार],परिकलन!AC$5)*सेटिंग्स!E11,\"\")","v":0.08000000000000002},{"$f":"IFERROR(AVERAGEIFS(tblClassScores[स्कोर],tblClassScores[कक्षा],परिकलन!$C8,tblClassScores[प्रकार],परिकलन!AD$5)*सेटिंग्स!F11,\"\")","v":""},{"$f":"IFERROR(AVERAGEIFS(tblClassScores[स्कोर],tblClassScores[कक्षा],परिकलन!$C8,tblClassScores[प्रकार],परिकलन!AE$5)*सेटिंग्स!G11,\"\")","v":""},{"$f":"IFERROR(AVERAGEIFS(tblClassScores[स्कोर],tblClassScores[कक्षा],परिकलन!$C8,tblClassScores[प्रकार],परिकलन!AF$5)*सेटिंग्स!H11,\"\")","v":""},{"$f":"IFERROR(AVERAGEIFS(tblClassScores[स्कोर],tblClassScores[कक्षा],परिकलन!$C8,tblClassScores[प्रकार],परिकलन!AG$5)*सेटिंग्स!I11,\"\")","v":""},{"$f":"IFERROR(AVERAGEIFS(tblClassScores[स्कोर],tblClassScores[कक्षा],परिकलन!$C8,tblClassScores[प्रकार],परिकलन!AH$5)*सेटिंग्स!J11,\"\")","v":""},{"$f":"IFERROR(AVERAGEIFS(tblClassScores[स्कोर],tblClassScores[कक्षा],परिकलन!$C8,tblClassScores[प्रकार],परिकलन!AI$5)*सेटिंग्स!K11,\"\")","v":""},0.08000000000000002,{"$f":"SUMIFS(सेटिंग्स!E11:K11,परिकलन!AC8:AI8,\">0\")","v":0.1},{"v":0.8000000000000002,"d":"80%"},2.67,"B-"]
[null,null,{"$f":"IF(सेटिंग्स!C12=\"\",\"\",सेटिंग्स!C12)","v":"गणित 2"},{"v":0.85,"d":"85%"},{"v":0.95,"d":"95%"},"","","","","","","","","","","","","","","","","","","","","","","",{"$f":"IFERROR(AVERAGEIFS(tblClassScores[स्कोर],tblClassScores[कक्षा],परिकलन!$C9,tblClassScores[प्रकार],परिकलन!AC$5)*सेटिंग्स!E12,\"\")","v":0.1275},{"$f":"IFERROR(AVERAGEIFS(tblClassScores[स्कोर],tblClassScores[कक्षा],परिकलन!$C9,tblClassScores[प्रकार],परिकलन!AD$5)*सेटिंग्स!F12,\"\")","v":""},{"$f":"IFERROR(AVERAGEIFS(tblClassScores[स्कोर],tblClassScores[कक्षा],परिकलन!$C9,tblClassScores[प्रकार],परिकलन!AE$5)*सेटिंग्स!G12,\"\")","v":0.095},{"$f":"IFERROR(AVERAGEIFS(tblClassScores[स्कोर],tblClassScores[कक्षा],परिकलन!$C9,tblClassScores[प्रकार],परिकलन!AF$5)*सेटिंग्स!H12,\"\")","v":""},{"$f":"IFERROR(AVERAGEIFS(tblClassScores[स्कोर],tblClassScores[कक्षा],परिकलन!$C9,tblClassScores[प्रकार],परिकलन!AG$5)*सेटिंग्स!I12,\"\")","v":""},{"$f":"IFERROR(AVERAGEIFS(tblClassScores[स्कोर],tblClassScores[कक्षा],परिकलन!$C9,tblClassScores[प्रकार],परिकलन!AH$5)*सेटिंग्स!J12,\"\")","v":""},{"$f":"IFERROR(AVERAGEIFS(tblClassScores[स्कोर],tblClassScores[कक्षा],परिकलन!$C9,tblClassScores[प्रकार],परिकलन!AI$5)*सेटिंग्स!K12,\"\")","v":""},0.2225,{"$f":"SUMIFS(सेटिंग्स!E12:K12,परिकलन!AC9:AI9,\">0\")","v":0.25},{"v":0.89,"d":"89%"},3.33,"B+"]
[null,null,{"$f":"IF(सेटिंग्स!C13=\"\",\"\",सेटिंग्स!C13)","v":"Java में उन्नत प्रोग्रामिंग"},{"v":0.75,"d":"75%"},"","","","","","","","","","","","","","","","","","","","","","","","",{"$f":"IFERROR(AVERAGEIFS(tblClassScores[स्कोर],tblClassScores[कक्षा],परिकलन!$C10,tblClassScores[प्रकार],परिकलन!AC$5)*सेटिंग्स!E13,\"\")","v":""},{"$f":"IFERROR(AVERAGEIFS(tblClassScores[स्कोर],tblClassScores[कक्षा],परिकलन!$C10,tblClassScores[प्रकार],परिकलन!AD$5)*सेटिंग्स!F13,\"\")","v":""},{"$f":"IFERROR(AVERAGEIFS(tblClassScores[स्कोर],tblClassScores[कक्षा],परिकलन!$C10,tblClassScores[प्रकार],परिकलन!AE$5)*सेटिंग्स!G13,\"\")","v":""},{"$f":"IFERROR(AVERAGEIFS(tblClassScores[स्कोर],tblClassScores[कक्षा],परिकलन!$C10,tblClassScores[प्रकार],परिकलन!AF$5)*सेटिंग्स!H13,\"\")","v":""},{"$f":"IFERROR(AVERAGEIFS(tblClassScores[स्कोर],tblClassScores[कक्षा],परिकलन!$C10,tblClassScores[प्रकार],परिकलन!AG$5)*सेटिंग्स!I13,\"\")","v":0.15000000000000002},{"$f":"IFERROR(AVERAGEIFS(tblClassScores[स्कोर],tblClassScores[कक्षा],परिकलन!$C10,tblClassScores[प्रकार],परिकलन!AH$5)*सेटिंग्स!J13,\"\")","v":""},{"$f":"IFERROR(AVERAGEIFS(tblClassScores[स्कोर],tblClassScores[कक्षा],परिकलन!$C10,tblClassScores[प्रकार],परिकलन!AI$5)*सेटिंग्स!K13,\"\")","v":""},0.15000000000000002,{"$f":"SUMIFS(सेटिंग्स!E13:K13,परिकलन!AC10:AI10,\">0\")","v":0.2},{"v":0.7500000000000001,"d":"75%"},2,"C"]
[null,null,{"$f":"IF(सेटिंग्स!C14=\"\",\"\",सेटिंग्स!C14)","v":"स्पैनिश"},{"v":0.5,"d":"50%"},"","","","","","","","","","","","","","","","","","","","","","","","",{"$f":"IFERROR(AVERAGEIFS(tblClassScores[स्कोर],tblClassScores[कक्षा],परिकलन!$C11,tblClassScores[प्रकार],परिकलन!AC$5)*सेटिंग्स!E14,\"\")","v":0.05},{"$f":"IFERROR(AVERAGEIFS(tblClassScores[स्कोर],tblClassScores[कक्षा],परिकलन!$C11,tblClassScores[प्रकार],परिकलन!AD$5)*सेटिंग्स!F14,\"\")","v":""},{"$f":"IFERROR(AVERAGEIFS(tblClassScores[स्कोर],tblClassScores[कक्षा],परिकलन!$C11,tblClassScores[प्रकार],परिकलन!AE$5)*सेटिंग्स!G14,\"\")","v":""},{"$f":"IFERROR(AVERAGEIFS(tblClassScores[स्कोर],tblClassScores[कक्षा],परिकलन!$C11,tblClassScores[प्रकार],परिकलन!AF$5)*सेटिंग्स!H14,\"\")","v":""},{"$f":"IFERROR(AVERAGEIFS(tblClassScores[स्कोर],tblClassScores[कक्षा],परिकलन!$C11,tblClassScores[प्रकार],परिकलन!AG$5)*सेटिंग्स!I14,\"\")","v":""},{"$f":"IFERROR(AVERAGEIFS(tblClassScores[स्कोर],tblClassScores[कक्षा],परिकलन!$C11,tblClassScores[प्रकार],परिकलन!AH$5)*सेटिंग्स!J14,\"\")","v":""},{"$f":"IFERROR(AVERAGEIFS(tblClassScores[स्कोर],tblClassScores[कक्षा],परिकलन!$C11,tblClassScores[प्रकार],परिकलन!AI$5)*सेटिंग्स!K14,\"\")","v":""},0.05,{"$f":"SUMIFS(सेटिंग्स!E14:K14,परिकलन!AC11:AI11,\">0\")","v":0.1},{"v":0.5,"d":"50%"},0,"F"]
[null,null,{"$f":"IF(सेटिंग्स!C15=\"\",\"\",सेटिंग्स!C15)","v":"संरचना"},{"v":0.95,"d":"95%"},"","","","","","","","","","","","","","","","","","","","","","","","",{"$f":"IFERROR(AVERAGEIFS(tblClassScores[स्कोर],tblClassScores[कक्षा],परिकलन!$C12,tblClassScores[प्रकार],परिकलन!AC$5)*सेटिंग्स!E15,\"\")","v":""},{"$f":"IFERROR(AVERAGEIFS(tblClassScores[स्कोर],tblClassScores[कक्षा],परिकलन!$C12,tblClassScores[प्रकार],परिकलन!AD$5)*सेटिंग्स!F15,\"\")","v":0.1425},{"$f":"IFERROR(AVERAGEIFS(tblClassScores[स्कोर],tblClassScores[कक्षा],परिकलन!$C12,tblClassScores[प्रकार],परिकलन!AE$5)*सेटिंग्स!G15,\"\")","v":""},{"$f":"IFERROR(AVERAGEIFS(tblClassScores[स्कोर],tblClassScores[कक्षा],परिकलन!$C12,tblClassScores[प्रकार],परिकलन!AF$5)*सेटिंग्स!H15,\"\")","v":""},{"$f":"IFERROR(AVERAGEIFS(tblClassScores[स्कोर],tblClassScores[कक्षा],परिकलन!$C12,tblClassScores[प्रकार],परिकलन!AG$5)*सेटिंग्स!I15,\"\")","v":""},{"$f":"IFERROR(AVERAGEIFS(tblClassScores[स्कोर],tblClassScores[कक्षा],परिकलन!$C12,tblClassScores[प्रकार],परिकलन!AH$5)*सेटिंग्स!J15,\"\")","v":""},{"$f":"IFERROR(AVERAGEIFS(tblClassScores[स्कोर],tblClassScores[कक्षा],परिकलन!$C12,tblClassScores[प्रकार],परिकलन!AI$5)*सेटिंग्स!K15,\"\")","v":""},0.1425,{"$f":"SUMIFS(सेटिंग्स!E15:K15,परिकलन!AC12:AI12,\">0\")","v":0.15},{"v":0.95,"d":"95%"},4,"A"]
[null,null,{"$f":"IF(सेटिंग्स!C16=\"\",\"\",सेटिंग्स!C16)","v":""},"","","","","","","","","","","","","","","","","","","","","","","","","",{"$f":"IFERROR(AVERAGEIFS(tblClassScores[स्कोर],tblClassScores[कक्षा],परिकलन!$C13,tblClassScores[प्रकार],परिकलन!AC$5)*सेटिंग्स!#REF!,\"\")","v":""},{"$f":"IFERROR(AVERAGEIFS(tblClassScores[स्कोर],tblClassScores[कक्षा],परिकलन!$C13,tblClassScores[प्रकार],परिकलन!AD$5)*सेटिंग्स!#REF!,\"\")","v":""},{"$f":"IFERROR(AVERAGEIFS(tblClassScores[स्कोर],tblClassScores[कक्षा],परिकलन!$C13,tblClassScores[प्रकार],परिकलन!AE$5)*सेटिंग्स!#REF!,\"\")","v":""},{"$f":"IFERROR(AVERAGEIFS(tblClassScores[स्कोर],tblClassScores[कक्षा],परिकलन!$C13,tblClassScores[प्रकार],परिकलन!AF$5)*सेटिंग्स!#REF!,\"\")","v":""},{"$f":"IFERROR(AVERAGEIFS(tblClassScores[स्कोर],tblClassScores[कक्षा],परिकलन!$C13,tblClassScores[प्रकार],परिकलन!AG$5)*सेटिंग्स!#REF!,\"\")","v":""},{"$f":"IFERROR(AVERAGEIFS(tblClassScores[स्कोर],tblClassScores[कक्षा],परिकलन!$C13,tblClassScores[प्रकार],परिकलन!AH$5)*सेटिंग्स!#REF!,\"\")","v":""},{"$f":"IFERROR(AVERAGEIFS(tblClassScores[स्कोर],tblClassScores[कक्षा],परिकलन!$C13,tblClassScores[प्रकार],परिकलन!AI$5)*सेटिंग्स!#REF!,\"\")","v":""},0,{"$f":"SUMIFS(सेटिंग्स!E16:K16,परिकलन!AC13:AI13,\">0\")","v":0},"","",""]
[null,null,{"$f":"IF(सेटिंग्स!C17=\"\",\"\",सेटिंग्स!C17)","v":""},"","","","","","","","","","","","","","","","","","","","","","","","","",{"$f":"IFERROR(AVERAGEIFS(tblClassScores[स्कोर],tblClassScores[कक्षा],परिकलन!$C14,tblClassScores[प्रकार],परिकलन!AC$5)*सेटिंग्स!#REF!,\"\")","v":""},{"$f":"IFERROR(AVERAGEIFS(tblClassScores[स्कोर],tblClassScores[कक्षा],परिकलन!$C14,tblClassScores[प्रकार],परिकलन!AD$5)*सेटिंग्स!#REF!,\"\")","v":""},{"$f":"IFERROR(AVERAGEIFS(tblClassScores[स्कोर],tblClassScores[कक्षा],परिकलन!$C14,tblClassScores[प्रकार],परिकलन!AE$5)*सेटिंग्स!#REF!,\"\")","v":""},{"$f":"IFERROR(AVERAGEIFS(tblClassScores[स्कोर],tblClassScores[कक्षा],परिकलन!$C14,tblClassScores[प्रकार],परिकलन!AF$5)*सेटिंग्स!#REF!,\"\")","v":""},{"$f":"IFERROR(AVERAGEIFS(tblClassScores[स्कोर],tblClassScores[कक्षा],परिकलन!$C14,tblClassScores[प्रकार],परिकलन!AG$5)*सेटिंग्स!#REF!,\"\")","v":""},{"$f":"IFERROR(AVERAGEIFS(tblClassScores[स्कोर],tblClassScores[कक्षा],परिकलन!$C14,tblClassScores[प्रकार],परिकलन!AH$5)*सेटिंग्स!#REF!,\"\")","v":""},{"$f":"IFERROR(AVERAGEIFS(tblClassScores[स्कोर],tblClassScores[कक्षा],परिकलन!$C14,tblClassScores[प्रकार],परिकलन!AI$5)*सेटिंग्स!#REF!,\"\")","v":""},0,{"$f":"SUMIFS(सेटिंग्स!E17:K17,परिकलन!AC14:AI14,\">0\")","v":0},"","",""]
[null,null,{"$f":"IF(सेटिंग्स!C18=\"\",\"\",सेटिंग्स!C18)","v":""},"","","","","","","","","","","","","","","","","","","","","","","","","",{"$f":"IFERROR(AVERAGEIFS(tblClassScores[स्कोर],tblClassScores[कक्षा],परिकलन!$C15,tblClassScores[प्रकार],परिकलन!AC$5)*सेटिंग्स!#REF!,\"\")","v":""},{"$f":"IFERROR(AVERAGEIFS(tblClassScores[स्कोर],tblClassScores[कक्षा],परिकलन!$C15,tblClassScores[प्रकार],परिकलन!AD$5)*सेटिंग्स!#REF!,\"\")","v":""},{"$f":"IFERROR(AVERAGEIFS(tblClassScores[स्कोर],tblClassScores[कक्षा],परिकलन!$C15,tblClassScores[प्रकार],परिकलन!AE$5)*सेटिंग्स!#REF!,\"\")","v":""},{"$f":"IFERROR(AVERAGEIFS(tblClassScores[स्कोर],tblClassScores[कक्षा],परिकलन!$C15,tblClassScores[प्रकार],परिकलन!AF$5)*सेटिंग्स!#REF!,\"\")","v":""},{"$f":"IFERROR(AVERAGEIFS(tblClassScores[स्कोर],tblClassScores[कक्षा],परिकलन!$C15,tblClassScores[प्रकार],परिकलन!AG$5)*सेटिंग्स!#REF!,\"\")","v":""},{"$f":"IFERROR(AVERAGEIFS(tblClassScores[स्कोर],tblClassScores[कक्षा],परिकलन!$C15,tblClassScores[प्रकार],परिकलन!AH$5)*सेटिंग्स!#REF!,\"\")","v":""},{"$f":"IFERROR(AVERAGEIFS(tblClassScores[स्कोर],tblClassScores[कक्षा],परिकलन!$C15,tblClassScores[प्रकार],परिकलन!AI$5)*सेटिंग्स!#REF!,\"\")","v":""},0,{"$f":"SUMIFS(सेटिंग्स!E18:K18,परिकलन!AC15:AI15,\">0\")","v":0},"","",""]
[null,null,{"$f":"IF(सेटिंग्स!C19=\"\",\"\",सेटिंग्स!C19)","v":""},"","","","","","","","","","","","","","","","","","","","","","","","","",{"$f":"IFERROR(AVERAGEIFS(tblClassScores[स्कोर],tblClassScores[कक्षा],परिकलन!$C16,tblClassScores[प्रकार],परिकलन!AC$5)*सेटिंग्स!#REF!,\"\")","v":""},{"$f":"IFERROR(AVERAGEIFS(tblClassScores[स्कोर],tblClassScores[कक्षा],परिकलन!$C16,tblClassScores[प्रकार],परिकलन!AD$5)*सेटिंग्स!#REF!,\"\")","v":""},{"$f":"IFERROR(AVERAGEIFS(tblClassScores[स्कोर],tblClassScores[कक्षा],परिकलन!$C16,tblClassScores[प्रकार],परिकलन!AE$5)*सेटिंग्स!#REF!,\"\")","v":""},{"$f":"IFERROR(AVERAGEIFS(tblClassScores[स्कोर],tblClassScores[कक्षा],परिकलन!$C16,tblClassScores[प्रकार],परिकलन!AF$5)*सेटिंग्स!#REF!,\"\")","v":""},{"$f":"IFERROR(AVERAGEIFS(tblClassScores[स्कोर],tblClassScores[कक्षा],परिकलन!$C16,tblClassScores[प्रकार],परिकलन!AG$5)*सेटिंग्स!#REF!,\"\")","v":""},{"$f":"IFERROR(AVERAGEIFS(tblClassScores[स्कोर],tblClassScores[कक्षा],परिकलन!$C16,tblClassScores[प्रकार],परिकलन!AH$5)*सेटिंग्स!#REF!,\"\")","v":""},{"$f":"IFERROR(AVERAGEIFS(tblClassScores[स्कोर],tblClassScores[कक्षा],परिकलन!$C16,tblClassScores[प्रकार],परिकलन!AI$5)*सेटिंग्स!#REF!,\"\")","v":""},0,{"$f":"SUMIFS(सेटिंग्स!E19:K19,परिकलन!AC16:AI16,\">0\")","v":0},"","",""]
[null,null,{"$f":"IF(सेटिंग्स!C20=\"\",\"\",सेटिंग्स!C20)","v":""},"","","","","","","","","","","","","","","","","","","","","","","","","",{"$f":"IFERROR(AVERAGEIFS(tblClassScores[स्कोर],tblClassScores[कक्षा],परिकलन!$C17,tblClassScores[प्रकार],परिकलन!AC$5)*सेटिंग्स!#REF!,\"\")","v":""},{"$f":"IFERROR(AVERAGEIFS(tblClassScores[स्कोर],tblClassScores[कक्षा],परिकलन!$C17,tblClassScores[प्रकार],परिकलन!AD$5)*सेटिंग्स!#REF!,\"\")","v":""},{"$f":"IFERROR(AVERAGEIFS(tblClassScores[स्कोर],tblClassScores[कक्षा],परिकलन!$C17,tblClassScores[प्रकार],परिकलन!AE$5)*सेटिंग्स!#REF!,\"\")","v":""},{"$f":"IFERROR(AVERAGEIFS(tblClassScores[स्कोर],tblClassScores[कक्षा],परिकलन!$C17,tblClassScores[प्रकार],परिकलन!AF$5)*सेटिंग्स!#REF!,\"\")","v":""},{"$f":"IFERROR(AVERAGEIFS(tblClassScores[स्कोर],tblClassScores[कक्षा],परिकलन!$C17,tblClassScores[प्रकार],परिकलन!AG$5)*सेटिंग्स!#REF!,\"\")","v":""},{"$f":"IFERROR(AVERAGEIFS(tblClassScores[स्कोर],tblClassScores[कक्षा],परिकलन!$C17,tblClassScores[प्रकार],परिकलन!AH$5)*सेटिंग्स!#REF!,\"\")","v":""},{"$f":"IFERROR(AVERAGEIFS(tblClassScores[स्कोर],tblClassScores[कक्षा],परिकलन!$C17,tblClassScores[प्रकार],परिकलन!AI$5)*सेटिंग्स!#REF!,\"\")","v":""},0,{"$f":"SUMIFS(सेटिंग्स!E20:K20,परिकलन!AC17:AI17,\">0\")","v":0},"","",""]
[null,null,{"$f":"IF(सेटिंग्स!C21=\"\",\"\",सेटिंग्स!C21)","v":""},"","","","","","","","","","","","","","","","","","","","","","","","","",{"$f":"IFERROR(AVERAGEIFS(tblClassScores[स्कोर],tblClassScores[कक्षा],परिकलन!$C18,tblClassScores[प्रकार],परिकलन!AC$5)*सेटिंग्स!#REF!,\"\")","v":""},{"$f":"IFERROR(AVERAGEIFS(tblClassScores[स्कोर],tblClassScores[कक्षा],परिकलन!$C18,tblClassScores[प्रकार],परिकलन!AD$5)*सेटिंग्स!#REF!,\"\")","v":""},{"$f":"IFERROR(AVERAGEIFS(tblClassScores[स्कोर],tblClassScores[कक्षा],परिकलन!$C18,tblClassScores[प्रकार],परिकलन!AE$5)*सेटिंग्स!#REF!,\"\")","v":""},{"$f":"IFERROR(AVERAGEIFS(tblClassScores[स्कोर],tblClassScores[कक्षा],परिकलन!$C18,tblClassScores[प्रकार],परिकलन!AF$5)*सेटिंग्स!#REF!,\"\")","v":""},{"$f":"IFERROR(AVERAGEIFS(tblClassScores[स्कोर],tblClassScores[कक्षा],परिकलन!$C18,tblClassScores[प्रकार],परिकलन!AG$5)*सेटिंग्स!#REF!,\"\")","v":""},{"$f":"IFERROR(AVERAGEIFS(tblClassScores[स्कोर],tblClassScores[कक्षा],परिकलन!$C18,tblClassScores[प्रकार],परिकलन!AH$5)*सेटिंग्स!#REF!,\"\")","v":""},{"$f":"IFERROR(AVERAGEIFS(tblClassScores[स्कोर],tblClassScores[कक्षा],परिकलन!$C18,tblClassScores[प्रकार],परिकलन!AI$5)*सेटिंग्स!#REF!,\"\")","v":""},0,{"$f":"SUMIFS(सेटिंग्स!E21:K21,परिकलन!AC18:AI18,\">0\")","v":0},"","",""]
[null,null,{"$f":"IF(सेटिंग्स!C22=\"\",\"\",सेटिंग्स!C22)","v":""},"","","","","","","","","","","","","","","","","","","","","","","","","",{"$f":"IFERROR(AVERAGEIFS(tblClassScores[स्कोर],tblClassScores[कक्षा],परिकलन!$C19,tblClassScores[प्रकार],परिकलन!AC$5)*सेटिंग्स!#REF!,\"\")","v":""},{"$f":"IFERROR(AVERAGEIFS(tblClassScores[स्कोर],tblClassScores[कक्षा],परिकलन!$C19,tblClassScores[प्रकार],परिकलन!AD$5)*सेटिंग्स!#REF!,\"\")","v":""},{"$f":"IFERROR(AVERAGEIFS(tblClassScores[स्कोर],tblClassScores[कक्षा],परिकलन!$C19,tblClassScores[प्रकार],परिकलन!AE$5)*सेटिंग्स!#REF!,\"\")","v":""},{"$f":"IFERROR(AVERAGEIFS(tblClassScores[स्कोर],tblClassScores[कक्षा],परिकलन!$C19,tblClassScores[प्रकार],परिकलन!AF$5)*सेटिंग्स!#REF!,\"\")","v":""},{"$f":"IFERROR(AVERAGEIFS(tblClassScores[स्कोर],tblClassScores[कक्षा],परिकलन!$C19,tblClassScores[प्रकार],परिकलन!AG$5)*सेटिंग्स!#REF!,\"\")","v":""},{"$f":"IFERROR(AVERAGEIFS(tblClassScores[स्कोर],tblClassScores[कक्षा],परिकलन!$C19,tblClassScores[प्रकार],परिकलन!AH$5)*सेटिंग्स!#REF!,\"\")","v":""},{"$f":"IFERROR(AVERAGEIFS(tblClassScores[स्कोर],tblClassScores[कक्षा],परिकलन!$C19,tblClassScores[प्रकार],परिकलन!AI$5)*सेटिंग्स!#REF!,\"\")","v":""},0,{"$f":"SUMIFS(सेटिंग्स!E22:K22,परिकलन!AC19:AI19,\">0\")","v":0},"","",""]
[null,null,{"$f":"IF(सेटिंग्स!C23=\"\",\"\",सेटिंग्स!C23)","v":""},"","","","","","","","","","","","","","","","","","","","","","","","","",{"$f":"IFERROR(AVERAGEIFS(tblClassScores[स्कोर],tblClassScores[कक्षा],परिकलन!$C20,tblClassScores[प्रकार],परिकलन!AC$5)*सेटिंग्स!#REF!,\"\")","v":""},{"$f":"IFERROR(AVERAGEIFS(tblClassScores[स्कोर],tblClassScores[कक्षा],परिकलन!$C20,tblClassScores[प्रकार],परिकलन!AD$5)*सेटिंग्स!#REF!,\"\")","v":""},{"$f":"IFERROR(AVERAGEIFS(tblClassScores[स्कोर],tblClassScores[कक्षा],परिकलन!$C20,tblClassScores[प्रकार],परिकलन!AE$5)*सेटिंग्स!#REF!,\"\")","v":""},{"$f":"IFERROR(AVERAGEIFS(tblClassScores[स्कोर],tblClassScores[कक्षा],परिकलन!$C20,tblClassScores[प्रकार],परिकलन!AF$5)*सेटिंग्स!#REF!,\"\")","v":""},{"$f":"IFERROR(AVERAGEIFS(tblClassScores[स्कोर],tblClassScores[कक्षा],परिकलन!$C20,tblClassScores[प्रकार],परिकलन!AG$5)*सेटिंग्स!#REF!,\"\")","v":""},{"$f":"IFERROR(AVERAGEIFS(tblClassScores[स्कोर],tblClassScores[कक्षा],परिकलन!$C20,tblClassScores[प्रकार],परिकलन!AH$5)*सेटिंग्स!#REF!,\"\")","v":""},{"$f":"IFERROR(AVERAGEIFS(tblClassScores[स्कोर],tblClassScores[कक्षा],परिकलन!$C20,tblClassScores[प्रकार],परिकलन!AI$5)*सेटिंग्स!#REF!,\"\")","v":""},0,{"$f":"SUMIFS(सेटिंग्स!E23:K23,परिकलन!AC20:AI20,\">0\")","v":0},"","",""]
[null,null,{"$f":"IF(सेटिंग्स!C24=\"\",\"\",सेटिंग्स!C24)","v":""},"","","","","","","","","","","","","","","","","","","","","","","","","",{"$f":"IFERROR(AVERAGEIFS(tblClassScores[स्कोर],tblClassScores[कक्षा],परिकलन!$C21,tblClassScores[प्रकार],परिकलन!AC$5)*सेटिंग्स!#REF!,\"\")","v":""},{"$f":"IFERROR(AVERAGEIFS(tblClassScores[स्कोर],tblClassScores[कक्षा],परिकलन!$C21,tblClassScores[प्रकार],परिकलन!AD$5)*सेटिंग्स!#REF!,\"\")","v":""},{"$f":"IFERROR(AVERAGEIFS(tblClassScores[स्कोर],tblClassScores[कक्षा],परिकलन!$C21,tblClassScores[प्रकार],परिकलन!AE$5)*सेटिंग्स!#REF!,\"\")","v":""},{"$f":"IFERROR(AVERAGEIFS(tblClassScores[स्कोर],tblClassScores[कक्षा],परिकलन!$C21,tblClassScores[प्रकार],परिकलन!AF$5)*सेटिंग्स!#REF!,\"\")","v":""},{"$f":"IFERROR(AVERAGEIFS(tblClassScores[स्कोर],tblClassScores[कक्षा],परिकलन!$C21,tblClassScores[प्रकार],परिकलन!AG$5)*सेटिंग्स!#REF!,\"\")","v":""},{"$f":"IFERROR(AVERAGEIFS(tblClassScores[स्कोर],tblClassScores[कक्षा],परिकलन!$C21,tblClassScores[प्रकार],परिकलन!AH$5)*सेटिंग्स!#REF!,\"\")","v":""},{"$f":"IFERROR(AVERAGEIFS(tblClassScores[स्कोर],tblClassScores[कक्षा],परिकलन!$C21,tblClassScores[प्रकार],परिकलन!AI$5)*सेटिंग्स!#REF!,\"\")","v":""},0,{"$f":"SUMIFS(सेटिंग्स!E24:K24,परिकलन!AC21:AI21,\">0\")","v":0},"","",""]
[null,null,{"$f":"IF(सेटिंग्स!C25=\"\",\"\",सेटिंग्स!C25)","v":""},"","","","","","","","","","","","","","","","","","","","","","","","","",{"$f":"IFERROR(AVERAGEIFS(tblClassScores[स्कोर],tblClassScores[कक्षा],परिकलन!$C22,tblClassScores[प्रकार],परिकलन!AC$5)*सेटिंग्स!#REF!,\"\")","v":""},{"$f":"IFERROR(AVERAGEIFS(tblClassScores[स्कोर],tblClassScores[कक्षा],परिकलन!$C22,tblClassScores[प्रकार],परिकलन!AD$5)*सेटिंग्स!#REF!,\"\")","v":""},{"$f":"IFERROR(AVERAGEIFS(tblClassScores[स्कोर],tblClassScores[कक्षा],परिकलन!$C22,tblClassScores[प्रकार],परिकलन!AE$5)*सेटिंग्स!#REF!,\"\")","v":""},{"$f":"IFERROR(AVERAGEIFS(tblClassScores[स्कोर],tblClassScores[कक्षा],परिकलन!$C22,tblClassScores[प्रकार],परिकलन!AF$5)*सेटिंग्स!#REF!,\"\")","v":""},{"$f":"IFERROR(AVERAGEIFS(tblClassScores[स्कोर],tblClassScores[कक्षा],परिकलन!$C22,tblClassScores[प्रकार],परिकलन!AG$5)*सेटिंग्स!#REF!,\"\")","v":""},{"$f":"IFERROR(AVERAGEIFS(tblClassScores[स्कोर],tblClassScores[कक्षा],परिकलन!$C22,tblClassScores[प्रकार],परिकलन!AH$5)*सेटिंग्स!#REF!,\"\")","v":""},{"$f":"IFERROR(AVERAGEIFS(tblClassScores[स्कोर],tblClassScores[कक्षा],परिकलन!$C22,tblClassScores[प्रकार],परिकलन!AI$5)*सेटिंग्स!#REF!,\"\")","v":""},0,{"$f":"SUMIFS(सेटिंग्स!E25:K25,परिकलन!AC22:AI22,\">0\")","v":0},"","",""]
[null,null,{"$f":"IF(सेटिंग्स!C26=\"\",\"\",सेटिंग्स!C26)","v":""},"","","","","","","","","","","","","","","","","","","","","","","","","",{"$f":"IFERROR(AVERAGEIFS(tblClassScores[स्कोर],tblClassScores[कक्षा],परिकलन!$C23,tblClassScores[प्रकार],परिकलन!AC$5)*सेटिंग्स!#REF!,\"\")","v":""},{"$f":"IFERROR(AVERAGEIFS(tblClassScores[स्कोर],tblClassScores[कक्षा],परिकलन!$C23,tblClassScores[प्रकार],परिकलन!AD$5)*सेटिंग्स!#REF!,\"\")","v":""},{"$f":"IFERROR(AVERAGEIFS(tblClassScores[स्कोर],tblClassScores[कक्षा],परिकलन!$C23,tblClassScores[प्रकार],परिकलन!AE$5)*सेटिंग्स!#REF!,\"\")","v":""},{"$f":"IFERROR(AVERAGEIFS(tblClassScores[स्कोर],tblClassScores[कक्षा],परिकलन!$C23,tblClassScores[प्रकार],परिकलन!AF$5)*सेटिंग्स!#REF!,\"\")","v":""},{"$f":"IFERROR(AVERAGEIFS(tblClassScores[स्कोर],tblClassScores[कक्षा],परिकलन!$C23,tblClassScores[प्रकार],परिकलन!AG$5)*सेटिंग्स!#REF!,\"\")","v":""},{"$f":"IFERROR(AVERAGEIFS(tblClassScores[स्कोर],tblClassScores[कक्षा],परिकलन!$C23,tblClassScores[प्रकार],परिकलन!AH$5)*सेटिंग्स!#REF!,\"\")","v":""},{"$f":"IFERROR(AVERAGEIFS(tblClassScores[स्कोर],tblClassScores[कक्षा],परिकलन!$C23,tblClassScores[प्रकार],परिकलन!AI$5)*सेटिंग्स!#REF!,\"\")","v":""},0,{"$f":"SUMIFS(सेटिंग्स!E26:K26,परिकलन!AC23:AI23,\">0\")","v":0},"","",""]
[null,null,{"$f":"IF(सेटिंग्स!C27=\"\",\"\",सेटिंग्स!C27)","v":""},"","","","","","","","","","","","","","","","","","","","","","","","","",{"$f":"IFERROR(AVERAGEIFS(tblClassScores[स्कोर],tblClassScores[कक्षा],परिकलन!$C24,tblClassScores[प्रकार],परिकलन!AC$5)*सेटिंग्स!#REF!,\"\")","v":""},{"$f":"IFERROR(AVERAGEIFS(tblClassScores[स्कोर],tblClassScores[कक्षा],परिकलन!$C24,tblClassScores[प्रकार],परिकलन!AD$5)*सेटिंग्स!#REF!,\"\")","v":""},{"$f":"IFERROR(AVERAGEIFS(tblClassScores[स्कोर],tblClassScores[कक्षा],परिकलन!$C24,tblClassScores[प्रकार],परिकलन!AE$5)*सेटिंग्स!#REF!,\"\")","v":""},{"$f":"IFERROR(AVERAGEIFS(tblClassScores[स्कोर],tblClassScores[कक्षा],परिकलन!$C24,tblClassScores[प्रकार],परिकलन!AF$5)*सेटिंग्स!#REF!,\"\")","v":""},{"$f":"IFERROR(AVERAGEIFS(tblClassScores[स्कोर],tblClassScores[कक्षा],परिकलन!$C24,tblClassScores[प्रकार],परिकलन!AG$5)*सेटिंग्स!#REF!,\"\")","v":""},{"$f":"IFERROR(AVERAGEIFS(tblClassScores[स्कोर],tblClassScores[कक्षा],परिकलन!$C24,tblClassScores[प्रकार],परिकलन!AH$5)*सेटिंग्स!#REF!,\"\")","v":""},{"$f":"IFERROR(AVERAGEIFS(tblClassScores[स्कोर],tblClassScores[कक्षा],परिकलन!$C24,tblClassScores[प्रकार],परिकलन!AI$5)*सेटिंग्स!#REF!,\"\")","v":""},0,{"$f":"SUMIFS(सेटिंग्स!E27:K27,परिकलन!AC24:AI24,\">0\")","v":0},"","",""]
[null,null,{"$f":"IF(सेटिंग्स!C28=\"\",\"\",सेटिंग्स!C28)","v":""},"","","","","","","","","","","","","","","","","","","","","","","","","",{"$f":"IFERROR(AVERAGEIFS(tblClassScores[स्कोर],tblClassScores[कक्षा],परिकलन!$C25,tblClassScores[प्रकार],परिकलन!AC$5)*सेटिंग्स!#REF!,\"\")","v":""},{"$f":"IFERROR(AVERAGEIFS(tblClassScores[स्कोर],tblClassScores[कक्षा],परिकलन!$C25,tblClassScores[प्रकार],परिकलन!AD$5)*सेटिंग्स!#REF!,\"\")","v":""},{"$f":"IFERROR(AVERAGEIFS(tblClassScores[स्कोर],tblClassScores[कक्षा],परिकलन!$C25,tblClassScores[प्रकार],परिकलन!AE$5)*सेटिंग्स!#REF!,\"\")","v":""},{"$f":"IFERROR(AVERAGEIFS(tblClassScores[स्कोर],tblClassScores[कक्षा],परिकलन!$C25,tblClassScores[प्रकार],परिकलन!AF$5)*सेटिंग्स!#REF!,\"\")","v":""},{"$f":"IFERROR(AVERAGEIFS(tblClassScores[स्कोर],tblClassScores[कक्षा],परिकलन!$C25,tblClassScores[प्रकार],परिकलन!AG$5)*सेटिंग्स!#REF!,\"\")","v":""},{"$f":"IFERROR(AVERAGEIFS(tblClassScores[स्कोर],tblClassScores[कक्षा],परिकलन!$C25,tblClassScores[प्रकार],परिकलन!AH$5)*सेटिंग्स!#REF!,\"\")","v":""},{"$f":"IFERROR(AVERAGEIFS(tblClassScores[स्कोर],tblClassScores[कक्षा],परिकलन!$C25,tblClassScores[प्रकार],परिकलन!AI$5)*सेटिंग्स!#REF!,\"\")","v":""},0,{"$f":"SUMIFS(सेटिंग्स!E28:K28,परिकलन!AC25:AI25,\">0\")","v":0},"","",""]
[null,null,{"$f":"IF(सेटिंग्स!C29=\"\",\"\",सेटिंग्स!C29)","v":""},"","","","","","","","","","","","","","","","","","","","","","","","","",{"$f":"IFERROR(AVERAGEIFS(tblClassScores[स्कोर],tblClassScores[कक्षा],परिकलन!$C26,tblClassScores[प्रकार],परिकलन!AC$5)*सेटिंग्स!#REF!,\"\")","v":""},{"$f":"IFERROR(AVERAGEIFS(tblClassScores[स्कोर],tblClassScores[कक्षा],परिकलन!$C26,tblClassScores[प्रकार],परिकलन!AD$5)*सेटिंग्स!#REF!,\"\")","v":""},{"$f":"IFERROR(AVERAGEIFS(tblClassScores[स्कोर],tblClassScores[कक्षा],परिकलन!$C26,tblClassScores[प्रकार],परिकलन!AE$5)*सेटिंग्स!#REF!,\"\")","v":""},{"$f":"IFERROR(AVERAGEIFS(tblClassScores[स्कोर],tblClassScores[कक्षा],परिकलन!$C26,tblClassScores[प्रकार],परिकलन!AF$5)*सेटिंग्स!#REF!,\"\")","v":""},{"$f":"IFERROR(AVERAGEIFS(tblClassScores[स्कोर],tblClassScores[कक्षा],परिकलन!$C26,tblClassScores[प्रकार],परिकलन!AG$5)*सेटिंग्स!#REF!,\"\")","v":""},{"$f":"IFERROR(AVERAGEIFS(tblClassScores[स्कोर],tblClassScores[कक्षा],परिकलन!$C26,tblClassScores[प्रकार],परिकलन!AH$5)*सेटिंग्स!#REF!,\"\")","v":""},{"$f":"IFERROR(AVERAGEIFS(tblClassScores[स्कोर],tblClassScores[कक्षा],परिकलन!$C26,tblClassScores[प्रकार],परिकलन!AI$5)*सेटिंग्स!#REF!,\"\")","v":""},0,{"$f":"SUMIFS(सेटिंग्स!E29:K29,परिकलन!AC26:AI26,\">0\")","v":0},"","",""]
[null,null,{"$f":"IF(सेटिंग्स!C30=\"\",\"\",सेटिंग्स!C30)","v":""},"","","","","","","","","","","","","","","","","","","","","","","","","",{"$f":"IFERROR(AVERAGEIFS(tblClassScores[स्कोर],tblClassScores[कक्षा],परिकलन!$C27,tblClassScores[प्रकार],परिकलन!AC$5)*सेटिंग्स!#REF!,\"\")","v":""},{"$f":"IFERROR(AVERAGEIFS(tblClassScores[स्कोर],tblClassScores[कक्षा],परिकलन!$C27,tblClassScores[प्रकार],परिकलन!AD$5)*सेटिंग्स!#REF!,\"\")","v":""},{"$f":"IFERROR(AVERAGEIFS(tblClassScores[स्कोर],tblClassScores[कक्षा],परिकलन!$C27,tblClassScores[प्रकार],परिकलन!AE$5)*सेटिंग्स!#REF!,\"\")","v":""},{"$f":"IFERROR(AVERAGEIFS(tblClassScores[स्कोर],tblClassScores[कक्षा],परिकलन!$C27,tblClassScores[प्रकार],परिकलन!AF$5)*सेटिंग्स!#REF!,\"\")","v":""},{"$f":"IFERROR(AVERAGEIFS(tblClassScores[स्कोर],tblClassScores[कक्षा],परिकलन!$C27,tblClassScores[प्रकार],परिकलन!AG$5)*सेटिंग्स!#REF!,\"\")","v":""},{"$f":"IFERROR(AVERAGEIFS(tblClassScores[स्कोर],tblClassScores[कक्षा],परिकलन!$C27,tblClassScores[प्रकार],परिकलन!AH$5)*सेटिंग्स!#REF!,\"\")","v":""},{"$f":"IFERROR(AVERAGEIFS(tblClassScores[स्कोर],tblClassScores[कक्षा],परिकलन!$C27,tblClassScores[प्रकार],परिकलन!AI$5)*सेटिंग्स!#REF!,\"\")","v":""},0,{"$f":"SUMIFS(सेटिंग्स!E30:K30,परिकलन!AC27:AI27,\">0\")","v":0},"","",""]
[null,null,{"$f":"IF(सेटिंग्स!C31=\"\",\"\",सेटिंग्स!C31)","v":""},"","","","","","","","","","","","","","","","","","","","","","","","","",{"$f":"IFERROR(AVERAGEIFS(tblClassScores[स्कोर],tblClassScores[कक्षा],परिकलन!$C28,tblClassScores[प्रकार],परिकलन!AC$5)*सेटिंग्स!#REF!,\"\")","v":""},{"$f":"IFERROR(AVERAGEIFS(tblClassScores[स्कोर],tblClassScores[कक्षा],परिकलन!$C28,tblClassScores[प्रकार],परिकलन!AD$5)*सेटिंग्स!#REF!,\"\")","v":""},{"$f":"IFERROR(AVERAGEIFS(tblClassScores[स्कोर],tblClassScores[कक्षा],परिकलन!$C28,tblClassScores[प्रकार],परिकलन!AE$5)*सेटिंग्स!#REF!,\"\")","v":""},{"$f":"IFERROR(AVERAGEIFS(tblClassScores[स्कोर],tblClassScores[कक्षा],परिकलन!$C28,tblClassScores[प्रकार],परिकलन!AF$5)*सेटिंग्स!#REF!,\"\")","v":""},{"$f":"IFERROR(AVERAGEIFS(tblClassScores[स्कोर],tblClassScores[कक्षा],परिकलन!$C28,tblClassScores[प्रकार],परिकलन!AG$5)*सेटिंग्स!#REF!,\"\")","v":""},{"$f":"IFERROR(AVERAGEIFS(tblClassScores[स्कोर],tblClassScores[कक्षा],परिकलन!$C28,tblClassScores[प्रकार],परिकलन!AH$5)*सेटिंग्स!#REF!,\"\")","v":""},{"$f":"IFERROR(AVERAGEIFS(tblClassScores[स्कोर],tblClassScores[कक्षा],परिकलन!$C28,tblClassScores[प्रकार],परिकलन!AI$5)*सेटिंग्स!#REF!,\"\")","v":""},0,{"$f":"SUMIFS(सेटिंग्स!E31:K31,परिकलन!AC28:AI28,\">0\")","v":0},"","",""]
[null,null,{"$f":"IF(सेटिंग्स!C32=\"\",\"\",सेटिंग्स!C32)","v":""},"","","","","","","","","","","","","","","","","","","","","","","","","",{"$f":"IFERROR(AVERAGEIFS(tblClassScores[स्कोर],tblClassScores[कक्षा],परिकलन!$C29,tblClassScores[प्रकार],परिकलन!AC$5)*सेटिंग्स!#REF!,\"\")","v":""},{"$f":"IFERROR(AVERAGEIFS(tblClassScores[स्कोर],tblClassScores[कक्षा],परिकलन!$C29,tblClassScores[प्रकार],परिकलन!AD$5)*सेटिंग्स!#REF!,\"\")","v":""},{"$f":"IFERROR(AVERAGEIFS(tblClassScores[स्कोर],tblClassScores[कक्षा],परिकलन!$C29,tblClassScores[प्रकार],परिकलन!AE$5)*सेटिंग्स!#REF!,\"\")","v":""},{"$f":"IFERROR(AVERAGEIFS(tblClassScores[स्कोर],tblClassScores[कक्षा],परिकलन!$C29,tblClassScores[प्रकार],परिकलन!AF$5)*सेटिंग्स!#REF!,\"\")","v":""},{"$f":"IFERROR(AVERAGEIFS(tblClassScores[स्कोर],tblClassScores[कक्षा],परिकलन!$C29,tblClassScores[प्रकार],परिकलन!AG$5)*सेटिंग्स!#REF!,\"\")","v":""},{"$f":"IFERROR(AVERAGEIFS(tblClassScores[स्कोर],tblClassScores[कक्षा],परिकलन!$C29,tblClassScores[प्रकार],परिकलन!AH$5)*सेटिंग्स!#REF!,\"\")","v":""},{"$f":"IFERROR(AVERAGEIFS(tblClassScores[स्कोर],tblClassScores[कक्षा],परिकलन!$C29,tblClassScores[प्रकार],परिकलन!AI$5)*सेटिंग्स!#REF!,\"\")","v":""},0,{"$f":"SUMIFS(सेटिंग्स!E32:K32,परिकलन!AC29:AI29,\">0\")","v":0},"","",""]
[null,null,{"$f":"IF(सेटिंग्स!C33=\"\",\"\",सेटिंग्स!C33)","v":""},"","","","","","","","","","","","","","","","","","","","","","","","","",{"$f":"IFERROR(AVERAGEIFS(tblClassScores[स्कोर],tblClassScores[कक्षा],परिकलन!$C30,tblClassScores[प्रकार],परिकलन!AC$5)*सेटिंग्स!#REF!,\"\")","v":""},{"$f":"IFERROR(AVERAGEIFS(tblClassScores[स्कोर],tblClassScores[कक्षा],परिकलन!$C30,tblClassScores[प्रकार],परिकलन!AD$5)*सेटिंग्स!#REF!,\"\")","v":""},{"$f":"IFERROR(AVERAGEIFS(tblClassScores[स्कोर],tblClassScores[कक्षा],परिकलन!$C30,tblClassScores[प्रकार],परिकलन!AE$5)*सेटिंग्स!#REF!,\"\")","v":""},{"$f":"IFERROR(AVERAGEIFS(tblClassScores[स्कोर],tblClassScores[कक्षा],परिकलन!$C30,tblClassScores[प्रकार],परिकलन!AF$5)*सेटिंग्स!#REF!,\"\")","v":""},{"$f":"IFERROR(AVERAGEIFS(tblClassScores[स्कोर],tblClassScores[कक्षा],परिकलन!$C30,tblClassScores[प्रकार],परिकलन!AG$5)*सेटिंग्स!#REF!,\"\")","v":""},{"$f":"IFERROR(AVERAGEIFS(tblClassScores[स्कोर],tblClassScores[कक्षा],परिकलन!$C30,tblClassScores[प्रकार],परिकलन!AH$5)*सेटिंग्स!#REF!,\"\")","v":""},{"$f":"IFERROR(AVERAGEIFS(tblClassScores[स्कोर],tblClassScores[कक्षा],परिकलन!$C30,tblClassScores[प्रकार],परिकलन!AI$5)*सेटिंग्स!#REF!,\"\")","v":""},0,{"$f":"SUMIFS(सेटिंग्स!E33:K33,परिकलन!AC30:AI30,\">0\")","v":0},"","",""]
[]
[]
[null,1,{"$f":"'स्कोर ट्रैकर'!C4&COUNTIF('स्कोर ट्रैकर'!$C$4:C4,'स्कोर ट्रैकर'!C4)","v":"आधुनिक फ़्रेंच1"}]
[null,2,{"$f":"'स्कोर ट्रैकर'!C5&COUNTIF('स्कोर ट्रैकर'!$C$4:C5,'स्कोर ट्रैकर'!C5)","v":"Java में उन्नत प्रोग्रामिंग1"}]
[null,3,{"$f":"'स्कोर ट्रैकर'!C6&COUNTIF('स्कोर ट्रैकर'!$C$4:C6,'स्कोर ट्रैकर'!C6)","v":"स्पैनिश1"}]
[null,4,{"$f":"'स्कोर ट्रैकर'!C7&COUNTIF('स्कोर ट्रैकर'!$C$4:C7,'स्कोर ट्रैकर'!C7)","v":"सैद्धांतिक भौतिकी1"}]
[null,5,{"$f":"'स्कोर ट्रैकर'!C8&COUNTIF('स्कोर ट्रैकर'!$C$4:C8,'स्कोर ट्रैकर'!C8)","v":"आधुनिक फ़्रेंच2"}]
[null,6,{"$f":"'स्कोर ट्रैकर'!C9&COUNTIF('स्कोर ट्रैकर'!$C$4:C9,'स्कोर ट्रैकर'!C9)","v":"आधुनिक फ़्रेंच3"}]
[null,7,{"$f":"'स्कोर ट्रैकर'!C10&COUNTIF('स्कोर ट्रैकर'!$C$4:C10,'स्कोर ट्रैकर'!C10)","v":"संरचना1"}]
[null,8,{"$f":"'स्कोर ट्रैकर'!C11&COUNTIF('स्कोर ट्रैकर'!$C$4:C11,'स्कोर ट्रैकर'!C11)","v":"गणित 11"}]
[null,9,{"$f":"'स्कोर ट्रैकर'!C12&COUNTIF('स्कोर ट्रैकर'!$C$4:C12,'स्कोर ट्रैकर'!C12)","v":"गणित 21"}]
[null,10,{"$f":"'स्कोर ट्रैकर'!C13&COUNTIF('स्कोर ट्रैकर'!$C$4:C14,'स्कोर ट्रैकर'!C13)","v":"गणित 12"}]
[null,11,{"$f":"'स्कोर ट्रैकर'!C14&COUNTIF('स्कोर ट्रैकर'!$C$4:C14,'स्कोर ट्रैकर'!C14)","v":"गणित 22"}]
[null,12,{"$f":"'स्कोर ट्रैकर'!C15&COUNTIF('स्कोर ट्रैकर'!$C$4:C15,'स्कोर ट्रैकर'!C15)","v":"0"}]
[null,13,{"$f":"'स्कोर ट्रैकर'!C16&COUNTIF('स्कोर ट्रैकर'!$C$4:C16,'स्कोर ट्रैकर'!C16)","v":"0"}]
[null,14,{"$f":"'स्कोर ट्रैकर'!C17&COUNTIF('स्कोर ट्रैकर'!$C$4:C17,'स्कोर ट्रैकर'!C17)","v":"0"}]
[null,15,{"$f":"'स्कोर ट्रैकर'!C18&COUNTIF('स्कोर ट्रैकर'!$C$4:C18,'स्कोर ट्रैकर'!C18)","v":"0"}]
[null,16,{"$f":"'स्कोर ट्रैकर'!C19&COUNTIF('स्कोर ट्रैकर'!$C$4:C19,'स्कोर ट्रैकर'!C19)","v":"0"}]
[null,17,{"$f":"'स्कोर ट्रैकर'!C20&COUNTIF('स्कोर ट्रैकर'!$C$4:C20,'स्कोर ट्रैकर'!C20)","v":"0"}]
[null,18,{"$f":"'स्कोर ट्रैकर'!C21&COUNTIF('स्कोर ट्रैकर'!$C$4:C21,'स्कोर ट्रैकर'!C21)","v":"0"}]
[null,19,{"$f":"'स्कोर ट्रैकर'!C22&COUNTIF('स्कोर ट्रैकर'!$C$4:C22,'स्कोर ट्रैकर'!C22)","v":"0"}]
[null,20,{"$f":"'स्कोर ट्रैकर'!C23&COUNTIF('स्कोर ट्रैकर'!$C$4:C23,'स्कोर ट्रैकर'!C23)","v":"0"}]
[null,21,{"$f":"'स्कोर ट्रैकर'!C24&COUNTIF('स्कोर ट्रैकर'!$C$4:C24,'स्कोर ट्रैकर'!C24)","v":"0"}]
[null,22,{"$f":"'स्कोर ट्रैकर'!C25&COUNTIF('स्कोर ट्रैकर'!$C$4:C25,'स्कोर ट्रैकर'!C25)","v":"0"}]
[null,23,{"$f":"'स्कोर ट्रैकर'!C26&COUNTIF('स्कोर ट्रैकर'!$C$4:C26,'स्कोर ट्रैकर'!C26)","v":"0"}]
[null,24,{"$f":"'स्कोर ट्रैकर'!C27&COUNTIF('स्कोर ट्रैकर'!$C$4:C27,'स्कोर ट्रैकर'!C27)","v":"0"}]
[null,25,{"$f":"'स्कोर ट्रैकर'!C28&COUNTIF('स्कोर ट्रैकर'!$C$4:C28,'स्कोर ट्रैकर'!C28)","v":"0"}]
[null,26,{"$f":"'स्कोर ट्रैकर'!C29&COUNTIF('स्कोर ट्रैकर'!$C$4:C29,'स्कोर ट्रैकर'!C29)","v":"0"}]
[null,27,{"$f":"'स्कोर ट्रैकर'!C30&COUNTIF('स्कोर ट्रैकर'!$C$4:C30,'स्कोर ट्रैकर'!C30)","v":"0"}]
[null,28,{"$f":"'स्कोर ट्रैकर'!C31&COUNTIF('स्कोर ट्रैकर'!$C$4:C31,'स्कोर ट्रैकर'!C31)","v":"0"}]
[null,29,{"$f":"'स्कोर ट्रैकर'!C32&COUNTIF('स्कोर ट्रैकर'!$C$4:C32,'स्कोर ट्रैकर'!C32)","v":"0"}]
[null,30,{"$f":"'स्कोर ट्रैकर'!C33&COUNTIF('स्कोर ट्रैकर'!$C$4:C33,'स्कोर ट्रैकर'!C33)","v":"0"}]
[null,31,{"$f":"'स्कोर ट्रैकर'!C34&COUNTIF('स्कोर ट्रैकर'!$C$4:C34,'स्कोर ट्रैकर'!C34)","v":"0"}]
[null,32,{"$f":"'स्कोर ट्रैकर'!C35&COUNTIF('स्कोर ट्रैकर'!$C$4:C35,'स्कोर ट्रैकर'!C35)","v":"0"}]
[null,33,{"$f":"'स्कोर ट्रैकर'!C36&COUNTIF('स्कोर ट्रैकर'!$C$4:C36,'स्कोर ट्रैकर'!C36)","v":"0"}]
[null,34,{"$f":"'स्कोर ट्रैकर'!C37&COUNTIF('स्कोर ट्रैकर'!$C$4:C37,'स्कोर ट्रैकर'!C37)","v":"0"}]
[null,35,{"$f":"'स्कोर ट्रैकर'!C38&COUNTIF('स्कोर ट्रैकर'!$C$4:C38,'स्कोर ट्रैकर'!C38)","v":"0"}]
[null,36,{"$f":"'स्कोर ट्रैकर'!C39&COUNTIF('स्कोर ट्रैकर'!$C$4:C39,'स्कोर ट्रैकर'!C39)","v":"0"}]
[null,37,{"$f":"'स्कोर ट्रैकर'!C40&COUNTIF('स्कोर ट्रैकर'!$C$4:C40,'स्कोर ट्रैकर'!C40)","v":"0"}]
[null,38,{"$f":"'स्कोर ट्रैकर'!C41&COUNTIF('स्कोर ट्रैकर'!$C$4:C41,'स्कोर ट्रैकर'!C41)","v":"0"}]
[null,39,{"$f":"'स्कोर ट्रैकर'!C42&COUNTIF('स्कोर ट्रैकर'!$C$4:C42,'स्कोर ट्रैकर'!C42)","v":"0"}]
[null,40,{"$f":"'स्कोर ट्रैकर'!C43&COUNTIF('स्कोर ट्रैकर'!$C$4:C43,'स्कोर ट्रैकर'!C43)","v":"0"}]
[null,41,{"$f":"'स्कोर ट्रैकर'!C44&COUNTIF('स्कोर ट्रैकर'!$C$4:C44,'स्कोर ट्रैकर'!C44)","v":"0"}]
[null,42,{"$f":"'स्कोर ट्रैकर'!C45&COUNTIF('स्कोर ट्रैकर'!$C$4:C45,'स्कोर ट्रैकर'!C45)","v":"0"}]
[null,43,{"$f":"'स्कोर ट्रैकर'!C46&COUNTIF('स्कोर ट्रैकर'!$C$4:C46,'स्कोर ट्रैकर'!C46)","v":"0"}]
[null,44,{"$f":"'स्कोर ट्रैकर'!C47&COUNTIF('स्कोर ट्रैकर'!$C$4:C47,'स्कोर ट्रैकर'!C47)","v":"0"}]
[null,45,{"$f":"'स्कोर ट्रैकर'!C48&COUNTIF('स्कोर ट्रैकर'!$C$4:C48,'स्कोर ट्रैकर'!C48)","v":"0"}]
[null,46,{"$f":"'स्कोर ट्रैकर'!C49&COUNTIF('स्कोर ट्रैकर'!$C$4:C49,'स्कोर ट्रैकर'!C49)","v":"0"}]
[null,47,{"$f":"'स्कोर ट्रैकर'!C50&COUNTIF('स्कोर ट्रैकर'!$C$4:C50,'स्कोर ट्रैकर'!C50)","v":"0"}]
[null,48,{"$f":"'स्कोर ट्रैकर'!C51&COUNTIF('स्कोर ट्रैकर'!$C$4:C51,'स्कोर ट्रैकर'!C51)","v":"0"}]
[null,49,{"$f":"'स्कोर ट्रैकर'!C52&COUNTIF('स्कोर ट्रैकर'!$C$4:C52,'स्कोर ट्रैकर'!C52)","v":"0"}]
[null,50,{"$f":"'स्कोर ट्रैकर'!C53&COUNTIF('स्कोर ट्रैकर'!$C$4:C53,'स्कोर ट्रैकर'!C53)","v":"0"}]
[null,51,{"$f":"'स्कोर ट्रैकर'!C54&COUNTIF('स्कोर ट्रैकर'!$C$4:C54,'स्कोर ट्रैकर'!C54)","v":"0"}]
[null,52,{"$f":"'स्कोर ट्रैकर'!C55&COUNTIF('स्कोर ट्रैकर'!$C$4:C55,'स्कोर ट्रैकर'!C55)","v":"0"}]
[null,53,{"$f":"'स्कोर ट्रैकर'!C56&COUNTIF('स्कोर ट्रैकर'!$C$4:C56,'स्कोर ट्रैकर'!C56)","v":"0"}]
[null,54,{"$f":"'स्कोर ट्रैकर'!C57&COUNTIF('स्कोर ट्रैकर'!$C$4:C57,'स्कोर ट्रैकर'!C57)","v":"0"}]
[null,55,{"$f":"'स्कोर ट्रैकर'!C58&COUNTIF('स्कोर ट्रैकर'!$C$4:C58,'स्कोर ट्रैकर'!C58)","v":"0"}]
[null,56,{"$f":"'स्कोर ट्रैकर'!C59&COUNTIF('स्कोर ट्रैकर'!$C$4:C59,'स्कोर ट्रैकर'!C59)","v":"0"}]
[null,57,{"$f":"'स्कोर ट्रैकर'!C60&COUNTIF('स्कोर ट्रैकर'!$C$4:C60,'स्कोर ट्रैकर'!C60)","v":"0"}]
[null,58,{"$f":"'स्कोर ट्रैकर'!C61&COUNTIF('स्कोर ट्रैकर'!$C$4:C61,'स्कोर ट्रैकर'!C61)","v":"0"}]
[null,59,{"$f":"'स्कोर ट्रैकर'!C62&COUNTIF('स्कोर ट्रैकर'!$C$4:C62,'स्कोर ट्रैकर'!C62)","v":"0"}]
[null,60,{"$f":"'स्कोर ट्रैकर'!C63&COUNTIF('स्कोर ट्रैकर'!$C$4:C63,'स्कोर ट्रैकर'!C63)","v":"0"}]
[null,61,{"$f":"'स्कोर ट्रैकर'!C64&COUNTIF('स्कोर ट्रैकर'!$C$4:C64,'स्कोर ट्रैकर'!C64)","v":"0"}]
[null,62,{"$f":"'स्कोर ट्रैकर'!C65&COUNTIF('स्कोर ट्रैकर'!$C$4:C65,'स्कोर ट्रैकर'!C65)","v":"0"}]
[null,63,{"$f":"'स्कोर ट्रैकर'!C66&COUNTIF('स्कोर ट्रैकर'!$C$4:C66,'स्कोर ट्रैकर'!C66)","v":"0"}]
[null,64,{"$f":"'स्कोर ट्रैकर'!C67&COUNTIF('स्कोर ट्रैकर'!$C$4:C67,'स्कोर ट्रैकर'!C67)","v":"0"}]
[null,65,{"$f":"'स्कोर ट्रैकर'!C68&COUNTIF('स्कोर ट्रैकर'!$C$4:C68,'स्कोर ट्रैकर'!C68)","v":"0"}]
[null,66,{"$f":"'स्कोर ट्रैकर'!C69&COUNTIF('स्कोर ट्रैकर'!$C$4:C69,'स्कोर ट्रैकर'!C69)","v":"0"}]
[null,67,{"$f":"'स्कोर ट्रैकर'!C70&COUNTIF('स्कोर ट्रैकर'!$C$4:C70,'स्कोर ट्रैकर'!C70)","v":"0"}]
[null,68,{"$f":"'स्कोर ट्रैकर'!C71&COUNTIF('स्कोर ट्रैकर'!$C$4:C71,'स्कोर ट्रैकर'!C71)","v":"0"}]
[null,69,{"$f":"'स्कोर ट्रैकर'!C72&COUNTIF('स्कोर ट्रैकर'!$C$4:C72,'स्कोर ट्रैकर'!C72)","v":"0"}]
[null,70,{"$f":"'स्कोर ट्रैकर'!C73&COUNTIF('स्कोर ट्रैकर'!$C$4:C73,'स्कोर ट्रैकर'!C73)","v":"0"}]
[null,71,{"$f":"'स्कोर ट्रैकर'!C74&COUNTIF('स्कोर ट्रैकर'!$C$4:C74,'स्कोर ट्रैकर'!C74)","v":"0"}]
[null,72,{"$f":"'स्कोर ट्रैकर'!C75&COUNTIF('स्कोर ट्रैकर'!$C$4:C75,'स्कोर ट्रैकर'!C75)","v":"0"}]
[null,73,{"$f":"'स्कोर ट्रैकर'!C76&COUNTIF('स्कोर ट्रैकर'!$C$4:C76,'स्कोर ट्रैकर'!C76)","v":"0"}]
[null,74,{"$f":"'स्कोर ट्रैकर'!C77&COUNTIF('स्कोर ट्रैकर'!$C$4:C77,'स्कोर ट्रैकर'!C77)","v":"0"}]
[null,75,{"$f":"'स्कोर ट्रैकर'!C78&COUNTIF('स्कोर ट्रैकर'!$C$4:C78,'स्कोर ट्रैकर'!C78)","v":"0"}]
[null,76,{"$f":"'स्कोर ट्रैकर'!C79&COUNTIF('स्कोर ट्रैकर'!$C$4:C79,'स्कोर ट्रैकर'!C79)","v":"0"}]
[null,77,{"$f":"'स्कोर ट्रैकर'!C80&COUNTIF('स्कोर ट्रैकर'!$C$4:C80,'स्कोर ट्रैकर'!C80)","v":"0"}]
[null,78,{"$f":"'स्कोर ट्रैकर'!C81&COUNTIF('स्कोर ट्रैकर'!$C$4:C81,'स्कोर ट्रैकर'!C81)","v":"0"}]
[null,79,{"$f":"'स्कोर ट्रैकर'!C82&COUNTIF('स्कोर ट्रैकर'!$C$4:C82,'स्कोर ट्रैकर'!C82)","v":"0"}]
[null,80,{"$f":"'स्कोर ट्रैकर'!C83&COUNTIF('स्कोर ट्रैकर'!$C$4:C83,'स्कोर ट्रैकर'!C83)","v":"0"}]
[null,81,{"$f":"'स्कोर ट्रैकर'!C84&COUNTIF('स्कोर ट्रैकर'!$C$4:C84,'स्कोर ट्रैकर'!C84)","v":"0"}]
[null,82,{"$f":"'स्कोर ट्रैकर'!C85&COUNTIF('स्कोर ट्रैकर'!$C$4:C85,'स्कोर ट्रैकर'!C85)","v":"0"}]
[null,83,{"$f":"'स्कोर ट्रैकर'!C86&COUNTIF('स्कोर ट्रैकर'!$C$4:C86,'स्कोर ट्रैकर'!C86)","v":"0"}]
[null,84,{"$f":"'स्कोर ट्रैकर'!C87&COUNTIF('स्कोर ट्रैकर'!$C$4:C87,'स्कोर ट्रैकर'!C87)","v":"0"}]
[null,85,{"$f":"'स्कोर ट्रैकर'!C88&COUNTIF('स्कोर ट्रैकर'!$C$4:C88,'स्कोर ट्रैकर'!C88)","v":"0"}]
[null,86,{"$f":"'स्कोर ट्रैकर'!C89&COUNTIF('स्कोर ट्रैकर'!$C$4:C89,'स्कोर ट्रैकर'!C89)","v":"0"}]
[null,87,{"$f":"'स्कोर ट्रैकर'!C90&COUNTIF('स्कोर ट्रैकर'!$C$4:C90,'स्कोर ट्रैकर'!C90)","v":"0"}]
[null,88,{"$f":"'स्कोर ट्रैकर'!C91&COUNTIF('स्कोर ट्रैकर'!$C$4:C91,'स्कोर ट्रैकर'!C91)","v":"0"}]
[null,89,{"$f":"'स्कोर ट्रैकर'!C92&COUNTIF('स्कोर ट्रैकर'!$C$4:C92,'स्कोर ट्रैकर'!C92)","v":"0"}]
[null,90,{"$f":"'स्कोर ट्रैकर'!C93&COUNTIF('स्कोर ट्रैकर'!$C$4:C93,'स्कोर ट्रैकर'!C93)","v":"0"}]
[null,91,{"$f":"'स्कोर ट्रैकर'!C94&COUNTIF('स्कोर ट्रैकर'!$C$4:C94,'स्कोर ट्रैकर'!C94)","v":"0"}]
[null,92,{"$f":"'स्कोर ट्रैकर'!C95&COUNTIF('स्कोर ट्रैकर'!$C$4:C95,'स्कोर ट्रैकर'!C95)","v":"0"}]
[null,93,{"$f":"'स्कोर ट्रैकर'!C96&COUNTIF('स्कोर ट्रैकर'!$C$4:C96,'स्कोर ट्रैकर'!C96)","v":"0"}]
[null,94,{"$f":"'स्कोर ट्रैकर'!C97&COUNTIF('स्कोर ट्रैकर'!$C$4:C97,'स्कोर ट्रैकर'!C97)","v":"0"}]
[null,95,{"$f":"'स्कोर ट्रैकर'!C98&COUNTIF('स्कोर ट्रैकर'!$C$4:C98,'स्कोर ट्रैकर'!C98)","v":"0"}]
[null,96,{"$f":"'स्कोर ट्रैकर'!C99&COUNTIF('स्कोर ट्रैकर'!$C$4:C99,'स्कोर ट्रैकर'!C99)","v":"0"}]
[null,97,{"$f":"'स्कोर ट्रैकर'!C100&COUNTIF('स्कोर ट्रैकर'!$C$4:C100,'स्कोर ट्रैकर'!C100)","v":"0"}]
[null,98,{"$f":"'स्कोर ट्रैकर'!C101&COUNTIF('स्कोर ट्रैकर'!$C$4:C101,'स्कोर ट्रैकर'!C101)","v":"0"}]
[null,99,{"$f":"'स्कोर ट्रैकर'!C102&COUNTIF('स्कोर ट्रैकर'!$C$4:C102,'स्कोर ट्रैकर'!C102)","v":"0"}]
[null,100,{"$f":"'स्कोर ट्रैकर'!C103&COUNTIF('स्कोर ट्रैकर'!$C$4:C103,'स्कोर ट्रैकर'!C103)","v":"0"}]
[null,101,{"$f":"'स्कोर ट्रैकर'!C104&COUNTIF('स्कोर ट्रैकर'!$C$4:C104,'स्कोर ट्रैकर'!C104)","v":"0"}]
[null,102,{"$f":"'स्कोर ट्रैकर'!C105&COUNTIF('स्कोर ट्रैकर'!$C$4:C105,'स्कोर ट्रैकर'!C105)","v":"0"}]
[null,103,{"$f":"'स्कोर ट्रैकर'!C106&COUNTIF('स्कोर ट्रैकर'!$C$4:C106,'स्कोर ट्रैकर'!C106)","v":"0"}]
[null,104,{"$f":"'स्कोर ट्रैकर'!C107&COUNTIF('स्कोर ट्रैकर'!$C$4:C107,'स्कोर ट्रैकर'!C107)","v":"0"}]
[null,105,{"$f":"'स्कोर ट्रैकर'!C108&COUNTIF('स्कोर ट्रैकर'!$C$4:C108,'स्कोर ट्रैकर'!C108)","v":"0"}]
[null,106,{"$f":"'स्कोर ट्रैकर'!C109&COUNTIF('स्कोर ट्रैकर'!$C$4:C109,'स्कोर ट्रैकर'!C109)","v":"0"}]
[null,107,{"$f":"'स्कोर ट्रैकर'!C110&COUNTIF('स्कोर ट्रैकर'!$C$4:C110,'स्कोर ट्रैकर'!C110)","v":"0"}]
[null,108,{"$f":"'स्कोर ट्रैकर'!C111&COUNTIF('स्कोर ट्रैकर'!$C$4:C111,'स्कोर ट्रैकर'!C111)","v":"0"}]
[null,109,{"$f":"'स्कोर ट्रैकर'!C112&COUNTIF('स्कोर ट्रैकर'!$C$4:C112,'स्कोर ट्रैकर'!C112)","v":"0"}]
[null,110,{"$f":"'स्कोर ट्रैकर'!C113&COUNTIF('स्कोर ट्रैकर'!$C$4:C113,'स्कोर ट्रैकर'!C113)","v":"0"}]
[null,111,{"$f":"'स्कोर ट्रैकर'!C114&COUNTIF('स्कोर ट्रैकर'!$C$4:C114,'स्कोर ट्रैकर'!C114)","v":"0"}]
[null,112,{"$f":"'स्कोर ट्रैकर'!C115&COUNTIF('स्कोर ट्रैकर'!$C$4:C115,'स्कोर ट्रैकर'!C115)","v":"0"}]
[null,113,{"$f":"'स्कोर ट्रैकर'!C116&COUNTIF('स्कोर ट्रैकर'!$C$4:C116,'स्कोर ट्रैकर'!C116)","v":"0"}]
[null,114,{"$f":"'स्कोर ट्रैकर'!C117&COUNTIF('स्कोर ट्रैकर'!$C$4:C117,'स्कोर ट्रैकर'!C117)","v":"0"}]
[null,115,{"$f":"'स्कोर ट्रैकर'!C118&COUNTIF('स्कोर ट्रैकर'!$C$4:C118,'स्कोर ट्रैकर'!C118)","v":"0"}]
[null,116,{"$f":"'स्कोर ट्रैकर'!C119&COUNTIF('स्कोर ट्रैकर'!$C$4:C119,'स्कोर ट्रैकर'!C119)","v":"0"}]
[null,117,{"$f":"'स्कोर ट्रैकर'!C120&COUNTIF('स्कोर ट्रैकर'!$C$4:C120,'स्कोर ट्रैकर'!C120)","v":"0"}]
[null,118,{"$f":"'स्कोर ट्रैकर'!C121&COUNTIF('स्कोर ट्रैकर'!$C$4:C121,'स्कोर ट्रैकर'!C121)","v":"0"}]
[null,119,{"$f":"'स्कोर ट्रैकर'!C122&COUNTIF('स्कोर ट्रैकर'!$C$4:C122,'स्कोर ट्रैकर'!C122)","v":"0"}]
[null,120,{"$f":"'स्कोर ट्रैकर'!C123&COUNTIF('स्कोर ट्रैकर'!$C$4:C123,'स्कोर ट्रैकर'!C123)","v":"0"}]
[null,121,{"$f":"'स्कोर ट्रैकर'!C124&COUNTIF('स्कोर ट्रैकर'!$C$4:C124,'स्कोर ट्रैकर'!C124)","v":"0"}]
[null,122,{"$f":"'स्कोर ट्रैकर'!C125&COUNTIF('स्कोर ट्रैकर'!$C$4:C125,'स्कोर ट्रैकर'!C125)","v":"0"}]
[null,123,{"$f":"'स्कोर ट्रैकर'!C126&COUNTIF('स्कोर ट्रैकर'!$C$4:C126,'स्कोर ट्रैकर'!C126)","v":"0"}]
[null,124,{"$f":"'स्कोर ट्रैकर'!C127&COUNTIF('स्कोर ट्रैकर'!$C$4:C127,'स्कोर ट्रैकर'!C127)","v":"0"}]
[null,125,{"$f":"'स्कोर ट्रैकर'!C128&COUNTIF('स्कोर ट्रैकर'!$C$4:C128,'स्कोर ट्रैकर'!C128)","v":"0"}]
[null,126,{"$f":"'स्कोर ट्रैकर'!C129&COUNTIF('स्कोर ट्रैकर'!$C$4:C129,'स्कोर ट्रैकर'!C129)","v":"0"}]
[null,127,{"$f":"'स्कोर ट्रैकर'!C130&COUNTIF('स्कोर ट्रैकर'!$C$4:C130,'स्कोर ट्रैकर'!C130)","v":"0"}]
[null,128,{"$f":"'स्कोर ट्रैकर'!C131&COUNTIF('स्कोर ट्रैकर'!$C$4:C131,'स्कोर ट्रैकर'!C131)","v":"0"}]
[null,129,{"$f":"'स्कोर ट्रैकर'!C132&COUNTIF('स्कोर ट्रैकर'!$C$4:C132,'स्कोर ट्रैकर'!C132)","v":"0"}]
[null,130,{"$f":"'स्कोर ट्रैकर'!C133&COUNTIF('स्कोर ट्रैकर'!$C$4:C133,'स्कोर ट्रैकर'!C133)","v":"0"}]
[null,131,{"$f":"'स्कोर ट्रैकर'!C134&COUNTIF('स्कोर ट्रैकर'!$C$4:C134,'स्कोर ट्रैकर'!C134)","v":"0"}]
[null,132,{"$f":"'स्कोर ट्रैकर'!C135&COUNTIF('स्कोर ट्रैकर'!$C$4:C135,'स्कोर ट्रैकर'!C135)","v":"0"}]
[null,133,{"$f":"'स्कोर ट्रैकर'!C136&COUNTIF('स्कोर ट्रैकर'!$C$4:C136,'स्कोर ट्रैकर'!C136)","v":"0"}]
[null,134,{"$f":"'स्कोर ट्रैकर'!C137&COUNTIF('स्कोर ट्रैकर'!$C$4:C137,'स्कोर ट्रैकर'!C137)","v":"0"}]
[null,135,{"$f":"'स्कोर ट्रैकर'!C138&COUNTIF('स्कोर ट्रैकर'!$C$4:C138,'स्कोर ट्रैकर'!C138)","v":"0"}]
[null,136,{"$f":"'स्कोर ट्रैकर'!C139&COUNTIF('स्कोर ट्रैकर'!$C$4:C139,'स्कोर ट्रैकर'!C139)","v":"0"}]
[null,137,{"$f":"'स्कोर ट्रैकर'!C140&COUNTIF('स्कोर ट्रैकर'!$C$4:C140,'स्कोर ट्रैकर'!C140)","v":"0"}]
[null,138,{"$f":"'स्कोर ट्रैकर'!C141&COUNTIF('स्कोर ट्रैकर'!$C$4:C141,'स्कोर ट्रैकर'!C141)","v":"0"}]
[null,139,{"$f":"'स्कोर ट्रैकर'!C142&COUNTIF('स्कोर ट्रैकर'!$C$4:C142,'स्कोर ट्रैकर'!C142)","v":"0"}]
[null,140,{"$f":"'स्कोर ट्रैकर'!C143&COUNTIF('स्कोर ट्रैकर'!$C$4:C143,'स्कोर ट्रैकर'!C143)","v":"0"}]
[null,141,{"$f":"'स्कोर ट्रैकर'!C144&COUNTIF('स्कोर ट्रैकर'!$C$4:C144,'स्कोर ट्रैकर'!C144)","v":"0"}]
[null,142,{"$f":"'स्कोर ट्रैकर'!C145&COUNTIF('स्कोर ट्रैकर'!$C$4:C145,'स्कोर ट्रैकर'!C145)","v":"0"}]
[null,143,{"$f":"'स्कोर ट्रैकर'!C146&COUNTIF('स्कोर ट्रैकर'!$C$4:C146,'स्कोर ट्रैकर'!C146)","v":"0"}]
[null,144,{"$f":"'स्कोर ट्रैकर'!C147&COUNTIF('स्कोर ट्रैकर'!$C$4:C147,'स्कोर ट्रैकर'!C147)","v":"0"}]
[null,145,{"$f":"'स्कोर ट्रैकर'!C148&COUNTIF('स्कोर ट्रैकर'!$C$4:C148,'स्कोर ट्रैकर'!C148)","v":"0"}]
[null,146,{"$f":"'स्कोर ट्रैकर'!C149&COUNTIF('स्कोर ट्रैकर'!$C$4:C149,'स्कोर ट्रैकर'!C149)","v":"0"}]
[null,147,{"$f":"'स्कोर ट्रैकर'!C150&COUNTIF('स्कोर ट्रैकर'!$C$4:C150,'स्कोर ट्रैकर'!C150)","v":"0"}]
[null,148,{"$f":"'स्कोर ट्रैकर'!C151&COUNTIF('स्कोर ट्रैकर'!$C$4:C151,'स्कोर ट्रैकर'!C151)","v":"0"}]
[null,149,{"$f":"'स्कोर ट्रैकर'!C152&COUNTIF('स्कोर ट्रैकर'!$C$4:C152,'स्कोर ट्रैकर'!C152)","v":"0"}]
[null,150,{"$f":"'स्कोर ट्रैकर'!C153&COUNTIF('स्कोर ट्रैकर'!$C$4:C153,'स्कोर ट्रैकर'!C153)","v":"0"}]
[null,151,{"$f":"'स्कोर ट्रैकर'!C154&COUNTIF('स्कोर ट्रैकर'!$C$4:C154,'स्कोर ट्रैकर'!C154)","v":"0"}]
[null,152,{"$f":"'स्कोर ट्रैकर'!C155&COUNTIF('स्कोर ट्रैकर'!$C$4:C155,'स्कोर ट्रैकर'!C155)","v":"0"}]
[null,153,{"$f":"'स्कोर ट्रैकर'!C156&COUNTIF('स्कोर ट्रैकर'!$C$4:C156,'स्कोर ट्रैकर'!C156)","v":"0"}]
[null,154,{"$f":"'स्कोर ट्रैकर'!C157&COUNTIF('स्कोर ट्रैकर'!$C$4:C157,'स्कोर ट्रैकर'!C157)","v":"0"}]
[null,155,{"$f":"'स्कोर ट्रैकर'!C158&COUNTIF('स्कोर ट्रैकर'!$C$4:C158,'स्कोर ट्रैकर'!C158)","v":"0"}]
[null,156,{"$f":"'स्कोर ट्रैकर'!C159&COUNTIF('स्कोर ट्रैकर'!$C$4:C159,'स्कोर ट्रैकर'!C159)","v":"0"}]
[null,157,{"$f":"'स्कोर ट्रैकर'!C160&COUNTIF('स्कोर ट्रैकर'!$C$4:C160,'स्कोर ट्रैकर'!C160)","v":"0"}]
[null,158,{"$f":"'स्कोर ट्रैकर'!C161&COUNTIF('स्कोर ट्रैकर'!$C$4:C161,'स्कोर ट्रैकर'!C161)","v":"0"}]
[null,159,{"$f":"'स्कोर ट्रैकर'!C162&COUNTIF('स्कोर ट्रैकर'!$C$4:C162,'स्कोर ट्रैकर'!C162)","v":"0"}]
[null,160,{"$f":"'स्कोर ट्रैकर'!C163&COUNTIF('स्कोर ट्रैकर'!$C$4:C163,'स्कोर ट्रैकर'!C163)","v":"0"}]
[null,161,{"$f":"'स्कोर ट्रैकर'!C164&COUNTIF('स्कोर ट्रैकर'!$C$4:C164,'स्कोर ट्रैकर'!C164)","v":"0"}]
[null,162,{"$f":"'स्कोर ट्रैकर'!C165&COUNTIF('स्कोर ट्रैकर'!$C$4:C165,'स्कोर ट्रैकर'!C165)","v":"0"}]
[null,163,{"$f":"'स्कोर ट्रैकर'!C166&COUNTIF('स्कोर ट्रैकर'!$C$4:C166,'स्कोर ट्रैकर'!C166)","v":"0"}]
[null,164,{"$f":"'स्कोर ट्रैकर'!C167&COUNTIF('स्कोर ट्रैकर'!$C$4:C167,'स्कोर ट्रैकर'!C167)","v":"0"}]
[null,165,{"$f":"'स्कोर ट्रैकर'!C168&COUNTIF('स्कोर ट्रैकर'!$C$4:C168,'स्कोर ट्रैकर'!C168)","v":"0"}]
[null,166,{"$f":"'स्कोर ट्रैकर'!C169&COUNTIF('स्कोर ट्रैकर'!$C$4:C169,'स्कोर ट्रैकर'!C169)","v":"0"}]
[null,167,{"$f":"'स्कोर ट्रैकर'!C170&COUNTIF('स्कोर ट्रैकर'!$C$4:C170,'स्कोर ट्रैकर'!C170)","v":"0"}]
[null,168,{"$f":"'स्कोर ट्रैकर'!C171&COUNTIF('स्कोर ट्रैकर'!$C$4:C171,'स्कोर ट्रैकर'!C171)","v":"0"}]
[null,169,{"$f":"'स्कोर ट्रैकर'!C172&COUNTIF('स्कोर ट्रैकर'!$C$4:C172,'स्कोर ट्रैकर'!C172)","v":"0"}]
[null,170,{"$f":"'स्कोर ट्रैकर'!C173&COUNTIF('स्कोर ट्रैकर'!$C$4:C173,'स्कोर ट्रैकर'!C173)","v":"0"}]
[null,171,{"$f":"'स्कोर ट्रैकर'!C174&COUNTIF('स्कोर ट्रैकर'!$C$4:C174,'स्कोर ट्रैकर'!C174)","v":"0"}]
[null,172,{"$f":"'स्कोर ट्रैकर'!C175&COUNTIF('स्कोर ट्रैकर'!$C$4:C175,'स्कोर ट्रैकर'!C175)","v":"0"}]
[null,173,{"$f":"'स्कोर ट्रैकर'!C176&COUNTIF('स्कोर ट्रैकर'!$C$4:C176,'स्कोर ट्रैकर'!C176)","v":"0"}]
[null,174,{"$f":"'स्कोर ट्रैकर'!C177&COUNTIF('स्कोर ट्रैकर'!$C$4:C177,'स्कोर ट्रैकर'!C177)","v":"0"}]
[null,175,{"$f":"'स्कोर ट्रैकर'!C178&COUNTIF('स्कोर ट्रैकर'!$C$4:C178,'स्कोर ट्रैकर'!C178)","v":"0"}]
[null,176,{"$f":"'स्कोर ट्रैकर'!C179&COUNTIF('स्कोर ट्रैकर'!$C$4:C179,'स्कोर ट्रैकर'!C179)","v":"0"}]
[null,177,{"$f":"'स्कोर ट्रैकर'!C180&COUNTIF('स्कोर ट्रैकर'!$C$4:C180,'स्कोर ट्रैकर'!C180)","v":"0"}]
[null,178,{"$f":"'स्कोर ट्रैकर'!C181&COUNTIF('स्कोर ट्रैकर'!$C$4:C181,'स्कोर ट्रैकर'!C181)","v":"0"}]
[null,179,{"$f":"'स्कोर ट्रैकर'!C182&COUNTIF('स्कोर ट्रैकर'!$C$4:C182,'स्कोर ट्रैकर'!C182)","v":"0"}]
[null,180,{"$f":"'स्कोर ट्रैकर'!C183&COUNTIF('स्कोर ट्रैकर'!$C$4:C183,'स्कोर ट्रैकर'!C183)","v":"0"}]
[null,181,{"$f":"'स्कोर ट्रैकर'!C184&COUNTIF('स्कोर ट्रैकर'!$C$4:C184,'स्कोर ट्रैकर'!C184)","v":"0"}]
[null,182,{"$f":"'स्कोर ट्रैकर'!C185&COUNTIF('स्कोर ट्रैकर'!$C$4:C185,'स्कोर ट्रैकर'!C185)","v":"0"}]
[null,183,{"$f":"'स्कोर ट्रैकर'!C186&COUNTIF('स्कोर ट्रैकर'!$C$4:C186,'स्कोर ट्रैकर'!C186)","v":"0"}]
[null,184,{"$f":"'स्कोर ट्रैकर'!C187&COUNTIF('स्कोर ट्रैकर'!$C$4:C187,'स्कोर ट्रैकर'!C187)","v":"0"}]
[null,185,{"$f":"'स्कोर ट्रैकर'!C188&COUNTIF('स्कोर ट्रैकर'!$C$4:C188,'स्कोर ट्रैकर'!C188)","v":"0"}]
[null,186,{"$f":"'स्कोर ट्रैकर'!C189&COUNTIF('स्कोर ट्रैकर'!$C$4:C189,'स्कोर ट्रैकर'!C189)","v":"0"}]
[null,187,{"$f":"'स्कोर ट्रैकर'!C190&COUNTIF('स्कोर ट्रैकर'!$C$4:C190,'स्कोर ट्रैकर'!C190)","v":"0"}]
[null,188,{"$f":"'स्कोर ट्रैकर'!C191&COUNTIF('स्कोर ट्रैकर'!$C$4:C191,'स्कोर ट्रैकर'!C191)","v":"0"}]
[null,189,{"$f":"'स्कोर ट्रैकर'!C192&COUNTIF('स्कोर ट्रैकर'!$C$4:C192,'स्कोर ट्रैकर'!C192)","v":"0"}]
[null,190,{"$f":"'स्कोर ट्रैकर'!C193&COUNTIF('स्कोर ट्रैकर'!$C$4:C193,'स्कोर ट्रैकर'!C193)","v":"0"}]
[null,191,{"$f":"'स्कोर ट्रैकर'!C194&COUNTIF('स्कोर ट्रैकर'!$C$4:C194,'स्कोर ट्रैकर'!C194)","v":"0"}]
[null,192,{"$f":"'स्कोर ट्रैकर'!C195&COUNTIF('स्कोर ट्रैकर'!$C$4:C195,'स्कोर ट्रैकर'!C195)","v":"0"}]
[null,193,{"$f":"'स्कोर ट्रैकर'!C196&COUNTIF('स्कोर ट्रैकर'!$C$4:C196,'स्कोर ट्रैकर'!C196)","v":"0"}]
[null,194,{"$f":"'स्कोर ट्रैकर'!C197&COUNTIF('स्कोर ट्रैकर'!$C$4:C197,'स्कोर ट्रैकर'!C197)","v":"0"}]
[null,195,{"$f":"'स्कोर ट्रैकर'!C198&COUNTIF('स्कोर ट्रैकर'!$C$4:C198,'स्कोर ट्रैकर'!C198)","v":"0"}]
[null,196,{"$f":"'स्कोर ट्रैकर'!C199&COUNTIF('स्कोर ट्रैकर'!$C$4:C199,'स्कोर ट्रैकर'!C199)","v":"0"}]
[null,197,{"$f":"'स्कोर ट्रैकर'!C200&COUNTIF('स्कोर ट्रैकर'!$C$4:C200,'स्कोर ट्रैकर'!C200)","v":"0"}]
[null,198,{"$f":"'स्कोर ट्रैकर'!C201&COUNTIF('स्कोर ट्रैकर'!$C$4:C201,'स्कोर ट्रैकर'!C201)","v":"0"}]
[null,199,{"$f":"'स्कोर ट्रैकर'!C202&COUNTIF('स्कोर ट्रैकर'!$C$4:C202,'स्कोर ट्रैकर'!C202)","v":"0"}]
[null,200,{"$f":"'स्कोर ट्रैकर'!C203&COUNTIF('स्कोर ट्रैकर'!$C$4:C203,'स्कोर ट्रैकर'!C203)","v":"0"}]
[null,201,{"$f":"'स्कोर ट्रैकर'!C204&COUNTIF('स्कोर ट्रैकर'!$C$4:C204,'स्कोर ट्रैकर'!C204)","v":"0"}]
[null,202,{"$f":"'स्कोर ट्रैकर'!C205&COUNTIF('स्कोर ट्रैकर'!$C$4:C205,'स्कोर ट्रैकर'!C205)","v":"0"}]
[null,203,{"$f":"'स्कोर ट्रैकर'!C206&COUNTIF('स्कोर ट्रैकर'!$C$4:C206,'स्कोर ट्रैकर'!C206)","v":"0"}]
[null,204,{"$f":"'स्कोर ट्रैकर'!C207&COUNTIF('स्कोर ट्रैकर'!$C$4:C207,'स्कोर ट्रैकर'!C207)","v":"0"}]
[null,205,{"$f":"'स्कोर ट्रैकर'!C208&COUNTIF('स्कोर ट्रैकर'!$C$4:C208,'स्कोर ट्रैकर'!C208)","v":"0"}]
[null,206,{"$f":"'स्कोर ट्रैकर'!C209&COUNTIF('स्कोर ट्रैकर'!$C$4:C209,'स्कोर ट्रैकर'!C209)","v":"0"}]
[null,207,{"$f":"'स्कोर ट्रैकर'!C210&COUNTIF('स्कोर ट्रैकर'!$C$4:C210,'स्कोर ट्रैकर'!C210)","v":"0"}]
[null,208,{"$f":"'स्कोर ट्रैकर'!C211&COUNTIF('स्कोर ट्रैकर'!$C$4:C211,'स्कोर ट्रैकर'!C211)","v":"0"}]
[null,209,{"$f":"'स्कोर ट्रैकर'!C212&COUNTIF('स्कोर ट्रैकर'!$C$4:C212,'स्कोर ट्रैकर'!C212)","v":"0"}]
[null,210,{"$f":"'स्कोर ट्रैकर'!C213&COUNTIF('स्कोर ट्रैकर'!$C$4:C213,'स्कोर ट्रैकर'!C213)","v":"0"}]
[null,211,{"$f":"'स्कोर ट्रैकर'!C214&COUNTIF('स्कोर ट्रैकर'!$C$4:C214,'स्कोर ट्रैकर'!C214)","v":"0"}]
[null,212,{"$f":"'स्कोर ट्रैकर'!C215&COUNTIF('स्कोर ट्रैकर'!$C$4:C215,'स्कोर ट्रैकर'!C215)","v":"0"}]
[null,213,{"$f":"'स्कोर ट्रैकर'!C216&COUNTIF('स्कोर ट्रैकर'!$C$4:C216,'स्कोर ट्रैकर'!C216)","v":"0"}]
[null,214,{"$f":"'स्कोर ट्रैकर'!C217&COUNTIF('स्कोर ट्रैकर'!$C$4:C217,'स्कोर ट्रैकर'!C217)","v":"0"}]
[null,215,{"$f":"'स्कोर ट्रैकर'!C218&COUNTIF('स्कोर ट्रैकर'!$C$4:C218,'स्कोर ट्रैकर'!C218)","v":"0"}]
[null,216,{"$f":"'स्कोर ट्रैकर'!C219&COUNTIF('स्कोर ट्रैकर'!$C$4:C219,'स्कोर ट्रैकर'!C219)","v":"0"}]
[null,217,{"$f":"'स्कोर ट्रैकर'!C220&COUNTIF('स्कोर ट्रैकर'!$C$4:C220,'स्कोर ट्रैकर'!C220)","v":"0"}]
[null,218,{"$f":"'स्कोर ट्रैकर'!C221&COUNTIF('स्कोर ट्रैकर'!$C$4:C221,'स्कोर ट्रैकर'!C221)","v":"0"}]
[null,219,{"$f":"'स्कोर ट्रैकर'!C222&COUNTIF('स्कोर ट्रैकर'!$C$4:C222,'स्कोर ट्रैकर'!C222)","v":"0"}]
[null,220,{"$f":"'स्कोर ट्रैकर'!C223&COUNTIF('स्कोर ट्रैकर'!$C$4:C223,'स्कोर ट्रैकर'!C223)","v":"0"}]
[null,221,{"$f":"'स्कोर ट्रैकर'!C224&COUNTIF('स्कोर ट्रैकर'!$C$4:C224,'स्कोर ट्रैकर'!C224)","v":"0"}]
[null,222,{"$f":"'स्कोर ट्रैकर'!C225&COUNTIF('स्कोर ट्रैकर'!$C$4:C225,'स्कोर ट्रैकर'!C225)","v":"0"}]
[null,223,{"$f":"'स्कोर ट्रैकर'!C226&COUNTIF('स्कोर ट्रैकर'!$C$4:C226,'स्कोर ट्रैकर'!C226)","v":"0"}]
[null,224,{"$f":"'स्कोर ट्रैकर'!C227&COUNTIF('स्कोर ट्रैकर'!$C$4:C227,'स्कोर ट्रैकर'!C227)","v":"0"}]
[null,225,{"$f":"'स्कोर ट्रैकर'!C228&COUNTIF('स्कोर ट्रैकर'!$C$4:C228,'स्कोर ट्रैकर'!C228)","v":"0"}]
[null,226,{"$f":"'स्कोर ट्रैकर'!C229&COUNTIF('स्कोर ट्रैकर'!$C$4:C229,'स्कोर ट्रैकर'!C229)","v":"0"}]
[null,227,{"$f":"'स्कोर ट्रैकर'!C230&COUNTIF('स्कोर ट्रैकर'!$C$4:C230,'स्कोर ट्रैकर'!C230)","v":"0"}]
[null,228,{"$f":"'स्कोर ट्रैकर'!C231&COUNTIF('स्कोर ट्रैकर'!$C$4:C231,'स्कोर ट्रैकर'!C231)","v":"0"}]
[null,229,{"$f":"'स्कोर ट्रैकर'!C232&COUNTIF('स्कोर ट्रैकर'!$C$4:C232,'स्कोर ट्रैकर'!C232)","v":"0"}]
[null,230,{"$f":"'स्कोर ट्रैकर'!C233&COUNTIF('स्कोर ट्रैकर'!$C$4:C233,'स्कोर ट्रैकर'!C233)","v":"0"}]
[null,231,{"$f":"'स्कोर ट्रैकर'!C234&COUNTIF('स्कोर ट्रैकर'!$C$4:C234,'स्कोर ट्रैकर'!C234)","v":"0"}]
[null,232,{"$f":"'स्कोर ट्रैकर'!C235&COUNTIF('स्कोर ट्रैकर'!$C$4:C235,'स्कोर ट्रैकर'!C235)","v":"0"}]
[null,233,{"$f":"'स्कोर ट्रैकर'!C236&COUNTIF('स्कोर ट्रैकर'!$C$4:C236,'स्कोर ट्रैकर'!C236)","v":"0"}]
[null,234,{"$f":"'स्कोर ट्रैकर'!C237&COUNTIF('स्कोर ट्रैकर'!$C$4:C237,'स्कोर ट्रैकर'!C237)","v":"0"}]
[null,235,{"$f":"'स्कोर ट्रैकर'!C238&COUNTIF('स्कोर ट्रैकर'!$C$4:C238,'स्कोर ट्रैकर'!C238)","v":"0"}]
[null,236,{"$f":"'स्कोर ट्रैकर'!C239&COUNTIF('स्कोर ट्रैकर'!$C$4:C239,'स्कोर ट्रैकर'!C239)","v":"0"}]
[null,237,{"$f":"'स्कोर ट्रैकर'!C240&COUNTIF('स्कोर ट्रैकर'!$C$4:C240,'स्कोर ट्रैकर'!C240)","v":"0"}]
[null,238,{"$f":"'स्कोर ट्रैकर'!C241&COUNTIF('स्कोर ट्रैकर'!$C$4:C241,'स्कोर ट्रैकर'!C241)","v":"0"}]
[null,239,{"$f":"'स्कोर ट्रैकर'!C242&COUNTIF('स्कोर ट्रैकर'!$C$4:C242,'स्कोर ट्रैकर'!C242)","v":"0"}]
[null,240,{"$f":"'स्कोर ट्रैकर'!C243&COUNTIF('स्कोर ट्रैकर'!$C$4:C243,'स्कोर ट्रैकर'!C243)","v":"0"}]
[null,241,{"$f":"'स्कोर ट्रैकर'!C244&COUNTIF('स्कोर ट्रैकर'!$C$4:C244,'स्कोर ट्रैकर'!C244)","v":"0"}]
[null,242,{"$f":"'स्कोर ट्रैकर'!C245&COUNTIF('स्कोर ट्रैकर'!$C$4:C245,'स्कोर ट्रैकर'!C245)","v":"0"}]
[null,243,{"$f":"'स्कोर ट्रैकर'!C246&COUNTIF('स्कोर ट्रैकर'!$C$4:C246,'स्कोर ट्रैकर'!C246)","v":"0"}]
[null,244,{"$f":"'स्कोर ट्रैकर'!C247&COUNTIF('स्कोर ट्रैकर'!$C$4:C247,'स्कोर ट्रैकर'!C247)","v":"0"}]
[null,245,{"$f":"'स्कोर ट्रैकर'!C248&COUNTIF('स्कोर ट्रैकर'!$C$4:C248,'स्कोर ट्रैकर'!C248)","v":"0"}]
[null,246,{"$f":"'स्कोर ट्रैकर'!C249&COUNTIF('स्कोर ट्रैकर'!$C$4:C249,'स्कोर ट्रैकर'!C249)","v":"0"}]
[null,247,{"$f":"'स्कोर ट्रैकर'!C250&COUNTIF('स्कोर ट्रैकर'!$C$4:C250,'स्कोर ट्रैकर'!C250)","v":"0"}]
[null,248,{"$f":"'स्कोर ट्रैकर'!C251&COUNTIF('स्कोर ट्रैकर'!$C$4:C251,'स्कोर ट्रैकर'!C251)","v":"0"}]
[null,249,{"$f":"'स्कोर ट्रैकर'!C252&COUNTIF('स्कोर ट्रैकर'!$C$4:C252,'स्कोर ट्रैकर'!C252)","v":"0"}]
[null,250,{"$f":"'स्कोर ट्रैकर'!C253&COUNTIF('स्कोर ट्रैकर'!$C$4:C253,'स्कोर ट्रैकर'!C253)","v":"0"}]
[null,251,{"$f":"'स्कोर ट्रैकर'!C254&COUNTIF('स्कोर ट्रैकर'!$C$4:C254,'स्कोर ट्रैकर'!C254)","v":"0"}]
[null,252,{"$f":"'स्कोर ट्रैकर'!C255&COUNTIF('स्कोर ट्रैकर'!$C$4:C255,'स्कोर ट्रैकर'!C255)","v":"0"}]
[null,253,{"$f":"'स्कोर ट्रैकर'!C256&COUNTIF('स्कोर ट्रैकर'!$C$4:C256,'स्कोर ट्रैकर'!C256)","v":"0"}]
[null,254,{"$f":"'स्कोर ट्रैकर'!C257&COUNTIF('स्कोर ट्रैकर'!$C$4:C257,'स्कोर ट्रैकर'!C257)","v":"0"}]
[null,255,{"$f":"'स्कोर ट्रैकर'!C258&COUNTIF('स्कोर ट्रैकर'!$C$4:C258,'स्कोर ट्रैकर'!C258)","v":"0"}]
[null,256,{"$f":"'स्कोर ट्रैकर'!C259&COUNTIF('स्कोर ट्रैकर'!$C$4:C259,'स्कोर ट्रैकर'!C259)","v":"0"}]
[null,257,{"$f":"'स्कोर ट्रैकर'!C260&COUNTIF('स्कोर ट्रैकर'!$C$4:C260,'स्कोर ट्रैकर'!C260)","v":"0"}]
[null,258,{"$f":"'स्कोर ट्रैकर'!C261&COUNTIF('स्कोर ट्रैकर'!$C$4:C261,'स्कोर ट्रैकर'!C261)","v":"0"}]
[null,259,{"$f":"'स्कोर ट्रैकर'!C262&COUNTIF('स्कोर ट्रैकर'!$C$4:C262,'स्कोर ट्रैकर'!C262)","v":"0"}]
[null,260,{"$f":"'स्कोर ट्रैकर'!C263&COUNTIF('स्कोर ट्रैकर'!$C$4:C263,'स्कोर ट्रैकर'!C263)","v":"0"}]
[null,261,{"$f":"'स्कोर ट्रैकर'!C264&COUNTIF('स्कोर ट्रैकर'!$C$4:C264,'स्कोर ट्रैकर'!C264)","v":"0"}]
[null,262,{"$f":"'स्कोर ट्रैकर'!C265&COUNTIF('स्कोर ट्रैकर'!$C$4:C265,'स्कोर ट्रैकर'!C265)","v":"0"}]
[null,263,{"$f":"'स्कोर ट्रैकर'!C266&COUNTIF('स्कोर ट्रैकर'!$C$4:C266,'स्कोर ट्रैकर'!C266)","v":"0"}]
[null,264,{"$f":"'स्कोर ट्रैकर'!C267&COUNTIF('स्कोर ट्रैकर'!$C$4:C267,'स्कोर ट्रैकर'!C267)","v":"0"}]
[null,265,{"$f":"'स्कोर ट्रैकर'!C268&COUNTIF('स्कोर ट्रैकर'!$C$4:C268,'स्कोर ट्रैकर'!C268)","v":"0"}]
[null,266,{"$f":"'स्कोर ट्रैकर'!C269&COUNTIF('स्कोर ट्रैकर'!$C$4:C269,'स्कोर ट्रैकर'!C269)","v":"0"}]
[null,267,{"$f":"'स्कोर ट्रैकर'!C270&COUNTIF('स्कोर ट्रैकर'!$C$4:C270,'स्कोर ट्रैकर'!C270)","v":"0"}]
[null,268,{"$f":"'स्कोर ट्रैकर'!C271&COUNTIF('स्कोर ट्रैकर'!$C$4:C271,'स्कोर ट्रैकर'!C271)","v":"0"}]
[null,269,{"$f":"'स्कोर ट्रैकर'!C272&COUNTIF('स्कोर ट्रैकर'!$C$4:C272,'स्कोर ट्रैकर'!C272)","v":"0"}]
[null,270,{"$f":"'स्कोर ट्रैकर'!C273&COUNTIF('स्कोर ट्रैकर'!$C$4:C273,'स्कोर ट्रैकर'!C273)","v":"0"}]
[null,271,{"$f":"'स्कोर ट्रैकर'!C274&COUNTIF('स्कोर ट्रैकर'!$C$4:C274,'स्कोर ट्रैकर'!C274)","v":"0"}]
[null,272,{"$f":"'स्कोर ट्रैकर'!C275&COUNTIF('स्कोर ट्रैकर'!$C$4:C275,'स्कोर ट्रैकर'!C275)","v":"0"}]
[null,273,{"$f":"'स्कोर ट्रैकर'!C276&COUNTIF('स्कोर ट्रैकर'!$C$4:C276,'स्कोर ट्रैकर'!C276)","v":"0"}]
[null,274,{"$f":"'स्कोर ट्रैकर'!C277&COUNTIF('स्कोर ट्रैकर'!$C$4:C277,'स्कोर ट्रैकर'!C277)","v":"0"}]
[null,275,{"$f":"'स्कोर ट्रैकर'!C278&COUNTIF('स्कोर ट्रैकर'!$C$4:C278,'स्कोर ट्रैकर'!C278)","v":"0"}]
[null,276,{"$f":"'स्कोर ट्रैकर'!C279&COUNTIF('स्कोर ट्रैकर'!$C$4:C279,'स्कोर ट्रैकर'!C279)","v":"0"}]
[null,277,{"$f":"'स्कोर ट्रैकर'!C280&COUNTIF('स्कोर ट्रैकर'!$C$4:C280,'स्कोर ट्रैकर'!C280)","v":"0"}]
[null,278,{"$f":"'स्कोर ट्रैकर'!C281&COUNTIF('स्कोर ट्रैकर'!$C$4:C281,'स्कोर ट्रैकर'!C281)","v":"0"}]
[null,279,{"$f":"'स्कोर ट्रैकर'!C282&COUNTIF('स्कोर ट्रैकर'!$C$4:C282,'स्कोर ट्रैकर'!C282)","v":"0"}]
[null,280,{"$f":"'स्कोर ट्रैकर'!C283&COUNTIF('स्कोर ट्रैकर'!$C$4:C283,'स्कोर ट्रैकर'!C283)","v":"0"}]
[null,281,{"$f":"'स्कोर ट्रैकर'!C284&COUNTIF('स्कोर ट्रैकर'!$C$4:C284,'स्कोर ट्रैकर'!C284)","v":"0"}]
[null,282,{"$f":"'स्कोर ट्रैकर'!C285&COUNTIF('स्कोर ट्रैकर'!$C$4:C285,'स्कोर ट्रैकर'!C285)","v":"0"}]
[null,283,{"$f":"'स्कोर ट्रैकर'!C286&COUNTIF('स्कोर ट्रैकर'!$C$4:C286,'स्कोर ट्रैकर'!C286)","v":"0"}]
[null,284,{"$f":"'स्कोर ट्रैकर'!C287&COUNTIF('स्कोर ट्रैकर'!$C$4:C287,'स्कोर ट्रैकर'!C287)","v":"0"}]
[null,285,{"$f":"'स्कोर ट्रैकर'!C288&COUNTIF('स्कोर ट्रैकर'!$C$4:C288,'स्कोर ट्रैकर'!C288)","v":"0"}]
[null,286,{"$f":"'स्कोर ट्रैकर'!C289&COUNTIF('स्कोर ट्रैकर'!$C$4:C289,'स्कोर ट्रैकर'!C289)","v":"0"}]
[null,287,{"$f":"'स्कोर ट्रैकर'!C290&COUNTIF('स्कोर ट्रैकर'!$C$4:C290,'स्कोर ट्रैकर'!C290)","v":"0"}]
[null,288,{"$f":"'स्कोर ट्रैकर'!C291&COUNTIF('स्कोर ट्रैकर'!$C$4:C291,'स्कोर ट्रैकर'!C291)","v":"0"}]
[null,289,{"$f":"'स्कोर ट्रैकर'!C292&COUNTIF('स्कोर ट्रैकर'!$C$4:C292,'स्कोर ट्रैकर'!C292)","v":"0"}]
[null,290,{"$f":"'स्कोर ट्रैकर'!C293&COUNTIF('स्कोर ट्रैकर'!$C$4:C293,'स्कोर ट्रैकर'!C293)","v":"0"}]
[null,291,{"$f":"'स्कोर ट्रैकर'!C294&COUNTIF('स्कोर ट्रैकर'!$C$4:C294,'स्कोर ट्रैकर'!C294)","v":"0"}]
[null,292,{"$f":"'स्कोर ट्रैकर'!C295&COUNTIF('स्कोर ट्रैकर'!$C$4:C295,'स्कोर ट्रैकर'!C295)","v":"0"}]
[null,293,{"$f":"'स्कोर ट्रैकर'!C296&COUNTIF('स्कोर ट्रैकर'!$C$4:C296,'स्कोर ट्रैकर'!C296)","v":"0"}]
[null,294,{"$f":"'स्कोर ट्रैकर'!C297&COUNTIF('स्कोर ट्रैकर'!$C$4:C297,'स्कोर ट्रैकर'!C297)","v":"0"}]
[null,295,{"$f":"'स्कोर ट्रैकर'!C298&COUNTIF('स्कोर ट्रैकर'!$C$4:C298,'स्कोर ट्रैकर'!C298)","v":"0"}]
[null,296,{"$f":"'स्कोर ट्रैकर'!C299&COUNTIF('स्कोर ट्रैकर'!$C$4:C299,'स्कोर ट्रैकर'!C299)","v":"0"}]
[null,297,{"$f":"'स्कोर ट्रैकर'!C300&COUNTIF('स्कोर ट्रैकर'!$C$4:C300,'स्कोर ट्रैकर'!C300)","v":"0"}]
[null,298,{"$f":"'स्कोर ट्रैकर'!C301&COUNTIF('स्कोर ट्रैकर'!$C$4:C301,'स्कोर ट्रैकर'!C301)","v":"0"}]
[null,299,{"$f":"'स्कोर ट्रैकर'!C302&COUNTIF('स्कोर ट्रैकर'!$C$4:C302,'स्कोर ट्रैकर'!C302)","v":"0"}]
[null,300,{"$f":"'स्कोर ट्रैकर'!C303&COUNTIF('स्कोर ट्रैकर'!$C$4:C303,'स्कोर ट्रैकर'!C303)","v":"0"}]
[null,301,{"$f":"'स्कोर ट्रैकर'!C304&COUNTIF('स्कोर ट्रैकर'!$C$4:C304,'स्कोर ट्रैकर'!C304)","v":"0"}]
[null,302,{"$f":"'स्कोर ट्रैकर'!C305&COUNTIF('स्कोर ट्रैकर'!$C$4:C305,'स्कोर ट्रैकर'!C305)","v":"0"}]
[null,303,{"$f":"'स्कोर ट्रैकर'!C306&COUNTIF('स्कोर ट्रैकर'!$C$4:C306,'स्कोर ट्रैकर'!C306)","v":"0"}]
[null,304,{"$f":"'स्कोर ट्रैकर'!C307&COUNTIF('स्कोर ट्रैकर'!$C$4:C307,'स्कोर ट्रैकर'!C307)","v":"0"}]
[null,305,{"$f":"'स्कोर ट्रैकर'!C308&COUNTIF('स्कोर ट्रैकर'!$C$4:C308,'स्कोर ट्रैकर'!C308)","v":"0"}]
[null,306,{"$f":"'स्कोर ट्रैकर'!C309&COUNTIF('स्कोर ट्रैकर'!$C$4:C309,'स्कोर ट्रैकर'!C309)","v":"0"}]
[null,307,{"$f":"'स्कोर ट्रैकर'!C310&COUNTIF('स्कोर ट्रैकर'!$C$4:C310,'स्कोर ट्रैकर'!C310)","v":"0"}]
[null,308,{"$f":"'स्कोर ट्रैकर'!C311&COUNTIF('स्कोर ट्रैकर'!$C$4:C311,'स्कोर ट्रैकर'!C311)","v":"0"}]
[null,309,{"$f":"'स्कोर ट्रैकर'!C312&COUNTIF('स्कोर ट्रैकर'!$C$4:C312,'स्कोर ट्रैकर'!C312)","v":"0"}]
[null,310,{"$f":"'स्कोर ट्रैकर'!C313&COUNTIF('स्कोर ट्रैकर'!$C$4:C313,'स्कोर ट्रैकर'!C313)","v":"0"}]
[null,311,{"$f":"'स्कोर ट्रैकर'!C314&COUNTIF('स्कोर ट्रैकर'!$C$4:C314,'स्कोर ट्रैकर'!C314)","v":"0"}]
[null,312,{"$f":"'स्कोर ट्रैकर'!C315&COUNTIF('स्कोर ट्रैकर'!$C$4:C315,'स्कोर ट्रैकर'!C315)","v":"0"}]
[null,313,{"$f":"'स्कोर ट्रैकर'!C316&COUNTIF('स्कोर ट्रैकर'!$C$4:C316,'स्कोर ट्रैकर'!C316)","v":"0"}]
[null,314,{"$f":"'स्कोर ट्रैकर'!C317&COUNTIF('स्कोर ट्रैकर'!$C$4:C317,'स्कोर ट्रैकर'!C317)","v":"0"}]
[null,315,{"$f":"'स्कोर ट्रैकर'!C318&COUNTIF('स्कोर ट्रैकर'!$C$4:C318,'स्कोर ट्रैकर'!C318)","v":"0"}]
[null,316,{"$f":"'स्कोर ट्रैकर'!C319&COUNTIF('स्कोर ट्रैकर'!$C$4:C319,'स्कोर ट्रैकर'!C319)","v":"0"}]
[null,317,{"$f":"'स्कोर ट्रैकर'!C320&COUNTIF('स्कोर ट्रैकर'!$C$4:C320,'स्कोर ट्रैकर'!C320)","v":"0"}]
[null,318,{"$f":"'स्कोर ट्रैकर'!C321&COUNTIF('स्कोर ट्रैकर'!$C$4:C321,'स्कोर ट्रैकर'!C321)","v":"0"}]
[null,319,{"$f":"'स्कोर ट्रैकर'!C322&COUNTIF('स्कोर ट्रैकर'!$C$4:C322,'स्कोर ट्रैकर'!C322)","v":"0"}]
[null,320,{"$f":"'स्कोर ट्रैकर'!C323&COUNTIF('स्कोर ट्रैकर'!$C$4:C323,'स्कोर ट्रैकर'!C323)","v":"0"}]
[null,321,{"$f":"'स्कोर ट्रैकर'!C324&COUNTIF('स्कोर ट्रैकर'!$C$4:C324,'स्कोर ट्रैकर'!C324)","v":"0"}]
[null,322,{"$f":"'स्कोर ट्रैकर'!C325&COUNTIF('स्कोर ट्रैकर'!$C$4:C325,'स्कोर ट्रैकर'!C325)","v":"0"}]
[null,323,{"$f":"'स्कोर ट्रैकर'!C326&COUNTIF('स्कोर ट्रैकर'!$C$4:C326,'स्कोर ट्रैकर'!C326)","v":"0"}]
[null,324,{"$f":"'स्कोर ट्रैकर'!C327&COUNTIF('स्कोर ट्रैकर'!$C$4:C327,'स्कोर ट्रैकर'!C327)","v":"0"}]
[null,325,{"$f":"'स्कोर ट्रैकर'!C328&COUNTIF('स्कोर ट्रैकर'!$C$4:C328,'स्कोर ट्रैकर'!C328)","v":"0"}]
[null,326,{"$f":"'स्कोर ट्रैकर'!C329&COUNTIF('स्कोर ट्रैकर'!$C$4:C329,'स्कोर ट्रैकर'!C329)","v":"0"}]
[null,327,{"$f":"'स्कोर ट्रैकर'!C330&COUNTIF('स्कोर ट्रैकर'!$C$4:C330,'स्कोर ट्रैकर'!C330)","v":"0"}]
[null,328,{"$f":"'स्कोर ट्रैकर'!C331&COUNTIF('स्कोर ट्रैकर'!$C$4:C331,'स्कोर ट्रैकर'!C331)","v":"0"}]
[null,329,{"$f":"'स्कोर ट्रैकर'!C332&COUNTIF('स्कोर ट्रैकर'!$C$4:C332,'स्कोर ट्रैकर'!C332)","v":"0"}]
[null,330,{"$f":"'स्कोर ट्रैकर'!C333&COUNTIF('स्कोर ट्रैकर'!$C$4:C333,'स्कोर ट्रैकर'!C333)","v":"0"}]
[null,331,{"$f":"'स्कोर ट्रैकर'!C334&COUNTIF('स्कोर ट्रैकर'!$C$4:C334,'स्कोर ट्रैकर'!C334)","v":"0"}]
[null,332,{"$f":"'स्कोर ट्रैकर'!C335&COUNTIF('स्कोर ट्रैकर'!$C$4:C335,'स्कोर ट्रैकर'!C335)","v":"0"}]
[null,333,{"$f":"'स्कोर ट्रैकर'!C336&COUNTIF('स्कोर ट्रैकर'!$C$4:C336,'स्कोर ट्रैकर'!C336)","v":"0"}]
[null,334,{"$f":"'स्कोर ट्रैकर'!C337&COUNTIF('स्कोर ट्रैकर'!$C$4:C337,'स्कोर ट्रैकर'!C337)","v":"0"}]
[null,335,{"$f":"'स्कोर ट्रैकर'!C338&COUNTIF('स्कोर ट्रैकर'!$C$4:C338,'स्कोर ट्रैकर'!C338)","v":"0"}]
[null,336,{"$f":"'स्कोर ट्रैकर'!C339&COUNTIF('स्कोर ट्रैकर'!$C$4:C339,'स्कोर ट्रैकर'!C339)","v":"0"}]
[null,337,{"$f":"'स्कोर ट्रैकर'!C340&COUNTIF('स्कोर ट्रैकर'!$C$4:C340,'स्कोर ट्रैकर'!C340)","v":"0"}]
[null,338,{"$f":"'स्कोर ट्रैकर'!C341&COUNTIF('स्कोर ट्रैकर'!$C$4:C341,'स्कोर ट्रैकर'!C341)","v":"0"}]
[null,339,{"$f":"'स्कोर ट्रैकर'!C342&COUNTIF('स्कोर ट्रैकर'!$C$4:C342,'स्कोर ट्रैकर'!C342)","v":"0"}]
[null,340,{"$f":"'स्कोर ट्रैकर'!C343&COUNTIF('स्कोर ट्रैकर'!$C$4:C343,'स्कोर ट्रैकर'!C343)","v":"0"}]
[null,341,{"$f":"'स्कोर ट्रैकर'!C344&COUNTIF('स्कोर ट्रैकर'!$C$4:C344,'स्कोर ट्रैकर'!C344)","v":"0"}]
[null,342,{"$f":"'स्कोर ट्रैकर'!C345&COUNTIF('स्कोर ट्रैकर'!$C$4:C345,'स्कोर ट्रैकर'!C345)","v":"0"}]
[null,343,{"$f":"'स्कोर ट्रैकर'!C346&COUNTIF('स्कोर ट्रैकर'!$C$4:C346,'स्कोर ट्रैकर'!C346)","v":"0"}]
[null,344,{"$f":"'स्कोर ट्रैकर'!C347&COUNTIF('स्कोर ट्रैकर'!$C$4:C347,'स्कोर ट्रैकर'!C347)","v":"0"}]
[null,345,{"$f":"'स्कोर ट्रैकर'!C348&COUNTIF('स्कोर ट्रैकर'!$C$4:C348,'स्कोर ट्रैकर'!C348)","v":"0"}]
[null,346,{"$f":"'स्कोर ट्रैकर'!C349&COUNTIF('स्कोर ट्रैकर'!$C$4:C349,'स्कोर ट्रैकर'!C349)","v":"0"}]
[null,347,{"$f":"'स्कोर ट्रैकर'!C350&COUNTIF('स्कोर ट्रैकर'!$C$4:C350,'स्कोर ट्रैकर'!C350)","v":"0"}]
[null,348,{"$f":"'स्कोर ट्रैकर'!C351&COUNTIF('स्कोर ट्रैकर'!$C$4:C351,'स्कोर ट्रैकर'!C351)","v":"0"}]
[null,349,{"$f":"'स्कोर ट्रैकर'!C352&COUNTIF('स्कोर ट्रैकर'!$C$4:C352,'स्कोर ट्रैकर'!C352)","v":"0"}]
[null,350,{"$f":"'स्कोर ट्रैकर'!C353&COUNTIF('स्कोर ट्रैकर'!$C$4:C353,'स्कोर ट्रैकर'!C353)","v":"0"}]
[null,351,{"$f":"'स्कोर ट्रैकर'!C354&COUNTIF('स्कोर ट्रैकर'!$C$4:C354,'स्कोर ट्रैकर'!C354)","v":"0"}]
[null,352,{"$f":"'स्कोर ट्रैकर'!C355&COUNTIF('स्कोर ट्रैकर'!$C$4:C355,'स्कोर ट्रैकर'!C355)","v":"0"}]
[null,353,{"$f":"'स्कोर ट्रैकर'!C356&COUNTIF('स्कोर ट्रैकर'!$C$4:C356,'स्कोर ट्रैकर'!C356)","v":"0"}]
[null,354,{"$f":"'स्कोर ट्रैकर'!C357&COUNTIF('स्कोर ट्रैकर'!$C$4:C357,'स्कोर ट्रैकर'!C357)","v":"0"}]
[null,355,{"$f":"'स्कोर ट्रैकर'!C358&COUNTIF('स्कोर ट्रैकर'!$C$4:C358,'स्कोर ट्रैकर'!C358)","v":"0"}]
[null,356,{"$f":"'स्कोर ट्रैकर'!C359&COUNTIF('स्कोर ट्रैकर'!$C$4:C359,'स्कोर ट्रैकर'!C359)","v":"0"}]
[null,357,{"$f":"'स्कोर ट्रैकर'!C360&COUNTIF('स्कोर ट्रैकर'!$C$4:C360,'स्कोर ट्रैकर'!C360)","v":"0"}]
[null,358,{"$f":"'स्कोर ट्रैकर'!C361&COUNTIF('स्कोर ट्रैकर'!$C$4:C361,'स्कोर ट्रैकर'!C361)","v":"0"}]
[null,359,{"$f":"'स्कोर ट्रैकर'!C362&COUNTIF('स्कोर ट्रैकर'!$C$4:C362,'स्कोर ट्रैकर'!C362)","v":"0"}]
[null,360,{"$f":"'स्कोर ट्रैकर'!C363&COUNTIF('स्कोर ट्रैकर'!$C$4:C363,'स्कोर ट्रैकर'!C363)","v":"0"}]
[null,361,{"$f":"'स्कोर ट्रैकर'!C364&COUNTIF('स्कोर ट्रैकर'!$C$4:C364,'स्कोर ट्रैकर'!C364)","v":"0"}]
[null,362,{"$f":"'स्कोर ट्रैकर'!C365&COUNTIF('स्कोर ट्रैकर'!$C$4:C365,'स्कोर ट्रैकर'!C365)","v":"0"}]
[null,363,{"$f":"'स्कोर ट्रैकर'!C366&COUNTIF('स्कोर ट्रैकर'!$C$4:C366,'स्कोर ट्रैकर'!C366)","v":"0"}]
[null,364,{"$f":"'स्कोर ट्रैकर'!C367&COUNTIF('स्कोर ट्रैकर'!$C$4:C367,'स्कोर ट्रैकर'!C367)","v":"0"}]
[null,365,{"$f":"'स्कोर ट्रैकर'!C368&COUNTIF('स्कोर ट्रैकर'!$C$4:C368,'स्कोर ट्रैकर'!C368)","v":"0"}]
[null,366,{"$f":"'स्कोर ट्रैकर'!C369&COUNTIF('स्कोर ट्रैकर'!$C$4:C369,'स्कोर ट्रैकर'!C369)","v":"0"}]
[null,367,{"$f":"'स्कोर ट्रैकर'!C370&COUNTIF('स्कोर ट्रैकर'!$C$4:C370,'स्कोर ट्रैकर'!C370)","v":"0"}]
[null,368,{"$f":"'स्कोर ट्रैकर'!C371&COUNTIF('स्कोर ट्रैकर'!$C$4:C371,'स्कोर ट्रैकर'!C371)","v":"0"}]
[null,369,{"$f":"'स्कोर ट्रैकर'!C372&COUNTIF('स्कोर ट्रैकर'!$C$4:C372,'स्कोर ट्रैकर'!C372)","v":"0"}]
[null,370,{"$f":"'स्कोर ट्रैकर'!C373&COUNTIF('स्कोर ट्रैकर'!$C$4:C373,'स्कोर ट्रैकर'!C373)","v":"0"}]
[null,371,{"$f":"'स्कोर ट्रैकर'!C374&COUNTIF('स्कोर ट्रैकर'!$C$4:C374,'स्कोर ट्रैकर'!C374)","v":"0"}]
[null,372,{"$f":"'स्कोर ट्रैकर'!C375&COUNTIF('स्कोर ट्रैकर'!$C$4:C375,'स्कोर ट्रैकर'!C375)","v":"0"}]
[null,373,{"$f":"'स्कोर ट्रैकर'!C376&COUNTIF('स्कोर ट्रैकर'!$C$4:C376,'स्कोर ट्रैकर'!C376)","v":"0"}]
[null,374,{"$f":"'स्कोर ट्रैकर'!C377&COUNTIF('स्कोर ट्रैकर'!$C$4:C377,'स्कोर ट्रैकर'!C377)","v":"0"}]
[null,375,{"$f":"'स्कोर ट्रैकर'!C378&COUNTIF('स्कोर ट्रैकर'!$C$4:C378,'स्कोर ट्रैकर'!C378)","v":"0"}]
[null,376,{"$f":"'स्कोर ट्रैकर'!C379&COUNTIF('स्कोर ट्रैकर'!$C$4:C379,'स्कोर ट्रैकर'!C379)","v":"0"}]
[null,377,{"$f":"'स्कोर ट्रैकर'!C380&COUNTIF('स्कोर ट्रैकर'!$C$4:C380,'स्कोर ट्रैकर'!C380)","v":"0"}]
[null,378,{"$f":"'स्कोर ट्रैकर'!C381&COUNTIF('स्कोर ट्रैकर'!$C$4:C381,'स्कोर ट्रैकर'!C381)","v":"0"}]
[null,379,{"$f":"'स्कोर ट्रैकर'!C382&COUNTIF('स्कोर ट्रैकर'!$C$4:C382,'स्कोर ट्रैकर'!C382)","v":"0"}]
[null,380,{"$f":"'स्कोर ट्रैकर'!C383&COUNTIF('स्कोर ट्रैकर'!$C$4:C383,'स्कोर ट्रैकर'!C383)","v":"0"}]
[null,381,{"$f":"'स्कोर ट्रैकर'!C384&COUNTIF('स्कोर ट्रैकर'!$C$4:C384,'स्कोर ट्रैकर'!C384)","v":"0"}]
[null,382,{"$f":"'स्कोर ट्रैकर'!C385&COUNTIF('स्कोर ट्रैकर'!$C$4:C385,'स्कोर ट्रैकर'!C385)","v":"0"}]
[null,383,{"$f":"'स्कोर ट्रैकर'!C386&COUNTIF('स्कोर ट्रैकर'!$C$4:C386,'स्कोर ट्रैकर'!C386)","v":"0"}]
[null,384,{"$f":"'स्कोर ट्रैकर'!C387&COUNTIF('स्कोर ट्रैकर'!$C$4:C387,'स्कोर ट्रैकर'!C387)","v":"0"}]
[null,385,{"$f":"'स्कोर ट्रैकर'!C388&COUNTIF('स्कोर ट्रैकर'!$C$4:C388,'स्कोर ट्रैकर'!C388)","v":"0"}]
[null,386,{"$f":"'स्कोर ट्रैकर'!C389&COUNTIF('स्कोर ट्रैकर'!$C$4:C389,'स्कोर ट्रैकर'!C389)","v":"0"}]
[null,387,{"$f":"'स्कोर ट्रैकर'!C390&COUNTIF('स्कोर ट्रैकर'!$C$4:C390,'स्कोर ट्रैकर'!C390)","v":"0"}]
[null,388,{"$f":"'स्कोर ट्रैकर'!C391&COUNTIF('स्कोर ट्रैकर'!$C$4:C391,'स्कोर ट्रैकर'!C391)","v":"0"}]
[null,389,{"$f":"'स्कोर ट्रैकर'!C392&COUNTIF('स्कोर ट्रैकर'!$C$4:C392,'स्कोर ट्रैकर'!C392)","v":"0"}]
[null,390,{"$f":"'स्कोर ट्रैकर'!C393&COUNTIF('स्कोर ट्रैकर'!$C$4:C393,'स्कोर ट्रैकर'!C393)","v":"0"}]
[null,391,{"$f":"'स्कोर ट्रैकर'!C394&COUNTIF('स्कोर ट्रैकर'!$C$4:C394,'स्कोर ट्रैकर'!C394)","v":"0"}]
[null,392,{"$f":"'स्कोर ट्रैकर'!C395&COUNTIF('स्कोर ट्रैकर'!$C$4:C395,'स्कोर ट्रैकर'!C395)","v":"0"}]
[null,393,{"$f":"'स्कोर ट्रैकर'!C396&COUNTIF('स्कोर ट्रैकर'!$C$4:C396,'स्कोर ट्रैकर'!C396)","v":"0"}]
[null,394,{"$f":"'स्कोर ट्रैकर'!C397&COUNTIF('स्कोर ट्रैकर'!$C$4:C397,'स्कोर ट्रैकर'!C397)","v":"0"}]
[null,395,{"$f":"'स्कोर ट्रैकर'!C398&COUNTIF('स्कोर ट्रैकर'!$C$4:C398,'स्कोर ट्रैकर'!C398)","v":"0"}]
[null,396,{"$f":"'स्कोर ट्रैकर'!C399&COUNTIF('स्कोर ट्रैकर'!$C$4:C399,'स्कोर ट्रैकर'!C399)","v":"0"}]
[null,397,{"$f":"'स्कोर ट्रैकर'!C400&COUNTIF('स्कोर ट्रैकर'!$C$4:C400,'स्कोर ट्रैकर'!C400)","v":"0"}]
[null,398,{"$f":"'स्कोर ट्रैकर'!C401&COUNTIF('स्कोर ट्रैकर'!$C$4:C401,'स्कोर ट्रैकर'!C401)","v":"0"}]
[null,399,{"$f":"'स्कोर ट्रैकर'!C402&COUNTIF('स्कोर ट्रैकर'!$C$4:C402,'स्कोर ट्रैकर'!C402)","v":"0"}]
[null,400,{"$f":"'स्कोर ट्रैकर'!C403&COUNTIF('स्कोर ट्रैकर'!$C$4:C403,'स्कोर ट्रैकर'!C403)","v":"0"}]
[null,401,{"$f":"'स्कोर ट्रैकर'!C404&COUNTIF('स्कोर ट्रैकर'!$C$4:C404,'स्कोर ट्रैकर'!C404)","v":"0"}]
[null,402,{"$f":"'स्कोर ट्रैकर'!C405&COUNTIF('स्कोर ट्रैकर'!$C$4:C405,'स्कोर ट्रैकर'!C405)","v":"0"}]
[null,403,{"$f":"'स्कोर ट्रैकर'!C406&COUNTIF('स्कोर ट्रैकर'!$C$4:C406,'स्कोर ट्रैकर'!C406)","v":"0"}]
[null,404,{"$f":"'स्कोर ट्रैकर'!C407&COUNTIF('स्कोर ट्रैकर'!$C$4:C407,'स्कोर ट्रैकर'!C407)","v":"0"}]
[null,405,{"$f":"'स्कोर ट्रैकर'!C408&COUNTIF('स्कोर ट्रैकर'!$C$4:C408,'स्कोर ट्रैकर'!C408)","v":"0"}]
[null,406,{"$f":"'स्कोर ट्रैकर'!C409&COUNTIF('स्कोर ट्रैकर'!$C$4:C409,'स्कोर ट्रैकर'!C409)","v":"0"}]
[null,407,{"$f":"'स्कोर ट्रैकर'!C410&COUNTIF('स्कोर ट्रैकर'!$C$4:C410,'स्कोर ट्रैकर'!C410)","v":"0"}]
[null,408,{"$f":"'स्कोर ट्रैकर'!C411&COUNTIF('स्कोर ट्रैकर'!$C$4:C411,'स्कोर ट्रैकर'!C411)","v":"0"}]
[null,409,{"$f":"'स्कोर ट्रैकर'!C412&COUNTIF('स्कोर ट्रैकर'!$C$4:C412,'स्कोर ट्रैकर'!C412)","v":"0"}]
[null,410,{"$f":"'स्कोर ट्रैकर'!C413&COUNTIF('स्कोर ट्रैकर'!$C$4:C413,'स्कोर ट्रैकर'!C413)","v":"0"}]
[null,411,{"$f":"'स्कोर ट्रैकर'!C414&COUNTIF('स्कोर ट्रैकर'!$C$4:C414,'स्कोर ट्रैकर'!C414)","v":"0"}]
[null,412,{"$f":"'स्कोर ट्रैकर'!C415&COUNTIF('स्कोर ट्रैकर'!$C$4:C415,'स्कोर ट्रैकर'!C415)","v":"0"}]
[null,413,{"$f":"'स्कोर ट्रैकर'!C416&COUNTIF('स्कोर ट्रैकर'!$C$4:C416,'स्कोर ट्रैकर'!C416)","v":"0"}]
[null,414,{"$f":"'स्कोर ट्रैकर'!C417&COUNTIF('स्कोर ट्रैकर'!$C$4:C417,'स्कोर ट्रैकर'!C417)","v":"0"}]
[null,415,{"$f":"'स्कोर ट्रैकर'!C418&COUNTIF('स्कोर ट्रैकर'!$C$4:C418,'स्कोर ट्रैकर'!C418)","v":"0"}]
[null,416,{"$f":"'स्कोर ट्रैकर'!C419&COUNTIF('स्कोर ट्रैकर'!$C$4:C419,'स्कोर ट्रैकर'!C419)","v":"0"}]
[null,417,{"$f":"'स्कोर ट्रैकर'!C420&COUNTIF('स्कोर ट्रैकर'!$C$4:C420,'स्कोर ट्रैकर'!C420)","v":"0"}]
[null,418,{"$f":"'स्कोर ट्रैकर'!C421&COUNTIF('स्कोर ट्रैकर'!$C$4:C421,'स्कोर ट्रैकर'!C421)","v":"0"}]
[null,419,{"$f":"'स्कोर ट्रैकर'!C422&COUNTIF('स्कोर ट्रैकर'!$C$4:C422,'स्कोर ट्रैकर'!C422)","v":"0"}]
[null,420,{"$f":"'स्कोर ट्रैकर'!C423&COUNTIF('स्कोर ट्रैकर'!$C$4:C423,'स्कोर ट्रैकर'!C423)","v":"0"}]
[null,421,{"$f":"'स्कोर ट्रैकर'!C424&COUNTIF('स्कोर ट्रैकर'!$C$4:C424,'स्कोर ट्रैकर'!C424)","v":"0"}]
[null,422,{"$f":"'स्कोर ट्रैकर'!C425&COUNTIF('स्कोर ट्रैकर'!$C$4:C425,'स्कोर ट्रैकर'!C425)","v":"0"}]
[null,423,{"$f":"'स्कोर ट्रैकर'!C426&COUNTIF('स्कोर ट्रैकर'!$C$4:C426,'स्कोर ट्रैकर'!C426)","v":"0"}]
[null,424,{"$f":"'स्कोर ट्रैकर'!C427&COUNTIF('स्कोर ट्रैकर'!$C$4:C427,'स्कोर ट्रैकर'!C427)","v":"0"}]
[null,425,{"$f":"'स्कोर ट्रैकर'!C428&COUNTIF('स्कोर ट्रैकर'!$C$4:C428,'स्कोर ट्रैकर'!C428)","v":"0"}]
[null,426,{"$f":"'स्कोर ट्रैकर'!C429&COUNTIF('स्कोर ट्रैकर'!$C$4:C429,'स्कोर ट्रैकर'!C429)","v":"0"}]
[null,427,{"$f":"'स्कोर ट्रैकर'!C430&COUNTIF('स्कोर ट्रैकर'!$C$4:C430,'स्कोर ट्रैकर'!C430)","v":"0"}]
[null,428,{"$f":"'स्कोर ट्रैकर'!C431&COUNTIF('स्कोर ट्रैकर'!$C$4:C431,'स्कोर ट्रैकर'!C431)","v":"0"}]
[null,429,{"$f":"'स्कोर ट्रैकर'!C432&COUNTIF('स्कोर ट्रैकर'!$C$4:C432,'स्कोर ट्रैकर'!C432)","v":"0"}]
[null,430,{"$f":"'स्कोर ट्रैकर'!C433&COUNTIF('स्कोर ट्रैकर'!$C$4:C433,'स्कोर ट्रैकर'!C433)","v":"0"}]
[null,431,{"$f":"'स्कोर ट्रैकर'!C434&COUNTIF('स्कोर ट्रैकर'!$C$4:C434,'स्कोर ट्रैकर'!C434)","v":"0"}]
[null,432,{"$f":"'स्कोर ट्रैकर'!C435&COUNTIF('स्कोर ट्रैकर'!$C$4:C435,'स्कोर ट्रैकर'!C435)","v":"0"}]
[null,433,{"$f":"'स्कोर ट्रैकर'!C436&COUNTIF('स्कोर ट्रैकर'!$C$4:C436,'स्कोर ट्रैकर'!C436)","v":"0"}]
[null,434,{"$f":"'स्कोर ट्रैकर'!C437&COUNTIF('स्कोर ट्रैकर'!$C$4:C437,'स्कोर ट्रैकर'!C437)","v":"0"}]
[null,435,{"$f":"'स्कोर ट्रैकर'!C438&COUNTIF('स्कोर ट्रैकर'!$C$4:C438,'स्कोर ट्रैकर'!C438)","v":"0"}]
[null,436,{"$f":"'स्कोर ट्रैकर'!C439&COUNTIF('स्कोर ट्रैकर'!$C$4:C439,'स्कोर ट्रैकर'!C439)","v":"0"}]
[null,437,{"$f":"'स्कोर ट्रैकर'!C440&COUNTIF('स्कोर ट्रैकर'!$C$4:C440,'स्कोर ट्रैकर'!C440)","v":"0"}]
[null,438,{"$f":"'स्कोर ट्रैकर'!C441&COUNTIF('स्कोर ट्रैकर'!$C$4:C441,'स्कोर ट्रैकर'!C441)","v":"0"}]
[null,439,{"$f":"'स्कोर ट्रैकर'!C442&COUNTIF('स्कोर ट्रैकर'!$C$4:C442,'स्कोर ट्रैकर'!C442)","v":"0"}]
[null,440,{"$f":"'स्कोर ट्रैकर'!C443&COUNTIF('स्कोर ट्रैकर'!$C$4:C443,'स्कोर ट्रैकर'!C443)","v":"0"}]
[null,441,{"$f":"'स्कोर ट्रैकर'!C444&COUNTIF('स्कोर ट्रैकर'!$C$4:C444,'स्कोर ट्रैकर'!C444)","v":"0"}]
[null,442,{"$f":"'स्कोर ट्रैकर'!C445&COUNTIF('स्कोर ट्रैकर'!$C$4:C445,'स्कोर ट्रैकर'!C445)","v":"0"}]
[null,443,{"$f":"'स्कोर ट्रैकर'!C446&COUNTIF('स्कोर ट्रैकर'!$C$4:C446,'स्कोर ट्रैकर'!C446)","v":"0"}]
[null,444,{"$f":"'स्कोर ट्रैकर'!C447&COUNTIF('स्कोर ट्रैकर'!$C$4:C447,'स्कोर ट्रैकर'!C447)","v":"0"}]
[null,445,{"$f":"'स्कोर ट्रैकर'!C448&COUNTIF('स्कोर ट्रैकर'!$C$4:C448,'स्कोर ट्रैकर'!C448)","v":"0"}]
[null,446,{"$f":"'स्कोर ट्रैकर'!C449&COUNTIF('स्कोर ट्रैकर'!$C$4:C449,'स्कोर ट्रैकर'!C449)","v":"0"}]
[null,447,{"$f":"'स्कोर ट्रैकर'!C450&COUNTIF('स्कोर ट्रैकर'!$C$4:C450,'स्कोर ट्रैकर'!C450)","v":"0"}]
[null,448,{"$f":"'स्कोर ट्रैकर'!C451&COUNTIF('स्कोर ट्रैकर'!$C$4:C451,'स्कोर ट्रैकर'!C451)","v":"0"}]
[null,449,{"$f":"'स्कोर ट्रैकर'!C452&COUNTIF('स्कोर ट्रैकर'!$C$4:C452,'स्कोर ट्रैकर'!C452)","v":"0"}]
[null,450,{"$f":"'स्कोर ट्रैकर'!C453&COUNTIF('स्कोर ट्रैकर'!$C$4:C453,'स्कोर ट्रैकर'!C453)","v":"0"}]
[null,451,{"$f":"'स्कोर ट्रैकर'!C454&COUNTIF('स्कोर ट्रैकर'!$C$4:C454,'स्कोर ट्रैकर'!C454)","v":"0"}]
[null,452,{"$f":"'स्कोर ट्रैकर'!C455&COUNTIF('स्कोर ट्रैकर'!$C$4:C455,'स्कोर ट्रैकर'!C455)","v":"0"}]
[null,453,{"$f":"'स्कोर ट्रैकर'!C456&COUNTIF('स्कोर ट्रैकर'!$C$4:C456,'स्कोर ट्रैकर'!C456)","v":"0"}]
[null,454,{"$f":"'स्कोर ट्रैकर'!C457&COUNTIF('स्कोर ट्रैकर'!$C$4:C457,'स्कोर ट्रैकर'!C457)","v":"0"}]
[null,455,{"$f":"'स्कोर ट्रैकर'!C458&COUNTIF('स्कोर ट्रैकर'!$C$4:C458,'स्कोर ट्रैकर'!C458)","v":"0"}]
[null,456,{"$f":"'स्कोर ट्रैकर'!C459&COUNTIF('स्कोर ट्रैकर'!$C$4:C459,'स्कोर ट्रैकर'!C459)","v":"0"}]
[null,457,{"$f":"'स्कोर ट्रैकर'!C460&COUNTIF('स्कोर ट्रैकर'!$C$4:C460,'स्कोर ट्रैकर'!C460)","v":"0"}]
[null,458,{"$f":"'स्कोर ट्रैकर'!C461&COUNTIF('स्कोर ट्रैकर'!$C$4:C461,'स्कोर ट्रैकर'!C461)","v":"0"}]
[null,459,{"$f":"'स्कोर ट्रैकर'!C462&COUNTIF('स्कोर ट्रैकर'!$C$4:C462,'स्कोर ट्रैकर'!C462)","v":"0"}]
[null,460,{"$f":"'स्कोर ट्रैकर'!C463&COUNTIF('स्कोर ट्रैकर'!$C$4:C463,'स्कोर ट्रैकर'!C463)","v":"0"}]
[null,461,{"$f":"'स्कोर ट्रैकर'!C464&COUNTIF('स्कोर ट्रैकर'!$C$4:C464,'स्कोर ट्रैकर'!C464)","v":"0"}]
[null,462,{"$f":"'स्कोर ट्रैकर'!C465&COUNTIF('स्कोर ट्रैकर'!$C$4:C465,'स्कोर ट्रैकर'!C465)","v":"0"}]
[null,463,{"$f":"'स्कोर ट्रैकर'!C466&COUNTIF('स्कोर ट्रैकर'!$C$4:C466,'स्कोर ट्रैकर'!C466)","v":"0"}]
[null,464,{"$f":"'स्कोर ट्रैकर'!C467&COUNTIF('स्कोर ट्रैकर'!$C$4:C467,'स्कोर ट्रैकर'!C467)","v":"0"}]
[null,465,{"$f":"'स्कोर ट्रैकर'!C468&COUNTIF('स्कोर ट्रैकर'!$C$4:C468,'स्कोर ट्रैकर'!C468)","v":"0"}]
[null,466,{"$f":"'स्कोर ट्रैकर'!C469&COUNTIF('स्कोर ट्रैकर'!$C$4:C469,'स्कोर ट्रैकर'!C469)","v":"0"}]
[null,467,{"$f":"'स्कोर ट्रैकर'!C470&COUNTIF('स्कोर ट्रैकर'!$C$4:C470,'स्कोर ट्रैकर'!C470)","v":"0"}]
[null,468,{"$f":"'स्कोर ट्रैकर'!C471&COUNTIF('स्कोर ट्रैकर'!$C$4:C471,'स्कोर ट्रैकर'!C471)","v":"0"}]
[null,469,{"$f":"'स्कोर ट्रैकर'!C472&COUNTIF('स्कोर ट्रैकर'!$C$4:C472,'स्कोर ट्रैकर'!C472)","v":"0"}]
[null,470,{"$f":"'स्कोर ट्रैकर'!C473&COUNTIF('स्कोर ट्रैकर'!$C$4:C473,'स्कोर ट्रैकर'!C473)","v":"0"}]
[null,471,{"$f":"'स्कोर ट्रैकर'!C474&COUNTIF('स्कोर ट्रैकर'!$C$4:C474,'स्कोर ट्रैकर'!C474)","v":"0"}]
[null,472,{"$f":"'स्कोर ट्रैकर'!C475&COUNTIF('स्कोर ट्रैकर'!$C$4:C475,'स्कोर ट्रैकर'!C475)","v":"0"}]
[null,473,{"$f":"'स्कोर ट्रैकर'!C476&COUNTIF('स्कोर ट्रैकर'!$C$4:C476,'स्कोर ट्रैकर'!C476)","v":"0"}]
[null,474,{"$f":"'स्कोर ट्रैकर'!C477&COUNTIF('स्कोर ट्रैकर'!$C$4:C477,'स्कोर ट्रैकर'!C477)","v":"0"}]
[null,475,{"$f":"'स्कोर ट्रैकर'!C478&COUNTIF('स्कोर ट्रैकर'!$C$4:C478,'स्कोर ट्रैकर'!C478)","v":"0"}]
[null,476,{"$f":"'स्कोर ट्रैकर'!C479&COUNTIF('स्कोर ट्रैकर'!$C$4:C479,'स्कोर ट्रैकर'!C479)","v":"0"}]
[null,477,{"$f":"'स्कोर ट्रैकर'!C480&COUNTIF('स्कोर ट्रैकर'!$C$4:C480,'स्कोर ट्रैकर'!C480)","v":"0"}]
[null,478,{"$f":"'स्कोर ट्रैकर'!C481&COUNTIF('स्कोर ट्रैकर'!$C$4:C481,'स्कोर ट्रैकर'!C481)","v":"0"}]
[null,479,{"$f":"'स्कोर ट्रैकर'!C482&COUNTIF('स्कोर ट्रैकर'!$C$4:C482,'स्कोर ट्रैकर'!C482)","v":"0"}]
[null,480,{"$f":"'स्कोर ट्रैकर'!C483&COUNTIF('स्कोर ट्रैकर'!$C$4:C483,'स्कोर ट्रैकर'!C483)","v":"0"}]
[null,481,{"$f":"'स्कोर ट्रैकर'!C484&COUNTIF('स्कोर ट्रैकर'!$C$4:C484,'स्कोर ट्रैकर'!C484)","v":"0"}]
[null,482,{"$f":"'स्कोर ट्रैकर'!C485&COUNTIF('स्कोर ट्रैकर'!$C$4:C485,'स्कोर ट्रैकर'!C485)","v":"0"}]
[null,483,{"$f":"'स्कोर ट्रैकर'!C486&COUNTIF('स्कोर ट्रैकर'!$C$4:C486,'स्कोर ट्रैकर'!C486)","v":"0"}]
[null,484,{"$f":"'स्कोर ट्रैकर'!C487&COUNTIF('स्कोर ट्रैकर'!$C$4:C487,'स्कोर ट्रैकर'!C487)","v":"0"}]
[null,485,{"$f":"'स्कोर ट्रैकर'!C488&COUNTIF('स्कोर ट्रैकर'!$C$4:C488,'स्कोर ट्रैकर'!C488)","v":"0"}]
[null,486,{"$f":"'स्कोर ट्रैकर'!C489&COUNTIF('स्कोर ट्रैकर'!$C$4:C489,'स्कोर ट्रैकर'!C489)","v":"0"}]
[null,487,{"$f":"'स्कोर ट्रैकर'!C490&COUNTIF('स्कोर ट्रैकर'!$C$4:C490,'स्कोर ट्रैकर'!C490)","v":"0"}]
[null,488,{"$f":"'स्कोर ट्रैकर'!C491&COUNTIF('स्कोर ट्रैकर'!$C$4:C491,'स्कोर ट्रैकर'!C491)","v":"0"}]
[null,489,{"$f":"'स्कोर ट्रैकर'!C492&COUNTIF('स्कोर ट्रैकर'!$C$4:C492,'स्कोर ट्रैकर'!C492)","v":"0"}]
[null,490,{"$f":"'स्कोर ट्रैकर'!C493&COUNTIF('स्कोर ट्रैकर'!$C$4:C493,'स्कोर ट्रैकर'!C493)","v":"0"}]
[null,491,{"$f":"'स्कोर ट्रैकर'!C494&COUNTIF('स्कोर ट्रैकर'!$C$4:C494,'स्कोर ट्रैकर'!C494)","v":"0"}]
[null,492,{"$f":"'स्कोर ट्रैकर'!C495&COUNTIF('स्कोर ट्रैकर'!$C$4:C495,'स्कोर ट्रैकर'!C495)","v":"0"}]
[null,493,{"$f":"'स्कोर ट्रैकर'!C496&COUNTIF('स्कोर ट्रैकर'!$C$4:C496,'स्कोर ट्रैकर'!C496)","v":"0"}]
[null,494,{"$f":"'स्कोर ट्रैकर'!C497&COUNTIF('स्कोर ट्रैकर'!$C$4:C497,'स्कोर ट्रैकर'!C497)","v":"0"}]
[null,495,{"$f":"'स्कोर ट्रैकर'!C498&COUNTIF('स्कोर ट्रैकर'!$C$4:C498,'स्कोर ट्रैकर'!C498)","v":"0"}]
[null,496,{"$f":"'स्कोर ट्रैकर'!C499&COUNTIF('स्कोर ट्रैकर'!$C$4:C499,'स्कोर ट्रैकर'!C499)","v":"0"}]
[null,497,{"$f":"'स्कोर ट्रैकर'!C500&COUNTIF('स्कोर ट्रैकर'!$C$4:C500,'स्कोर ट्रैकर'!C500)","v":"0"}]
[null,498,{"$f":"'स्कोर ट्रैकर'!C501&COUNTIF('स्कोर ट्रैकर'!$C$4:C501,'स्कोर ट्रैकर'!C501)","v":"0"}]
[null,499,{"$f":"'स्कोर ट्रैकर'!C502&COUNTIF('स्कोर ट्रैकर'!$C$4:C502,'स्कोर ट्रैकर'!C502)","v":"0"}]
[null,500,{"$f":"'स्कोर ट्रैकर'!C503&COUNTIF('स्कोर ट्रैकर'!$C$4:C503,'स्कोर ट्रैकर'!C503)","v":"0"}]
[null,501,{"$f":"'स्कोर ट्रैकर'!C504&COUNTIF('स्कोर ट्रैकर'!$C$4:C504,'स्कोर ट्रैकर'!C504)","v":"0"}]
[null,502,{"$f":"'स्कोर ट्रैकर'!C505&COUNTIF('स्कोर ट्रैकर'!$C$4:C505,'स्कोर ट्रैकर'!C505)","v":"0"}]
[null,503,{"$f":"'स्कोर ट्रैकर'!C506&COUNTIF('स्कोर ट्रैकर'!$C$4:C506,'स्कोर ट्रैकर'!C506)","v":"0"}]
[null,504,{"$f":"'स्कोर ट्रैकर'!C507&COUNTIF('स्कोर ट्रैकर'!$C$4:C507,'स्कोर ट्रैकर'!C507)","v":"0"}]
[null,505,{"$f":"'स्कोर ट्रैकर'!C508&COUNTIF('स्कोर ट्रैकर'!$C$4:C508,'स्कोर ट्रैकर'!C508)","v":"0"}]
[null,506,{"$f":"'स्कोर ट्रैकर'!C509&COUNTIF('स्कोर ट्रैकर'!$C$4:C509,'स्कोर ट्रैकर'!C509)","v":"0"}]
[null,507,{"$f":"'स्कोर ट्रैकर'!C510&COUNTIF('स्कोर ट्रैकर'!$C$4:C510,'स्कोर ट्रैकर'!C510)","v":"0"}]
[null,508,{"$f":"'स्कोर ट्रैकर'!C511&COUNTIF('स्कोर ट्रैकर'!$C$4:C511,'स्कोर ट्रैकर'!C511)","v":"0"}]
[null,509,{"$f":"'स्कोर ट्रैकर'!C512&COUNTIF('स्कोर ट्रैकर'!$C$4:C512,'स्कोर ट्रैकर'!C512)","v":"0"}]
[null,510,{"$f":"'स्कोर ट्रैकर'!C513&COUNTIF('स्कोर ट्रैकर'!$C$4:C513,'स्कोर ट्रैकर'!C513)","v":"0"}]
[null,511,{"$f":"'स्कोर ट्रैकर'!C514&COUNTIF('स्कोर ट्रैकर'!$C$4:C514,'स्कोर ट्रैकर'!C514)","v":"0"}]
[null,512,{"$f":"'स्कोर ट्रैकर'!C515&COUNTIF('स्कोर ट्रैकर'!$C$4:C515,'स्कोर ट्रैकर'!C515)","v":"0"}]
[null,513,{"$f":"'स्कोर ट्रैकर'!C516&COUNTIF('स्कोर ट्रैकर'!$C$4:C516,'स्कोर ट्रैकर'!C516)","v":"0"}]
[null,514,{"$f":"'स्कोर ट्रैकर'!C517&COUNTIF('स्कोर ट्रैकर'!$C$4:C517,'स्कोर ट्रैकर'!C517)","v":"0"}]
[null,515,{"$f":"'स्कोर ट्रैकर'!C518&COUNTIF('स्कोर ट्रैकर'!$C$4:C518,'स्कोर ट्रैकर'!C518)","v":"0"}]
[null,516,{"$f":"'स्कोर ट्रैकर'!C519&COUNTIF('स्कोर ट्रैकर'!$C$4:C519,'स्कोर ट्रैकर'!C519)","v":"0"}]
[null,517,{"$f":"'स्कोर ट्रैकर'!C520&COUNTIF('स्कोर ट्रैकर'!$C$4:C520,'स्कोर ट्रैकर'!C520)","v":"0"}]
[null,518,{"$f":"'स्कोर ट्रैकर'!C521&COUNTIF('स्कोर ट्रैकर'!$C$4:C521,'स्कोर ट्रैकर'!C521)","v":"0"}]
[null,519,{"$f":"'स्कोर ट्रैकर'!C522&COUNTIF('स्कोर ट्रैकर'!$C$4:C522,'स्कोर ट्रैकर'!C522)","v":"0"}]
[null,520,{"$f":"'स्कोर ट्रैकर'!C523&COUNTIF('स्कोर ट्रैकर'!$C$4:C523,'स्कोर ट्रैकर'!C523)","v":"0"}]
[null,521,{"$f":"'स्कोर ट्रैकर'!C524&COUNTIF('स्कोर ट्रैकर'!$C$4:C524,'स्कोर ट्रैकर'!C524)","v":"0"}]
[null,522,{"$f":"'स्कोर ट्रैकर'!C525&COUNTIF('स्कोर ट्रैकर'!$C$4:C525,'स्कोर ट्रैकर'!C525)","v":"0"}]
[null,523,{"$f":"'स्कोर ट्रैकर'!C526&COUNTIF('स्कोर ट्रैकर'!$C$4:C526,'स्कोर ट्रैकर'!C526)","v":"0"}]
[null,524,{"$f":"'स्कोर ट्रैकर'!C527&COUNTIF('स्कोर ट्रैकर'!$C$4:C527,'स्कोर ट्रैकर'!C527)","v":"0"}]
[null,525,{"$f":"'स्कोर ट्रैकर'!C528&COUNTIF('स्कोर ट्रैकर'!$C$4:C528,'स्कोर ट्रैकर'!C528)","v":"0"}]
[null,526,{"$f":"'स्कोर ट्रैकर'!C529&COUNTIF('स्कोर ट्रैकर'!$C$4:C529,'स्कोर ट्रैकर'!C529)","v":"0"}]
[null,527,{"$f":"'स्कोर ट्रैकर'!C530&COUNTIF('स्कोर ट्रैकर'!$C$4:C530,'स्कोर ट्रैकर'!C530)","v":"0"}]
[null,528,{"$f":"'स्कोर ट्रैकर'!C531&COUNTIF('स्कोर ट्रैकर'!$C$4:C531,'स्कोर ट्रैकर'!C531)","v":"0"}]
[null,529,{"$f":"'स्कोर ट्रैकर'!C532&COUNTIF('स्कोर ट्रैकर'!$C$4:C532,'स्कोर ट्रैकर'!C532)","v":"0"}]
[null,530,{"$f":"'स्कोर ट्रैकर'!C533&COUNTIF('स्कोर ट्रैकर'!$C$4:C533,'स्कोर ट्रैकर'!C533)","v":"0"}]
[null,531,{"$f":"'स्कोर ट्रैकर'!C534&COUNTIF('स्कोर ट्रैकर'!$C$4:C534,'स्कोर ट्रैकर'!C534)","v":"0"}]
[null,532,{"$f":"'स्कोर ट्रैकर'!C535&COUNTIF('स्कोर ट्रैकर'!$C$4:C535,'स्कोर ट्रैकर'!C535)","v":"0"}]
[null,533,{"$f":"'स्कोर ट्रैकर'!C536&COUNTIF('स्कोर ट्रैकर'!$C$4:C536,'स्कोर ट्रैकर'!C536)","v":"0"}]
[null,534,{"$f":"'स्कोर ट्रैकर'!C537&COUNTIF('स्कोर ट्रैकर'!$C$4:C537,'स्कोर ट्रैकर'!C537)","v":"0"}]
[null,535,{"$f":"'स्कोर ट्रैकर'!C538&COUNTIF('स्कोर ट्रैकर'!$C$4:C538,'स्कोर ट्रैकर'!C538)","v":"0"}]
[null,536,{"$f":"'स्कोर ट्रैकर'!C539&COUNTIF('स्कोर ट्रैकर'!$C$4:C539,'स्कोर ट्रैकर'!C539)","v":"0"}]
[null,537,{"$f":"'स्कोर ट्रैकर'!C540&COUNTIF('स्कोर ट्रैकर'!$C$4:C540,'स्कोर ट्रैकर'!C540)","v":"0"}]
[null,538,{"$f":"'स्कोर ट्रैकर'!C541&COUNTIF('स्कोर ट्रैकर'!$C$4:C541,'स्कोर ट्रैकर'!C541)","v":"0"}]
[null,539,{"$f":"'स्कोर ट्रैकर'!C542&COUNTIF('स्कोर ट्रैकर'!$C$4:C542,'स्कोर ट्रैकर'!C542)","v":"0"}]
[null,540,{"$f":"'स्कोर ट्रैकर'!C543&COUNTIF('स्कोर ट्रैकर'!$C$4:C543,'स्कोर ट्रैकर'!C543)","v":"0"}]
[null,541,{"$f":"'स्कोर ट्रैकर'!C544&COUNTIF('स्कोर ट्रैकर'!$C$4:C544,'स्कोर ट्रैकर'!C544)","v":"0"}]
[null,542,{"$f":"'स्कोर ट्रैकर'!C545&COUNTIF('स्कोर ट्रैकर'!$C$4:C545,'स्कोर ट्रैकर'!C545)","v":"0"}]
[null,543,{"$f":"'स्कोर ट्रैकर'!C546&COUNTIF('स्कोर ट्रैकर'!$C$4:C546,'स्कोर ट्रैकर'!C546)","v":"0"}]
[null,544,{"$f":"'स्कोर ट्रैकर'!C547&COUNTIF('स्कोर ट्रैकर'!$C$4:C547,'स्कोर ट्रैकर'!C547)","v":"0"}]
[null,545,{"$f":"'स्कोर ट्रैकर'!C548&COUNTIF('स्कोर ट्रैकर'!$C$4:C548,'स्कोर ट्रैकर'!C548)","v":"0"}]
[null,546,{"$f":"'स्कोर ट्रैकर'!C549&COUNTIF('स्कोर ट्रैकर'!$C$4:C549,'स्कोर ट्रैकर'!C549)","v":"0"}]
[null,547,{"$f":"'स्कोर ट्रैकर'!C550&COUNTIF('स्कोर ट्रैकर'!$C$4:C550,'स्कोर ट्रैकर'!C550)","v":"0"}]
[null,548,{"$f":"'स्कोर ट्रैकर'!C551&COUNTIF('स्कोर ट्रैकर'!$C$4:C551,'स्कोर ट्रैकर'!C551)","v":"0"}]
[null,549,{"$f":"'स्कोर ट्रैकर'!C552&COUNTIF('स्कोर ट्रैकर'!$C$4:C552,'स्कोर ट्रैकर'!C552)","v":"0"}]
[null,550,{"$f":"'स्कोर ट्रैकर'!C553&COUNTIF('स्कोर ट्रैकर'!$C$4:C553,'स्कोर ट्रैकर'!C553)","v":"0"}]
[null,551,{"$f":"'स्कोर ट्रैकर'!C554&COUNTIF('स्कोर ट्रैकर'!$C$4:C554,'स्कोर ट्रैकर'!C554)","v":"0"}]
[null,552,{"$f":"'स्कोर ट्रैकर'!C555&COUNTIF('स्कोर ट्रैकर'!$C$4:C555,'स्कोर ट्रैकर'!C555)","v":"0"}]
[null,553,{"$f":"'स्कोर ट्रैकर'!C556&COUNTIF('स्कोर ट्रैकर'!$C$4:C556,'स्कोर ट्रैकर'!C556)","v":"0"}]
[null,554,{"$f":"'स्कोर ट्रैकर'!C557&COUNTIF('स्कोर ट्रैकर'!$C$4:C557,'स्कोर ट्रैकर'!C557)","v":"0"}]
[null,555,{"$f":"'स्कोर ट्रैकर'!C558&COUNTIF('स्कोर ट्रैकर'!$C$4:C558,'स्कोर ट्रैकर'!C558)","v":"0"}]
[null,556,{"$f":"'स्कोर ट्रैकर'!C559&COUNTIF('स्कोर ट्रैकर'!$C$4:C559,'स्कोर ट्रैकर'!C559)","v":"0"}]
[null,557,{"$f":"'स्कोर ट्रैकर'!C560&COUNTIF('स्कोर ट्रैकर'!$C$4:C560,'स्कोर ट्रैकर'!C560)","v":"0"}]
[null,558,{"$f":"'स्कोर ट्रैकर'!C561&COUNTIF('स्कोर ट्रैकर'!$C$4:C561,'स्कोर ट्रैकर'!C561)","v":"0"}]
[null,559,{"$f":"'स्कोर ट्रैकर'!C562&COUNTIF('स्कोर ट्रैकर'!$C$4:C562,'स्कोर ट्रैकर'!C562)","v":"0"}]
[null,560,{"$f":"'स्कोर ट्रैकर'!C563&COUNTIF('स्कोर ट्रैकर'!$C$4:C563,'स्कोर ट्रैकर'!C563)","v":"0"}]
[null,561,{"$f":"'स्कोर ट्रैकर'!C564&COUNTIF('स्कोर ट्रैकर'!$C$4:C564,'स्कोर ट्रैकर'!C564)","v":"0"}]
[null,562,{"$f":"'स्कोर ट्रैकर'!C565&COUNTIF('स्कोर ट्रैकर'!$C$4:C565,'स्कोर ट्रैकर'!C565)","v":"0"}]
[null,563,{"$f":"'स्कोर ट्रैकर'!C566&COUNTIF('स्कोर ट्रैकर'!$C$4:C566,'स्कोर ट्रैकर'!C566)","v":"0"}]
[null,564,{"$f":"'स्कोर ट्रैकर'!C567&COUNTIF('स्कोर ट्रैकर'!$C$4:C567,'स्कोर ट्रैकर'!C567)","v":"0"}]
[null,565,{"$f":"'स्कोर ट्रैकर'!C568&COUNTIF('स्कोर ट्रैकर'!$C$4:C568,'स्कोर ट्रैकर'!C568)","v":"0"}]
[null,566,{"$f":"'स्कोर ट्रैकर'!C569&COUNTIF('स्कोर ट्रैकर'!$C$4:C569,'स्कोर ट्रैकर'!C569)","v":"0"}]
[null,567,{"$f":"'स्कोर ट्रैकर'!C570&COUNTIF('स्कोर ट्रैकर'!$C$4:C570,'स्कोर ट्रैकर'!C570)","v":"0"}]
[null,568,{"$f":"'स्कोर ट्रैकर'!C571&COUNTIF('स्कोर ट्रैकर'!$C$4:C571,'स्कोर ट्रैकर'!C571)","v":"0"}]
[null,569,{"$f":"'स्कोर ट्रैकर'!C572&COUNTIF('स्कोर ट्रैकर'!$C$4:C572,'स्कोर ट्रैकर'!C572)","v":"0"}]
[null,570,{"$f":"'स्कोर ट्रैकर'!C573&COUNTIF('स्कोर ट्रैकर'!$C$4:C573,'स्कोर ट्रैकर'!C573)","v":"0"}]
[null,571,{"$f":"'स्कोर ट्रैकर'!C574&COUNTIF('स्कोर ट्रैकर'!$C$4:C574,'स्कोर ट्रैकर'!C574)","v":"0"}]
[null,572,{"$f":"'स्कोर ट्रैकर'!C575&COUNTIF('स्कोर ट्रैकर'!$C$4:C575,'स्कोर ट्रैकर'!C575)","v":"0"}]
[null,573,{"$f":"'स्कोर ट्रैकर'!C576&COUNTIF('स्कोर ट्रैकर'!$C$4:C576,'स्कोर ट्रैकर'!C576)","v":"0"}]
[null,574,{"$f":"'स्कोर ट्रैकर'!C577&COUNTIF('स्कोर ट्रैकर'!$C$4:C577,'स्कोर ट्रैकर'!C577)","v":"0"}]
[null,575,{"$f":"'स्कोर ट्रैकर'!C578&COUNTIF('स्कोर ट्रैकर'!$C$4:C578,'स्कोर ट्रैकर'!C578)","v":"0"}]
[null,576,{"$f":"'स्कोर ट्रैकर'!C579&COUNTIF('स्कोर ट्रैकर'!$C$4:C579,'स्कोर ट्रैकर'!C579)","v":"0"}]
[null,577,{"$f":"'स्कोर ट्रैकर'!C580&COUNTIF('स्कोर ट्रैकर'!$C$4:C580,'स्कोर ट्रैकर'!C580)","v":"0"}]
[null,578,{"$f":"'स्कोर ट्रैकर'!C581&COUNTIF('स्कोर ट्रैकर'!$C$4:C581,'स्कोर ट्रैकर'!C581)","v":"0"}]
[null,579,{"$f":"'स्कोर ट्रैकर'!C582&COUNTIF('स्कोर ट्रैकर'!$C$4:C582,'स्कोर ट्रैकर'!C582)","v":"0"}]
[null,580,{"$f":"'स्कोर ट्रैकर'!C583&COUNTIF('स्कोर ट्रैकर'!$C$4:C583,'स्कोर ट्रैकर'!C583)","v":"0"}]
[null,581,{"$f":"'स्कोर ट्रैकर'!C584&COUNTIF('स्कोर ट्रैकर'!$C$4:C584,'स्कोर ट्रैकर'!C584)","v":"0"}]
[null,582,{"$f":"'स्कोर ट्रैकर'!C585&COUNTIF('स्कोर ट्रैकर'!$C$4:C585,'स्कोर ट्रैकर'!C585)","v":"0"}]
[null,583,{"$f":"'स्कोर ट्रैकर'!C586&COUNTIF('स्कोर ट्रैकर'!$C$4:C586,'स्कोर ट्रैकर'!C586)","v":"0"}]
[null,584,{"$f":"'स्कोर ट्रैकर'!C587&COUNTIF('स्कोर ट्रैकर'!$C$4:C587,'स्कोर ट्रैकर'!C587)","v":"0"}]
[null,585,{"$f":"'स्कोर ट्रैकर'!C588&COUNTIF('स्कोर ट्रैकर'!$C$4:C588,'स्कोर ट्रैकर'!C588)","v":"0"}]
[null,586,{"$f":"'स्कोर ट्रैकर'!C589&COUNTIF('स्कोर ट्रैकर'!$C$4:C589,'स्कोर ट्रैकर'!C589)","v":"0"}]
[null,587,{"$f":"'स्कोर ट्रैकर'!C590&COUNTIF('स्कोर ट्रैकर'!$C$4:C590,'स्कोर ट्रैकर'!C590)","v":"0"}]
[null,588,{"$f":"'स्कोर ट्रैकर'!C591&COUNTIF('स्कोर ट्रैकर'!$C$4:C591,'स्कोर ट्रैकर'!C591)","v":"0"}]
[null,589,{"$f":"'स्कोर ट्रैकर'!C592&COUNTIF('स्कोर ट्रैकर'!$C$4:C592,'स्कोर ट्रैकर'!C592)","v":"0"}]
[null,590,{"$f":"'स्कोर ट्रैकर'!C593&COUNTIF('स्कोर ट्रैकर'!$C$4:C593,'स्कोर ट्रैकर'!C593)","v":"0"}]
[null,591,{"$f":"'स्कोर ट्रैकर'!C594&COUNTIF('स्कोर ट्रैकर'!$C$4:C594,'स्कोर ट्रैकर'!C594)","v":"0"}]
[null,592,{"$f":"'स्कोर ट्रैकर'!C595&COUNTIF('स्कोर ट्रैकर'!$C$4:C595,'स्कोर ट्रैकर'!C595)","v":"0"}]
[null,593,{"$f":"'स्कोर ट्रैकर'!C596&COUNTIF('स्कोर ट्रैकर'!$C$4:C596,'स्कोर ट्रैकर'!C596)","v":"0"}]
[null,594,{"$f":"'स्कोर ट्रैकर'!C597&COUNTIF('स्कोर ट्रैकर'!$C$4:C597,'स्कोर ट्रैकर'!C597)","v":"0"}]
[null,595,{"$f":"'स्कोर ट्रैकर'!C598&COUNTIF('स्कोर ट्रैकर'!$C$4:C598,'स्कोर ट्रैकर'!C598)","v":"0"}]
[null,596,{"$f":"'स्कोर ट्रैकर'!C599&COUNTIF('स्कोर ट्रैकर'!$C$4:C599,'स्कोर ट्रैकर'!C599)","v":"0"}]
[null,597,{"$f":"'स्कोर ट्रैकर'!C600&COUNTIF('स्कोर ट्रैकर'!$C$4:C600,'स्कोर ट्रैकर'!C600)","v":"0"}]
[null,598,{"$f":"'स्कोर ट्रैकर'!C601&COUNTIF('स्कोर ट्रैकर'!$C$4:C601,'स्कोर ट्रैकर'!C601)","v":"0"}]
[null,599,{"$f":"'स्कोर ट्रैकर'!C602&COUNTIF('स्कोर ट्रैकर'!$C$4:C602,'स्कोर ट्रैकर'!C602)","v":"0"}]
[null,600,{"$f":"'स्कोर ट्रैकर'!C603&COUNTIF('स्कोर ट्रैकर'!$C$4:C603,'स्कोर ट्रैकर'!C603)","v":"0"}]
[null,601,{"$f":"'स्कोर ट्रैकर'!C604&COUNTIF('स्कोर ट्रैकर'!$C$4:C604,'स्कोर ट्रैकर'!C604)","v":"0"}]
[null,602,{"$f":"'स्कोर ट्रैकर'!C605&COUNTIF('स्कोर ट्रैकर'!$C$4:C605,'स्कोर ट्रैकर'!C605)","v":"0"}]
[null,603,{"$f":"'स्कोर ट्रैकर'!C606&COUNTIF('स्कोर ट्रैकर'!$C$4:C606,'स्कोर ट्रैकर'!C606)","v":"0"}]
[null,604,{"$f":"'स्कोर ट्रैकर'!C607&COUNTIF('स्कोर ट्रैकर'!$C$4:C607,'स्कोर ट्रैकर'!C607)","v":"0"}]
[null,605,{"$f":"'स्कोर ट्रैकर'!C608&COUNTIF('स्कोर ट्रैकर'!$C$4:C608,'स्कोर ट्रैकर'!C608)","v":"0"}]
[null,606,{"$f":"'स्कोर ट्रैकर'!C609&COUNTIF('स्कोर ट्रैकर'!$C$4:C609,'स्कोर ट्रैकर'!C609)","v":"0"}]
[null,607,{"$f":"'स्कोर ट्रैकर'!C610&COUNTIF('स्कोर ट्रैकर'!$C$4:C610,'स्कोर ट्रैकर'!C610)","v":"0"}]
[null,608,{"$f":"'स्कोर ट्रैकर'!C611&COUNTIF('स्कोर ट्रैकर'!$C$4:C611,'स्कोर ट्रैकर'!C611)","v":"0"}]
[null,609,{"$f":"'स्कोर ट्रैकर'!C612&COUNTIF('स्कोर ट्रैकर'!$C$4:C612,'स्कोर ट्रैकर'!C612)","v":"0"}]
[null,610,{"$f":"'स्कोर ट्रैकर'!C613&COUNTIF('स्कोर ट्रैकर'!$C$4:C613,'स्कोर ट्रैकर'!C613)","v":"0"}]
[null,611,{"$f":"'स्कोर ट्रैकर'!C614&COUNTIF('स्कोर ट्रैकर'!$C$4:C614,'स्कोर ट्रैकर'!C614)","v":"0"}]
[null,612,{"$f":"'स्कोर ट्रैकर'!C615&COUNTIF('स्कोर ट्रैकर'!$C$4:C615,'स्कोर ट्रैकर'!C615)","v":"0"}]
[null,613,{"$f":"'स्कोर ट्रैकर'!C616&COUNTIF('स्कोर ट्रैकर'!$C$4:C616,'स्कोर ट्रैकर'!C616)","v":"0"}]
[null,614,{"$f":"'स्कोर ट्रैकर'!C617&COUNTIF('स्कोर ट्रैकर'!$C$4:C617,'स्कोर ट्रैकर'!C617)","v":"0"}]
[null,615,{"$f":"'स्कोर ट्रैकर'!C618&COUNTIF('स्कोर ट्रैकर'!$C$4:C618,'स्कोर ट्रैकर'!C618)","v":"0"}]
[null,616,{"$f":"'स्कोर ट्रैकर'!C619&COUNTIF('स्कोर ट्रैकर'!$C$4:C619,'स्कोर ट्रैकर'!C619)","v":"0"}]
[null,617,{"$f":"'स्कोर ट्रैकर'!C620&COUNTIF('स्कोर ट्रैकर'!$C$4:C620,'स्कोर ट्रैकर'!C620)","v":"0"}]
[null,618,{"$f":"'स्कोर ट्रैकर'!C621&COUNTIF('स्कोर ट्रैकर'!$C$4:C621,'स्कोर ट्रैकर'!C621)","v":"0"}]
[null,619,{"$f":"'स्कोर ट्रैकर'!C622&COUNTIF('स्कोर ट्रैकर'!$C$4:C622,'स्कोर ट्रैकर'!C622)","v":"0"}]
[null,620,{"$f":"'स्कोर ट्रैकर'!C623&COUNTIF('स्कोर ट्रैकर'!$C$4:C623,'स्कोर ट्रैकर'!C623)","v":"0"}]
[null,621,{"$f":"'स्कोर ट्रैकर'!C624&COUNTIF('स्कोर ट्रैकर'!$C$4:C624,'स्कोर ट्रैकर'!C624)","v":"0"}]
[null,622,{"$f":"'स्कोर ट्रैकर'!C625&COUNTIF('स्कोर ट्रैकर'!$C$4:C625,'स्कोर ट्रैकर'!C625)","v":"0"}]
[null,623,{"$f":"'स्कोर ट्रैकर'!C626&COUNTIF('स्कोर ट्रैकर'!$C$4:C626,'स्कोर ट्रैकर'!C626)","v":"0"}]
[null,624,{"$f":"'स्कोर ट्रैकर'!C627&COUNTIF('स्कोर ट्रैकर'!$C$4:C627,'स्कोर ट्रैकर'!C627)","v":"0"}]
[null,625,{"$f":"'स्कोर ट्रैकर'!C628&COUNTIF('स्कोर ट्रैकर'!$C$4:C628,'स्कोर ट्रैकर'!C628)","v":"0"}]