{"text_format":"3","workbook":"xlsx","n_sheets":3,"sheets":["डेटा प्रविष्टि","विक्रय रिपोर्ट","विक्रय पूर्वानुमान"],"not_rendered":{"charts":5,"defined_names":9,"pivot_tables":1},"read":"whole","date_system":"1900"}

{"sheet":"डेटा प्रविष्टि","index":0,"n_rows":24,"n_cols":17,"rows_kept":24}
[{"$nulls":9},{"$f":"365*2","v":730}]
[null,"मासिक डेटा प्रविष्टि"]
[{"$nulls":11},"कुल",null,null,"पूर्वानुमान"]
[]
[null,"दिनांक","कंपनी","राशि","नियोजित","लागत","आय","माह","तिमाही","वर्ष","MONTH NUM (HIDE)","माह ","तिमाही ","वार्षिक ","माह  ","तिमाही  ","वर्ष  "]
[null,{"$f":"40657+(365*2)","v":"2013-04-23"},"A. Datum Corporation",{"v":6400,"d":"रु 6,400.00"},{"v":6200,"d":"रु 6,200.00"},{"v":4450,"d":"रु 4,450.00"},{"$f":"tblData[[#This Row],[राशि]]-tblData[[#This Row],[लागत]]","v":{"v":1950,"d":"रु 1,950.00"}},{"$f":"DATE(YEAR('डेटा प्रविष्टि'!$B6),MONTH('डेटा प्रविष्टि'!$B6),1)","v":"2013-04-01"},{"$f":"LOOKUP(MONTH('डेटा प्रविष्टि'!$H6),{1,1;2,1;3,1;4,2;5,2;6,2;7,3;8,3;9,3;10,4;11,4;12,4})","v":{"v":2,"d":"तिमाही 2"}},{"$f":"YEAR('डेटा प्रविष्टि'!$B6)","v":2013},{"$f":"MONTH(tblData[[#This Row],[दिनांक]])","v":4},{"$f":"SUMIFS(tblData[राशि],tblData[दिनांक],\">=\"&EOMONTH(tblData[[#This Row],[दिनांक]],-1)+1,tblData[दिनांक],\"<=\"&EOMONTH(tblData[[#This Row],[दिनांक]],0))","v":{"v":14600,"d":"रु 14,600.00"}},{"$f":"SUMIFS(tblData[राशि],tblData[दिनांक],\">=\"&DATE(YEAR(tblData[[#This Row],[दिनांक]]),1,1),tblData[दिनांक],\"<=\"&DATE(YEAR(tblData[[#This Row],[दिनांक]]),12,31),tblData[तिमाही],tblData[[#This Row],[तिमाही]])","v":{"v":50800,"d":"रु 50,800.00"}},{"$f":"SUMIFS(tblData[राशि],tblData[दिनांक],\">=\"&DATE(YEAR(tblData[[#This Row],[दिनांक]]),1,1),tblData[दिनांक],\"<=\"&DATE(YEAR(tblData[[#This Row],[दिनांक]]),12,31))","v":{"v":143800,"d":"रु 143,800.00"}},{"$f":"IFERROR(TREND($L$6:INDEX($L:$L,ROW(),1),$K$6:INDEX($K:$K,ROW(),1),IF(MONTH(tblData[[#This Row],[दिनांक]])=12,13,MONTH(tblData[[#This Row],[दिनांक]])+1)),\"\")","v":{"v":14600,"d":"रु 14,600.00"}},{"$f":"IFERROR(TREND($M$6:INDEX($M:$M,ROW(),1),$I$6:INDEX($I:$I,ROW(),1),IF(tblData[[#This Row],[तिमाही]]=4,5,tblData[[#This Row],[तिमाही]]+1)),\"\")","v":{"v":50800,"d":"रु 50,800.00"}},{"$f":"IFERROR(TREND($N$6:INDEX($N:$N,ROW(),1),$J$6:INDEX($J:$J,ROW(),1),tblData[[#This Row],[वर्ष]]+1),\"\")","v":{"v":143800,"d":"रु 143,800.00"}}]
[null,{"$f":"40659+(365*2)","v":"2013-04-25"},"Contoso Pharmaceuticals",{"v":8200,"d":"रु 8,200.00"},{"v":8000,"d":"रु 8,000.00"},{"v":6400,"d":"रु 6,400.00"},{"$f":"tblData[[#This Row],[राशि]]-tblData[[#This Row],[लागत]]","v":{"v":1800,"d":"रु 1,800.00"}},{"$f":"DATE(YEAR('डेटा प्रविष्टि'!$B7),MONTH('डेटा प्रविष्टि'!$B7),1)","v":"2013-04-01"},{"$f":"LOOKUP(MONTH('डेटा प्रविष्टि'!$H7),{1,1;2,1;3,1;4,2;5,2;6,2;7,3;8,3;9,3;10,4;11,4;12,4})","v":{"v":2,"d":"तिमाही 2"}},{"$f":"YEAR('डेटा प्रविष्टि'!$B7)","v":2013},{"$f":"MONTH(tblData[[#This Row],[दिनांक]])","v":4},{"$f":"SUMIFS(tblData[राशि],tblData[दिनांक],\">=\"&EOMONTH(tblData[[#This Row],[दिनांक]],-1)+1,tblData[दिनांक],\"<=\"&EOMONTH(tblData[[#This Row],[दिनांक]],0))","v":{"v":14600,"d":"रु 14,600.00"}},{"$f":"SUMIFS(tblData[राशि],tblData[दिनांक],\">=\"&DATE(YEAR(tblData[[#This Row],[दिनांक]]),1,1),tblData[दिनांक],\"<=\"&DATE(YEAR(tblData[[#This Row],[दिनांक]]),12,31),tblData[तिमाही],tblData[[#This Row],[तिमाही]])","v":{"v":50800,"d":"रु 50,800.00"}},{"$f":"SUMIFS(tblData[राशि],tblData[दिनांक],\">=\"&DATE(YEAR(tblData[[#This Row],[दिनांक]]),1,1),tblData[दिनांक],\"<=\"&DATE(YEAR(tblData[[#This Row],[दिनांक]]),12,31))","v":{"v":143800,"d":"रु 143,800.00"}},{"$f":"IFERROR(TREND($L$6:INDEX($L:$L,ROW(),1),$K$6:INDEX($K:$K,ROW(),1),IF(MONTH(tblData[[#This Row],[दिनांक]])=12,13,MONTH(tblData[[#This Row],[दिनांक]])+1)),\"\")","v":{"v":14600,"d":"रु 14,600.00"}},{"$f":"IFERROR(TREND($M$6:INDEX($M:$M,ROW(),1),$I$6:INDEX($I:$I,ROW(),1),IF(tblData[[#This Row],[तिमाही]]=4,5,tblData[[#This Row],[तिमाही]]+1)),\"\")","v":{"v":50800,"d":"रु 50,800.00"}},{"$f":"IFERROR(TREND($N$6:INDEX($N:$N,ROW(),1),$J$6:INDEX($J:$J,ROW(),1),tblData[[#This Row],[वर्ष]]+1),\"\")","v":{"v":143800,"d":"रु 143,800.00"}}]
[null,{"$f":"40671+(365*2)","v":"2013-05-07"},"Consolidated Messenger",{"v":4400,"d":"रु 4,400.00"},{"v":4200,"d":"रु 4,200.00"},{"v":2600,"d":"रु 2,600.00"},{"$f":"tblData[[#This Row],[राशि]]-tblData[[#This Row],[लागत]]","v":{"v":1800,"d":"रु 1,800.00"}},{"$f":"DATE(YEAR('डेटा प्रविष्टि'!$B8),MONTH('डेटा प्रविष्टि'!$B8),1)","v":"2013-05-01"},{"$f":"LOOKUP(MONTH('डेटा प्रविष्टि'!$H8),{1,1;2,1;3,1;4,2;5,2;6,2;7,3;8,3;9,3;10,4;11,4;12,4})","v":{"v":2,"d":"तिमाही 2"}},{"$f":"YEAR('डेटा प्रविष्टि'!$B8)","v":2013},{"$f":"MONTH(tblData[[#This Row],[दिनांक]])","v":5},{"$f":"SUMIFS(tblData[राशि],tblData[दिनांक],\">=\"&EOMONTH(tblData[[#This Row],[दिनांक]],-1)+1,tblData[दिनांक],\"<=\"&EOMONTH(tblData[[#This Row],[दिनांक]],0))","v":{"v":21800,"d":"रु 21,800.00"}},{"$f":"SUMIFS(tblData[राशि],tblData[दिनांक],\">=\"&DATE(YEAR(tblData[[#This Row],[दिनांक]]),1,1),tblData[दिनांक],\"<=\"&DATE(YEAR(tblData[[#This Row],[दिनांक]]),12,31),tblData[तिमाही],tblData[[#This Row],[तिमाही]])","v":{"v":50800,"d":"रु 50,800.00"}},{"$f":"SUMIFS(tblData[राशि],tblData[दिनांक],\">=\"&DATE(YEAR(tblData[[#This Row],[दिनांक]]),1,1),tblData[दिनांक],\"<=\"&DATE(YEAR(tblData[[#This Row],[दिनांक]]),12,31))","v":{"v":143800,"d":"रु 143,800.00"}},{"$f":"IFERROR(TREND($L$6:INDEX($L:$L,ROW(),1),$K$6:INDEX($K:$K,ROW(),1),IF(MONTH(tblData[[#This Row],[दिनांक]])=12,13,MONTH(tblData[[#This Row],[दिनांक]])+1)),\"\")","v":{"v":28999.999999999996,"d":"रु 29,000.00"}},{"$f":"IFERROR(TREND($M$6:INDEX($M:$M,ROW(),1),$I$6:INDEX($I:$I,ROW(),1),IF(tblData[[#This Row],[तिमाही]]=4,5,tblData[[#This Row],[तिमाही]]+1)),\"\")","v":{"v":50800,"d":"रु 50,800.00"}},{"$f":"IFERROR(TREND($N$6:INDEX($N:$N,ROW(),1),$J$6:INDEX($J:$J,ROW(),1),tblData[[#This Row],[वर्ष]]+1),\"\")","v":{"v":143800,"d":"रु 143,800.00"}}]
[null,{"$f":"40678+(365*2)","v":"2013-05-14"},"Proseware, Inc.",{"v":5400,"d":"रु 5,400.00"},{"v":5500,"d":"रु 5,500.00"},{"v":4500,"d":"रु 4,500.00"},{"$f":"tblData[[#This Row],[राशि]]-tblData[[#This Row],[लागत]]","v":{"v":900,"d":"रु 900.00"}},{"$f":"DATE(YEAR('डेटा प्रविष्टि'!$B9),MONTH('डेटा प्रविष्टि'!$B9),1)","v":"2013-05-01"},{"$f":"LOOKUP(MONTH('डेटा प्रविष्टि'!$H9),{1,1;2,1;3,1;4,2;5,2;6,2;7,3;8,3;9,3;10,4;11,4;12,4})","v":{"v":2,"d":"तिमाही 2"}},{"$f":"YEAR('डेटा प्रविष्टि'!$B9)","v":2013},{"$f":"MONTH(tblData[[#This Row],[दिनांक]])","v":5},{"$f":"SUMIFS(tblData[राशि],tblData[दिनांक],\">=\"&EOMONTH(tblData[[#This Row],[दिनांक]],-1)+1,tblData[दिनांक],\"<=\"&EOMONTH(tblData[[#This Row],[दिनांक]],0))","v":{"v":21800,"d":"रु 21,800.00"}},{"$f":"SUMIFS(tblData[राशि],tblData[दिनांक],\">=\"&DATE(YEAR(tblData[[#This Row],[दिनांक]]),1,1),tblData[दिनांक],\"<=\"&DATE(YEAR(tblData[[#This Row],[दिनांक]]),12,31),tblData[तिमाही],tblData[[#This Row],[तिमाही]])","v":{"v":50800,"d":"रु 50,800.00"}},{"$f":"SUMIFS(tblData[राशि],tblData[दिनांक],\">=\"&DATE(YEAR(tblData[[#This Row],[दिनांक]]),1,1),tblData[दिनांक],\"<=\"&DATE(YEAR(tblData[[#This Row],[दिनांक]]),12,31))","v":{"v":143800,"d":"रु 143,800.00"}},{"$f":"IFERROR(TREND($L$6:INDEX($L:$L,ROW(),1),$K$6:INDEX($K:$K,ROW(),1),IF(MONTH(tblData[[#This Row],[दिनांक]])=12,13,MONTH(tblData[[#This Row],[दिनांक]])+1)),\"\")","v":{"v":29000,"d":"रु 29,000.00"}},{"$f":"IFERROR(TREND($M$6:INDEX($M:$M,ROW(),1),$I$6:INDEX($I:$I,ROW(),1),IF(tblData[[#This Row],[तिमाही]]=4,5,tblData[[#This Row],[तिमाही]]+1)),\"\")","v":{"v":50800,"d":"रु 50,800.00"}},{"$f":"IFERROR(TREND($N$6:INDEX($N:$N,ROW(),1),$J$6:INDEX($J:$J,ROW(),1),tblData[[#This Row],[वर्ष]]+1),\"\")","v":{"v":143800,"d":"रु 143,800.00"}}]
[null,{"$f":"40678+(365*2)","v":"2013-05-14"},"ललित कला अकादमी",{"v":5800,"d":"रु 5,800.00"},{"v":6000,"d":"रु 6,000.00"},{"v":4500,"d":"रु 4,500.00"},{"$f":"tblData[[#This Row],[राशि]]-tblData[[#This Row],[लागत]]","v":{"v":1300,"d":"रु 1,300.00"}},{"$f":"DATE(YEAR('डेटा प्रविष्टि'!$B10),MONTH('डेटा प्रविष्टि'!$B10),1)","v":"2013-05-01"},{"$f":"LOOKUP(MONTH('डेटा प्रविष्टि'!$H10),{1,1;2,1;3,1;4,2;5,2;6,2;7,3;8,3;9,3;10,4;11,4;12,4})","v":{"v":2,"d":"तिमाही 2"}},{"$f":"YEAR('डेटा प्रविष्टि'!$B10)","v":2013},{"$f":"MONTH(tblData[[#This Row],[दिनांक]])","v":5},{"$f":"SUMIFS(tblData[राशि],tblData[दिनांक],\">=\"&EOMONTH(tblData[[#This Row],[दिनांक]],-1)+1,tblData[दिनांक],\"<=\"&EOMONTH(tblData[[#This Row],[दिनांक]],0))","v":{"v":21800,"d":"रु 21,800.00"}},{"$f":"SUMIFS(tblData[राशि],tblData[दिनांक],\">=\"&DATE(YEAR(tblData[[#This Row],[दिनांक]]),1,1),tblData[दिनांक],\"<=\"&DATE(YEAR(tblData[[#This Row],[दिनांक]]),12,31),tblData[तिमाही],tblData[[#This Row],[तिमाही]])","v":{"v":50800,"d":"रु 50,800.00"}},{"$f":"SUMIFS(tblData[राशि],tblData[दिनांक],\">=\"&DATE(YEAR(tblData[[#This Row],[दिनांक]]),1,1),tblData[दिनांक],\"<=\"&DATE(YEAR(tblData[[#This Row],[दिनांक]]),12,31))","v":{"v":143800,"d":"रु 143,800.00"}},{"$f":"IFERROR(TREND($L$6:INDEX($L:$L,ROW(),1),$K$6:INDEX($K:$K,ROW(),1),IF(MONTH(tblData[[#This Row],[दिनांक]])=12,13,MONTH(tblData[[#This Row],[दिनांक]])+1)),\"\")","v":{"v":29000,"d":"रु 29,000.00"}},{"$f":"IFERROR(TREND($M$6:INDEX($M:$M,ROW(),1),$I$6:INDEX($I:$I,ROW(),1),IF(tblData[[#This Row],[तिमाही]]=4,5,tblData[[#This Row],[तिमाही]]+1)),\"\")","v":{"v":50800,"d":"रु 50,800.00"}},{"$f":"IFERROR(TREND($N$6:INDEX($N:$N,ROW(),1),$J$6:INDEX($J:$J,ROW(),1),tblData[[#This Row],[वर्ष]]+1),\"\")","v":{"v":143800,"d":"रु 143,800.00"}}]
[null,{"$f":"40693+(365*2)","v":"2013-05-29"},"ट्रे रीसर्च",{"v":6200,"d":"रु 6,200.00"},{"v":6000,"d":"रु 6,000.00"},{"v":4500,"d":"रु 4,500.00"},{"$f":"tblData[[#This Row],[राशि]]-tblData[[#This Row],[लागत]]","v":{"v":1700,"d":"रु 1,700.00"}},{"$f":"DATE(YEAR('डेटा प्रविष्टि'!$B11),MONTH('डेटा प्रविष्टि'!$B11),1)","v":"2013-05-01"},{"$f":"LOOKUP(MONTH('डेटा प्रविष्टि'!$H11),{1,1;2,1;3,1;4,2;5,2;6,2;7,3;8,3;9,3;10,4;11,4;12,4})","v":{"v":2,"d":"तिमाही 2"}},{"$f":"YEAR('डेटा प्रविष्टि'!$B11)","v":2013},{"$f":"MONTH(tblData[[#This Row],[दिनांक]])","v":5},{"$f":"SUMIFS(tblData[राशि],tblData[दिनांक],\">=\"&EOMONTH(tblData[[#This Row],[दिनांक]],-1)+1,tblData[दिनांक],\"<=\"&EOMONTH(tblData[[#This Row],[दिनांक]],0))","v":{"v":21800,"d":"रु 21,800.00"}},{"$f":"SUMIFS(tblData[राशि],tblData[दिनांक],\">=\"&DATE(YEAR(tblData[[#This Row],[दिनांक]]),1,1),tblData[दिनांक],\"<=\"&DATE(YEAR(tblData[[#This Row],[दिनांक]]),12,31),tblData[तिमाही],tblData[[#This Row],[तिमाही]])","v":{"v":50800,"d":"रु 50,800.00"}},{"$f":"SUMIFS(tblData[राशि],tblData[दिनांक],\">=\"&DATE(YEAR(tblData[[#This Row],[दिनांक]]),1,1),tblData[दिनांक],\"<=\"&DATE(YEAR(tblData[[#This Row],[दिनांक]]),12,31))","v":{"v":143800,"d":"रु 143,800.00"}},{"$f":"IFERROR(TREND($L$6:INDEX($L:$L,ROW(),1),$K$6:INDEX($K:$K,ROW(),1),IF(MONTH(tblData[[#This Row],[दिनांक]])=12,13,MONTH(tblData[[#This Row],[दिनांक]])+1)),\"\")","v":{"v":29000,"d":"रु 29,000.00"}},{"$f":"IFERROR(TREND($M$6:INDEX($M:$M,ROW(),1),$I$6:INDEX($I:$I,ROW(),1),IF(tblData[[#This Row],[तिमाही]]=4,5,tblData[[#This Row],[तिमाही]]+1)),\"\")","v":{"v":50800,"d":"रु 50,800.00"}},{"$f":"IFERROR(TREND($N$6:INDEX($N:$N,ROW(),1),$J$6:INDEX($J:$J,ROW(),1),tblData[[#This Row],[वर्ष]]+1),\"\")","v":{"v":143800,"d":"रु 143,800.00"}}]
[null,{"$f":"40705+(365*2)","v":"2013-06-10"},"A. Datum Corporation",{"v":6900,"d":"रु 6,900.00"},{"v":7500,"d":"रु 7,500.00"},{"v":5400,"d":"रु 5,400.00"},{"$f":"tblData[[#This Row],[राशि]]-tblData[[#This Row],[लागत]]","v":{"v":1500,"d":"रु 1,500.00"}},{"$f":"DATE(YEAR('डेटा प्रविष्टि'!$B12),MONTH('डेटा प्रविष्टि'!$B12),1)","v":"2013-06-01"},{"$f":"LOOKUP(MONTH('डेटा प्रविष्टि'!$H12),{1,1;2,1;3,1;4,2;5,2;6,2;7,3;8,3;9,3;10,4;11,4;12,4})","v":{"v":2,"d":"तिमाही 2"}},{"$f":"YEAR('डेटा प्रविष्टि'!$B12)","v":2013},{"$f":"MONTH(tblData[[#This Row],[दिनांक]])","v":6},{"$f":"SUMIFS(tblData[राशि],tblData[दिनांक],\">=\"&EOMONTH(tblData[[#This Row],[दिनांक]],-1)+1,tblData[दिनांक],\"<=\"&EOMONTH(tblData[[#This Row],[दिनांक]],0))","v":{"v":14400,"d":"रु 14,400.00"}},{"$f":"SUMIFS(tblData[राशि],tblData[दिनांक],\">=\"&DATE(YEAR(tblData[[#This Row],[दिनांक]]),1,1),tblData[दिनांक],\"<=\"&DATE(YEAR(tblData[[#This Row],[दिनांक]]),12,31),tblData[तिमाही],tblData[[#This Row],[तिमाही]])","v":{"v":50800,"d":"रु 50,800.00"}},{"$f":"SUMIFS(tblData[राशि],tblData[दिनांक],\">=\"&DATE(YEAR(tblData[[#This Row],[दिनांक]]),1,1),tblData[दिनांक],\"<=\"&DATE(YEAR(tblData[[#This Row],[दिनांक]]),12,31))","v":{"v":143800,"d":"रु 143,800.00"}},{"$f":"IFERROR(TREND($L$6:INDEX($L:$L,ROW(),1),$K$6:INDEX($K:$K,ROW(),1),IF(MONTH(tblData[[#This Row],[दिनांक]])=12,13,MONTH(tblData[[#This Row],[दिनांक]])+1)),\"\")","v":{"v":21600.000000000004,"d":"रु 21,600.00"}},{"$f":"IFERROR(TREND($M$6:INDEX($M:$M,ROW(),1),$I$6:INDEX($I:$I,ROW(),1),IF(tblData[[#This Row],[तिमाही]]=4,5,tblData[[#This Row],[तिमाही]]+1)),\"\")","v":{"v":50800,"d":"रु 50,800.00"}},{"$f":"IFERROR(TREND($N$6:INDEX($N:$N,ROW(),1),$J$6:INDEX($J:$J,ROW(),1),tblData[[#This Row],[वर्ष]]+1),\"\")","v":{"v":143800,"d":"रु 143,800.00"}}]
[null,{"$f":"40716+(365*2)","v":"2013-06-21"},"Contoso Pharmaceuticals",{"v":7500,"d":"रु 7,500.00"},{"v":7200,"d":"रु 7,200.00"},{"v":6500,"d":"रु 6,500.00"},{"$f":"tblData[[#This Row],[राशि]]-tblData[[#This Row],[लागत]]","v":{"v":1000,"d":"रु 1,000.00"}},{"$f":"DATE(YEAR('डेटा प्रविष्टि'!$B13),MONTH('डेटा प्रविष्टि'!$B13),1)","v":"2013-06-01"},{"$f":"LOOKUP(MONTH('डेटा प्रविष्टि'!$H13),{1,1;2,1;3,1;4,2;5,2;6,2;7,3;8,3;9,3;10,4;11,4;12,4})","v":{"v":2,"d":"तिमाही 2"}},{"$f":"YEAR('डेटा प्रविष्टि'!$B13)","v":2013},{"$f":"MONTH(tblData[[#This Row],[दिनांक]])","v":6},{"$f":"SUMIFS(tblData[राशि],tblData[दिनांक],\">=\"&EOMONTH(tblData[[#This Row],[दिनांक]],-1)+1,tblData[दिनांक],\"<=\"&EOMONTH(tblData[[#This Row],[दिनांक]],0))","v":{"v":14400,"d":"रु 14,400.00"}},{"$f":"SUMIFS(tblData[राशि],tblData[दिनांक],\">=\"&DATE(YEAR(tblData[[#This Row],[दिनांक]]),1,1),tblData[दिनांक],\"<=\"&DATE(YEAR(tblData[[#This Row],[दिनांक]]),12,31),tblData[तिमाही],tblData[[#This Row],[तिमाही]])","v":{"v":50800,"d":"रु 50,800.00"}},{"$f":"SUMIFS(tblData[राशि],tblData[दिनांक],\">=\"&DATE(YEAR(tblData[[#This Row],[दिनांक]]),1,1),tblData[दिनांक],\"<=\"&DATE(YEAR(tblData[[#This Row],[दिनांक]]),12,31))","v":{"v":143800,"d":"रु 143,800.00"}},{"$f":"IFERROR(TREND($L$6:INDEX($L:$L,ROW(),1),$K$6:INDEX($K:$K,ROW(),1),IF(MONTH(tblData[[#This Row],[दिनांक]])=12,13,MONTH(tblData[[#This Row],[दिनांक]])+1)),\"\")","v":{"v":17950,"d":"रु 17,950.00"}},{"$f":"IFERROR(TREND($M$6:INDEX($M:$M,ROW(),1),$I$6:INDEX($I:$I,ROW(),1),IF(tblData[[#This Row],[तिमाही]]=4,5,tblData[[#This Row],[तिमाही]]+1)),\"\")","v":{"v":50800,"d":"रु 50,800.00"}},{"$f":"IFERROR(TREND($N$6:INDEX($N:$N,ROW(),1),$J$6:INDEX($J:$J,ROW(),1),tblData[[#This Row],[वर्ष]]+1),\"\")","v":{"v":143800,"d":"रु 143,800.00"}}]
[null,{"$f":"40731+(365*2)","v":"2013-07-06"},"Consolidated Messenger",{"v":8700,"d":"रु 8,700.00"},{"v":8500,"d":"रु 8,500.00"},{"v":7250,"d":"रु 7,250.00"},{"$f":"tblData[[#This Row],[राशि]]-tblData[[#This Row],[लागत]]","v":{"v":1450,"d":"रु 1,450.00"}},{"$f":"DATE(YEAR('डेटा प्रविष्टि'!$B14),MONTH('डेटा प्रविष्टि'!$B14),1)","v":"2013-07-01"},{"$f":"LOOKUP(MONTH('डेटा प्रविष्टि'!$H14),{1,1;2,1;3,1;4,2;5,2;6,2;7,3;8,3;9,3;10,4;11,4;12,4})","v":{"v":3,"d":"तिमाही 3"}},{"$f":"YEAR('डेटा प्रविष्टि'!$B14)","v":2013},{"$f":"MONTH(tblData[[#This Row],[दिनांक]])","v":7},{"$f":"SUMIFS(tblData[राशि],tblData[दिनांक],\">=\"&EOMONTH(tblData[[#This Row],[दिनांक]],-1)+1,tblData[दिनांक],\"<=\"&EOMONTH(tblData[[#This Row],[दिनांक]],0))","v":{"v":8700,"d":"रु 8,700.00"}},{"$f":"SUMIFS(tblData[राशि],tblData[दिनांक],\">=\"&DATE(YEAR(tblData[[#This Row],[दिनांक]]),1,1),tblData[दिनांक],\"<=\"&DATE(YEAR(tblData[[#This Row],[दिनांक]]),12,31),tblData[तिमाही],tblData[[#This Row],[तिमाही]])","v":{"v":49100,"d":"रु 49,100.00"}},{"$f":"SUMIFS(tblData[राशि],tblData[दिनांक],\">=\"&DATE(YEAR(tblData[[#This Row],[दिनांक]]),1,1),tblData[दिनांक],\"<=\"&DATE(YEAR(tblData[[#This Row],[दिनांक]]),12,31))","v":{"v":143800,"d":"रु 143,800.00"}},{"$f":"IFERROR(TREND($L$6:INDEX($L:$L,ROW(),1),$K$6:INDEX($K:$K,ROW(),1),IF(MONTH(tblData[[#This Row],[दिनांक]])=12,13,MONTH(tblData[[#This Row],[दिनांक]])+1)),\"\")","v":{"v":10776.470588235294,"d":"रु 10,776.47"}},{"$f":"IFERROR(TREND($M$6:INDEX($M:$M,ROW(),1),$I$6:INDEX($I:$I,ROW(),1),IF(tblData[[#This Row],[तिमाही]]=4,5,tblData[[#This Row],[तिमाही]]+1)),\"\")","v":{"v":47400,"d":"रु 47,400.00"}},{"$f":"IFERROR(TREND($N$6:INDEX($N:$N,ROW(),1),$J$6:INDEX($J:$J,ROW(),1),tblData[[#This Row],[वर्ष]]+1),\"\")","v":{"v":143800,"d":"रु 143,800.00"}}]
[null,{"$f":"40761+(365*2)","v":"2013-08-05"},"Proseware, Inc.",{"v":8500,"d":"रु 8,500.00"},{"v":8300,"d":"रु 8,300.00"},{"v":7100,"d":"रु 7,100.00"},{"$f":"tblData[[#This Row],[राशि]]-tblData[[#This Row],[लागत]]","v":{"v":1400,"d":"रु 1,400.00"}},{"$f":"DATE(YEAR('डेटा प्रविष्टि'!$B15),MONTH('डेटा प्रविष्टि'!$B15),1)","v":"2013-08-01"},{"$f":"LOOKUP(MONTH('डेटा प्रविष्टि'!$H15),{1,1;2,1;3,1;4,2;5,2;6,2;7,3;8,3;9,3;10,4;11,4;12,4})","v":{"v":3,"d":"तिमाही 3"}},{"$f":"YEAR('डेटा प्रविष्टि'!$B15)","v":2013},{"$f":"MONTH(tblData[[#This Row],[दिनांक]])","v":8},{"$f":"SUMIFS(tblData[राशि],tblData[दिनांक],\">=\"&EOMONTH(tblData[[#This Row],[दिनांक]],-1)+1,tblData[दिनांक],\"<=\"&EOMONTH(tblData[[#This Row],[दिनांक]],0))","v":{"v":16400,"d":"रु 16,400.00"}},{"$f":"SUMIFS(tblData[राशि],tblData[दिनांक],\">=\"&DATE(YEAR(tblData[[#This Row],[दिनांक]]),1,1),tblData[दिनांक],\"<=\"&DATE(YEAR(tblData[[#This Row],[दिनांक]]),12,31),tblData[तिमाही],tblData[[#This Row],[तिमाही]])","v":{"v":49100,"d":"रु 49,100.00"}},{"$f":"SUMIFS(tblData[राशि],tblData[दिनांक],\">=\"&DATE(YEAR(tblData[[#This Row],[दिनांक]]),1,1),tblData[दिनांक],\"<=\"&DATE(YEAR(tblData[[#This Row],[दिनांक]]),12,31))","v":{"v":143800,"d":"रु 143,800.00"}},{"$f":"IFERROR(TREND($L$6:INDEX($L:$L,ROW(),1),$K$6:INDEX($K:$K,ROW(),1),IF(MONTH(tblData[[#This Row],[दिनांक]])=12,13,MONTH(tblData[[#This Row],[दिनांक]])+1)),\"\")","v":{"v":12455.862068965516,"d":"रु 12,455.86"}},{"$f":"IFERROR(TREND($M$6:INDEX($M:$M,ROW(),1),$I$6:INDEX($I:$I,ROW(),1),IF(tblData[[#This Row],[तिमाही]]=4,5,tblData[[#This Row],[तिमाही]]+1)),\"\")","v":{"v":47400,"d":"रु 47,400.00"}},{"$f":"IFERROR(TREND($N$6:INDEX($N:$N,ROW(),1),$J$6:INDEX($J:$J,ROW(),1),tblData[[#This Row],[वर्ष]]+1),\"\")","v":{"v":143800,"d":"रु 143,800.00"}}]
[null,{"$f":"40775+(365*2)","v":"2013-08-19"},"ललित कला अकादमी",{"v":7900,"d":"रु 7,900.00"},{"v":7700,"d":"रु 7,700.00"},{"v":6600,"d":"रु 6,600.00"},{"$f":"tblData[[#This Row],[राशि]]-tblData[[#This Row],[लागत]]","v":{"v":1300,"d":"रु 1,300.00"}},{"$f":"DATE(YEAR('डेटा प्रविष्टि'!$B16),MONTH('डेटा प्रविष्टि'!$B16),1)","v":"2013-08-01"},{"$f":"LOOKUP(MONTH('डेटा प्रविष्टि'!$H16),{1,1;2,1;3,1;4,2;5,2;6,2;7,3;8,3;9,3;10,4;11,4;12,4})","v":{"v":3,"d":"तिमाही 3"}},{"$f":"YEAR('डेटा प्रविष्टि'!$B16)","v":2013},{"$f":"MONTH(tblData[[#This Row],[दिनांक]])","v":8},{"$f":"SUMIFS(tblData[राशि],tblData[दिनांक],\">=\"&EOMONTH(tblData[[#This Row],[दिनांक]],-1)+1,tblData[दिनांक],\"<=\"&EOMONTH(tblData[[#This Row],[दिनांक]],0))","v":{"v":16400,"d":"रु 16,400.00"}},{"$f":"SUMIFS(tblData[राशि],tblData[दिनांक],\">=\"&DATE(YEAR(tblData[[#This Row],[दिनांक]]),1,1),tblData[दिनांक],\"<=\"&DATE(YEAR(tblData[[#This Row],[दिनांक]]),12,31),tblData[तिमाही],tblData[[#This Row],[तिमाही]])","v":{"v":49100,"d":"रु 49,100.00"}},{"$f":"SUMIFS(tblData[राशि],tblData[दिनांक],\">=\"&DATE(YEAR(tblData[[#This Row],[दिनांक]]),1,1),tblData[दिनांक],\"<=\"&DATE(YEAR(tblData[[#This Row],[दिनांक]]),12,31))","v":{"v":143800,"d":"रु 143,800.00"}},{"$f":"IFERROR(TREND($L$6:INDEX($L:$L,ROW(),1),$K$6:INDEX($K:$K,ROW(),1),IF(MONTH(tblData[[#This Row],[दिनांक]])=12,13,MONTH(tblData[[#This Row],[दिनांक]])+1)),\"\")","v":{"v":13667.567567567567,"d":"रु 13,667.57"}},{"$f":"IFERROR(TREND($M$6:INDEX($M:$M,ROW(),1),$I$6:INDEX($I:$I,ROW(),1),IF(tblData[[#This Row],[तिमाही]]=4,5,tblData[[#This Row],[तिमाही]]+1)),\"\")","v":{"v":47400.00000000001,"d":"रु 47,400.00"}},{"$f":"IFERROR(TREND($N$6:INDEX($N:$N,ROW(),1),$J$6:INDEX($J:$J,ROW(),1),tblData[[#This Row],[वर्ष]]+1),\"\")","v":{"v":143800,"d":"रु 143,800.00"}}]
[null,{"$f":"40791+(365*2)","v":"2013-09-04"},"ट्रे रीसर्च",{"v":9100,"d":"रु 9,100.00"},{"v":8900,"d":"रु 8,900.00"},{"v":7900,"d":"रु 7,900.00"},{"$f":"tblData[[#This Row],[राशि]]-tblData[[#This Row],[लागत]]","v":{"v":1200,"d":"रु 1,200.00"}},{"$f":"DATE(YEAR('डेटा प्रविष्टि'!$B17),MONTH('डेटा प्रविष्टि'!$B17),1)","v":"2013-09-01"},{"$f":"LOOKUP(MONTH('डेटा प्रविष्टि'!$H17),{1,1;2,1;3,1;4,2;5,2;6,2;7,3;8,3;9,3;10,4;11,4;12,4})","v":{"v":3,"d":"तिमाही 3"}},{"$f":"YEAR('डेटा प्रविष्टि'!$B17)","v":2013},{"$f":"MONTH(tblData[[#This Row],[दिनांक]])","v":9},{"$f":"SUMIFS(tblData[राशि],tblData[दिनांक],\">=\"&EOMONTH(tblData[[#This Row],[दिनांक]],-1)+1,tblData[दिनांक],\"<=\"&EOMONTH(tblData[[#This Row],[दिनांक]],0))","v":{"v":24000,"d":"रु 24,000.00"}},{"$f":"SUMIFS(tblData[राशि],tblData[दिनांक],\">=\"&DATE(YEAR(tblData[[#This Row],[दिनांक]]),1,1),tblData[दिनांक],\"<=\"&DATE(YEAR(tblData[[#This Row],[दिनांक]]),12,31),tblData[तिमाही],tblData[[#This Row],[तिमाही]])","v":{"v":49100,"d":"रु 49,100.00"}},{"$f":"SUMIFS(tblData[राशि],tblData[दिनांक],\">=\"&DATE(YEAR(tblData[[#This Row],[दिनांक]]),1,1),tblData[दिनांक],\"<=\"&DATE(YEAR(tblData[[#This Row],[दिनांक]]),12,31))","v":{"v":143800,"d":"रु 143,800.00"}},{"$f":"IFERROR(TREND($L$6:INDEX($L:$L,ROW(),1),$K$6:INDEX($K:$K,ROW(),1),IF(MONTH(tblData[[#This Row],[दिनांक]])=12,13,MONTH(tblData[[#This Row],[दिनांक]])+1)),\"\")","v":{"v":17651.666666666668,"d":"रु 17,651.67"}},{"$f":"IFERROR(TREND($M$6:INDEX($M:$M,ROW(),1),$I$6:INDEX($I:$I,ROW(),1),IF(tblData[[#This Row],[तिमाही]]=4,5,tblData[[#This Row],[तिमाही]]+1)),\"\")","v":{"v":47400,"d":"रु 47,400.00"}},{"$f":"IFERROR(TREND($N$6:INDEX($N:$N,ROW(),1),$J$6:INDEX($J:$J,ROW(),1),tblData[[#This Row],[वर्ष]]+1),\"\")","v":{"v":143800,"d":"रु 143,800.00"}}]
[null,{"$f":"40807+(365*2)","v":"2013-09-20"},"Contoso Pharmaceuticals",{"v":5600,"d":"रु 5,600.00"},{"v":5800,"d":"रु 5,800.00"},{"v":4500,"d":"रु 4,500.00"},{"$f":"tblData[[#This Row],[राशि]]-tblData[[#This Row],[लागत]]","v":{"v":1100,"d":"रु 1,100.00"}},{"$f":"DATE(YEAR('डेटा प्रविष्टि'!$B18),MONTH('डेटा प्रविष्टि'!$B18),1)","v":"2013-09-01"},{"$f":"LOOKUP(MONTH('डेटा प्रविष्टि'!$H18),{1,1;2,1;3,1;4,2;5,2;6,2;7,3;8,3;9,3;10,4;11,4;12,4})","v":{"v":3,"d":"तिमाही 3"}},{"$f":"YEAR('डेटा प्रविष्टि'!$B18)","v":2013},{"$f":"MONTH(tblData[[#This Row],[दिनांक]])","v":9},{"$f":"SUMIFS(tblData[राशि],tblData[दिनांक],\">=\"&EOMONTH(tblData[[#This Row],[दिनांक]],-1)+1,tblData[दिनांक],\"<=\"&EOMONTH(tblData[[#This Row],[दिनांक]],0))","v":{"v":24000,"d":"रु 24,000.00"}},{"$f":"SUMIFS(tblData[राशि],tblData[दिनांक],\">=\"&DATE(YEAR(tblData[[#This Row],[दिनांक]]),1,1),tblData[दिनांक],\"<=\"&DATE(YEAR(tblData[[#This Row],[दिनांक]]),12,31),tblData[तिमाही],tblData[[#This Row],[तिमाही]])","v":{"v":49100,"d":"रु 49,100.00"}},{"$f":"SUMIFS(tblData[राशि],tblData[दिनांक],\">=\"&DATE(YEAR(tblData[[#This Row],[दिनांक]]),1,1),tblData[दिनांक],\"<=\"&DATE(YEAR(tblData[[#This Row],[दिनांक]]),12,31))","v":{"v":143800,"d":"रु 143,800.00"}},{"$f":"IFERROR(TREND($L$6:INDEX($L:$L,ROW(),1),$K$6:INDEX($K:$K,ROW(),1),IF(MONTH(tblData[[#This Row],[दिनांक]])=12,13,MONTH(tblData[[#This Row],[दिनांक]])+1)),\"\")","v":{"v":19877.911646586344,"d":"रु 19,877.91"}},{"$f":"IFERROR(TREND($M$6:INDEX($M:$M,ROW(),1),$I$6:INDEX($I:$I,ROW(),1),IF(tblData[[#This Row],[तिमाही]]=4,5,tblData[[#This Row],[तिमाही]]+1)),\"\")","v":{"v":47400,"d":"रु 47,400.00"}},{"$f":"IFERROR(TREND($N$6:INDEX($N:$N,ROW(),1),$J$6:INDEX($J:$J,ROW(),1),tblData[[#This Row],[वर्ष]]+1),\"\")","v":{"v":143800,"d":"रु 143,800.00"}}]
[null,{"$f":"40812+(365*2)","v":"2013-09-25"},"Consolidated Messenger",{"v":9300,"d":"रु 9,300.00"},{"v":9100,"d":"रु 9,100.00"},{"v":7500,"d":"रु 7,500.00"},{"$f":"tblData[[#This Row],[राशि]]-tblData[[#This Row],[लागत]]","v":{"v":1800,"d":"रु 1,800.00"}},{"$f":"DATE(YEAR('डेटा प्रविष्टि'!$B19),MONTH('डेटा प्रविष्टि'!$B19),1)","v":"2013-09-01"},{"$f":"LOOKUP(MONTH('डेटा प्रविष्टि'!$H19),{1,1;2,1;3,1;4,2;5,2;6,2;7,3;8,3;9,3;10,4;11,4;12,4})","v":{"v":3,"d":"तिमाही 3"}},{"$f":"YEAR('डेटा प्रविष्टि'!$B19)","v":2013},{"$f":"MONTH(tblData[[#This Row],[दिनांक]])","v":9},{"$f":"SUMIFS(tblData[राशि],tblData[दिनांक],\">=\"&EOMONTH(tblData[[#This Row],[दिनांक]],-1)+1,tblData[दिनांक],\"<=\"&EOMONTH(tblData[[#This Row],[दिनांक]],0))","v":{"v":24000,"d":"रु 24,000.00"}},{"$f":"SUMIFS(tblData[राशि],tblData[दिनांक],\">=\"&DATE(YEAR(tblData[[#This Row],[दिनांक]]),1,1),tblData[दिनांक],\"<=\"&DATE(YEAR(tblData[[#This Row],[दिनांक]]),12,31),tblData[तिमाही],tblData[[#This Row],[तिमाही]])","v":{"v":49100,"d":"रु 49,100.00"}},{"$f":"SUMIFS(tblData[राशि],tblData[दिनांक],\">=\"&DATE(YEAR(tblData[[#This Row],[दिनांक]]),1,1),tblData[दिनांक],\"<=\"&DATE(YEAR(tblData[[#This Row],[दिनांक]]),12,31))","v":{"v":143800,"d":"रु 143,800.00"}},{"$f":"IFERROR(TREND($L$6:INDEX($L:$L,ROW(),1),$K$6:INDEX($K:$K,ROW(),1),IF(MONTH(tblData[[#This Row],[दिनांक]])=12,13,MONTH(tblData[[#This Row],[दिनांक]])+1)),\"\")","v":{"v":21138.050314465407,"d":"रु 21,138.05"}},{"$f":"IFERROR(TREND($M$6:INDEX($M:$M,ROW(),1),$I$6:INDEX($I:$I,ROW(),1),IF(tblData[[#This Row],[तिमाही]]=4,5,tblData[[#This Row],[तिमाही]]+1)),\"\")","v":{"v":47400,"d":"रु 47,400.00"}},{"$f":"IFERROR(TREND($N$6:INDEX($N:$N,ROW(),1),$J$6:INDEX($J:$J,ROW(),1),tblData[[#This Row],[वर्ष]]+1),\"\")","v":{"v":143800,"d":"रु 143,800.00"}}]
[null,{"$f":"40832+(365*2)","v":"2013-10-15"},"Proseware, Inc.",{"v":8800,"d":"रु 8,800.00"},{"v":9350,"d":"रु 9,350.00"},{"v":7100,"d":"रु 7,100.00"},{"$f":"tblData[[#This Row],[राशि]]-tblData[[#This Row],[लागत]]","v":{"v":1700,"d":"रु 1,700.00"}},{"$f":"DATE(YEAR('डेटा प्रविष्टि'!$B20),MONTH('डेटा प्रविष्टि'!$B20),1)","v":"2013-10-01"},{"$f":"LOOKUP(MONTH('डेटा प्रविष्टि'!$H20),{1,1;2,1;3,1;4,2;5,2;6,2;7,3;8,3;9,3;10,4;11,4;12,4})","v":{"v":4,"d":"तिमाही 4"}},{"$f":"YEAR('डेटा प्रविष्टि'!$B20)","v":2013},{"$f":"MONTH(tblData[[#This Row],[दिनांक]])","v":10},{"$f":"SUMIFS(tblData[राशि],tblData[दिनांक],\">=\"&EOMONTH(tblData[[#This Row],[दिनांक]],-1)+1,tblData[दिनांक],\"<=\"&EOMONTH(tblData[[#This Row],[दिनांक]],0))","v":{"v":8800,"d":"रु 8,800.00"}},{"$f":"SUMIFS(tblData[राशि],tblData[दिनांक],\">=\"&DATE(YEAR(tblData[[#This Row],[दिनांक]]),1,1),tblData[दिनांक],\"<=\"&DATE(YEAR(tblData[[#This Row],[दिनांक]]),12,31),tblData[तिमाही],tblData[[#This Row],[तिमाही]])","v":{"v":43900,"d":"रु 43,900.00"}},{"$f":"SUMIFS(tblData[राशि],tblData[दिनांक],\">=\"&DATE(YEAR(tblData[[#This Row],[दिनांक]]),1,1),tblData[दिनांक],\"<=\"&DATE(YEAR(tblData[[#This Row],[दिनांक]]),12,31))","v":{"v":143800,"d":"रु 143,800.00"}},{"$f":"IFERROR(TREND($L$6:INDEX($L:$L,ROW(),1),$K$6:INDEX($K:$K,ROW(),1),IF(MONTH(tblData[[#This Row],[दिनांक]])=12,13,MONTH(tblData[[#This Row],[दिनांक]])+1)),\"\")","v":{"v":17951.74418604651,"d":"रु 17,951.74"}},{"$f":"IFERROR(TREND($M$6:INDEX($M:$M,ROW(),1),$I$6:INDEX($I:$I,ROW(),1),IF(tblData[[#This Row],[तिमाही]]=4,5,tblData[[#This Row],[तिमाही]]+1)),\"\")","v":{"v":43258.139534883725,"d":"रु 43,258.14"}},{"$f":"IFERROR(TREND($N$6:INDEX($N:$N,ROW(),1),$J$6:INDEX($J:$J,ROW(),1),tblData[[#This Row],[वर्ष]]+1),\"\")","v":{"v":143800,"d":"रु 143,800.00"}}]
[null,{"$f":"40853+(365*2)","v":"2013-11-05"},"ललित कला अकादमी",{"v":9100,"d":"रु 9,100.00"},{"v":9200,"d":"रु 9,200.00"},{"v":7850,"d":"रु 7,850.00"},{"$f":"tblData[[#This Row],[राशि]]-tblData[[#This Row],[लागत]]","v":{"v":1250,"d":"रु 1,250.00"}},{"$f":"DATE(YEAR('डेटा प्रविष्टि'!$B21),MONTH('डेटा प्रविष्टि'!$B21),1)","v":"2013-11-01"},{"$f":"LOOKUP(MONTH('डेटा प्रविष्टि'!$H21),{1,1;2,1;3,1;4,2;5,2;6,2;7,3;8,3;9,3;10,4;11,4;12,4})","v":{"v":4,"d":"तिमाही 4"}},{"$f":"YEAR('डेटा प्रविष्टि'!$B21)","v":2013},{"$f":"MONTH(tblData[[#This Row],[दिनांक]])","v":11},{"$f":"SUMIFS(tblData[राशि],tblData[दिनांक],\">=\"&EOMONTH(tblData[[#This Row],[दिनांक]],-1)+1,tblData[दिनांक],\"<=\"&EOMONTH(tblData[[#This Row],[दिनांक]],0))","v":{"v":25600,"d":"रु 25,600.00"}},{"$f":"SUMIFS(tblData[राशि],tblData[दिनांक],\">=\"&DATE(YEAR(tblData[[#This Row],[दिनांक]]),1,1),tblData[दिनांक],\"<=\"&DATE(YEAR(tblData[[#This Row],[दिनांक]]),12,31),tblData[तिमाही],tblData[[#This Row],[तिमाही]])","v":{"v":43900,"d":"रु 43,900.00"}},{"$f":"SUMIFS(tblData[राशि],tblData[दिनांक],\">=\"&DATE(YEAR(tblData[[#This Row],[दिनांक]]),1,1),tblData[दिनांक],\"<=\"&DATE(YEAR(tblData[[#This Row],[दिनांक]]),12,31))","v":{"v":143800,"d":"रु 143,800.00"}},{"$f":"IFERROR(TREND($L$6:INDEX($L:$L,ROW(),1),$K$6:INDEX($K:$K,ROW(),1),IF(MONTH(tblData[[#This Row],[दिनांक]])=12,13,MONTH(tblData[[#This Row],[दिनांक]])+1)),\"\")","v":{"v":20556.130108423687,"d":"रु 20,556.13"}},{"$f":"IFERROR(TREND($M$6:INDEX($M:$M,ROW(),1),$I$6:INDEX($I:$I,ROW(),1),IF(tblData[[#This Row],[तिमाही]]=4,5,tblData[[#This Row],[तिमाही]]+1)),\"\")","v":{"v":42312.90322580645,"d":"रु 42,312.90"}},{"$f":"IFERROR(TREND($N$6:INDEX($N:$N,ROW(),1),$J$6:INDEX($J:$J,ROW(),1),tblData[[#This Row],[वर्ष]]+1),\"\")","v":{"v":143800,"d":"रु 143,800.00"}}]
[null,{"$f":"40874+(365*2)","v":"2013-11-26"},"ट्रे रीसर्च",{"v":9000,"d":"रु 9,000.00"},{"v":10000,"d":"रु 10,000.00"},{"v":7575,"d":"रु 7,575.00"},{"$f":"tblData[[#This Row],[राशि]]-tblData[[#This Row],[लागत]]","v":{"v":1425,"d":"रु 1,425.00"}},{"$f":"DATE(YEAR('डेटा प्रविष्टि'!$B22),MONTH('डेटा प्रविष्टि'!$B22),1)","v":"2013-11-01"},{"$f":"LOOKUP(MONTH('डेटा प्रविष्टि'!$H22),{1,1;2,1;3,1;4,2;5,2;6,2;7,3;8,3;9,3;10,4;11,4;12,4})","v":{"v":4,"d":"तिमाही 4"}},{"$f":"YEAR('डेटा प्रविष्टि'!$B22)","v":2013},{"$f":"MONTH(tblData[[#This Row],[दिनांक]])","v":11},{"$f":"SUMIFS(tblData[राशि],tblData[दिनांक],\">=\"&EOMONTH(tblData[[#This Row],[दिनांक]],-1)+1,tblData[दिनांक],\"<=\"&EOMONTH(tblData[[#This Row],[दिनांक]],0))","v":{"v":25600,"d":"रु 25,600.00"}},{"$f":"SUMIFS(tblData[राशि],tblData[दिनांक],\">=\"&DATE(YEAR(tblData[[#This Row],[दिनांक]]),1,1),tblData[दिनांक],\"<=\"&DATE(YEAR(tblData[[#This Row],[दिनांक]]),12,31),tblData[तिमाही],tblData[[#This Row],[तिमाही]])","v":{"v":43900,"d":"रु 43,900.00"}},{"$f":"SUMIFS(tblData[राशि],tblData[दिनांक],\">=\"&DATE(YEAR(tblData[[#This Row],[दिनांक]]),1,1),tblData[दिनांक],\"<=\"&DATE(YEAR(tblData[[#This Row],[दिनांक]]),12,31))","v":{"v":143800,"d":"रु 143,800.00"}},{"$f":"IFERROR(TREND($L$6:INDEX($L:$L,ROW(),1),$K$6:INDEX($K:$K,ROW(),1),IF(MONTH(tblData[[#This Row],[दिनांक]])=12,13,MONTH(tblData[[#This Row],[दिनांक]])+1)),\"\")","v":{"v":21997.139141742522,"d":"रु 21,997.14"}},{"$f":"IFERROR(TREND($M$6:INDEX($M:$M,ROW(),1),$I$6:INDEX($I:$I,ROW(),1),IF(tblData[[#This Row],[तिमाही]]=4,5,tblData[[#This Row],[तिमाही]]+1)),\"\")","v":{"v":41811.11111111111,"d":"रु 41,811.11"}},{"$f":"IFERROR(TREND($N$6:INDEX($N:$N,ROW(),1),$J$6:INDEX($J:$J,ROW(),1),tblData[[#This Row],[वर्ष]]+1),\"\")","v":{"v":143800,"d":"रु 143,800.00"}}]
[null,{"$f":"40878+(365*2)","v":"2013-11-30"},"ट्रे रीसर्च",{"v":7500,"d":"रु 7,500.00"},{"v":8000,"d":"रु 8,000.00"},{"v":5850,"d":"रु 5,850.00"},{"$f":"tblData[[#This Row],[राशि]]-tblData[[#This Row],[लागत]]","v":{"v":1650,"d":"रु 1,650.00"}},{"$f":"DATE(YEAR('डेटा प्रविष्टि'!$B23),MONTH('डेटा प्रविष्टि'!$B23),1)","v":"2013-11-01"},{"$f":"LOOKUP(MONTH('डेटा प्रविष्टि'!$H23),{1,1;2,1;3,1;4,2;5,2;6,2;7,3;8,3;9,3;10,4;11,4;12,4})","v":{"v":4,"d":"तिमाही 4"}},{"$f":"YEAR('डेटा प्रविष्टि'!$B23)","v":2013},{"$f":"MONTH(tblData[[#This Row],[दिनांक]])","v":11},{"$f":"SUMIFS(tblData[राशि],tblData[दिनांक],\">=\"&EOMONTH(tblData[[#This Row],[दिनांक]],-1)+1,tblData[दिनांक],\"<=\"&EOMONTH(tblData[[#This Row],[दिनांक]],0))","v":{"v":25600,"d":"रु 25,600.00"}},{"$f":"SUMIFS(tblData[राशि],tblData[दिनांक],\">=\"&DATE(YEAR(tblData[[#This Row],[दिनांक]]),1,1),tblData[दिनांक],\"<=\"&DATE(YEAR(tblData[[#This Row],[दिनांक]]),12,31),tblData[तिमाही],tblData[[#This Row],[तिमाही]])","v":{"v":43900,"d":"रु 43,900.00"}},{"$f":"SUMIFS(tblData[राशि],tblData[दिनांक],\">=\"&DATE(YEAR(tblData[[#This Row],[दिनांक]]),1,1),tblData[दिनांक],\"<=\"&DATE(YEAR(tblData[[#This Row],[दिनांक]]),12,31))","v":{"v":143800,"d":"रु 143,800.00"}},{"$f":"IFERROR(TREND($L$6:INDEX($L:$L,ROW(),1),$K$6:INDEX($K:$K,ROW(),1),IF(MONTH(tblData[[#This Row],[दिनांक]])=12,13,MONTH(tblData[[#This Row],[दिनांक]])+1)),\"\")","v":{"v":22917.63452317528,"d":"रु 22,917.63"}},{"$f":"IFERROR(TREND($M$6:INDEX($M:$M,ROW(),1),$I$6:INDEX($I:$I,ROW(),1),IF(tblData[[#This Row],[तिमाही]]=4,5,tblData[[#This Row],[तिमाही]]+1)),\"\")","v":{"v":41500,"d":"रु 41,500.00"}},{"$f":"IFERROR(TREND($N$6:INDEX($N:$N,ROW(),1),$J$6:INDEX($J:$J,ROW(),1),tblData[[#This Row],[वर्ष]]+1),\"\")","v":{"v":143800,"d":"रु 143,800.00"}}]
[null,{"$f":"40889+(365*2)","v":"2013-12-11"},"Contoso Pharmaceuticals",{"v":9500,"d":"रु 9,500.00"},{"v":9200,"d":"रु 9,200.00"},{"v":8500,"d":"रु 8,500.00"},{"$f":"tblData[[#This Row],[राशि]]-tblData[[#This Row],[लागत]]","v":{"v":1000,"d":"रु 1,000.00"}},{"$f":"DATE(YEAR('डेटा प्रविष्टि'!$B24),MONTH('डेटा प्रविष्टि'!$B24),1)","v":"2013-12-01"},{"$f":"LOOKUP(MONTH('डेटा प्रविष्टि'!$H24),{1,1;2,1;3,1;4,2;5,2;6,2;7,3;8,3;9,3;10,4;11,4;12,4})","v":{"v":4,"d":"तिमाही 4"}},{"$f":"YEAR('डेटा प्रविष्टि'!$B24)","v":2013},{"$f":"MONTH(tblData[[#This Row],[दिनांक]])","v":12},{"$f":"SUMIFS(tblData[राशि],tblData[दिनांक],\">=\"&EOMONTH(tblData[[#This Row],[दिनांक]],-1)+1,tblData[दिनांक],\"<=\"&EOMONTH(tblData[[#This Row],[दिनांक]],0))","v":{"v":9500,"d":"रु 9,500.00"}},{"$f":"SUMIFS(tblData[राशि],tblData[दिनांक],\">=\"&DATE(YEAR(tblData[[#This Row],[दिनांक]]),1,1),tblData[दिनांक],\"<=\"&DATE(YEAR(tblData[[#This Row],[दिनांक]]),12,31),tblData[तिमाही],tblData[[#This Row],[तिमाही]])","v":{"v":43900,"d":"रु 43,900.00"}},{"$f":"SUMIFS(tblData[राशि],tblData[दिनांक],\">=\"&DATE(YEAR(tblData[[#This Row],[दिनांक]]),1,1),tblData[दिनांक],\"<=\"&DATE(YEAR(tblData[[#This Row],[दिनांक]]),12,31))","v":{"v":143800,"d":"रु 143,800.00"}},{"$f":"IFERROR(TREND($L$6:INDEX($L:$L,ROW(),1),$K$6:INDEX($K:$K,ROW(),1),IF(MONTH(tblData[[#This Row],[दिनांक]])=12,13,MONTH(tblData[[#This Row],[दिनांक]])+1)),\"\")","v":{"v":20504.31472081218,"d":"रु 20,504.31"}},{"$f":"IFERROR(TREND($M$6:INDEX($M:$M,ROW(),1),$I$6:INDEX($I:$I,ROW(),1),IF(tblData[[#This Row],[तिमाही]]=4,5,tblData[[#This Row],[तिमाही]]+1)),\"\")","v":{"v":41288.23529411765,"d":"रु 41,288.24"}},{"$f":"IFERROR(TREND($N$6:INDEX($N:$N,ROW(),1),$J$6:INDEX($J:$J,ROW(),1),tblData[[#This Row],[वर्ष]]+1),\"\")","v":{"v":143800,"d":"रु 143,800.00"}}]

{"sheet":"विक्रय रिपोर्ट","index":1,"n_rows":28,"n_cols":6,"rows_kept":28}
[]
[null," मासिक विक्रय रिपोर्ट"]
[]
[]
[null,"वर्ष","तिमाही","माह","कंपनी","योग / राशि"]
[null,2013,{"v":2,"d":"तिमाही 2"},"2013-04-01","A. Datum Corporation",6400]
[{"$nulls":4},"Contoso Pharmaceuticals",8200]
[{"$nulls":3},"2013-05-01","Consolidated Messenger",4400]
[{"$nulls":4},"Proseware, Inc.",5400]
[{"$nulls":4},"ट्रे रीसर्च",6200]
[{"$nulls":4},"ललित कला अकादमी",5800]
[{"$nulls":3},"2013-06-01","A. Datum Corporation",6900]
[{"$nulls":4},"Contoso Pharmaceuticals",7500]
[null,null,"तिमाही 2 योग",null,null,50800]
[null,null,{"v":3,"d":"तिमाही 3"},"2013-07-01","Consolidated Messenger",8700]
[{"$nulls":3},"2013-08-01","Proseware, Inc.",8500]
[{"$nulls":4},"ललित कला अकादमी",7900]
[{"$nulls":3},"2013-09-01","Consolidated Messenger",9300]
[{"$nulls":4},"Contoso Pharmaceuticals",5600]
[{"$nulls":4},"ट्रे रीसर्च",9100]
[null,null,"तिमाही 3 योग",null,null,49100]
[null,null,{"v":4,"d":"तिमाही 4"},"2013-10-01","Proseware, Inc.",8800]
[{"$nulls":3},"2013-11-01","ट्रे रीसर्च",16500]
[{"$nulls":4},"ललित कला अकादमी",9100]
[{"$nulls":3},"2013-12-01","Contoso Pharmaceuticals",9500]
[null,null,"तिमाही 4 योग",null,null,43900]
[null,"2013 योग",{"$nulls":3},143800]
[null,"महायोग",{"$nulls":3},143800]

{"sheet":"विक्रय पूर्वानुमान","index":2,"n_rows":43,"n_cols":10,"rows_kept":43}
[]
[null,"मासिक विक्रय पूर्वानुमान"]
[null,{"$f":"\"आज का दिनांक: \"&TEXT(TODAY(),\"[$-F800]dd mmmm yyyy\")","v":"आज का दिनांक: Tuesday, December 11, 2012"},null,{"$f":"--TRIM(RIGHT(B3,LEN(B3)-FIND(\":\",B3)))","v":{"$error":"#VALUE!"}}]
[]
[null,"इस माह","वास्तविक","योजना","भिन्नता","%","YTD वास्तविक","YTD योजना","YTD भिन्नता","YTD %"]
[null,"मात्रा",{"$f":"COUNTIF('डेटा प्रविष्टि'!$B$6:$B$24,\">=\"&DATE(fYear,MONTH(fDate),1))-COUNTIF('डेटा प्रविष्टि'!$B$6:$B$24,\">\"&EOMONTH(fDate,0))","v":0},{"$nulls":3},{"$f":"COUNTIF(tblData[दिनांक],\"<=\"&EOMONTH(fDate,0))","v":0}]
[null,"विक्रय",{"$f":"SUMIF(tblData[दिनांक],\">=\"&DATE(fYear,MONTH(fDate),1),tblData[राशि])-SUMIF(tblData[दिनांक],\">\"&EOMONTH(fDate,0),tblData[राशि])","v":{"v":0,"d":"रु 0.00"}},{"$f":"SUMIF('डेटा प्रविष्टि'!$B$6:$B$24,\">=\"&DATE(fYear,MONTH(fDate),1),'डेटा प्रविष्टि'!$E$6:$E$24)-SUMIF('डेटा प्रविष्टि'!$B$6:$B$24,\">\"&EOMONTH(fDate,0),'डेटा प्रविष्टि'!$E$6:$E$24)","v":{"v":0,"d":"रु 0.00"}},{"$f":"D7-C7","v":{"v":0,"d":"रु 0.00"}},{"$f":"IFERROR(D7/C7,\"-\")","v":"-"},{"$f":"SUMIF(tblData[दिनांक],\"<=\"&EOMONTH(fDate,0),tblData[राशि])","v":{"v":0,"d":"रु 0.00"}},{"$f":"SUMIF(tblData[दिनांक],\"<=\"&EOMONTH(fDate,0),tblData[नियोजित])","v":{"v":0,"d":"रु 0.00"}},{"$f":"H7-G7","v":{"v":0,"d":"रु 0.00"}},{"$f":"IFERROR(H7/G7,\"\")","v":""}]
[null,"आय",{"$f":"(SUMIF(tblData[दिनांक],\">=\"&DATE(fYear,MONTH(fDate),1),tblData[राशि])-SUMIF(tblData[दिनांक],\">\"&EOMONTH(fDate,0),tblData[राशि]))-(SUMIF(tblData[दिनांक],\">=\"&DATE(fYear,MONTH(fDate),1),tblData[लागत])-SUMIF(tblData[दिनांक],\">\"&EOMONTH(fDate,0),tblData[लागत]))","v":{"v":0,"d":"रु 0.00"}},{"$f":"(SUMIF('डेटा प्रविष्टि'!$B$6:$B$24,\">=\"&DATE(fYear,MONTH(fDate),1),'डेटा प्रविष्टि'!$E$6:$E$24)-SUMIF('डेटा प्रविष्टि'!$B$6:$B$24,\">\"&EOMONTH(fDate,0),'डेटा प्रविष्टि'!$E$6:$E$24))-(SUMIF('डेटा प्रविष्टि'!$B$6:$B$24,\">=\"&DATE(fYear,MONTH(fDate),1),'डेटा प्रविष्टि'!$F$6:$F$24)-SUMIF('डेटा प्रविष्टि'!$B$6:$B$24,\">\"&EOMONTH(fDate,0),'डेटा प्रविष्टि'!$F$6:$F$24))","v":{"v":0,"d":"रु 0.00"}},{"$f":"D8-C8","v":{"v":0,"d":"रु 0.00"}},{"$f":"IFERROR(D8/C8,\"-\")","v":"-"},{"$f":"SUMIF('डेटा प्रविष्टि'!$B$6:$B$24,\"<=\"&EOMONTH(fDate,0),'डेटा प्रविष्टि'!$F$6:$F$24)","v":{"v":0,"d":"रु 0.00"}},{"$f":"SUMIF(tblData[दिनांक],\"<=\"&EOMONTH(fDate,0),tblData[लागत])","v":{"v":0,"d":"रु 0.00"}},{"$f":"H8-G8","v":{"v":0,"d":"रु 0.00"}},{"$f":"IFERROR(H8/G8,\"\")","v":""}]
[null,"मार्जिन",{"$f":"IFERROR(C8/C7,\"-\")","v":"-"},{"$f":"IFERROR(D8/D7,\"-\")","v":"-"},null,{"$f":"IFERROR(F8/F7,\"-\")","v":"-"},{"$f":"IFERROR(G8/G7,\"\")","v":""},{"$f":"IFERROR(H8/H7,\"\")","v":""},null,{"$f":"IFERROR(J8/J7,\"\")","v":""}]
[null,"ऑर्डर्स की संख्‍या",{"$f":"COUNTIF(tblData[दिनांक],\">=\"&DATE(fYear,MONTH(fDate),1))-COUNTIF(tblData[दिनांक],\">\"&EOMONTH(fDate,0))","v":0},{"$nulls":3},{"$f":"COUNTIF(tblData[दिनांक],\">\"&EOMONTH(fDate,0))","v":0}]
[null,"औसत ऑर्डर मान",{"$f":"IFERROR(C7/C10,\"-\")","v":"-"},{"$nulls":3},{"$f":"IFERROR(G7/G10,\"-\")","v":"-"}]
[]
[null,"पूर्वानुमान",null,"अगला माह",null,"अगली तिमाही",null,null,"अगला वर्ष"]
[null,"विक्रय",null,{"$f":"TREND(tblData[[माह ]],tblData[MONTH NUM (HIDE)],IF(MONTH(fDate)=12,13,MONTH(fDate)+1))","v":{"$error":"#VALUE!"}},null,{"$f":"TREND(tblData[[तिमाही ]],tblData[MONTH NUM (HIDE)],IF(MONTH(fDate)=12,13,MONTH(fDate)+1))","v":{"$error":"#VALUE!"}},null,null,{"$f":"TREND(tblData[[वार्षिक ]],tblData[MONTH NUM (HIDE)],IF(MONTH(fDate)=12,13,MONTH(fDate)+1))","v":{"$error":"#VALUE!"}}]
[]
[null,"विक्रय इतिहास"]
{"$rows_empty":13}
[null,"माह पूर्वानुमान",{"$nulls":3},"तिमाही पूर्वानुमान"]
{"$rows_empty":7}
[null,"वर्ष पूर्वानुमान",{"$nulls":3},"आय वर्ग"]
[]
[]
[]
[]
[{"$nulls":9}," "]