{"text_format":"3","workbook":"xlsx","n_sheets":2,"sheets":["Töötaja ajatabel","Nädalapäeva_otsing"],"not_rendered":{"defined_names":27},"read":"whole","date_system":"1900"}

{"sheet":"Töötaja ajatabel","index":0,"n_rows":36,"n_cols":26,"rows_kept":36,"merged":[[0,1,2,4],[0,5,2,9],[0,10,2,14],[0,15,3,23],[0,24,3,24],[3,1,3,3],[3,5,3,9],[3,10,3,14],[4,1,6,3],[4,4,6,6],[5,14,7,14],[5,22,7,22],[5,23,7,23],[5,24,7,24],[21,1,21,6],[22,1,23,3],[22,4,23,6],[23,14,24,14],[23,22,24,22],[23,23,24,23],[23,24,24,24],[32,1,32,6],[32,24,33,24],[32,25,33,25],[33,1,33,6],[34,1,34,6],[35,1,35,3],[35,4,35,5],[35,6,35,7],[35,8,35,14],[35,15,35,16],[35,17,35,23]]}
[null,"TÖÖTAJA AJATABEL",{"$nulls":3},"Töötaja nimi",{"$nulls":9},"Valige parempoolses lahtris Jah, kui \nületunnitöö jaoks on vaja luba"]
[]
[]
[null,"Palgaarvestuse lõppaeg",null,null,{"$f":"V7","v":"2025-06-14"},"Töötaja kood"]
[null,"KORRALINE TÖÖAEG:",null,null,"Kuupäev:"]
[{"$nulls":14},"Kokku:\n1. nädal\nkorralised",{"$nulls":7},"Kokku:\n2. nädal\nkorralised","Kokku:\nkorralised\ntunnid","Palgaarvestus\nKasuta ainult\npalgakoodi"]
[{"$nulls":7},"2025-06-01",{"$f":"Alguskuupäev+1","v":"2025-06-02"},{"$f":"Alguskuupäev+2","v":"2025-06-03"},{"$f":"Alguskuupäev+3","v":"2025-06-04"},{"$f":"Alguskuupäev+4","v":"2025-06-05"},{"$f":"Alguskuupäev+5","v":"2025-06-06"},{"$f":"Alguskuupäev+6","v":"2025-06-07"},null,{"$f":"Alguskuupäev+7","v":"2025-06-08"},{"$f":"Alguskuupäev+8","v":"2025-06-09"},{"$f":"Alguskuupäev+9","v":"2025-06-10"},{"$f":"Alguskuupäev+10","v":"2025-06-11"},{"$f":"Alguskuupäev+11","v":"2025-06-12"},{"$f":"Alguskuupäev+12","v":"2025-06-13"},{"$f":"Alguskuupäev+13","v":"2025-06-14"}]
[null,"Töö","Koht","TK nr","Töö kirjeldus","Ametinimetus","Kood",{"$f":"VLOOKUP(WEEKDAY(Alguskuupäev),Nädalapäeva_otsing!$B$2:$C$8,2)","v":"P"},{"$f":"VLOOKUP(WEEKDAY(I7),Nädalapäeva_otsing!$B$2:$C$8,2)","v":"E"},{"$f":"VLOOKUP(WEEKDAY(J7),Nädalapäeva_otsing!$B$2:$C$8,2)","v":"T"},{"$f":"VLOOKUP(WEEKDAY(K7),Nädalapäeva_otsing!$B$2:$C$8,2)","v":"K"},{"$f":"VLOOKUP(WEEKDAY(L7),Nädalapäeva_otsing!$B$2:$C$8,2)","v":"N"},{"$f":"VLOOKUP(WEEKDAY(M7),Nädalapäeva_otsing!$B$2:$C$8,2)","v":"R"},{"$f":"VLOOKUP(WEEKDAY(N7),Nädalapäeva_otsing!$B$2:$C$8,2)","v":"L"},null,{"$f":"VLOOKUP(WEEKDAY(P7),Nädalapäeva_otsing!$B$2:$C$8,2)","v":"P"},{"$f":"VLOOKUP(WEEKDAY(Q7),Nädalapäeva_otsing!$B$2:$C$8,2)","v":"E"},{"$f":"VLOOKUP(WEEKDAY(R7),Nädalapäeva_otsing!$B$2:$C$8,2)","v":"T"},{"$f":"VLOOKUP(WEEKDAY(S7),Nädalapäeva_otsing!$B$2:$C$8,2)","v":"K"},{"$f":"VLOOKUP(WEEKDAY(T7),Nädalapäeva_otsing!$B$2:$C$8,2)","v":"N"},{"$f":"VLOOKUP(WEEKDAY(U7),Nädalapäeva_otsing!$B$2:$C$8,2)","v":"R"},{"$f":"VLOOKUP(WEEKDAY(V7),Nädalapäeva_otsing!$B$2:$C$8,2)","v":"L"}]
[{"$nulls":14},{"$f":"SUM(H9:N9)","v":{"v":0,"d":"0.00"}},{"$nulls":7},{"$f":"SUM(P9:V9)","v":{"v":0,"d":"0.00"}},{"$f":"O9+W9","v":{"v":0,"d":"0.00"}}]
[{"$nulls":14},{"v":0,"d":"0.00"},{"$nulls":7},{"v":0,"d":"0.00"},{"v":0,"d":"0.00"}]
[{"$nulls":14},{"v":0,"d":"0.00"},{"$nulls":7},{"v":0,"d":"0.00"},{"v":0,"d":"0.00"}]
[{"$nulls":14},{"v":0,"d":"0.00"},{"$nulls":7},{"v":0,"d":"0.00"},{"v":0,"d":"0.00"}]
[{"$nulls":14},{"v":0,"d":"0.00"},{"$nulls":7},{"v":0,"d":"0.00"},{"v":0,"d":"0.00"}]
[{"$nulls":14},{"v":0,"d":"0.00"},{"$nulls":7},{"v":0,"d":"0.00"},{"v":0,"d":"0.00"}]
[{"$nulls":14},{"v":0,"d":"0.00"},{"$nulls":7},{"v":0,"d":"0.00"},{"v":0,"d":"0.00"}]
[{"$nulls":14},{"$f":"SUM(H16:N16)","v":{"v":0,"d":"0.00"}},{"$nulls":7},{"$f":"SUM(P16:V16)","v":{"v":0,"d":"0.00"}},{"$f":"O16+W16","v":{"v":0,"d":"0.00"}}]
[{"$nulls":14},{"v":0,"d":"0.00"},{"$nulls":7},{"v":0,"d":"0.00"},{"v":0,"d":"0.00"}]
[{"$nulls":14},{"v":0,"d":"0.00"},{"$nulls":7},{"v":0,"d":"0.00"},{"v":0,"d":"0.00"}]
[{"$nulls":14},{"v":0,"d":"0.00"},{"$nulls":7},{"v":0,"d":"0.00"},{"v":0,"d":"0.00"}]
[{"$nulls":14},{"v":0,"d":"0.00"},{"$nulls":7},{"v":0,"d":"0.00"},{"v":0,"d":"0.00"}]
[{"$nulls":14},{"v":0,"d":"0.00"},{"$nulls":7},{"v":0,"d":"0.00"},{"v":0,"d":"0.00"}]
[null,"Korralised töötunnid kokku   ",{"$nulls":5},{"$f":"SUM(H9:H21)","v":{"v":0,"d":"0.00"}},{"v":0,"d":"0.00"},{"v":0,"d":"0.00"},{"v":0,"d":"0.00"},{"v":0,"d":"0.00"},{"v":0,"d":"0.00"},{"v":0,"d":"0.00"},{"v":0,"d":"0.00"},{"v":0,"d":"0.00"},{"$f":"SUM(Q9:Q21)","v":{"v":0,"d":"0.00"}},{"v":0,"d":"0.00"},{"v":0,"d":"0.00"},{"v":0,"d":"0.00"},{"v":0,"d":"0.00"},{"v":0,"d":"0.00"},{"$f":"SUM(W9:W21)","v":{"v":0,"d":"0.00"}},{"$f":"SUM(X9:X21)","v":{"v":0,"d":"0.00"}}]
[null,"ÜLETUNNITÖÖ:",null,null,"Kuupäev:"]
[{"$nulls":7},{"$f":"Alguskuupäev","v":"2025-06-01"},{"$f":"Alguskuupäev+1","v":"2025-06-02"},{"$f":"Alguskuupäev+2","v":"2025-06-03"},{"$f":"Alguskuupäev+3","v":"2025-06-04"},{"$f":"Alguskuupäev+4","v":"2025-06-05"},{"$f":"Alguskuupäev+5","v":"2025-06-06"},{"$f":"Alguskuupäev+6","v":"2025-06-07"},"1. nädal ÜT",{"$f":"Alguskuupäev+7","v":"2025-06-08"},{"$f":"Alguskuupäev+8","v":"2025-06-09"},{"$f":"Alguskuupäev+9","v":"2025-06-10"},{"$f":"Alguskuupäev+10","v":"2025-06-11"},{"$f":"Alguskuupäev+11","v":"2025-06-12"},{"$f":"Alguskuupäev+12","v":"2025-06-13"},{"$f":"Alguskuupäev+13","v":"2025-06-14"},"2. nädal ÜT","Kokku ÜT","Ületunnitöö\nkood"]
[null,"Töö","Koht","TK nr","Töö kirjeldus","Ametinimetus","Kood",{"$f":"VLOOKUP(WEEKDAY(Alguskuupäev),Nädalapäeva_otsing!$B$2:$C$8,2)","v":"P"},{"$f":"VLOOKUP(WEEKDAY(I24),Nädalapäeva_otsing!$B$2:$C$8,2)","v":"E"},{"$f":"VLOOKUP(WEEKDAY(J24),Nädalapäeva_otsing!$B$2:$C$8,2)","v":"T"},{"$f":"VLOOKUP(WEEKDAY(K24),Nädalapäeva_otsing!$B$2:$C$8,2)","v":"K"},{"$f":"VLOOKUP(WEEKDAY(L24),Nädalapäeva_otsing!$B$2:$C$8,2)","v":"N"},{"$f":"VLOOKUP(WEEKDAY(M24),Nädalapäeva_otsing!$B$2:$C$8,2)","v":"R"},{"$f":"VLOOKUP(WEEKDAY(N24),Nädalapäeva_otsing!$B$2:$C$8,2)","v":"L"},null,{"$f":"VLOOKUP(WEEKDAY(P24),Nädalapäeva_otsing!$B$2:$C$8,2)","v":"P"},{"$f":"VLOOKUP(WEEKDAY(Q24),Nädalapäeva_otsing!$B$2:$C$8,2)","v":"E"},{"$f":"VLOOKUP(WEEKDAY(R24),Nädalapäeva_otsing!$B$2:$C$8,2)","v":"T"},{"$f":"VLOOKUP(WEEKDAY(S24),Nädalapäeva_otsing!$B$2:$C$8,2)","v":"K"},{"$f":"VLOOKUP(WEEKDAY(T24),Nädalapäeva_otsing!$B$2:$C$8,2)","v":"N"},{"$f":"VLOOKUP(WEEKDAY(U24),Nädalapäeva_otsing!$B$2:$C$8,2)","v":"R"},{"$f":"VLOOKUP(WEEKDAY(V24),Nädalapäeva_otsing!$B$2:$C$8,2)","v":"L"}]
[{"$nulls":14},{"$f":"SUM(H26:N26)","v":{"v":0,"d":"0.00"}},{"$nulls":7},{"$f":"SUM(P26:V26)","v":{"v":0,"d":"0.00"}},{"$f":"O26+W26","v":{"v":0,"d":"0.00"}}]
[{"$nulls":14},{"v":0,"d":"0.00"},{"$nulls":7},{"v":0,"d":"0.00"},{"v":0,"d":"0.00"}]
[{"$nulls":14},{"v":0,"d":"0.00"},{"$nulls":7},{"v":0,"d":"0.00"},{"v":0,"d":"0.00"}]
[{"$nulls":14},{"v":0,"d":"0.00"},{"$nulls":7},{"v":0,"d":"0.00"},{"v":0,"d":"0.00"}]
[{"$nulls":14},{"v":0,"d":"0.00"},{"$nulls":7},{"v":0,"d":"0.00"},{"v":0,"d":"0.00"}]
[{"$nulls":14},{"v":0,"d":"0.00"},{"$nulls":7},{"v":0,"d":"0.00"},{"v":0,"d":"0.00"}]
[{"$nulls":14},{"v":0,"d":"0.00"},{"$nulls":7},{"v":0,"d":"0.00"},{"v":0,"d":"0.00"}]
[null,"Ületunnid kokku     ",{"$nulls":5},{"$f":"SUM(H26:H32)","v":{"v":0,"d":"0.00"}},{"v":0,"d":"0.00"},{"v":0,"d":"0.00"},{"v":0,"d":"0.00"},{"v":0,"d":"0.00"},{"v":0,"d":"0.00"},{"v":0,"d":"0.00"},{"$f":"SUM(O26:O32)","v":{"v":0,"d":"0.00"}},{"v":0,"d":"0.00"},{"v":0,"d":"0.00"},{"v":0,"d":"0.00"},{"v":0,"d":"0.00"},{"v":0,"d":"0.00"},{"v":0,"d":"0.00"},{"v":0,"d":"0.00"},{"$f":"SUM(P33:V33)","v":{"v":0,"d":"0.00"}},{"$f":"SUM(X26:X32)","v":{"v":0,"d":"0.00"}},"Töötatud\ntunnid\nkokku","Kokku:\nTasutud\ntunnid"]
[null,"Ületunnitöö hüvitis     ",{"$nulls":12},{"$f":"IF(SUM(H34:N34)<=O33,SUM(H34:N34),O33)","v":{"v":0,"d":"0.00"}},{"$nulls":7},{"$f":"IF(SUM(P34:V34)<=W33,SUM(P34:V34),W33)","v":{"v":0,"d":"0.00"}},{"$f":"IF(SUM(Q34:W34)<=X33,SUM(Q34:W34),X33)","v":{"v":0,"d":"0.00"}}]
[null,"Makstud ületunnitöö     ",{"$nulls":5},{"$f":"IF(H33>=H34,H33-H34,H33)","v":{"v":0,"d":"0.00"}},{"$f":"IF(I33>=I34,I33-I34,I33)","v":{"v":0,"d":"0.00"}},{"v":0,"d":"0.00"},{"v":0,"d":"0.00"},{"v":0,"d":"0.00"},{"v":0,"d":"0.00"},{"v":0,"d":"0.00"},{"v":0,"d":"0.00"},{"v":0,"d":"0.00"},{"v":0,"d":"0.00"},{"v":0,"d":"0.00"},{"v":0,"d":"0.00"},{"v":0,"d":"0.00"},{"v":0,"d":"0.00"},{"v":0,"d":"0.00"},{"$f":"IF(W33>=W34,W33-W34,W33)","v":{"v":0,"d":"0.00"}},{"$f":"IF(X33>=X34,X33-X34,X33)","v":{"v":0,"d":"0.00"}},{"$f":"$X$22+$X$33","v":{"v":0,"d":"0.00"}},{"$f":"X22+X35","v":{"v":0,"d":"0.00"}}]
[null,"Töötaja ",{"$nulls":4},"Ülevaataja ",{"$nulls":8},"Ülevaataja "]

{"sheet":"Nädalapäeva_otsing","index":1,"n_rows":8,"n_cols":3,"rows_kept":8}
[null,"Nädalapäev\nTäisarv","Nädalapäeva\nesitäht"]
[null,1,"P"]
[null,2,"E"]
[null,3,"T"]
[null,4,"K"]
[null,5,"N"]
[null,6,"R"]
[null,7,"L"]