{"text_format":"3","workbook":"xlsx","n_sheets":13,"sheets":["Total","Enero","Febrero","Marzo","Abril","Mayo","Junio","Julio","Agosto","Septiembre","Octubre","Noviembre","Diciembre"],"not_rendered":{"defined_names":13},"read":"whole","date_system":"1900"}

{"sheet":"Total","index":0,"n_rows":18,"n_cols":21,"rows_kept":18,"merged":[[2,4,2,11],[4,1,4,4],[9,1,9,4],[14,1,14,4]]}
[null,"Control de permisos laborales del empleado",{"$nulls":18},"Resumen de 2004"]
[{"$nulls":20},"[Nombre de la compañía]"]
[{"$nulls":20},"[Nombre del supervisor]"]
[]
[null,"Gutiérrez, Andrés"]
[null,2004,"Ene","Feb","Mar","Abr","Mayo","Jun","Jul","Ago","Sep","Oct","Nov","Dic","Total usadas","Total asignadas","Total sin usar"]
[null,"Horas de vacaciones usadas",{"$f":"SUM(Enero!AH7)","v":28},{"$f":"SUM(Febrero!AF7)","v":0},{"$f":"SUM(Marzo!AH7)","v":0},{"$f":"SUM(Abril!AG7)","v":0},{"$f":"SUM(Mayo!AH7)","v":0},{"$f":"SUM(Junio!AG7)","v":0},{"$f":"SUM(Julio!AH7)","v":0},{"$f":"SUM(Agosto!AH7)","v":0},{"$f":"SUM(Septiembre!AG7)","v":0},{"$f":"SUM(Octubre!AH7)","v":0},{"$f":"SUM(Noviembre!AG7)","v":0},{"$f":"SUM(Diciembre!AH7)","v":0},{"$f":"SUM(C7:N7)","v":28},80,{"$f":"SUM(P7-O7)","v":52}]
[null,"Horas de permiso por enfermedad usadas",{"$f":"SUM(Enero!AH8)","v":6},{"$f":"SUM(Febrero!AF8)","v":0},{"$f":"SUM(Marzo!AH8)","v":0},{"$f":"SUM(Abril!AG8)","v":0},{"$f":"SUM(Mayo!AH8)","v":0},{"$f":"SUM(Junio!AG8)","v":0},{"$f":"SUM(Julio!AH8)","v":0},{"$f":"SUM(Agosto!AH8)","v":0},{"$f":"SUM(Septiembre!AG8)","v":0},{"$f":"SUM(Octubre!AH8)","v":0},{"$f":"SUM(Noviembre!AG8)","v":0},{"$f":"SUM(Diciembre!AH8)","v":0},{"$f":"SUM(C8:N8)","v":6},80,{"$f":"SUM(P8-O8)","v":74}]
[]
[null,"Gil, Susana"]
[null,2004,"Ene","Feb","Mar","Abr","Mayo","Jun","Jul","Ago","Sep","Oct","Nov","Dic","Total usadas","Total asignadas","Total sin usar"]
[null,"Horas de vacaciones usadas",{"$f":"SUM(Enero!AH12)","v":0},{"$f":"SUM(Febrero!AF12)","v":40},{"$f":"SUM(Marzo!AH12)","v":0},{"$f":"SUM(Abril!AG12)","v":0},{"$f":"SUM(Mayo!AH12)","v":0},{"$f":"SUM(Junio!AG12)","v":0},{"$f":"SUM(Julio!AH12)","v":0},{"$f":"SUM(Agosto!AH12)","v":0},{"$f":"SUM(Septiembre!AG12)","v":0},{"$f":"SUM(Octubre!AH12)","v":0},{"$f":"SUM(Noviembre!AG12)","v":0},{"$f":"SUM(Diciembre!AH12)","v":0},{"$f":"SUM(C12:N12)","v":40},80,{"$f":"SUM(P12-O12)","v":40}]
[null,"Horas de permiso por enfermedad usadas",{"$f":"SUM(Enero!AH13)","v":0},{"$f":"SUM(Febrero!AF13)","v":0},{"$f":"SUM(Marzo!AH13)","v":0},{"$f":"SUM(Abril!AG13)","v":0},{"$f":"SUM(Mayo!AH13)","v":0},{"$f":"SUM(Junio!AG13)","v":0},{"$f":"SUM(Julio!AH13)","v":0},{"$f":"SUM(Agosto!AH13)","v":0},{"$f":"SUM(Septiembre!AG13)","v":0},{"$f":"SUM(Octubre!AH13)","v":0},{"$f":"SUM(Noviembre!AG13)","v":0},{"$f":"SUM(Diciembre!AH13)","v":0},{"$f":"SUM(C13:N13)","v":0},80,{"$f":"SUM(P13-O13)","v":80}]
[]
[null,"Ríos, Manuel"]
[null,2004,"Ene","Feb","Mar","Abr","Mayo","Jun","Jul","Ago","Sep","Oct","Nov","Dic","Total usadas","Total asignadas","Total sin usar"]
[null,"Horas de vacaciones usadas",{"$f":"SUM(Enero!AH17)","v":0},{"$f":"SUM(Febrero!AF17)","v":0},{"$f":"SUM(Marzo!AH17)","v":0},{"$f":"SUM(Abril!AG17)","v":0},{"$f":"SUM(Mayo!AH17)","v":0},{"$f":"SUM(Junio!AG17)","v":0},{"$f":"SUM(Julio!AH17)","v":0},{"$f":"SUM(Agosto!AH17)","v":0},{"$f":"SUM(Septiembre!AG17)","v":0},{"$f":"SUM(Octubre!AH17)","v":0},{"$f":"SUM(Noviembre!AG17)","v":0},{"$f":"SUM(Diciembre!AH17)","v":0},{"$f":"SUM(C17:N17)","v":0},80,{"$f":"SUM(P17-O17)","v":80}]
[null,"Horas de permiso por enfermedad usadas",{"$f":"SUM(Enero!AH18)","v":0},{"$f":"SUM(Febrero!AF18)","v":0},{"$f":"SUM(Marzo!AH18)","v":0},{"$f":"SUM(Abril!AG18)","v":0},{"$f":"SUM(Mayo!AH18)","v":0},{"$f":"SUM(Junio!AG18)","v":0},{"$f":"SUM(Julio!AH18)","v":0},{"$f":"SUM(Agosto!AH18)","v":0},{"$f":"SUM(Septiembre!AG18)","v":0},{"$f":"SUM(Octubre!AH18)","v":0},{"$f":"SUM(Noviembre!AG18)","v":0},{"$f":"SUM(Diciembre!AH18)","v":0},{"$f":"SUM(C18:N18)","v":0},80,{"$f":"SUM(P18-O18)","v":80}]

{"sheet":"Enero","index":1,"n_rows":18,"n_cols":34,"rows_kept":18,"merged":[[1,4,1,11],[2,4,2,11],[4,1,4,4],[9,1,9,4],[14,1,14,4]]}
[null,"Control de permisos laborales del empleado ",{"$nulls":31},"Enero de 2004"]
[{"$nulls":33},"[Nombre de la compañía]"]
[{"$nulls":33},"[Nombre del supervisor]"]
[]
[null,{"$f":"Total!B5","v":"Gutiérrez, Andrés"}]
[null,"Enero",1,2,3,4,5,6,7,8,9,10,11,12,13,14,15,16,17,18,19,20,21,22,23,24,25,26,27,28,29,30,31,"TOTAL"]
[null,"Horas de vacaciones usadas",null,8,8,8,4,{"$nulls":26},{"$f":"SUM(C7:AG7)","v":28}]
[null,"Horas de permiso por enfermedad usadas",{"$nulls":9},3,{"$nulls":4},3,{"$nulls":16},{"$f":"SUM(C8:AG8)","v":6}]
[]
[null,{"$f":"Total!B10","v":"Gil, Susana"}]
[null,"Enero",1,2,3,4,5,6,7,8,9,10,11,12,13,14,15,16,17,18,19,20,21,22,23,24,25,26,27,28,29,30,31,"TOTAL"]
[null,"Horas de vacaciones usadas",{"$nulls":31},{"$f":"SUM(C12:AG12)","v":0}]
[null,"Horas de permiso por enfermedad usadas",{"$nulls":31},{"$f":"SUM(C13:AG13)","v":0}]
[]
[null,{"$f":"Total!B15","v":"Ríos, Manuel"}]
[null,"Enero",1,2,3,4,5,6,7,8,9,10,11,12,13,14,15,16,17,18,19,20,21,22,23,24,25,26,27,28,29,30,31,"TOTAL"]
[null,"Horas de vacaciones usadas",{"$nulls":31},{"$f":"SUM(C17:AG17)","v":0}]
[null,"Horas de permiso por enfermedad usadas",{"$nulls":31},{"$f":"SUM(C18:AG18)","v":0}]

{"sheet":"Febrero","index":2,"n_rows":18,"n_cols":32,"rows_kept":18,"merged":[[4,1,4,4],[9,1,9,4],[14,1,14,4]]}
[null,"Control de permisos laborales del empleado",{"$nulls":29},"Febrero de 2004"]
[{"$nulls":31},"[Nombre de la compañía]"]
[{"$nulls":31},"[Nombre del supervisor]"]
[]
[null,{"$f":"Enero!B5","v":"Gutiérrez, Andrés"}]
[null,"Febrero",1,2,3,4,5,6,7,8,9,10,11,12,13,14,15,16,17,18,19,20,21,22,23,24,25,26,27,28,29,"TOTAL"]
[null,"Horas de vacaciones usadas",{"$nulls":29},{"$f":"SUM(C7:AE7)","v":0}]
[null,"Horas de permiso por enfermedad usadas",{"$nulls":29},{"$f":"SUM(C8:AE8)","v":0}]
[]
[null,{"$f":"Enero!B10","v":"Gil, Susana"}]
[null,"Febrero",1,2,3,4,5,6,7,8,9,10,11,12,13,14,15,16,17,18,19,20,21,22,23,24,25,26,27,28,29,"TOTAL"]
[null,"Horas de vacaciones usadas",null,null,8,8,8,8,8,{"$nulls":22},{"$f":"SUM(C12:AE12)","v":40}]
[null,"Horas de permiso por enfermedad usadas",{"$nulls":29},{"$f":"SUM(C13:AE13)","v":0}]
[]
[null,{"$f":"Enero!B15","v":"Ríos, Manuel"}]
[null,"Febrero",1,2,3,4,5,6,7,8,9,10,11,12,13,14,15,16,17,18,19,20,21,22,23,24,25,26,27,28,29,"TOTAL"]
[null,"Horas de vacaciones usadas",{"$nulls":29},{"$f":"SUM(C17:AE17)","v":0}]
[null,"Horas de permiso por enfermedad usadas",{"$nulls":29},{"$f":"SUM(C18:AE18)","v":0}]

{"sheet":"Marzo","index":3,"n_rows":18,"n_cols":34,"rows_kept":18,"merged":[[1,1,1,3],[1,4,1,11],[2,1,2,3],[2,4,2,11],[4,1,4,4],[9,1,9,4],[14,1,14,4]]}
[null,"Control de permisos laborales del empleado ",{"$nulls":31},"Marzo de 2004"]
[{"$nulls":33},"[Nombre de la compañía]"]
[{"$nulls":33},"[Nombre del supervisor]"]
[]
[null,{"$f":"Enero!B5","v":"Gutiérrez, Andrés"}]
[null,"Marzo",1,2,3,4,5,6,7,8,9,10,11,12,13,14,15,16,17,18,19,20,21,22,23,24,25,26,27,28,29,30,31,"TOTAL"]
[null,"Horas de vacaciones usadas",{"$nulls":31},{"$f":"SUM(C7:AG7)","v":0}]
[null,"Horas de permiso por enfermedad usadas",{"$nulls":31},{"$f":"SUM(C8:AG8)","v":0}]
[]
[null,{"$f":"Enero!B10","v":"Gil, Susana"}]
[null,"Marzo",1,2,3,4,5,6,7,8,9,10,11,12,13,14,15,16,17,18,19,20,21,22,23,24,25,26,27,28,29,30,31,"TOTAL"]
[null,"Horas de vacaciones usadas",{"$nulls":31},{"$f":"SUM(C12:AG12)","v":0}]
[null,"Horas de permiso por enfermedad usadas",{"$nulls":31},{"$f":"SUM(C13:AG13)","v":0}]
[]
[null,{"$f":"Enero!B15","v":"Ríos, Manuel"}]
[null,"Marzo",1,2,3,4,5,6,7,8,9,10,11,12,13,14,15,16,17,18,19,20,21,22,23,24,25,26,27,28,29,30,31,"TOTAL"]
[null,"Horas de vacaciones usadas",{"$nulls":31},{"$f":"SUM(C17:AG17)","v":0}]
[null,"Horas de permiso por enfermedad usadas",{"$nulls":31},{"$f":"SUM(C18:AG18)","v":0}]

{"sheet":"Abril","index":4,"n_rows":18,"n_cols":33,"rows_kept":18,"merged":[[1,1,1,3],[1,4,1,11],[2,1,2,3],[2,4,2,11],[4,1,4,4],[9,1,9,4],[14,1,14,4]]}
[null,"Control de permisos laborales del empleado ",{"$nulls":30},"Abril de 2004"]
[{"$nulls":32},"[Nombre de la compañía]"]
[{"$nulls":32},"[Nombre del supervisor]"]
[]
[null,{"$f":"Enero!B5","v":"Gutiérrez, Andrés"}]
[null,"Abril",1,2,3,4,5,6,7,8,9,10,11,12,13,14,15,16,17,18,19,20,21,22,23,24,25,26,27,28,29,30,"TOTAL"]
[null,"Horas de vacaciones usadas",{"$nulls":30},{"$f":"SUM(C7:AF7)","v":0}]
[null,"Horas de permiso por enfermedad usadas",{"$nulls":30},{"$f":"SUM(C8:AF8)","v":0}]
[]
[null,{"$f":"Enero!B10","v":"Gil, Susana"}]
[null,"Abril",1,2,3,4,5,6,7,8,9,10,11,12,13,14,15,16,17,18,19,20,21,22,23,24,25,26,27,28,29,30,"TOTAL"]
[null,"Horas de vacaciones usadas",{"$nulls":30},{"$f":"SUM(C12:AF12)","v":0}]
[null,"Horas de permiso por enfermedad usadas",{"$nulls":30},{"$f":"SUM(C13:AF13)","v":0}]
[]
[null,{"$f":"Enero!B15","v":"Ríos, Manuel"}]
[null,"Abril",1,2,3,4,5,6,7,8,9,10,11,12,13,14,15,16,17,18,19,20,21,22,23,24,25,26,27,28,29,30,"TOTAL"]
[null,"Horas de vacaciones usadas",{"$nulls":30},{"$f":"SUM(C17:AF17)","v":0}]
[null,"Horas de permiso por enfermedad usadas",{"$nulls":30},{"$f":"SUM(C18:AF18)","v":0}]

{"sheet":"Mayo","index":5,"n_rows":18,"n_cols":34,"rows_kept":18,"merged":[[1,1,1,3],[1,4,1,11],[2,1,2,3],[2,4,2,11],[4,1,4,4],[9,1,9,4],[14,1,14,4]]}
[null,"Control de permisos laborales del empleado ",{"$nulls":31},"Mayo de 2004"]
[{"$nulls":33},"[Nombre de la compañía]"]
[{"$nulls":33},"[Nombre del supervisor]"]
[]
[null,{"$f":"Enero!B5","v":"Gutiérrez, Andrés"}]
[null,"Mayo",1,2,3,4,5,6,7,8,9,10,11,12,13,14,15,16,17,18,19,20,21,22,23,24,25,26,27,28,29,30,31,"TOTAL"]
[null,"Horas de vacaciones usadas",{"$nulls":31},{"$f":"SUM(C7:AG7)","v":0}]
[null,"Horas de permiso por enfermedad usadas",{"$nulls":31},{"$f":"SUM(C8:AG8)","v":0}]
[]
[null,{"$f":"Enero!B10","v":"Gil, Susana"}]
[null,"Mayo",1,2,3,4,5,6,7,8,9,10,11,12,13,14,15,16,17,18,19,20,21,22,23,24,25,26,27,28,29,30,31,"TOTAL"]
[null,"Horas de vacaciones usadas",{"$nulls":31},{"$f":"SUM(C12:AG12)","v":0}]
[null,"Horas de permiso por enfermedad usadas",{"$nulls":31},{"$f":"SUM(C13:AG13)","v":0}]
[]
[null,{"$f":"Enero!B15","v":"Ríos, Manuel"}]
[null,"Mayo",1,2,3,4,5,6,7,8,9,10,11,12,13,14,15,16,17,18,19,20,21,22,23,24,25,26,27,28,29,30,31,"TOTAL"]
[null,"Horas de vacaciones usadas",{"$nulls":31},{"$f":"SUM(C17:AG17)","v":0}]
[null,"Horas de permiso por enfermedad usadas",{"$nulls":31},{"$f":"SUM(C18:AG18)","v":0}]

{"sheet":"Junio","index":6,"n_rows":18,"n_cols":33,"rows_kept":18,"merged":[[1,1,1,3],[1,4,1,11],[2,1,2,3],[2,4,2,11],[4,1,4,4],[9,1,9,4],[14,1,14,4]]}
[null,"Control de permisos laborales del empleado ",{"$nulls":30},"Junio de 2004"]
[{"$nulls":32},"[Nombre de la compañía]"]
[{"$nulls":32},"[Nombre del supervisor]"]
[]
[null,{"$f":"Enero!B5","v":"Gutiérrez, Andrés"}]
[null,"Junio",1,2,3,4,5,6,7,8,9,10,11,12,13,14,15,16,17,18,19,20,21,22,23,24,25,26,27,28,29,30,"TOTAL"]
[null,"Horas de vacaciones usadas",{"$nulls":30},{"$f":"SUM(C7:AF7)","v":0}]
[null,"Horas de permiso por enfermedad usadas",{"$nulls":30},{"$f":"SUM(C8:AF8)","v":0}]
[]
[null,{"$f":"Enero!B10","v":"Gil, Susana"}]
[null,"Junio",1,2,3,4,5,6,7,8,9,10,11,12,13,14,15,16,17,18,19,20,21,22,23,24,25,26,27,28,29,30,"TOTAL"]
[null,"Horas de vacaciones usadas",{"$nulls":30},{"$f":"SUM(C12:AF12)","v":0}]
[null,"Horas de permiso por enfermedad usadas",{"$nulls":30},{"$f":"SUM(C13:AF13)","v":0}]
[]
[null,{"$f":"Enero!B15","v":"Ríos, Manuel"},{"$nulls":30},"Total de"]
[null,"Junio",1,2,3,4,5,6,7,8,9,10,11,12,13,14,15,16,17,18,19,20,21,22,23,24,25,26,27,28,29,30,"TOTAL"]
[null,"Horas de vacaciones usadas",{"$nulls":30},{"$f":"SUM(C17:AF17)","v":0}]
[null,"Horas de permiso por enfermedad usadas",{"$nulls":30},{"$f":"SUM(C18:AF18)","v":0}]

{"sheet":"Julio","index":7,"n_rows":18,"n_cols":34,"rows_kept":18,"merged":[[1,1,1,3],[1,4,1,11],[2,1,2,3],[2,4,2,11],[4,1,4,4],[9,1,9,4],[14,1,14,4]]}
[null,"Control de permisos laborales del empleado ",{"$nulls":31},"Julio de 2004"]
[{"$nulls":33},"[Nombre de la compañía]"]
[{"$nulls":33},"[Nombre del supervisor]"]
[]
[null,{"$f":"Enero!B5","v":"Gutiérrez, Andrés"}]
[null,"Julio",1,2,3,4,5,6,7,8,9,10,11,12,13,14,15,16,17,18,19,20,21,22,23,24,25,26,27,28,29,30,31,"TOTAL"]
[null,"Horas de vacaciones usadas",{"$nulls":31},{"$f":"SUM(C7:AG7)","v":0}]
[null,"Horas de permiso por enfermedad usadas",{"$nulls":31},{"$f":"SUM(C8:AG8)","v":0}]
[]
[null,{"$f":"Enero!B10","v":"Gil, Susana"}]
[null,"Julio",1,2,3,4,5,6,7,8,9,10,11,12,13,14,15,16,17,18,19,20,21,22,23,24,25,26,27,28,29,30,31,"TOTAL"]
[null,"Horas de vacaciones usadas",{"$nulls":31},{"$f":"SUM(C12:AG12)","v":0}]
[null,"Horas de permiso por enfermedad usadas",{"$nulls":31},{"$f":"SUM(C13:AG13)","v":0}]
[]
[null,{"$f":"Enero!B15","v":"Ríos, Manuel"}]
[null,"Julio",1,2,3,4,5,6,7,8,9,10,11,12,13,14,15,16,17,18,19,20,21,22,23,24,25,26,27,28,29,30,31,"TOTAL"]
[null,"Horas de vacaciones usadas",{"$nulls":31},{"$f":"SUM(C17:AG17)","v":0}]
[null,"Horas de permiso por enfermedad usadas",{"$nulls":31},{"$f":"SUM(C18:AG18)","v":0}]

{"sheet":"Agosto","index":8,"n_rows":18,"n_cols":34,"rows_kept":18,"merged":[[1,1,1,3],[1,4,1,11],[2,1,2,3],[2,4,2,11],[4,1,4,4],[9,1,9,4],[14,1,14,4]]}
[null,"Control de permisos laborales del empleado ",{"$nulls":31},"Agosto de 2004"]
[{"$nulls":33},"[Nombre de la compañía]"]
[{"$nulls":33},"[Nombre del supervisor]"]
[]
[null,{"$f":"Enero!B5","v":"Gutiérrez, Andrés"}]
[null,"Agosto",1,2,3,4,5,6,7,8,9,10,11,12,13,14,15,16,17,18,19,20,21,22,23,24,25,26,27,28,29,30,31,"TOTAL"]
[null,"Horas de vacaciones usadas",{"$nulls":31},{"$f":"SUM(C7:AG7)","v":0}]
[null,"Horas de permiso por enfermedad usadas",{"$nulls":31},{"$f":"SUM(C8:AG8)","v":0}]
[]
[null,{"$f":"Enero!B10","v":"Gil, Susana"}]
[null,"Agosto",1,2,3,4,5,6,7,8,9,10,11,12,13,14,15,16,17,18,19,20,21,22,23,24,25,26,27,28,29,30,31,"TOTAL"]
[null,"Horas de vacaciones usadas",{"$nulls":31},{"$f":"SUM(C12:AG12)","v":0}]
[null,"Horas de permiso por enfermedad usadas",{"$nulls":31},{"$f":"SUM(C13:AG13)","v":0}]
[]
[null,{"$f":"Enero!B15","v":"Ríos, Manuel"}]
[null,"Agosto",1,2,3,4,5,6,7,8,9,10,11,12,13,14,15,16,17,18,19,20,21,22,23,24,25,26,27,28,29,30,31,"TOTAL"]
[null,"Horas de vacaciones usadas",{"$nulls":31},{"$f":"SUM(C17:AG17)","v":0}]
[null,"Horas de permiso por enfermedad usadas",{"$nulls":31},{"$f":"SUM(C18:AG18)","v":0}]

{"sheet":"Septiembre","index":9,"n_rows":18,"n_cols":33,"rows_kept":18,"merged":[[1,1,1,3],[1,4,1,11],[2,1,2,3],[2,4,2,11],[4,1,4,4],[9,1,9,4],[14,1,14,4]]}
[null,"Control de permisos laborales del empleado ",{"$nulls":30},"Septiembre de 2004"]
[{"$nulls":32},"[Nombre de la compañía]"]
[{"$nulls":32},"[Nombre del supervisor]"]
[]
[null,{"$f":"Enero!B5","v":"Gutiérrez, Andrés"}]
[null,"Septiembre",1,2,3,4,5,6,7,8,9,10,11,12,13,14,15,16,17,18,19,20,21,22,23,24,25,26,27,28,29,30,"TOTAL"]
[null,"Horas de vacaciones usadas",{"$nulls":30},{"$f":"SUM(C7:AF7)","v":0}]
[null,"Horas de permiso por enfermedad usadas",{"$nulls":30},{"$f":"SUM(C8:AF8)","v":0}]
[]
[null,{"$f":"Enero!B10","v":"Gil, Susana"}]
[null,"Septiembre",1,2,3,4,5,6,7,8,9,10,11,12,13,14,15,16,17,18,19,20,21,22,23,24,25,26,27,28,29,30,"TOTAL"]
[null,"Horas de vacaciones usadas",{"$nulls":30},{"$f":"SUM(C12:AF12)","v":0}]
[null,"Horas de permiso por enfermedad usadas",{"$nulls":30},{"$f":"SUM(C13:AF13)","v":0}]
[]
[null,{"$f":"Enero!B15","v":"Ríos, Manuel"}]
[null,"Septiembre",1,2,3,4,5,6,7,8,9,10,11,12,13,14,15,16,17,18,19,20,21,22,23,24,25,26,27,28,29,30,"TOTAL"]
[null,"Horas de vacaciones usadas",{"$nulls":30},{"$f":"SUM(C17:AF17)","v":0}]
[null,"Horas de permiso por enfermedad usadas",{"$nulls":30},{"$f":"SUM(C18:AF18)","v":0}]

{"sheet":"Octubre","index":10,"n_rows":18,"n_cols":34,"rows_kept":18,"merged":[[1,1,1,3],[1,4,1,11],[2,1,2,3],[2,4,2,11],[4,1,4,4],[9,1,9,4],[14,1,14,4]]}
[null,"Control de permisos laborales del empleado ",{"$nulls":31},"Octubre de 2004"]
[{"$nulls":33},"[Nombre de la compañía]"]
[{"$nulls":33},"[Nombre del supervisor]"]
[]
[null,{"$f":"Enero!B5","v":"Gutiérrez, Andrés"}]
[null,"Octubre",1,2,3,4,5,6,7,8,9,10,11,12,13,14,15,16,17,18,19,20,21,22,23,24,25,26,27,28,29,30,31,"TOTAL"]
[null,"Horas de vacaciones usadas",{"$nulls":31},{"$f":"SUM(C7:AG7)","v":0}]
[null,"Horas de permiso por enfermedad usadas",{"$nulls":31},{"$f":"SUM(C8:AG8)","v":0}]
[]
[null,{"$f":"Enero!B10","v":"Gil, Susana"}]
[null,"Octubre",1,2,3,4,5,6,7,8,9,10,11,12,13,14,15,16,17,18,19,20,21,22,23,24,25,26,27,28,29,30,31,"TOTAL"]
[null,"Horas de vacaciones usadas",{"$nulls":31},{"$f":"SUM(C12:AG12)","v":0}]
[null,"Horas de permiso por enfermedad usadas",{"$nulls":31},{"$f":"SUM(C13:AG13)","v":0}]
[]
[null,{"$f":"Enero!B15","v":"Ríos, Manuel"}]
[null,"Octubre",1,2,3,4,5,6,7,8,9,10,11,12,13,14,15,16,17,18,19,20,21,22,23,24,25,26,27,28,29,30,31,"TOTAL"]
[null,"Horas de vacaciones usadas",{"$nulls":31},{"$f":"SUM(C17:AG17)","v":0}]
[null,"Horas de permiso por enfermedad usadas",{"$nulls":31},{"$f":"SUM(C18:AG18)","v":0}]

{"sheet":"Noviembre","index":11,"n_rows":18,"n_cols":33,"rows_kept":18,"merged":[[1,1,1,3],[1,4,1,11],[2,1,2,3],[2,4,2,11],[4,1,4,4],[9,1,9,4],[14,1,14,4]]}
[null,"Control de permisos laborales del empleado ",{"$nulls":30},"Noviembre de 2004"]
[{"$nulls":32},"[Nombre de la compañía]"]
[{"$nulls":32},"[Nombre del supervisor]"]
[]
[null,{"$f":"Enero!B5","v":"Gutiérrez, Andrés"}]
[null,"Noviembre",1,2,3,4,5,6,7,8,9,10,11,12,13,14,15,16,17,18,19,20,21,22,23,24,25,26,27,28,29,30,"TOTAL"]
[null,"Horas de vacaciones usadas",{"$nulls":30},{"$f":"SUM(C7:AF7)","v":0}]
[null,"Horas de permiso por enfermedad usadas",{"$nulls":30},{"$f":"SUM(C8:AF8)","v":0}]
[]
[null,{"$f":"Enero!B10","v":"Gil, Susana"}]
[null,"Noviembre",1,2,3,4,5,6,7,8,9,10,11,12,13,14,15,16,17,18,19,20,21,22,23,24,25,26,27,28,29,30,"TOTAL"]
[null,"Horas de vacaciones usadas",{"$nulls":30},{"$f":"SUM(C12:AF12)","v":0}]
[null,"Horas de permiso por enfermedad usadas",{"$nulls":30},{"$f":"SUM(C13:AF13)","v":0}]
[]
[null,{"$f":"Enero!B15","v":"Ríos, Manuel"}]
[null,"Noviembre",1,2,3,4,5,6,7,8,9,10,11,12,13,14,15,16,17,18,19,20,21,22,23,24,25,26,27,28,29,30,"TOTAL"]
[null,"Horas de vacaciones usadas",{"$nulls":30},{"$f":"SUM(C17:AF17)","v":0}]
[null,"Horas de permiso por enfermedad usadas",{"$nulls":30},{"$f":"SUM(C18:AF18)","v":0}]

{"sheet":"Diciembre","index":12,"n_rows":18,"n_cols":34,"rows_kept":18,"merged":[[1,1,1,3],[1,4,1,11],[2,1,2,3],[2,4,2,11],[4,1,4,4],[9,1,9,4],[14,1,14,4]]}
[null,"Control de permisos laborales del empleado ",{"$nulls":31},"Diciembre de 2004"]
[{"$nulls":33},"[Nombre de la compañía]"]
[{"$nulls":33},"[Nombre del supervisor]"]
[]
[null,{"$f":"Enero!B5","v":"Gutiérrez, Andrés"}]
[null,"Diciembre",1,2,3,4,5,6,7,8,9,10,11,12,13,14,15,16,17,18,19,20,21,22,23,24,25,26,27,28,29,30,31,"TOTAL"]
[null,"Horas de vacaciones usadas",{"$nulls":31},{"$f":"SUM(C7:AG7)","v":0}]
[null,"Horas de permiso por enfermedad usadas",{"$nulls":31},{"$f":"SUM(C8:AG8)","v":0}]
[]
[null,{"$f":"Enero!B10","v":"Gil, Susana"}]
[null,"Diciembre",1,2,3,4,5,6,7,8,9,10,11,12,13,14,15,16,17,18,19,20,21,22,23,24,25,26,27,28,29,30,31,"TOTAL"]
[null,"Horas de vacaciones usadas",{"$nulls":31},{"$f":"SUM(C12:AG12)","v":0}]
[null,"Horas de permiso por enfermedad usadas",{"$nulls":31},{"$f":"SUM(C13:AG13)","v":0}]
[]
[null,{"$f":"Enero!B15","v":"Ríos, Manuel"}]
[null,"Diciembre",1,2,3,4,5,6,7,8,9,10,11,12,13,14,15,16,17,18,19,20,21,22,23,24,25,26,27,28,29,30,31,"TOTAL"]
[null,"Horas de vacaciones usadas",{"$nulls":31},{"$f":"SUM(C17:AG17)","v":0}]
[null,"Horas de permiso por enfermedad usadas",{"$nulls":31},{"$f":"SUM(C18:AG18)","v":0}]