{"text_format":"3","workbook":"xlsx","n_sheets":2,"sheets":["Project timeline","calcs"],"not_rendered":{"charts":1,"defined_names":9},"read":"whole","date_system":"1900"}

{"sheet":"Project timeline","index":0,"n_rows":18,"n_cols":6,"rows_kept":18,"merged":[[0,2,0,5],[1,3,1,4],[3,2,3,6]]}
[null,null,"Project Timeline"]
[{"$nulls":3},"Start Date",null,{"$f":"TODAY()","v":"2023-02-13"}]
[]
[null,null,"Chart showing project activities with a scrollable timeline is in this cell."]
[]
[null,"Id","Activity ","Start","End","Notes"]
[null,{"$f":"ROW(B7)-calcs!$D$5","v":-5},"Project Start",{"$f":"$F$2+3","v":"2023-02-16"}]
[null,{"$f":"ROW(B8)-calcs!$D$5","v":-4},"Research",{"$f":"D7+10","v":"2023-02-26"},{"$f":"Activities[[#This Row],[Start]]+3","v":"2023-03-01"}]
[null,{"$f":"ROW(B9)-calcs!$D$5","v":-3},"Collect supplies",{"$f":"D8+1","v":"2023-02-27"},{"$f":"Activities[[#This Row],[Start]]+3","v":"2023-03-02"}]
[null,{"$f":"ROW(B10)-calcs!$D$5","v":-2},"Create brief",{"$f":"D9+5","v":"2023-03-04"}]
[null,{"$f":"ROW(B11)-calcs!$D$5","v":-1},"Sketch out timeline",{"$f":"D10+10","v":"2023-03-14"},{"$f":"Activities[[#This Row],[Start]]+2","v":"2023-03-16"}]
[null,{"$f":"ROW(B12)-calcs!$D$5","v":0},"Draft proposal","2023-03-24",{"$f":"Activities[[#This Row],[Start]]+2","v":"2023-03-26"}]
[null,{"$f":"ROW(B13)-calcs!$D$5","v":1},"Review",{"$f":"D12+10","v":"2023-04-03"},{"$f":"Activities[[#This Row],[Start]]+2","v":"2023-04-05"}]
[null,{"$f":"ROW(B14)-calcs!$D$5","v":2},"Stakeholder meet","2023-04-13"]
[null,{"$f":"ROW(B15)-calcs!$D$5","v":3},"Review feedback",{"$f":"D14+10","v":"2023-04-23"},{"$f":"Activities[[#This Row],[Start]]+2","v":"2023-04-25"}]
[null,{"$f":"ROW(B16)-calcs!$D$5","v":4},"Presentation","2023-05-03",{"$f":"Activities[[#This Row],[Start]]+2","v":"2023-05-05"}]
[null,{"$f":"ROW(B17)-calcs!$D$5","v":5},"Data collection","2023-05-13",{"$f":"Activities[[#This Row],[Start]]+2","v":"2023-05-15"}]
[null,{"$f":"ROW(B18)-calcs!$D$5","v":6},"Project End",{"$f":"D17+10","v":"2023-05-23"}]

{"sheet":"calcs","index":1,"n_rows":72,"n_cols":35,"rows_kept":72,"hidden":true}
["*** This sheet should remain hidden ***"]
[]
[null,null,"Today:",{"$f":"TODAY()","v":"2023-02-13"}]
[{"$nulls":3},5]
[null,null,"# of rows",{"$f":"ROWS(Activities[])","v":12}]
[{"$nulls":4},{"$f":"NA()","v":{"$error":"#N/A"}}]
[{"$nulls":4},{"$f":"NA()","v":{"$error":"#N/A"}}]
[{"$nulls":4},{"$f":"NA()","v":{"$error":"#N/A"}}]
[null,null,"Window Activities:",{"$f":"SUMPRODUCT( ((Activities[Start]>=StartDateWindow)+(Activities[End]>=StartDateWindow)>0)*(Activities[Start]<=(StartDateWindow+WindowDays-1)) )","v":2},{"$f":"NA()","v":{"$error":"#N/A"}}]
[{"$nulls":3},9,{"$f":"NA()","v":{"$error":"#N/A"}}]
[{"$nulls":3},{"$f":"D10-MIN(D10,D9)","v":7},{"$f":"NA()","v":{"$error":"#N/A"}}]
[{"$nulls":4},{"$f":"NA()","v":{"$error":"#N/A"}}]
[{"$nulls":4},{"$f":"NA()","v":{"$error":"#N/A"}}]
[{"$nulls":4},{"$f":"NA()","v":{"$error":"#N/A"}}]
[{"$nulls":4},{"$f":"INDEX(Activities[Id],MATCH(1, ((Activities[Start]>=StartDateWindow)+(Activities[End]>=StartDateWindow)>0)*(Activities[Start]<=(StartDateWindow+WindowDays-1)), 0))","v":5},{"$f":"OFFSET(E15,-$D$11,)","v":{"$error":"#N/A"}}]
[{"$nulls":4},{"$f":"INDEX(Activities[Id],MATCH(1, (Activities[Id]>E15)*((Activities[Start]>=StartDateWindow)+(Activities[End]>=StartDateWindow)>0)*(Activities[Start]<=(StartDateWindow+WindowDays-1)), 0))","v":6},{"$error":"#N/A"}]
[{"$nulls":4},{"$f":"INDEX(Activities[Id],MATCH(1, (Activities[Id]>E16)*((Activities[Start]>=StartDateWindow)+(Activities[End]>=StartDateWindow)>0)*(Activities[Start]<=(StartDateWindow+WindowDays-1)), 0))","v":{"$error":"#N/A"}},{"$error":"#N/A"}]
[{"$nulls":4},{"$f":"INDEX(Activities[Id],MATCH(1, (Activities[Id]>E17)*((Activities[Start]>=StartDateWindow)+(Activities[End]>=StartDateWindow)>0)*(Activities[Start]<=(StartDateWindow+WindowDays-1)), 0))","v":{"$error":"#N/A"}},{"$error":"#N/A"}]
[{"$nulls":4},{"$f":"INDEX(Activities[Id],MATCH(1, (Activities[Id]>E18)*((Activities[Start]>=StartDateWindow)+(Activities[End]>=StartDateWindow)>0)*(Activities[Start]<=(StartDateWindow+WindowDays-1)), 0))","v":{"$error":"#N/A"}},{"$error":"#N/A"}]
[{"$nulls":4},{"$f":"INDEX(Activities[Id],MATCH(1, (Activities[Id]>E19)*((Activities[Start]>=StartDateWindow)+(Activities[End]>=StartDateWindow)>0)*(Activities[Start]<=(StartDateWindow+WindowDays-1)), 0))","v":{"$error":"#N/A"}},{"$error":"#N/A"}]
[{"$nulls":4},{"$f":"INDEX(Activities[Id],MATCH(1, (Activities[Id]>E20)*((Activities[Start]>=StartDateWindow)+(Activities[End]>=StartDateWindow)>0)*(Activities[Start]<=(StartDateWindow+WindowDays-1)), 0))","v":{"$error":"#N/A"}},{"$error":"#N/A"}]
[{"$nulls":4},{"$f":"INDEX(Activities[Id],MATCH(1, (Activities[Id]>E21)*((Activities[Start]>=StartDateWindow)+(Activities[End]>=StartDateWindow)>0)*(Activities[Start]<=(StartDateWindow+WindowDays-1)), 0))","v":{"$error":"#N/A"}},5]
[{"$nulls":4},{"$f":"INDEX(Activities[Id],MATCH(1, (Activities[Id]>E22)*((Activities[Start]>=StartDateWindow)+(Activities[End]>=StartDateWindow)>0)*(Activities[Start]<=(StartDateWindow+WindowDays-1)), 0))","v":{"$error":"#N/A"}},6]
[]
[null,null,"Calc Window Start",{"$f":"StartDate+WindowOffset","v":"2023-05-09"}]
[null,null,"Offset",85]
[]
[null,null,"Start",{"$f":"'Project timeline'!F2","v":"2023-02-13"}]
[null,null,"Window",30]
[]
["Position","Series","Activity Id","Activity",{"$f":"StartDateWindow","v":"2023-05-09"},{"$f":"E31+1","v":"2023-05-10"},"2023-05-11","2023-05-12","2023-05-13","2023-05-14","2023-05-15","2023-05-16","2023-05-17","2023-05-18","2023-05-19","2023-05-20","2023-05-21","2023-05-22","2023-05-23","2023-05-24","2023-05-25","2023-05-26","2023-05-27","2023-05-28","2023-05-29","2023-05-30","2023-05-31","2023-06-01","2023-06-02","2023-06-03","2023-06-04","2023-06-05","2023-06-06","2023-06-07","2023-06-08"]
[11.3,1,{"$f":"F15","v":{"$error":"#N/A"}},{"$f":"INDEX(Activities[[Activity ]],MATCH($C32,Activities[Id],0))","v":{"$error":"#N/A"}},{"$f":"GridCalc","v":{"$error":"#N/A"}},{"$f":"GridCalc","v":{"$error":"#N/A"}},{"$f":"GridCalc","v":{"$error":"#N/A"}},{"$f":"GridCalc","v":{"$error":"#N/A"}},{"$f":"GridCalc","v":{"$error":"#N/A"}},{"$f":"GridCalc","v":{"$error":"#N/A"}},{"$f":"GridCalc","v":{"$error":"#N/A"}},{"$f":"GridCalc","v":{"$error":"#N/A"}},{"$f":"GridCalc","v":{"$error":"#N/A"}},{"$f":"GridCalc","v":{"$error":"#N/A"}},{"$f":"GridCalc","v":{"$error":"#N/A"}},{"$f":"GridCalc","v":{"$error":"#N/A"}},{"$f":"GridCalc","v":{"$error":"#N/A"}},{"$f":"GridCalc","v":{"$error":"#N/A"}},{"$f":"GridCalc","v":{"$error":"#N/A"}},{"$f":"GridCalc","v":{"$error":"#N/A"}},{"$f":"GridCalc","v":{"$error":"#N/A"}},{"$f":"GridCalc","v":{"$error":"#N/A"}},{"$f":"GridCalc","v":{"$error":"#N/A"}},{"$f":"GridCalc","v":{"$error":"#N/A"}},{"$f":"GridCalc","v":{"$error":"#N/A"}},{"$f":"GridCalc","v":{"$error":"#N/A"}},{"$f":"GridCalc","v":{"$error":"#N/A"}},{"$f":"GridCalc","v":{"$error":"#N/A"}},{"$f":"GridCalc","v":{"$error":"#N/A"}},{"$f":"GridCalc","v":{"$error":"#N/A"}},{"$f":"GridCalc","v":{"$error":"#N/A"}},{"$f":"GridCalc","v":{"$error":"#N/A"}},{"$f":"GridCalc","v":{"$error":"#N/A"}},{"$f":"GridCalc","v":{"$error":"#N/A"}},{"$f":"GridCalc","v":{"$error":"#N/A"}}]
[{"$f":"A32-1","v":10.3},2,{"$error":"#N/A"},{"$f":"INDEX(Activities[[Activity ]],MATCH($C33,Activities[Id],0))","v":{"$error":"#N/A"}},{"$f":"GridCalc","v":{"$error":"#N/A"}},{"$f":"GridCalc","v":{"$error":"#N/A"}},{"$f":"GridCalc","v":{"$error":"#N/A"}},{"$f":"GridCalc","v":{"$error":"#N/A"}},{"$f":"GridCalc","v":{"$error":"#N/A"}},{"$f":"GridCalc","v":{"$error":"#N/A"}},{"$f":"GridCalc","v":{"$error":"#N/A"}},{"$f":"GridCalc","v":{"$error":"#N/A"}},{"$f":"GridCalc","v":{"$error":"#N/A"}},{"$f":"GridCalc","v":{"$error":"#N/A"}},{"$f":"GridCalc","v":{"$error":"#N/A"}},{"$f":"GridCalc","v":{"$error":"#N/A"}},{"$f":"GridCalc","v":{"$error":"#N/A"}},{"$f":"GridCalc","v":{"$error":"#N/A"}},{"$f":"GridCalc","v":{"$error":"#N/A"}},{"$f":"GridCalc","v":{"$error":"#N/A"}},{"$f":"GridCalc","v":{"$error":"#N/A"}},{"$f":"GridCalc","v":{"$error":"#N/A"}},{"$f":"GridCalc","v":{"$error":"#N/A"}},{"$f":"GridCalc","v":{"$error":"#N/A"}},{"$f":"GridCalc","v":{"$error":"#N/A"}},{"$f":"GridCalc","v":{"$error":"#N/A"}},{"$f":"GridCalc","v":{"$error":"#N/A"}},{"$f":"GridCalc","v":{"$error":"#N/A"}},{"$f":"GridCalc","v":{"$error":"#N/A"}},{"$f":"GridCalc","v":{"$error":"#N/A"}},{"$f":"GridCalc","v":{"$error":"#N/A"}},{"$f":"GridCalc","v":{"$error":"#N/A"}},{"$f":"GridCalc","v":{"$error":"#N/A"}},{"$f":"GridCalc","v":{"$error":"#N/A"}},{"$f":"GridCalc","v":{"$error":"#N/A"}}]
[{"$f":"A33-1","v":9.3},3,{"$error":"#N/A"},{"$f":"INDEX(Activities[[Activity ]],MATCH($C34,Activities[Id],0))","v":{"$error":"#N/A"}},{"$f":"GridCalc","v":{"$error":"#N/A"}},{"$f":"GridCalc","v":{"$error":"#N/A"}},{"$f":"GridCalc","v":{"$error":"#N/A"}},{"$f":"GridCalc","v":{"$error":"#N/A"}},{"$f":"GridCalc","v":{"$error":"#N/A"}},{"$f":"GridCalc","v":{"$error":"#N/A"}},{"$f":"GridCalc","v":{"$error":"#N/A"}},{"$f":"GridCalc","v":{"$error":"#N/A"}},{"$f":"GridCalc","v":{"$error":"#N/A"}},{"$f":"GridCalc","v":{"$error":"#N/A"}},{"$f":"GridCalc","v":{"$error":"#N/A"}},{"$f":"GridCalc","v":{"$error":"#N/A"}},{"$f":"GridCalc","v":{"$error":"#N/A"}},{"$f":"GridCalc","v":{"$error":"#N/A"}},{"$f":"GridCalc","v":{"$error":"#N/A"}},{"$f":"GridCalc","v":{"$error":"#N/A"}},{"$f":"GridCalc","v":{"$error":"#N/A"}},{"$f":"GridCalc","v":{"$error":"#N/A"}},{"$f":"GridCalc","v":{"$error":"#N/A"}},{"$f":"GridCalc","v":{"$error":"#N/A"}},{"$f":"GridCalc","v":{"$error":"#N/A"}},{"$f":"GridCalc","v":{"$error":"#N/A"}},{"$f":"GridCalc","v":{"$error":"#N/A"}},{"$f":"GridCalc","v":{"$error":"#N/A"}},{"$f":"GridCalc","v":{"$error":"#N/A"}},{"$f":"GridCalc","v":{"$error":"#N/A"}},{"$f":"GridCalc","v":{"$error":"#N/A"}},{"$f":"GridCalc","v":{"$error":"#N/A"}},{"$f":"GridCalc","v":{"$error":"#N/A"}},{"$f":"GridCalc","v":{"$error":"#N/A"}},{"$f":"GridCalc","v":{"$error":"#N/A"}}]
[8.3,4,{"$error":"#N/A"},{"$f":"INDEX(Activities[[Activity ]],MATCH($C35,Activities[Id],0))","v":{"$error":"#N/A"}},{"$f":"GridCalc","v":{"$error":"#N/A"}},{"$f":"GridCalc","v":{"$error":"#N/A"}},{"$f":"GridCalc","v":{"$error":"#N/A"}},{"$f":"GridCalc","v":{"$error":"#N/A"}},{"$f":"GridCalc","v":{"$error":"#N/A"}},{"$f":"GridCalc","v":{"$error":"#N/A"}},{"$f":"GridCalc","v":{"$error":"#N/A"}},{"$f":"GridCalc","v":{"$error":"#N/A"}},{"$f":"GridCalc","v":{"$error":"#N/A"}},{"$f":"GridCalc","v":{"$error":"#N/A"}},{"$f":"GridCalc","v":{"$error":"#N/A"}},{"$f":"GridCalc","v":{"$error":"#N/A"}},{"$f":"GridCalc","v":{"$error":"#N/A"}},{"$f":"GridCalc","v":{"$error":"#N/A"}},{"$f":"GridCalc","v":{"$error":"#N/A"}},{"$f":"GridCalc","v":{"$error":"#N/A"}},{"$f":"GridCalc","v":{"$error":"#N/A"}},{"$f":"GridCalc","v":{"$error":"#N/A"}},{"$f":"GridCalc","v":{"$error":"#N/A"}},{"$f":"GridCalc","v":{"$error":"#N/A"}},{"$f":"GridCalc","v":{"$error":"#N/A"}},{"$f":"GridCalc","v":{"$error":"#N/A"}},{"$f":"GridCalc","v":{"$error":"#N/A"}},{"$f":"GridCalc","v":{"$error":"#N/A"}},{"$f":"GridCalc","v":{"$error":"#N/A"}},{"$f":"GridCalc","v":{"$error":"#N/A"}},{"$f":"GridCalc","v":{"$error":"#N/A"}},{"$f":"GridCalc","v":{"$error":"#N/A"}},{"$f":"GridCalc","v":{"$error":"#N/A"}},{"$f":"GridCalc","v":{"$error":"#N/A"}},{"$f":"GridCalc","v":{"$error":"#N/A"}}]
[7.300000000000001,5,{"$error":"#N/A"},{"$f":"INDEX(Activities[[Activity ]],MATCH($C36,Activities[Id],0))","v":{"$error":"#N/A"}},{"$f":"GridCalc","v":{"$error":"#N/A"}},{"$f":"GridCalc","v":{"$error":"#N/A"}},{"$f":"GridCalc","v":{"$error":"#N/A"}},{"$f":"GridCalc","v":{"$error":"#N/A"}},{"$f":"GridCalc","v":{"$error":"#N/A"}},{"$f":"GridCalc","v":{"$error":"#N/A"}},{"$f":"GridCalc","v":{"$error":"#N/A"}},{"$f":"GridCalc","v":{"$error":"#N/A"}},{"$f":"GridCalc","v":{"$error":"#N/A"}},{"$f":"GridCalc","v":{"$error":"#N/A"}},{"$f":"GridCalc","v":{"$error":"#N/A"}},{"$f":"GridCalc","v":{"$error":"#N/A"}},{"$f":"GridCalc","v":{"$error":"#N/A"}},{"$f":"GridCalc","v":{"$error":"#N/A"}},{"$f":"GridCalc","v":{"$error":"#N/A"}},{"$f":"GridCalc","v":{"$error":"#N/A"}},{"$f":"GridCalc","v":{"$error":"#N/A"}},{"$f":"GridCalc","v":{"$error":"#N/A"}},{"$f":"GridCalc","v":{"$error":"#N/A"}},{"$f":"GridCalc","v":{"$error":"#N/A"}},{"$f":"GridCalc","v":{"$error":"#N/A"}},{"$f":"GridCalc","v":{"$error":"#N/A"}},{"$f":"GridCalc","v":{"$error":"#N/A"}},{"$f":"GridCalc","v":{"$error":"#N/A"}},{"$f":"GridCalc","v":{"$error":"#N/A"}},{"$f":"GridCalc","v":{"$error":"#N/A"}},{"$f":"GridCalc","v":{"$error":"#N/A"}},{"$f":"GridCalc","v":{"$error":"#N/A"}},{"$f":"GridCalc","v":{"$error":"#N/A"}},{"$f":"GridCalc","v":{"$error":"#N/A"}},{"$f":"GridCalc","v":{"$error":"#N/A"}}]
[6.300000000000001,6,{"$error":"#N/A"},{"$f":"INDEX(Activities[[Activity ]],MATCH($C37,Activities[Id],0))","v":{"$error":"#N/A"}},{"$f":"GridCalc","v":{"$error":"#N/A"}},{"$f":"GridCalc","v":{"$error":"#N/A"}},{"$f":"GridCalc","v":{"$error":"#N/A"}},{"$f":"GridCalc","v":{"$error":"#N/A"}},{"$f":"GridCalc","v":{"$error":"#N/A"}},{"$f":"GridCalc","v":{"$error":"#N/A"}},{"$f":"GridCalc","v":{"$error":"#N/A"}},{"$f":"GridCalc","v":{"$error":"#N/A"}},{"$f":"GridCalc","v":{"$error":"#N/A"}},{"$f":"GridCalc","v":{"$error":"#N/A"}},{"$f":"GridCalc","v":{"$error":"#N/A"}},{"$f":"GridCalc","v":{"$error":"#N/A"}},{"$f":"GridCalc","v":{"$error":"#N/A"}},{"$f":"GridCalc","v":{"$error":"#N/A"}},{"$f":"GridCalc","v":{"$error":"#N/A"}},{"$f":"GridCalc","v":{"$error":"#N/A"}},{"$f":"GridCalc","v":{"$error":"#N/A"}},{"$f":"GridCalc","v":{"$error":"#N/A"}},{"$f":"GridCalc","v":{"$error":"#N/A"}},{"$f":"GridCalc","v":{"$error":"#N/A"}},{"$f":"GridCalc","v":{"$error":"#N/A"}},{"$f":"GridCalc","v":{"$error":"#N/A"}},{"$f":"GridCalc","v":{"$error":"#N/A"}},{"$f":"GridCalc","v":{"$error":"#N/A"}},{"$f":"GridCalc","v":{"$error":"#N/A"}},{"$f":"GridCalc","v":{"$error":"#N/A"}},{"$f":"GridCalc","v":{"$error":"#N/A"}},{"$f":"GridCalc","v":{"$error":"#N/A"}},{"$f":"GridCalc","v":{"$error":"#N/A"}},{"$f":"GridCalc","v":{"$error":"#N/A"}},{"$f":"GridCalc","v":{"$error":"#N/A"}}]
[5.300000000000001,7,{"$error":"#N/A"},{"$f":"INDEX(Activities[[Activity ]],MATCH($C38,Activities[Id],0))","v":{"$error":"#N/A"}},{"$f":"GridCalc","v":{"$error":"#N/A"}},{"$f":"GridCalc","v":{"$error":"#N/A"}},{"$f":"GridCalc","v":{"$error":"#N/A"}},{"$f":"GridCalc","v":{"$error":"#N/A"}},{"$f":"GridCalc","v":{"$error":"#N/A"}},{"$f":"GridCalc","v":{"$error":"#N/A"}},{"$f":"GridCalc","v":{"$error":"#N/A"}},{"$f":"GridCalc","v":{"$error":"#N/A"}},{"$f":"GridCalc","v":{"$error":"#N/A"}},{"$f":"GridCalc","v":{"$error":"#N/A"}},{"$f":"GridCalc","v":{"$error":"#N/A"}},{"$f":"GridCalc","v":{"$error":"#N/A"}},{"$f":"GridCalc","v":{"$error":"#N/A"}},{"$f":"GridCalc","v":{"$error":"#N/A"}},{"$f":"GridCalc","v":{"$error":"#N/A"}},{"$f":"GridCalc","v":{"$error":"#N/A"}},{"$f":"GridCalc","v":{"$error":"#N/A"}},{"$f":"GridCalc","v":{"$error":"#N/A"}},{"$f":"GridCalc","v":{"$error":"#N/A"}},{"$f":"GridCalc","v":{"$error":"#N/A"}},{"$f":"GridCalc","v":{"$error":"#N/A"}},{"$f":"GridCalc","v":{"$error":"#N/A"}},{"$f":"GridCalc","v":{"$error":"#N/A"}},{"$f":"GridCalc","v":{"$error":"#N/A"}},{"$f":"GridCalc","v":{"$error":"#N/A"}},{"$f":"GridCalc","v":{"$error":"#N/A"}},{"$f":"GridCalc","v":{"$error":"#N/A"}},{"$f":"GridCalc","v":{"$error":"#N/A"}},{"$f":"GridCalc","v":{"$error":"#N/A"}},{"$f":"GridCalc","v":{"$error":"#N/A"}},{"$f":"GridCalc","v":{"$error":"#N/A"}}]
[4.300000000000001,8,5,{"$f":"INDEX(Activities[[Activity ]],MATCH($C39,Activities[Id],0))","v":"Data collection"},{"$f":"GridCalc","v":{"$error":"#N/A"}},{"$f":"GridCalc","v":{"$error":"#N/A"}},{"$f":"GridCalc","v":{"$error":"#N/A"}},{"$f":"GridCalc","v":{"$error":"#N/A"}},{"$f":"GridCalc","v":4.300000000000001},{"$f":"GridCalc","v":4.300000000000001},{"$f":"GridCalc","v":4.300000000000001},{"$f":"GridCalc","v":{"$error":"#N/A"}},{"$f":"GridCalc","v":{"$error":"#N/A"}},{"$f":"GridCalc","v":{"$error":"#N/A"}},{"$f":"GridCalc","v":{"$error":"#N/A"}},{"$f":"GridCalc","v":{"$error":"#N/A"}},{"$f":"GridCalc","v":{"$error":"#N/A"}},{"$f":"GridCalc","v":{"$error":"#N/A"}},{"$f":"GridCalc","v":{"$error":"#N/A"}},{"$f":"GridCalc","v":{"$error":"#N/A"}},{"$f":"GridCalc","v":{"$error":"#N/A"}},{"$f":"GridCalc","v":{"$error":"#N/A"}},{"$f":"GridCalc","v":{"$error":"#N/A"}},{"$f":"GridCalc","v":{"$error":"#N/A"}},{"$f":"GridCalc","v":{"$error":"#N/A"}},{"$f":"GridCalc","v":{"$error":"#N/A"}},{"$f":"GridCalc","v":{"$error":"#N/A"}},{"$f":"GridCalc","v":{"$error":"#N/A"}},{"$f":"GridCalc","v":{"$error":"#N/A"}},{"$f":"GridCalc","v":{"$error":"#N/A"}},{"$f":"GridCalc","v":{"$error":"#N/A"}},{"$f":"GridCalc","v":{"$error":"#N/A"}},{"$f":"GridCalc","v":{"$error":"#N/A"}},{"$f":"GridCalc","v":{"$error":"#N/A"}},{"$f":"GridCalc","v":{"$error":"#N/A"}}]
[3.3000000000000007,9,6,{"$f":"INDEX(Activities[[Activity ]],MATCH($C40,Activities[Id],0))","v":"Project End"},{"$f":"GridCalc","v":{"$error":"#N/A"}},{"$f":"GridCalc","v":{"$error":"#N/A"}},{"$f":"GridCalc","v":{"$error":"#N/A"}},{"$f":"GridCalc","v":{"$error":"#N/A"}},{"$f":"GridCalc","v":{"$error":"#N/A"}},{"$f":"GridCalc","v":{"$error":"#N/A"}},{"$f":"GridCalc","v":{"$error":"#N/A"}},{"$f":"GridCalc","v":{"$error":"#N/A"}},{"$f":"GridCalc","v":{"$error":"#N/A"}},{"$f":"GridCalc","v":{"$error":"#N/A"}},{"$f":"GridCalc","v":{"$error":"#N/A"}},{"$f":"GridCalc","v":{"$error":"#N/A"}},{"$f":"GridCalc","v":{"$error":"#N/A"}},{"$f":"GridCalc","v":{"$error":"#N/A"}},{"$f":"GridCalc","v":3.3000000000000007},{"$f":"GridCalc","v":{"$error":"#N/A"}},{"$f":"GridCalc","v":{"$error":"#N/A"}},{"$f":"GridCalc","v":{"$error":"#N/A"}},{"$f":"GridCalc","v":{"$error":"#N/A"}},{"$f":"GridCalc","v":{"$error":"#N/A"}},{"$f":"GridCalc","v":{"$error":"#N/A"}},{"$f":"GridCalc","v":{"$error":"#N/A"}},{"$f":"GridCalc","v":{"$error":"#N/A"}},{"$f":"GridCalc","v":{"$error":"#N/A"}},{"$f":"GridCalc","v":{"$error":"#N/A"}},{"$f":"GridCalc","v":{"$error":"#N/A"}},{"$f":"GridCalc","v":{"$error":"#N/A"}},{"$f":"GridCalc","v":{"$error":"#N/A"}},{"$f":"GridCalc","v":{"$error":"#N/A"}},{"$f":"GridCalc","v":{"$error":"#N/A"}},{"$f":"GridCalc","v":{"$error":"#N/A"}}]
[]
[]
[{"$nulls":4},{"$f":"E31","v":"2023-05-09"},{"$f":"F31","v":"2023-05-10"},"2023-05-11","2023-05-12","2023-05-13","2023-05-14","2023-05-15","2023-05-16","2023-05-17","2023-05-18","2023-05-19","2023-05-20","2023-05-21","2023-05-22","2023-05-23","2023-05-24","2023-05-25","2023-05-26","2023-05-27","2023-05-28","2023-05-29","2023-05-30","2023-05-31","2023-06-01","2023-06-02","2023-06-03","2023-06-04","2023-06-05","2023-06-06","2023-06-07"]
[null,null,{"$f":"C32","v":{"$error":"#N/A"}},{"$f":"UPPER(INDEX(Activities[[Activity ]],MATCH($C44,Activities[Id],0)))","v":{"$error":"#N/A"}},{"$f":"IF(ISERROR(F32),E32,NA())","v":{"$error":"#N/A"}},{"$error":"#N/A"},{"$error":"#N/A"},{"$error":"#N/A"},{"$error":"#N/A"},{"$error":"#N/A"},{"$error":"#N/A"},{"$error":"#N/A"},{"$error":"#N/A"},{"$error":"#N/A"},{"$error":"#N/A"},{"$error":"#N/A"},{"$error":"#N/A"},{"$error":"#N/A"},{"$error":"#N/A"},{"$error":"#N/A"},{"$error":"#N/A"},{"$error":"#N/A"},{"$error":"#N/A"},{"$error":"#N/A"},{"$error":"#N/A"},{"$error":"#N/A"},{"$error":"#N/A"},{"$error":"#N/A"},{"$error":"#N/A"},{"$error":"#N/A"},{"$error":"#N/A"},{"$error":"#N/A"},{"$error":"#N/A"},{"$error":"#N/A"}]
[null,null,{"$f":"C33","v":{"$error":"#N/A"}},{"$f":"UPPER(INDEX(Activities[[Activity ]],MATCH($C45,Activities[Id],0)))","v":{"$error":"#N/A"}},{"$f":"IF(ISERROR(F33),E33,NA())","v":{"$error":"#N/A"}},{"$error":"#N/A"},{"$error":"#N/A"},{"$error":"#N/A"},{"$error":"#N/A"},{"$error":"#N/A"},{"$error":"#N/A"},{"$error":"#N/A"},{"$error":"#N/A"},{"$error":"#N/A"},{"$error":"#N/A"},{"$error":"#N/A"},{"$error":"#N/A"},{"$error":"#N/A"},{"$error":"#N/A"},{"$error":"#N/A"},{"$error":"#N/A"},{"$error":"#N/A"},{"$error":"#N/A"},{"$error":"#N/A"},{"$error":"#N/A"},{"$error":"#N/A"},{"$error":"#N/A"},{"$error":"#N/A"},{"$error":"#N/A"},{"$error":"#N/A"},{"$error":"#N/A"},{"$error":"#N/A"},{"$error":"#N/A"},{"$error":"#N/A"}]
[null,null,{"$error":"#N/A"},{"$f":"UPPER(INDEX(Activities[[Activity ]],MATCH($C46,Activities[Id],0)))","v":{"$error":"#N/A"}},{"$f":"IF(ISERROR(F34),E34,NA())","v":{"$error":"#N/A"}},{"$error":"#N/A"},{"$error":"#N/A"},{"$error":"#N/A"},{"$error":"#N/A"},{"$error":"#N/A"},{"$error":"#N/A"},{"$error":"#N/A"},{"$error":"#N/A"},{"$error":"#N/A"},{"$error":"#N/A"},{"$error":"#N/A"},{"$error":"#N/A"},{"$error":"#N/A"},{"$error":"#N/A"},{"$error":"#N/A"},{"$error":"#N/A"},{"$error":"#N/A"},{"$error":"#N/A"},{"$error":"#N/A"},{"$error":"#N/A"},{"$error":"#N/A"},{"$error":"#N/A"},{"$error":"#N/A"},{"$error":"#N/A"},{"$error":"#N/A"},{"$error":"#N/A"},{"$error":"#N/A"},{"$error":"#N/A"},{"$error":"#N/A"}]
[null,null,{"$error":"#N/A"},{"$f":"UPPER(INDEX(Activities[[Activity ]],MATCH($C47,Activities[Id],0)))","v":{"$error":"#N/A"}},{"$f":"IF(ISERROR(F35),E35,NA())","v":{"$error":"#N/A"}},{"$error":"#N/A"},{"$error":"#N/A"},{"$error":"#N/A"},{"$error":"#N/A"},{"$error":"#N/A"},{"$error":"#N/A"},{"$error":"#N/A"},{"$error":"#N/A"},{"$error":"#N/A"},{"$error":"#N/A"},{"$error":"#N/A"},{"$error":"#N/A"},{"$error":"#N/A"},{"$error":"#N/A"},{"$error":"#N/A"},{"$error":"#N/A"},{"$error":"#N/A"},{"$error":"#N/A"},{"$error":"#N/A"},{"$error":"#N/A"},{"$error":"#N/A"},{"$error":"#N/A"},{"$error":"#N/A"},{"$error":"#N/A"},{"$error":"#N/A"},{"$error":"#N/A"},{"$error":"#N/A"},{"$error":"#N/A"},{"$error":"#N/A"}]
[null,null,{"$error":"#N/A"},{"$f":"UPPER(INDEX(Activities[[Activity ]],MATCH($C48,Activities[Id],0)))","v":{"$error":"#N/A"}},{"$f":"IF(ISERROR(F36),E36,NA())","v":{"$error":"#N/A"}},{"$error":"#N/A"},{"$error":"#N/A"},{"$error":"#N/A"},{"$error":"#N/A"},{"$error":"#N/A"},{"$error":"#N/A"},{"$error":"#N/A"},{"$error":"#N/A"},{"$error":"#N/A"},{"$error":"#N/A"},{"$error":"#N/A"},{"$error":"#N/A"},{"$error":"#N/A"},{"$error":"#N/A"},{"$error":"#N/A"},{"$error":"#N/A"},{"$error":"#N/A"},{"$error":"#N/A"},{"$error":"#N/A"},{"$error":"#N/A"},{"$error":"#N/A"},{"$error":"#N/A"},{"$error":"#N/A"},{"$error":"#N/A"},{"$error":"#N/A"},{"$error":"#N/A"},{"$error":"#N/A"},{"$error":"#N/A"},{"$error":"#N/A"}]
[null,null,{"$error":"#N/A"},{"$f":"UPPER(INDEX(Activities[[Activity ]],MATCH($C49,Activities[Id],0)))","v":{"$error":"#N/A"}},{"$f":"IF(ISERROR(F37),E37,NA())","v":{"$error":"#N/A"}},{"$error":"#N/A"},{"$error":"#N/A"},{"$error":"#N/A"},{"$error":"#N/A"},{"$error":"#N/A"},{"$error":"#N/A"},{"$error":"#N/A"},{"$error":"#N/A"},{"$error":"#N/A"},{"$error":"#N/A"},{"$error":"#N/A"},{"$error":"#N/A"},{"$error":"#N/A"},{"$error":"#N/A"},{"$error":"#N/A"},{"$error":"#N/A"},{"$error":"#N/A"},{"$error":"#N/A"},{"$error":"#N/A"},{"$error":"#N/A"},{"$error":"#N/A"},{"$error":"#N/A"},{"$error":"#N/A"},{"$error":"#N/A"},{"$error":"#N/A"},{"$error":"#N/A"},{"$error":"#N/A"},{"$error":"#N/A"},{"$error":"#N/A"}]
[null,null,{"$error":"#N/A"},{"$f":"UPPER(INDEX(Activities[[Activity ]],MATCH($C50,Activities[Id],0)))","v":{"$error":"#N/A"}},{"$f":"IF(ISERROR(F38),E38,NA())","v":{"$error":"#N/A"}},{"$error":"#N/A"},{"$error":"#N/A"},{"$error":"#N/A"},{"$error":"#N/A"},{"$error":"#N/A"},{"$error":"#N/A"},{"$error":"#N/A"},{"$error":"#N/A"},{"$error":"#N/A"},{"$error":"#N/A"},{"$error":"#N/A"},{"$error":"#N/A"},{"$error":"#N/A"},{"$error":"#N/A"},{"$error":"#N/A"},{"$error":"#N/A"},{"$error":"#N/A"},{"$error":"#N/A"},{"$error":"#N/A"},{"$error":"#N/A"},{"$error":"#N/A"},{"$error":"#N/A"},{"$error":"#N/A"},{"$error":"#N/A"},{"$error":"#N/A"},{"$error":"#N/A"},{"$error":"#N/A"},{"$error":"#N/A"},{"$error":"#N/A"}]
[null,null,5,{"$f":"UPPER(INDEX(Activities[[Activity ]],MATCH($C51,Activities[Id],0)))","v":"DATA COLLECTION"},{"$f":"IF(ISERROR(F39),E39,NA())","v":{"$error":"#N/A"}},{"$error":"#N/A"},{"$error":"#N/A"},{"$error":"#N/A"},{"$error":"#N/A"},{"$error":"#N/A"},4.300000000000001,{"$error":"#N/A"},{"$error":"#N/A"},{"$error":"#N/A"},{"$error":"#N/A"},{"$error":"#N/A"},{"$error":"#N/A"},{"$error":"#N/A"},{"$error":"#N/A"},{"$error":"#N/A"},{"$error":"#N/A"},{"$error":"#N/A"},{"$error":"#N/A"},{"$error":"#N/A"},{"$error":"#N/A"},{"$error":"#N/A"},{"$error":"#N/A"},{"$error":"#N/A"},{"$error":"#N/A"},{"$error":"#N/A"},{"$error":"#N/A"},{"$error":"#N/A"},{"$error":"#N/A"},{"$error":"#N/A"}]
[null,null,6,{"$f":"UPPER(INDEX(Activities[[Activity ]],MATCH($C52,Activities[Id],0)))","v":"PROJECT END"},{"$f":"IF(ISERROR(F40),E40,NA())","v":{"$error":"#N/A"}},{"$error":"#N/A"},{"$error":"#N/A"},{"$error":"#N/A"},{"$error":"#N/A"},{"$error":"#N/A"},{"$error":"#N/A"},{"$error":"#N/A"},{"$error":"#N/A"},{"$error":"#N/A"},{"$error":"#N/A"},{"$error":"#N/A"},{"$error":"#N/A"},{"$error":"#N/A"},3.3000000000000007,{"$error":"#N/A"},{"$error":"#N/A"},{"$error":"#N/A"},{"$error":"#N/A"},{"$error":"#N/A"},{"$error":"#N/A"},{"$error":"#N/A"},{"$error":"#N/A"},{"$error":"#N/A"},{"$error":"#N/A"},{"$error":"#N/A"},{"$error":"#N/A"},{"$error":"#N/A"},{"$error":"#N/A"},{"$error":"#N/A"}]
[]
[]
[{"$nulls":4},{"$f":"E31","v":"2023-05-09"},{"$f":"F31","v":"2023-05-10"},"2023-05-11","2023-05-12","2023-05-13","2023-05-14","2023-05-15","2023-05-16","2023-05-17","2023-05-18","2023-05-19","2023-05-20","2023-05-21","2023-05-22","2023-05-23","2023-05-24","2023-05-25","2023-05-26","2023-05-27","2023-05-28","2023-05-29","2023-05-30","2023-05-31","2023-06-01","2023-06-02","2023-06-03","2023-06-04","2023-06-05","2023-06-06","2023-06-07"]
[{"$nulls":3},"Current Day",{"$f":"IF(E55=$D$3,5,NA())","v":{"$error":"#N/A"}},{"$error":"#N/A"},{"$error":"#N/A"},{"$error":"#N/A"},{"$error":"#N/A"},{"$error":"#N/A"},{"$error":"#N/A"},{"$error":"#N/A"},{"$error":"#N/A"},{"$error":"#N/A"},{"$error":"#N/A"},{"$error":"#N/A"},{"$error":"#N/A"},{"$error":"#N/A"},{"$error":"#N/A"},{"$error":"#N/A"},{"$error":"#N/A"},{"$error":"#N/A"},{"$error":"#N/A"},{"$error":"#N/A"},{"$error":"#N/A"},{"$error":"#N/A"},{"$error":"#N/A"},{"$error":"#N/A"},{"$error":"#N/A"},{"$error":"#N/A"},{"$error":"#N/A"},{"$error":"#N/A"},{"$error":"#N/A"},{"$error":"#N/A"}]
[]
[{"$nulls":3},{"$f":"DATE(YEAR(MIN(E55:AH55)),MONTH(MIN(E55:AH55)),1)","v":"2023-05-01"},{"$f":"IF(MEDIAN($D58,E$55,EOMONTH($D58,0))=E$55,0.5,NA())","v":0.5},{"$f":"IF(MEDIAN($D58,F$55,EOMONTH($D58,0))=F$55,0.5,NA())","v":0.5},0.5,0.5,0.5,0.5,0.5,0.5,0.5,0.5,0.5,0.5,0.5,0.5,0.5,0.5,0.5,0.5,0.5,0.5,0.5,0.5,0.5,{"$error":"#N/A"},{"$error":"#N/A"},{"$error":"#N/A"},{"$error":"#N/A"},{"$error":"#N/A"},{"$error":"#N/A"},{"$error":"#N/A"}]
[{"$nulls":3},{"$f":"TEXT(D58,\"mmm yyyy\") & \" - Top Band\"","v":"May 2023 - Top Band"},{"$f":"E58+12.5","v":13},{"$f":"F58+12.5","v":13},13,13,13,13,13,13,13,13,13,13,13,13,13,13,13,13,13,13,13,13,13,{"$error":"#N/A"},{"$error":"#N/A"},{"$error":"#N/A"},{"$error":"#N/A"},{"$error":"#N/A"},{"$error":"#N/A"},{"$error":"#N/A"}]
[]
[{"$nulls":3},{"$f":"EOMONTH(D58,0)+1","v":"2023-06-01"},{"$f":"IF(MEDIAN($D61,E$55,EOMONTH($D61,0))=E$55,0.5,NA())","v":{"$error":"#N/A"}},{"$f":"IF(MEDIAN($D61,F$55,EOMONTH($D61,0))=F$55,0.5,NA())","v":{"$error":"#N/A"}},{"$error":"#N/A"},{"$error":"#N/A"},{"$error":"#N/A"},{"$error":"#N/A"},{"$error":"#N/A"},{"$error":"#N/A"},{"$error":"#N/A"},{"$error":"#N/A"},{"$error":"#N/A"},{"$error":"#N/A"},{"$error":"#N/A"},{"$error":"#N/A"},{"$error":"#N/A"},{"$error":"#N/A"},{"$error":"#N/A"},{"$error":"#N/A"},{"$error":"#N/A"},{"$error":"#N/A"},{"$error":"#N/A"},{"$error":"#N/A"},{"$error":"#N/A"},0.5,0.5,0.5,0.5,0.5,0.5,0.5]
[{"$nulls":3},{"$f":"TEXT(D61,\"mmm yyyy\") & \" - Top Band\"","v":"Jun 2023 - Top Band"},{"$f":"E61+12.5","v":{"$error":"#N/A"}},{"$f":"F61+12.5","v":{"$error":"#N/A"}},{"$error":"#N/A"},{"$error":"#N/A"},{"$error":"#N/A"},{"$error":"#N/A"},{"$error":"#N/A"},{"$error":"#N/A"},{"$error":"#N/A"},{"$error":"#N/A"},{"$error":"#N/A"},{"$error":"#N/A"},{"$error":"#N/A"},{"$error":"#N/A"},{"$error":"#N/A"},{"$error":"#N/A"},{"$error":"#N/A"},{"$error":"#N/A"},{"$error":"#N/A"},{"$error":"#N/A"},{"$error":"#N/A"},{"$error":"#N/A"},{"$error":"#N/A"},13,13,13,13,13,13,13]
[]
[]
[{"$nulls":3},{"$f":"D58+1","v":"2023-05-02"},{"$f":"IF(MEDIAN($D65,E$55)=E$55,0.5,NA())","v":{"$error":"#N/A"}},{"$f":"IF(MEDIAN($D65,F$55)=F$55,0.5,NA())","v":{"$error":"#N/A"}},{"$error":"#N/A"},{"$error":"#N/A"},{"$error":"#N/A"},{"$error":"#N/A"},{"$error":"#N/A"},{"$error":"#N/A"},{"$error":"#N/A"},{"$error":"#N/A"},{"$error":"#N/A"},{"$error":"#N/A"},{"$error":"#N/A"},{"$error":"#N/A"},{"$error":"#N/A"},{"$error":"#N/A"},{"$error":"#N/A"},{"$error":"#N/A"},{"$error":"#N/A"},{"$error":"#N/A"},{"$error":"#N/A"},{"$error":"#N/A"},{"$error":"#N/A"},{"$error":"#N/A"},{"$error":"#N/A"},{"$error":"#N/A"},{"$error":"#N/A"},{"$error":"#N/A"},{"$error":"#N/A"},{"$error":"#N/A"}]
[{"$nulls":3},{"$f":"D61+1","v":"2023-06-02"},{"$f":"IF(MEDIAN($D66,E$55)=E$55,0.5,NA())","v":{"$error":"#N/A"}},{"$error":"#N/A"},{"$error":"#N/A"},{"$error":"#N/A"},{"$error":"#N/A"},{"$error":"#N/A"},{"$error":"#N/A"},{"$error":"#N/A"},{"$error":"#N/A"},{"$error":"#N/A"},{"$error":"#N/A"},{"$error":"#N/A"},{"$error":"#N/A"},{"$error":"#N/A"},{"$error":"#N/A"},{"$error":"#N/A"},{"$error":"#N/A"},{"$error":"#N/A"},{"$error":"#N/A"},{"$error":"#N/A"},{"$error":"#N/A"},{"$error":"#N/A"},{"$error":"#N/A"},{"$error":"#N/A"},0.5,{"$error":"#N/A"},{"$error":"#N/A"},{"$error":"#N/A"},{"$error":"#N/A"},{"$error":"#N/A"}]
[]
[]
[{"$nulls":4},2.3,{"$f":"E69","v":2.3},{"$f":"F69","v":2.3},2.3,2.3,2.3,2.3,2.3,2.3,2.3,2.3,2.3,2.3,2.3,2.3,2.3,2.3,2.3,2.3,2.3,2.3,2.3,2.3,2.3,2.3,2.3,2.3,2.3,2.3,2.3]
[{"$nulls":3},3,{"$f":"LEFT(UPPER(TEXT(E55,\"ddd\")),$D70)","v":"TUE"},{"$f":"LEFT(UPPER(TEXT(F55,\"ddd\")),$D70)","v":"WED"},"THU","FRI","SAT","SUN","MON","TUE","WED","THU","FRI","SAT","SUN","MON","TUE","WED","THU","FRI","SAT","SUN","MON","TUE","WED","THU","FRI","SAT","SUN","MON","TUE","WED"]
[{"$nulls":4},1.3,{"$f":"E71","v":1.3},1.3,1.3,1.3,1.3,1.3,1.3,1.3,1.3,1.3,1.3,1.3,1.3,1.3,1.3,1.3,1.3,1.3,1.3,1.3,1.3,1.3,1.3,1.3,1.3,1.3,1.3,1.3,1.3]
[{"$nulls":4},{"$f":"TEXT(E55,\"dd\")","v":"09"},{"$f":"TEXT(F55,\"dd\")","v":"10"},"11","12","13","14","15","16","17","18","19","20","21","22","23","24","25","26","27","28","29","30","31","01","02","03","04","05","06","07"]