{"text_format":"3","workbook":"xlsx","n_sheets":3,"sheets":["Monatliches Budget","Monatliche Ausgaben","Zusätzliche Daten"],"not_rendered":{"charts":1,"defined_names":4,"pivot_tables":2},"read":"whole","date_system":"1900"}

{"sheet":"Monatliches Budget","index":0,"n_rows":34,"n_cols":13,"rows_kept":34,"merged":[[7,1,10,1],[7,5,10,5],[7,6,10,6],[12,1,16,1],[12,5,16,5],[12,6,16,6]]}
[null,"Budgetübersicht",{"$nulls":7},"Budgetzusammenfassung"]
[null,"Saldo"]
[null,"Geplanter Saldo","(Geplante Einkünfte minus Ausgaben)",{"$nulls":3},{"$f":"D17-SUM(Budgetdetails[Geplante Kosten])","v":{"v":1585,"d":"1,585 €"}}]
[null,"Istsaldo","(Isteinkünfte minus Ausgaben)",{"$nulls":3},{"$f":"D11-SUM(Budgetdetails[Tatsächliche Kosten])","v":{"v":1740,"d":"1,740 €"}}]
[null,"Differenz","(Ist minus geplant)",{"$nulls":3},{"$f":"G4-G3","v":{"v":155,"d":"155 €"}}]
[]
[null,"Einkünfte",{"$nulls":3},"Ausgaben",{"$nulls":3},"Klicken Sie mit der rechten Maustaste auf die PivotTable unten, und klicken Sie dann auf Aktualisieren, um die Anzeige zu aktualisieren"]
[null,"IST","Einkommen 1",{"v":5800,"d":"5,800 €"},null,"IST",{"$f":"SUM(Budgetdetails[Tatsächliche Kosten])","v":{"v":7860,"d":"7,860 €"}}]
[null,null,"Einkommen 2",{"v":2300,"d":"2,300 €"},{"$nulls":5},"Kategorie","Geplante Kosten ","Tatsächliche Kosten ","Differenz "]
[null,null,"Zusatzeinkommen",{"v":1500,"d":"1,500 €"},{"$nulls":5},"Kinder",{"v":140,"d":"140 €"},{"v":140,"d":"140 €"},{"v":0,"d":"0 €"}]
[null,null,"Summe Einkünfte",{"$f":"SUM(D8:D10)","v":{"v":9600,"d":"9,600 €"}}]
[{"$nulls":9},"Unterhaltung",{"v":400,"d":"400 €"},{"v":358,"d":"358 €"},{"v":42,"d":"42 €"}]
[null,"GEPLANT",{"$nulls":3},"GEPLANT",{"$f":"SUM(Budgetdetails[Geplante Kosten])","v":{"v":7915,"d":"7,915 €"}}]
[null,null,"Einkommen 1",{"v":6000,"d":"6,000 €"},{"$nulls":5},"Essen",{"v":1100,"d":"1,100 €"},{"v":1320,"d":"1,320 €"},{"v":-220,"d":"-220 €"}]
[null,null,"Einkommen 2",{"v":1000,"d":"1,000 €"}]
[null,null,"Zusatzeinkommen",{"v":2500,"d":"2,500 €"},{"$nulls":5},"Geschenke und Spenden",{"v":100,"d":"100 €"},{"v":125,"d":"125 €"},{"v":-25,"d":"-25 €"}]
[null,null,"Summe Einkünfte",{"$f":"SUM(D14:D16)","v":{"v":9500,"d":"9,500 €"}}]
[{"$nulls":9},"Wohnen",{"v":2830,"d":"2,830 €"},{"v":2702,"d":"2,702 €"},{"v":128,"d":"128 €"}]
[]
[{"$nulls":9},"Versicherungen",{"v":900,"d":"900 €"},{"v":900,"d":"900 €"},{"v":0,"d":"0 €"}]
[]
[{"$nulls":9},"Darlehen",{"v":200,"d":"200 €"},{"v":200,"d":"200 €"},{"v":0,"d":"0 €"}]
[]
[{"$nulls":9},"Persönlicher Bedarf",{"v":150,"d":"150 €"},{"v":140,"d":"140 €"},{"v":10,"d":"10 €"}]
[]
[{"$nulls":9},"Haustiere",{"v":170,"d":"170 €"},{"v":100,"d":"100 €"},{"v":70,"d":"70 €"}]
[]
[{"$nulls":9},"Sparen oder Kapitalanlagen",{"v":200,"d":"200 €"},{"v":200,"d":"200 €"},{"v":0,"d":"0 €"}]
[]
[{"$nulls":9},"Steuern",{"v":300,"d":"300 €"},{"v":300,"d":"300 €"},{"v":0,"d":"0 €"}]
[]
[{"$nulls":9},"Verkehrsmittel",{"v":1425,"d":"1,425 €"},{"v":1375,"d":"1,375 €"},{"v":50,"d":"50 €"}]
[]
[{"$nulls":9},"Gesamtergebnis",{"v":7915,"d":"7,915 €"},{"v":7860,"d":"7,860 €"},{"v":55,"d":"55 €"}]

{"sheet":"Monatliche Ausgaben","index":1,"n_rows":62,"n_cols":7,"rows_kept":62}
[null,"Monatliche Ausgaben"]
[null,"Beschreibung","Kategorie","Geplante Kosten","Tatsächliche Kosten","Differenz","Übersicht über tatsächliche Kosten"]
[null,"Außerschulische Aktivitäten","Kinder",{"v":40,"d":"40 €"},{"v":40,"d":"40 €"},{"$f":"'Monatliche Ausgaben'!$D3-'Monatliche Ausgaben'!$E3","v":{"v":0,"d":"0 €"}},{"$f":"'Monatliche Ausgaben'!$E3","v":{"v":40,"d":"40 €"}}]
[null,"Medikamente","Kinder",null,null,{"$f":"'Monatliche Ausgaben'!$D4-'Monatliche Ausgaben'!$E4","v":{"v":0,"d":"0 €"}},{"$f":"'Monatliche Ausgaben'!$E4","v":{"v":0,"d":"0 €"}}]
[null,"Unterrichtsmaterialien","Kinder",null,null,{"$f":"'Monatliche Ausgaben'!$D5-'Monatliche Ausgaben'!$E5","v":{"v":0,"d":"0 €"}},{"$f":"'Monatliche Ausgaben'!$E5","v":{"v":0,"d":"0 €"}}]
[null,"Schulgebühren","Kinder",{"v":100,"d":"100 €"},{"v":100,"d":"100 €"},{"$f":"'Monatliche Ausgaben'!$D6-'Monatliche Ausgaben'!$E6","v":{"v":0,"d":"0 €"}},{"$f":"'Monatliche Ausgaben'!$E6","v":{"v":100,"d":"100 €"}}]
[null,"Konzerte","Unterhaltung",{"v":50,"d":"50 €"},{"v":40,"d":"40 €"},{"$f":"'Monatliche Ausgaben'!$D7-'Monatliche Ausgaben'!$E7","v":{"v":10,"d":"10 €"}},{"$f":"'Monatliche Ausgaben'!$E7","v":{"v":40,"d":"40 €"}}]
[null,"Theaterbesuche","Unterhaltung",{"v":200,"d":"200 €"},{"v":150,"d":"150 €"},{"$f":"'Monatliche Ausgaben'!$D8-'Monatliche Ausgaben'!$E8","v":{"v":50,"d":"50 €"}},{"$f":"'Monatliche Ausgaben'!$E8","v":{"v":150,"d":"150 €"}}]
[null,"Kino","Unterhaltung",{"v":50,"d":"50 €"},{"v":28,"d":"28 €"},{"$f":"'Monatliche Ausgaben'!$D9-'Monatliche Ausgaben'!$E9","v":{"v":22,"d":"22 €"}},{"$f":"'Monatliche Ausgaben'!$E9","v":{"v":28,"d":"28 €"}}]
[null,"Musik (CDs, Downloads usw.)","Unterhaltung",{"v":50,"d":"50 €"},{"v":30,"d":"30 €"},{"$f":"'Monatliche Ausgaben'!$D10-'Monatliche Ausgaben'!$E10","v":{"v":20,"d":"20 €"}},{"$f":"'Monatliche Ausgaben'!$E10","v":{"v":30,"d":"30 €"}}]
[null,"Sportveranstaltungen","Unterhaltung",{"v":0,"d":"0 €"},{"v":40,"d":"40 €"},{"$f":"'Monatliche Ausgaben'!$D11-'Monatliche Ausgaben'!$E11","v":{"v":-40,"d":"-40 €"}},{"$f":"'Monatliche Ausgaben'!$E11","v":{"v":40,"d":"40 €"}}]
[null,"Video/DVD (Kauf)","Unterhaltung",{"v":20,"d":"20 €"},{"v":50,"d":"50 €"},{"$f":"'Monatliche Ausgaben'!$D12-'Monatliche Ausgaben'!$E12","v":{"v":-30,"d":"-30 €"}},{"$f":"'Monatliche Ausgaben'!$E12","v":{"v":50,"d":"50 €"}}]
[null,"Video/DVD (Verleih)","Unterhaltung",{"v":30,"d":"30 €"},{"v":20,"d":"20 €"},{"$f":"'Monatliche Ausgaben'!$D13-'Monatliche Ausgaben'!$E13","v":{"v":10,"d":"10 €"}},{"$f":"'Monatliche Ausgaben'!$E13","v":{"v":20,"d":"20 €"}}]
[null,"Restaurantbesuche","Essen",{"v":1000,"d":"1,000 €"},{"v":1200,"d":"1,200 €"},{"$f":"'Monatliche Ausgaben'!$D14-'Monatliche Ausgaben'!$E14","v":{"v":-200,"d":"-200 €"}},{"$f":"'Monatliche Ausgaben'!$E14","v":{"v":1200,"d":"1,200 €"}}]
[null,"Lebensmittel","Essen",{"v":100,"d":"100 €"},{"v":120,"d":"120 €"},{"$f":"'Monatliche Ausgaben'!$D15-'Monatliche Ausgaben'!$E15","v":{"v":-20,"d":"-20 €"}},{"$f":"'Monatliche Ausgaben'!$E15","v":{"v":120,"d":"120 €"}}]
[null,"Spenden 1","Geschenke und Spenden",{"v":75,"d":"75 €"},{"v":100,"d":"100 €"},{"$f":"'Monatliche Ausgaben'!$D16-'Monatliche Ausgaben'!$E16","v":{"v":-25,"d":"-25 €"}},{"$f":"'Monatliche Ausgaben'!$E16","v":{"v":100,"d":"100 €"}}]
[null,"Spenden 2","Geschenke und Spenden",{"v":25,"d":"25 €"},{"v":25,"d":"25 €"},{"$f":"'Monatliche Ausgaben'!$D17-'Monatliche Ausgaben'!$E17","v":{"v":0,"d":"0 €"}},{"$f":"'Monatliche Ausgaben'!$E17","v":{"v":25,"d":"25 €"}}]
[null,"Geschenk 1","Geschenke und Spenden",null,null,{"$f":"'Monatliche Ausgaben'!$D18-'Monatliche Ausgaben'!$E18","v":{"v":0,"d":"0 €"}},{"$f":"'Monatliche Ausgaben'!$E18","v":{"v":0,"d":"0 €"}}]
[null,"Geschenk 2","Geschenke und Spenden",null,null,{"$f":"'Monatliche Ausgaben'!$D19-'Monatliche Ausgaben'!$E19","v":{"v":0,"d":"0 €"}},{"$f":"'Monatliche Ausgaben'!$E19","v":{"v":0,"d":"0 €"}}]
[null,"Kabel-/Satellitenfernsehen","Wohnen",{"v":100,"d":"100 €"},{"v":100,"d":"100 €"},{"$f":"'Monatliche Ausgaben'!$D20-'Monatliche Ausgaben'!$E20","v":{"v":0,"d":"0 €"}},{"$f":"'Monatliche Ausgaben'!$E20","v":{"v":100,"d":"100 €"}}]
[null,"Strom","Wohnen",{"v":45,"d":"45 €"},{"v":50,"d":"50 €"},{"$f":"'Monatliche Ausgaben'!$D21-'Monatliche Ausgaben'!$E21","v":{"v":-5,"d":"-5 €"}},{"$f":"'Monatliche Ausgaben'!$E21","v":{"v":50,"d":"50 €"}}]
[null,"Gas","Wohnen",{"v":300,"d":"300 €"},{"v":400,"d":"400 €"},{"$f":"'Monatliche Ausgaben'!$D22-'Monatliche Ausgaben'!$E22","v":{"v":-100,"d":"-100 €"}},{"$f":"'Monatliche Ausgaben'!$E22","v":{"v":400,"d":"400 €"}}]
[null,"Reinigungskraft","Wohnen",{"v":200,"d":"200 €"},null,{"$f":"'Monatliche Ausgaben'!$D23-'Monatliche Ausgaben'!$E23","v":{"v":200,"d":"200 €"}},{"$f":"'Monatliche Ausgaben'!$E23","v":{"v":0,"d":"0 €"}}]
[null,"Wartung","Wohnen",{"v":200,"d":"200 €"},{"v":150,"d":"150 €"},{"$f":"'Monatliche Ausgaben'!$D24-'Monatliche Ausgaben'!$E24","v":{"v":50,"d":"50 €"}},{"$f":"'Monatliche Ausgaben'!$E24","v":{"v":150,"d":"150 €"}}]
[null,"Hypothek oder Miete","Wohnen",{"v":1700,"d":"1,700 €"},{"v":1700,"d":"1,700 €"},{"$f":"'Monatliche Ausgaben'!$D25-'Monatliche Ausgaben'!$E25","v":{"v":0,"d":"0 €"}},{"$f":"'Monatliche Ausgaben'!$E25","v":{"v":1700,"d":"1,700 €"}}]
[null,"Erdgas/-öl","Wohnen",null,null,{"$f":"'Monatliche Ausgaben'!$D26-'Monatliche Ausgaben'!$E26","v":{"v":0,"d":"0 €"}},{"$f":"'Monatliche Ausgaben'!$E26","v":{"v":0,"d":"0 €"}}]
[null,"Online-/Internet-Service","Wohnen",{"v":100,"d":"100 €"},{"v":100,"d":"100 €"},{"$f":"'Monatliche Ausgaben'!$D27-'Monatliche Ausgaben'!$E27","v":{"v":0,"d":"0 €"}},{"$f":"'Monatliche Ausgaben'!$E27","v":{"v":100,"d":"100 €"}}]
[null,"Telefon (Mobil)","Wohnen",{"v":60,"d":"60 €"},{"v":60,"d":"60 €"},{"$f":"'Monatliche Ausgaben'!$D28-'Monatliche Ausgaben'!$E28","v":{"v":0,"d":"0 €"}},{"$f":"'Monatliche Ausgaben'!$E28","v":{"v":60,"d":"60 €"}}]
[null,"Telefon (Festnetz)","Wohnen",{"v":35,"d":"35 €"},{"v":39,"d":"39 €"},{"$f":"'Monatliche Ausgaben'!$D29-'Monatliche Ausgaben'!$E29","v":{"v":-4,"d":"-4 €"}},{"$f":"'Monatliche Ausgaben'!$E29","v":{"v":39,"d":"39 €"}}]
[null,"Allgemeiner Bedarf","Wohnen",{"v":40,"d":"40 €"},{"v":55,"d":"55 €"},{"$f":"'Monatliche Ausgaben'!$D30-'Monatliche Ausgaben'!$E30","v":{"v":-15,"d":"-15 €"}},{"$f":"'Monatliche Ausgaben'!$E30","v":{"v":55,"d":"55 €"}}]
[null,"Müllabfuhr und Recycling","Wohnen",{"v":25,"d":"25 €"},{"v":22,"d":"22 €"},{"$f":"'Monatliche Ausgaben'!$D31-'Monatliche Ausgaben'!$E31","v":{"v":3,"d":"3 €"}},{"$f":"'Monatliche Ausgaben'!$E31","v":{"v":22,"d":"22 €"}}]
[null,"Wasser und Abwasser","Wohnen",{"v":25,"d":"25 €"},{"v":26,"d":"26 €"},{"$f":"'Monatliche Ausgaben'!$D32-'Monatliche Ausgaben'!$E32","v":{"v":-1,"d":"-1 €"}},{"$f":"'Monatliche Ausgaben'!$E32","v":{"v":26,"d":"26 €"}}]
[null,"Krankenversicherung","Versicherungen",{"v":400,"d":"400 €"},{"v":400,"d":"400 €"},{"$f":"'Monatliche Ausgaben'!$D33-'Monatliche Ausgaben'!$E33","v":{"v":0,"d":"0 €"}},{"$f":"'Monatliche Ausgaben'!$E33","v":{"v":400,"d":"400 €"}}]
[null,"Hausratversicherung","Versicherungen",{"v":400,"d":"400 €"},{"v":400,"d":"400 €"},{"$f":"'Monatliche Ausgaben'!$D34-'Monatliche Ausgaben'!$E34","v":{"v":0,"d":"0 €"}},{"$f":"'Monatliche Ausgaben'!$E34","v":{"v":400,"d":"400 €"}}]
[null,"Lebensversicherung","Versicherungen",{"v":100,"d":"100 €"},{"v":100,"d":"100 €"},{"$f":"'Monatliche Ausgaben'!$D35-'Monatliche Ausgaben'!$E35","v":{"v":0,"d":"0 €"}},{"$f":"'Monatliche Ausgaben'!$E35","v":{"v":100,"d":"100 €"}}]
[null,"Kreditkarte 1","Darlehen",{"v":200,"d":"200 €"},{"v":200,"d":"200 €"},{"$f":"'Monatliche Ausgaben'!$D36-'Monatliche Ausgaben'!$E36","v":{"v":0,"d":"0 €"}},{"$f":"'Monatliche Ausgaben'!$E36","v":{"v":200,"d":"200 €"}}]
[null,"Kreditkarte 2","Darlehen",null,null,{"$f":"'Monatliche Ausgaben'!$D37-'Monatliche Ausgaben'!$E37","v":{"v":0,"d":"0 €"}},{"$f":"'Monatliche Ausgaben'!$E37","v":{"v":0,"d":"0 €"}}]
[null,"Kreditkarte 3","Darlehen",null,null,{"$f":"'Monatliche Ausgaben'!$D38-'Monatliche Ausgaben'!$E38","v":{"v":0,"d":"0 €"}},{"$f":"'Monatliche Ausgaben'!$E38","v":{"v":0,"d":"0 €"}}]
[null,"Persönlich","Darlehen",null,null,{"$f":"'Monatliche Ausgaben'!$D39-'Monatliche Ausgaben'!$E39","v":{"v":0,"d":"0 €"}},{"$f":"'Monatliche Ausgaben'!$E39","v":{"v":0,"d":"0 €"}}]
[null,"BAFöG","Darlehen",null,null,{"$f":"'Monatliche Ausgaben'!$D40-'Monatliche Ausgaben'!$E40","v":{"v":0,"d":"0 €"}},{"$f":"'Monatliche Ausgaben'!$E40","v":{"v":0,"d":"0 €"}}]
[null,"Bekleidung","Persönlicher Bedarf",{"v":150,"d":"150 €"},{"v":140,"d":"140 €"},{"$f":"'Monatliche Ausgaben'!$D41-'Monatliche Ausgaben'!$E41","v":{"v":10,"d":"10 €"}},{"$f":"'Monatliche Ausgaben'!$E41","v":{"v":140,"d":"140 €"}}]
[null,"Chemische Reinigung","Persönlicher Bedarf",null,null,{"$f":"'Monatliche Ausgaben'!$D42-'Monatliche Ausgaben'!$E42","v":{"v":0,"d":"0 €"}},{"$f":"'Monatliche Ausgaben'!$E42","v":{"v":0,"d":"0 €"}}]
[null,"Haar-/Nagelpflege","Persönlicher Bedarf",null,null,{"$f":"'Monatliche Ausgaben'!$D43-'Monatliche Ausgaben'!$E43","v":{"v":0,"d":"0 €"}},{"$f":"'Monatliche Ausgaben'!$E43","v":{"v":0,"d":"0 €"}}]
[null,"Fitnessstudio","Persönlicher Bedarf",null,null,{"$f":"'Monatliche Ausgaben'!$D44-'Monatliche Ausgaben'!$E44","v":{"v":0,"d":"0 €"}},{"$f":"'Monatliche Ausgaben'!$E44","v":{"v":0,"d":"0 €"}}]
[null,"Medikamente","Persönlicher Bedarf",null,null,{"$f":"'Monatliche Ausgaben'!$D45-'Monatliche Ausgaben'!$E45","v":{"v":0,"d":"0 €"}},{"$f":"'Monatliche Ausgaben'!$E45","v":{"v":0,"d":"0 €"}}]
[null,"Essen","Haustiere",{"v":150,"d":"150 €"},{"v":75,"d":"75 €"},{"$f":"'Monatliche Ausgaben'!$D46-'Monatliche Ausgaben'!$E46","v":{"v":75,"d":"75 €"}},{"$f":"'Monatliche Ausgaben'!$E46","v":{"v":75,"d":"75 €"}}]
[null,"Pflege","Haustiere",{"v":20,"d":"20 €"},{"v":25,"d":"25 €"},{"$f":"'Monatliche Ausgaben'!$D47-'Monatliche Ausgaben'!$E47","v":{"v":-5,"d":"-5 €"}},{"$f":"'Monatliche Ausgaben'!$E47","v":{"v":25,"d":"25 €"}}]
[null,"Medikamente","Haustiere",null,null,{"$f":"'Monatliche Ausgaben'!$D48-'Monatliche Ausgaben'!$E48","v":{"v":0,"d":"0 €"}},{"$f":"'Monatliche Ausgaben'!$E48","v":{"v":0,"d":"0 €"}}]
[null,"Spielzeug","Haustiere",null,null,{"$f":"'Monatliche Ausgaben'!$D49-'Monatliche Ausgaben'!$E49","v":{"v":0,"d":"0 €"}},{"$f":"'Monatliche Ausgaben'!$E49","v":{"v":0,"d":"0 €"}}]
[null,"Kapitalanlagen","Sparen oder Kapitalanlagen",{"v":200,"d":"200 €"},{"v":200,"d":"200 €"},{"$f":"'Monatliche Ausgaben'!$D50-'Monatliche Ausgaben'!$E50","v":{"v":0,"d":"0 €"}},{"$f":"'Monatliche Ausgaben'!$E50","v":{"v":200,"d":"200 €"}}]
[null,"Altersvorsorge","Sparen oder Kapitalanlagen",null,null,{"$f":"'Monatliche Ausgaben'!$D51-'Monatliche Ausgaben'!$E51","v":{"v":0,"d":"0 €"}},{"$f":"'Monatliche Ausgaben'!$E51","v":{"v":0,"d":"0 €"}}]
[null,"Einkommensteuer","Steuern",{"v":300,"d":"300 €"},{"v":300,"d":"300 €"},{"$f":"'Monatliche Ausgaben'!$D52-'Monatliche Ausgaben'!$E52","v":{"v":0,"d":"0 €"}},{"$f":"'Monatliche Ausgaben'!$E52","v":{"v":300,"d":"300 €"}}]
[null,"Gemeindesteuer","Steuern",null,null,{"$f":"'Monatliche Ausgaben'!$D53-'Monatliche Ausgaben'!$E53","v":{"v":0,"d":"0 €"}},{"$f":"'Monatliche Ausgaben'!$E53","v":{"v":0,"d":"0 €"}}]
[null,"Landessteuer","Steuern",null,null,{"$f":"'Monatliche Ausgaben'!$D54-'Monatliche Ausgaben'!$E54","v":{"v":0,"d":"0 €"}},{"$f":"'Monatliche Ausgaben'!$E54","v":{"v":0,"d":"0 €"}}]
[null,"Bus/Taxi","Verkehrsmittel",{"v":100,"d":"100 €"},{"v":150,"d":"150 €"},{"$f":"'Monatliche Ausgaben'!$D55-'Monatliche Ausgaben'!$E55","v":{"v":-50,"d":"-50 €"}},{"$f":"'Monatliche Ausgaben'!$E55","v":{"v":150,"d":"150 €"}}]
[null,"Kraftstoff","Verkehrsmittel",{"v":450,"d":"450 €"},{"v":400,"d":"400 €"},{"$f":"'Monatliche Ausgaben'!$D56-'Monatliche Ausgaben'!$E56","v":{"v":50,"d":"50 €"}},{"$f":"'Monatliche Ausgaben'!$E56","v":{"v":400,"d":"400 €"}}]
[null,"Versicherungen","Verkehrsmittel",{"v":300,"d":"300 €"},{"v":300,"d":"300 €"},{"$f":"'Monatliche Ausgaben'!$D57-'Monatliche Ausgaben'!$E57","v":{"v":0,"d":"0 €"}},{"$f":"'Monatliche Ausgaben'!$E57","v":{"v":300,"d":"300 €"}}]
[null,"KFZ-Steuer","Verkehrsmittel",{"v":25,"d":"25 €"},{"v":25,"d":"25 €"},{"$f":"'Monatliche Ausgaben'!$D58-'Monatliche Ausgaben'!$E58","v":{"v":0,"d":"0 €"}},{"$f":"'Monatliche Ausgaben'!$E58","v":{"v":25,"d":"25 €"}}]
[null,"Wartung","Verkehrsmittel",{"v":100,"d":"100 €"},{"v":50,"d":"50 €"},{"$f":"'Monatliche Ausgaben'!$D59-'Monatliche Ausgaben'!$E59","v":{"v":50,"d":"50 €"}},{"$f":"'Monatliche Ausgaben'!$E59","v":{"v":50,"d":"50 €"}}]
[null,"Parkgebühren","Verkehrsmittel",null,null,{"$f":"'Monatliche Ausgaben'!$D60-'Monatliche Ausgaben'!$E60","v":{"v":0,"d":"0 €"}},{"$f":"'Monatliche Ausgaben'!$E60","v":{"v":0,"d":"0 €"}}]
[null,"Fahrzeugkosten","Verkehrsmittel",{"v":450,"d":"450 €"},{"v":450,"d":"450 €"},{"$f":"'Monatliche Ausgaben'!$D61-'Monatliche Ausgaben'!$E61","v":{"v":0,"d":"0 €"}},{"$f":"'Monatliche Ausgaben'!$E61","v":{"v":450,"d":"450 €"}}]
[null,"Summe",null,{"$f":"SUBTOTAL(109,Budgetdetails[Geplante Kosten])","v":{"v":7915,"d":"7,915 €"}},{"$f":"SUBTOTAL(109,Budgetdetails[Tatsächliche Kosten])","v":{"v":7860,"d":"7,860 €"}},{"$f":"SUBTOTAL(109,Budgetdetails[Differenz])","v":{"v":55,"d":"55 €"}}]

{"sheet":"Zusätzliche Daten","index":2,"n_rows":15,"n_cols":5,"rows_kept":15}
[null,"PivotTable für Diagramm zur Budgetübersicht",null,null,"Nachschlageliste für Kategorie unter den Budgetdetails"]
[null,"Kategorie","Kosten",null,"Nachschlagen nach Budgetkategorie"]
[null,"Darlehen",200,null,"Kinder"]
[null,"Essen",1320,null,"Unterhaltung"]
[null,"Geschenke und Spenden",125,null,"Essen"]
[null,"Haustiere",100,null,"Geschenke und Spenden"]
[null,"Kinder",140,null,"Wohnen"]
[null,"Persönlicher Bedarf",140,null,"Versicherungen"]
[null,"Sparen oder Kapitalanlagen",200,null,"Darlehen"]
[null,"Steuern",300,null,"Persönlicher Bedarf"]
[null,"Unterhaltung",358,null,"Haustiere"]
[null,"Verkehrsmittel",1375,null,"Sparen oder Kapitalanlagen"]
[null,"Versicherungen",900,null,"Steuern"]
[null,"Wohnen",2702,null,"Verkehrsmittel"]
[null,"Gesamtergebnis",7860]