{"text_format":"3","workbook":"xlsx","n_sheets":12,"sheets":["Jak používat Plánovač jídel","Plánovač jídel","Seznam receptů","Nákupní seznam","Hlavní seznam ingrediencí","Hlavní seznam měrných jednotek","AnalýzaDat","Kategorie receptů","Seznam sdílení","Prázdný recept","Pizza se špenátem a fetou","Můj nový recept"],"not_rendered":{"images":6,"external_links":1,"defined_names":46},"read":"whole","date_system":"1900"}

{"sheet":"Jak používat Plánovač jídel","index":0,"n_rows":14,"n_cols":5,"rows_kept":14,"merged":[[2,1,5,1]]}
[null,"Sada nástrojů pro plánování jídel",null,"Plánovač jídel","Seznam receptů"]
[null,"Informace o týdenním plánovači jídel",null,"Jak se týdenní plánovač jídel používá?"]
[null,"Zbavte se papírů a ukládejte si své oblíbené recepty do tohoto digitálního plánovače jídel. \n\nTato šablona umožňuje nejenom klasicky přidat ingredience a pokyny, ale také vytvořit nákupní seznam, sdílet recepty s přáteli a sestavit plán jídel na týden dopředu. Když přidáte značky, budete moct recepty vyhledávat podle klíčových slov.\n\nS používáním šablony vám pomůžou pokyny napravo. ",null,"List Seznam receptů je centrálním místem pro zobrazení přehledu receptů. Pokud chcete zobrazit konkrétní recept, vyberte Odkaz na recept. Tím rychle přeskočíte na podrobnosti receptu. Pokud se chcete vrátit na list Seznam receptů, můžete na každém listu s receptem využít navigační buňku G1 s tlačítkem Seznam receptů. "]
[{"$nulls":3},"Jak si můžu přidat vlastní recepty?"]
[{"$nulls":3},"Pro začátek můžete přepsat recept na pizzu se špenátem a fetou, který jsme přidali jako příklad. Pokud byste chtěli tento chutný ukázkový recept zachovat a někdy vyzkoušet, zkopírujte list Prázdný recept, přejmenujte kopii na název vašeho receptu a přidejte informace o novém receptu."]
[{"$nulls":3},"Nový recept můžete přidat na konec Seznamu receptů tak, že zadáte jeho název použitý na oušku jeho listu. Odkaz a podrobnosti o receptu se přidají automaticky. Na list Plánovač jídel pak můžete recept přidat tak, že vyberete jeho název v seznamu."]
[{"$nulls":3},"Pokud používáte Excel Online, vytvořte nový list, zkopírujte a vložte na něj obsah listu Prázdný recept a přejmenujte list na přesně stejný název, jako zadáte na listu Seznam receptů. "]
[{"$nulls":3},"Upozornění: Pokud se název receptu na listu Seznam receptů nebude shodovat s názvem listu s receptem, nebude fungovat nákupní seznam."]
[{"$nulls":3},"Tip: Na listu Kategorie receptů můžete přidávat kategorie, jako je například Hlavní chod. To vám pomůže při hledání jídel určitého typu. Na stejném listu si můžete změnit typy měrných jednotek, abyste si usnadnili přidávání ingrediencí na listech s recepty. "]
[{"$nulls":3},"Tipy k zadávání dat"]
[{"$nulls":3},"Pokud kopírujete ingredience a pokyny k receptu z webové stránky, můžete při vkládání snadno zachovat formátování šablony. Dosáhnete toho tak, že na kartě Domů ve skupině Schránka rozbalíte možnosti u tlačítka Vložit a vyberete Přizpůsobit formátování cíli."]
[{"$nulls":3},"A co dál?"]
[{"$nulls":3},"Na listu Plánovač jídel můžete vybírat recepty z listu Seznam receptů na libovolný týden. Z ingrediencí ve vybraných receptech se vám automaticky vytvoří nákupní seznam. Na ten se můžete podívat na listu Nákupní seznam."]
[{"$nulls":3},"Po vytvoření seznamu receptů můžete na listu Seznam receptů snadno hledat požadovaná jídla pomocí filtrů. Pokud například hledáte hlavní chod, klikněte na šipku u záhlaví Kategorie, zrušte zaškrtnutí políčka (Vybrat vše), zaškrtněte políčko Hlavní chod a potom vyberte OK. Výsledky můžete dále zúžit filtrováním podle dalšího pole, například Značky. Pokud chcete použít filtr ve sloupci Značky, klikněte na šipku u záhlaví Značky, do textového pole Hledat zadejte hledaný řetězec (například sýr) a vyberte OK. "]

{"sheet":"Plánovač jídel","index":1,"n_rows":10,"n_cols":4,"rows_kept":10}
[null,null,"Plánovač jídel","Seznam receptů"]
[null,"Týden začínající",{"$f":"TODAY()","v":"2017-12-14"}]
[null,"Den v týdnu","Recept","Vyberte si recept na každý den v týdnu. Dny v týdnu se automaticky upraví podle počátečního dne zadaného v buňce C2."]
[null,{"$f":"TEXT(WEEKDAY($C$2),\"dddd\")","v":"čtvrtek"},"Pizza se špenátem a fetou"]
[null,{"$f":"TEXT(WEEKDAY($C$2)+ROW($A1),\"dddd\")","v":"pátek"},"Můj nový recept"]
[null,{"$f":"TEXT(WEEKDAY($C$2)+ROW($A2),\"dddd\")","v":"sobota"}]
[null,"neděle"]
[null,"pondělí"]
[null,"úterý"]
[null,"středa"]

{"sheet":"Seznam receptů","index":2,"n_rows":6,"n_cols":7,"rows_kept":6,"merged":[[0,4,0,5]]}
[{"$nulls":4},"Na tomto listu můžete sledovat své recepty. Nové recepty můžete přidávat zadáním názvu ouška listu s receptem na konec seznamu receptů. Jídla na celý týden si můžete naplánovat na listu Plánovač jídel. Podle vybraných receptů se automaticky vygeneruje nákupní seznam. "]
[null,"Seznam receptů","Plánovač jídel","Kategorie receptů"]
[null,"Název receptu","Odkaz na recept","Kategorie","Značky","Kalorie","Komentáře"]
[null,"Prázdný recept",{"$f":"IFERROR(IF(LEN(SeznamReceptů[[#This Row],[Název receptu]])>0,HYPERLINK(CONCATENATE(\"# '\",'Seznam receptů'!$B$4:$B$6,\"'\",\"!A1\"),\"Recept zobrazíte výběrem této buňky\"),\"\"),\"\")","v":"Recept zobrazíte výběrem této buňky"},{"$f":"IFERROR(IF(LEN(INDIRECT(\"'\"&'Seznam receptů'!$B4&\"'!$F$1\"))=0,\"\",INDIRECT(\"'\"&'Seznam receptů'!$B4&\"'!$F$1\")),\"\")","v":"Typ jídla"},{"$f":"IFERROR(IF(LEN(INDIRECT(\"'\"&'Seznam receptů'!$B4&\"'!$B$9\"))=0,\"\",INDIRECT(\"'\"&'Seznam receptů'!$B4&\"'!$B$9\")),\"\")","v":"Značka 1, Značka 2 atd."},{"$f":"IFERROR(IF(LEN(INDIRECT(\"'\"&'Seznam receptů'!$B4&\"'!$B$6\"))=0,\"\",IF(INDIRECT(\"'\"&'Seznam receptů'!$B4&\"'!$B$6\")=\"Do této buňky zadejte kalorie pro tento recept.\",\"\",INDIRECT(\"'\"&'Seznam receptů'!$B4&\"'!$B$6\"))),\"\")","v":""},{"$f":"IFERROR(IF(LEN(INDIRECT(\"'\"&'Seznam receptů'!$B4&\"'!$B$12\"))=0,\"\",IF(INDIRECT(\"'\"&'Seznam receptů'!$B4&\"'!$B$12\")=\"Sem zadejte komentář.\",\"\",INDIRECT(\"'\"&'Seznam receptů'!$B4&\"'!$B$12\"))),\"\")","v":"Neodstraňujte tento list s receptem."}]
[null,"Pizza se špenátem a fetou",{"$f":"IFERROR(IF(LEN(SeznamReceptů[[#This Row],[Název receptu]])>0,HYPERLINK(CONCATENATE(\"# '\",'Seznam receptů'!$B$4:$B$6,\"'\",\"!A1\"),\"Recept zobrazíte výběrem této buňky\"),\"\"),\"\")","v":"Recept zobrazíte výběrem této buňky"},{"$f":"IFERROR(IF(LEN(INDIRECT(\"'\"&'Seznam receptů'!$B5&\"'!$F$1\"))=0,\"\",INDIRECT(\"'\"&'Seznam receptů'!$B5&\"'!$F$1\")),\"\")","v":"Hlavní chod"},{"$f":"IFERROR(IF(LEN(INDIRECT(\"'\"&'Seznam receptů'!$B5&\"'!$B$9\"))=0,\"\",INDIRECT(\"'\"&'Seznam receptů'!$B5&\"'!$B$9\")),\"\")","v":"pizza, špenát, feta, sýr"},{"$f":"IFERROR(IF(LEN(INDIRECT(\"'\"&'Seznam receptů'!$B5&\"'!$B$6\"))=0,\"\",IF(INDIRECT(\"'\"&'Seznam receptů'!$B5&\"'!$B$6\")=\"Do této buňky zadejte kalorie pro tento recept.\",\"\",INDIRECT(\"'\"&'Seznam receptů'!$B5&\"'!$B$6\"))),\"\")","v":287},{"$f":"IFERROR(IF(LEN(INDIRECT(\"'\"&'Seznam receptů'!$B5&\"'!$B$12\"))=0,\"\",IF(INDIRECT(\"'\"&'Seznam receptů'!$B5&\"'!$B$12\")=\"Sem zadejte komentář.\",\"\",INDIRECT(\"'\"&'Seznam receptů'!$B5&\"'!$B$12\"))),\"\")","v":"Rodina si na tomto receptu pochutnala. Musíme si to někdy udělat znovu."}]
[null,"Můj nový recept",{"$f":"IFERROR(IF(LEN(SeznamReceptů[[#This Row],[Název receptu]])>0,HYPERLINK(CONCATENATE(\"# '\",'Seznam receptů'!$B$4:$B$6,\"'\",\"!A1\"),\"Recept zobrazíte výběrem této buňky\"),\"\"),\"\")","v":"Recept zobrazíte výběrem této buňky"},{"$f":"IFERROR(IF(LEN(INDIRECT(\"'\"&'Seznam receptů'!$B6&\"'!$F$1\"))=0,\"\",INDIRECT(\"'\"&'Seznam receptů'!$B6&\"'!$F$1\")),\"\")","v":"Předkrm"},{"$f":"IFERROR(IF(LEN(INDIRECT(\"'\"&'Seznam receptů'!$B6&\"'!$B$9\"))=0,\"\",INDIRECT(\"'\"&'Seznam receptů'!$B6&\"'!$B$9\")),\"\")","v":"losos, krekry, smetanový sýr"},{"$f":"IFERROR(IF(LEN(INDIRECT(\"'\"&'Seznam receptů'!$B6&\"'!$B$6\"))=0,\"\",IF(INDIRECT(\"'\"&'Seznam receptů'!$B6&\"'!$B$6\")=\"Do této buňky zadejte kalorie pro tento recept.\",\"\",INDIRECT(\"'\"&'Seznam receptů'!$B6&\"'!$B$6\"))),\"\")","v":60},{"$f":"IFERROR(IF(LEN(INDIRECT(\"'\"&'Seznam receptů'!$B6&\"'!$B$12\"))=0,\"\",IF(INDIRECT(\"'\"&'Seznam receptů'!$B6&\"'!$B$12\")=\"Sem zadejte komentář.\",\"\",INDIRECT(\"'\"&'Seznam receptů'!$B6&\"'!$B$12\"))),\"\")","v":"Rozpracovaný recept"}]

{"sheet":"Nákupní seznam","index":3,"n_rows":103,"n_cols":6,"rows_kept":103}
[null,null,"Nákupní seznam","Seznam receptů",null,"Váš nákupní seznam se generuje z receptů vybraných na listu Plánovač jídel. Množství opakujících se ingrediencí se v této tabulce ve sloupci s množstvími automaticky sečte. Seznam je v zájmu usnadnění práce seřazený a pomocí tlačítek filtrů v záhlaví tabulky můžete vyhledávat konkrétní položky. Položky, které budete muset koupit, označte ve sloupci Je třeba koupit."]
[null,"Položka","Množství","Je třeba koupit?","Váš nákupní seznam se generuje z receptů vybraných na listu Plánovač jídel. Množství opakujících se ingrediencí se v této tabulce ve sloupci s množstvími automaticky sečte. Seznam je v zájmu usnadnění práce seřazený a pomocí tlačítek filtrů v záhlaví tabulky můžete vyhledávat konkrétní položky. Položky, které budete muset koupit, označte ve sloupci Je třeba koupit.","Váš nákupní seznam se generuje z receptů vybraných na listu Plánovač jídel. Množství opakujících se ingrediencí se v této tabulce ve sloupci s množstvími automaticky sečte. Seznam je v zájmu usnadnění práce seřazený a pomocí tlačítek filtrů v záhlaví tabulky můžete vyhledávat konkrétní položky. Položky, které budete muset koupit, označte ve sloupci Je třeba koupit."]
[null,{"$f":"IFERROR(INDEX(IngrediencePrázdné,SMALL((IF(LEN(IngrediencePrázdné),ROW(INDIRECT(\"1:\"&ROWS(IngrediencePrázdné))))),ROW(A1)),1),\"\")","v":"aktivní sušené kvasnice"},{"$f":"IFERROR(VLOOKUP('Nákupní seznam'!$B3,AnalýzaDat!$U$8:$W$301,3,FALSE),\"\")","v":"2 čajové lžičky"},"Ano"]
[null,{"$f":"IFERROR(INDEX(IngrediencePrázdné,SMALL((IF(LEN(IngrediencePrázdné),ROW(INDIRECT(\"1:\"&ROWS(IngrediencePrázdné))))),ROW(A2)),1),\"\")","v":"Čerstvý kopr"},{"$f":"IFERROR(VLOOKUP('Nákupní seznam'!$B4,AnalýzaDat!$U$8:$W$301,3,FALSE),\"\")","v":"5 snítka"}]
[null,{"$f":"IFERROR(INDEX(IngrediencePrázdné,SMALL((IF(LEN(IngrediencePrázdné),ROW(INDIRECT(\"1:\"&ROWS(IngrediencePrázdné))))),ROW(A3)),1),\"\")","v":"červená cibule"},{"$f":"IFERROR(VLOOKUP('Nákupní seznam'!$B5,AnalýzaDat!$U$8:$W$301,3,FALSE),\"\")","v":"1 malé"}]
[null,{"$f":"IFERROR(INDEX(IngrediencePrázdné,SMALL((IF(LEN(IngrediencePrázdné),ROW(INDIRECT(\"1:\"&ROWS(IngrediencePrázdné))))),ROW(A4)),1),\"\")","v":"česneková sůl"},{"$f":"IFERROR(VLOOKUP('Nákupní seznam'!$B6,AnalýzaDat!$U$8:$W$301,3,FALSE),\"\")","v":"1/8 čajová lžička"}]
[null,{"$f":"IFERROR(INDEX(IngrediencePrázdné,SMALL((IF(LEN(IngrediencePrázdné),ROW(INDIRECT(\"1:\"&ROWS(IngrediencePrázdné))))),ROW(A5)),1),\"\")","v":"chlebová mouka"},{"$f":"IFERROR(VLOOKUP('Nákupní seznam'!$B7,AnalýzaDat!$U$8:$W$301,3,FALSE),\"\")","v":"2 šálky"}]
[null,{"$f":"IFERROR(INDEX(IngrediencePrázdné,SMALL((IF(LEN(IngrediencePrázdné),ROW(INDIRECT(\"1:\"&ROWS(IngrediencePrázdné))))),ROW(A6)),1),\"\")","v":"Krekry"},{"$f":"IFERROR(VLOOKUP('Nákupní seznam'!$B8,AnalýzaDat!$U$8:$W$301,3,FALSE),\"\")","v":"1 krabička"}]
[null,{"$f":"IFERROR(INDEX(IngrediencePrázdné,SMALL((IF(LEN(IngrediencePrázdné),ROW(INDIRECT(\"1:\"&ROWS(IngrediencePrázdné))))),ROW(A7)),1),\"\")","v":"Medová omáčka s hořčicí a koprem"},{"$f":"IFERROR(VLOOKUP('Nákupní seznam'!$B9,AnalýzaDat!$U$8:$W$301,3,FALSE),\"\")","v":"1 polévková lžíce"}]
[null,{"$f":"IFERROR(INDEX(IngrediencePrázdné,SMALL((IF(LEN(IngrediencePrázdné),ROW(INDIRECT(\"1:\"&ROWS(IngrediencePrázdné))))),ROW(A8)),1),\"\")","v":"mletý česnek"},{"$f":"IFERROR(VLOOKUP('Nákupní seznam'!$B10,AnalýzaDat!$U$8:$W$301,3,FALSE),\"\")","v":"1 stroužek"}]
[null,{"$f":"IFERROR(INDEX(IngrediencePrázdné,SMALL((IF(LEN(IngrediencePrázdné),ROW(INDIRECT(\"1:\"&ROWS(IngrediencePrázdné))))),ROW(A9)),1),\"\")","v":"nadrobený sýr feta"},{"$f":"IFERROR(VLOOKUP('Nákupní seznam'!$B11,AnalýzaDat!$U$8:$W$301,3,FALSE),\"\")","v":"1/4 šálek"}]
[null,{"$f":"IFERROR(INDEX(IngrediencePrázdné,SMALL((IF(LEN(IngrediencePrázdné),ROW(INDIRECT(\"1:\"&ROWS(IngrediencePrázdné))))),ROW(A10)),1),\"\")","v":"nakrájený čerstvý špenát"},{"$f":"IFERROR(VLOOKUP('Nákupní seznam'!$B12,AnalýzaDat!$U$8:$W$301,3,FALSE),\"\")","v":"2 šálky"}]
[null,{"$f":"IFERROR(INDEX(IngrediencePrázdné,SMALL((IF(LEN(IngrediencePrázdné),ROW(INDIRECT(\"1:\"&ROWS(IngrediencePrázdné))))),ROW(A11)),1),\"\")","v":"nakrájený sýr mozzarella"},{"$f":"IFERROR(VLOOKUP('Nákupní seznam'!$B13,AnalýzaDat!$U$8:$W$301,3,FALSE),\"\")","v":"1 šálek"}]
[null,{"$f":"IFERROR(INDEX(IngrediencePrázdné,SMALL((IF(LEN(IngrediencePrázdné),ROW(INDIRECT(\"1:\"&ROWS(IngrediencePrázdné))))),ROW(A12)),1),\"\")","v":"olivový nebo kanolový olej"},{"$f":"IFERROR(VLOOKUP('Nákupní seznam'!$B14,AnalýzaDat!$U$8:$W$301,3,FALSE),\"\")","v":"2 polévkové lžíce"}]
[null,{"$f":"IFERROR(INDEX(IngrediencePrázdné,SMALL((IF(LEN(IngrediencePrázdné),ROW(INDIRECT(\"1:\"&ROWS(IngrediencePrázdné))))),ROW(A13)),1),\"\")","v":"plátky čerstvých hub"},{"$f":"IFERROR(VLOOKUP('Nákupní seznam'!$B15,AnalýzaDat!$U$8:$W$301,3,FALSE),\"\")","v":"1 šálek"}]
[null,{"$f":"IFERROR(INDEX(IngrediencePrázdné,SMALL((IF(LEN(IngrediencePrázdné),ROW(INDIRECT(\"1:\"&ROWS(IngrediencePrázdné))))),ROW(A14)),1),\"\")","v":"Smetanový sýr"},{"$f":"IFERROR(VLOOKUP('Nákupní seznam'!$B16,AnalýzaDat!$U$8:$W$301,3,FALSE),\"\")","v":"1 balení"}]
[null,{"$f":"IFERROR(INDEX(IngrediencePrázdné,SMALL((IF(LEN(IngrediencePrázdné),ROW(INDIRECT(\"1:\"&ROWS(IngrediencePrázdné))))),ROW(A15)),1),\"\")","v":"sůl"},{"$f":"IFERROR(VLOOKUP('Nákupní seznam'!$B17,AnalýzaDat!$U$8:$W$301,3,FALSE),\"\")","v":"1/2 čajová lžička"}]
[null,{"$f":"IFERROR(INDEX(IngrediencePrázdné,SMALL((IF(LEN(IngrediencePrázdné),ROW(INDIRECT(\"1:\"&ROWS(IngrediencePrázdné))))),ROW(A16)),1),\"\")","v":"sušená bazalka"},{"$f":"IFERROR(VLOOKUP('Nákupní seznam'!$B18,AnalýzaDat!$U$8:$W$301,3,FALSE),\"\")","v":"1/2 čajová lžička"}]
[null,{"$f":"IFERROR(INDEX(IngrediencePrázdné,SMALL((IF(LEN(IngrediencePrázdné),ROW(INDIRECT(\"1:\"&ROWS(IngrediencePrázdné))))),ROW(A17)),1),\"\")","v":"teplá voda"},{"$f":"IFERROR(VLOOKUP('Nákupní seznam'!$B19,AnalýzaDat!$U$8:$W$301,3,FALSE),\"\")","v":"3/4 šálek"}]
[null,{"$f":"IFERROR(INDEX(IngrediencePrázdné,SMALL((IF(LEN(IngrediencePrázdné),ROW(INDIRECT(\"1:\"&ROWS(IngrediencePrázdné))))),ROW(A18)),1),\"\")","v":"Uzený losos"},{"$f":"IFERROR(VLOOKUP('Nákupní seznam'!$B20,AnalýzaDat!$U$8:$W$301,3,FALSE),\"\")","v":"1 balení"}]
[null,{"$f":"IFERROR(INDEX(IngrediencePrázdné,SMALL((IF(LEN(IngrediencePrázdné),ROW(INDIRECT(\"1:\"&ROWS(IngrediencePrázdné))))),ROW(A19)),1),\"\")","v":""},{"$f":"IFERROR(VLOOKUP('Nákupní seznam'!$B21,AnalýzaDat!$U$8:$W$301,3,FALSE),\"\")","v":""}]
[null,{"$f":"IFERROR(INDEX(IngrediencePrázdné,SMALL((IF(LEN(IngrediencePrázdné),ROW(INDIRECT(\"1:\"&ROWS(IngrediencePrázdné))))),ROW(A20)),1),\"\")","v":""},{"$f":"IFERROR(VLOOKUP('Nákupní seznam'!$B22,AnalýzaDat!$U$8:$W$301,3,FALSE),\"\")","v":""}]
[null,{"$f":"IFERROR(INDEX(IngrediencePrázdné,SMALL((IF(LEN(IngrediencePrázdné),ROW(INDIRECT(\"1:\"&ROWS(IngrediencePrázdné))))),ROW(A21)),1),\"\")","v":""},{"$f":"IFERROR(VLOOKUP('Nákupní seznam'!$B23,AnalýzaDat!$U$8:$W$301,3,FALSE),\"\")","v":""}]
[null,{"$f":"IFERROR(INDEX(IngrediencePrázdné,SMALL((IF(LEN(IngrediencePrázdné),ROW(INDIRECT(\"1:\"&ROWS(IngrediencePrázdné))))),ROW(A22)),1),\"\")","v":""},{"$f":"IFERROR(VLOOKUP('Nákupní seznam'!$B24,AnalýzaDat!$U$8:$W$301,3,FALSE),\"\")","v":""}]
[null,{"$f":"IFERROR(INDEX(IngrediencePrázdné,SMALL((IF(LEN(IngrediencePrázdné),ROW(INDIRECT(\"1:\"&ROWS(IngrediencePrázdné))))),ROW(A23)),1),\"\")","v":""},{"$f":"IFERROR(VLOOKUP('Nákupní seznam'!$B25,AnalýzaDat!$U$8:$W$301,3,FALSE),\"\")","v":""}]
[null,{"$f":"IFERROR(INDEX(IngrediencePrázdné,SMALL((IF(LEN(IngrediencePrázdné),ROW(INDIRECT(\"1:\"&ROWS(IngrediencePrázdné))))),ROW(A24)),1),\"\")","v":""},{"$f":"IFERROR(VLOOKUP('Nákupní seznam'!$B26,AnalýzaDat!$U$8:$W$301,3,FALSE),\"\")","v":""}]
[null,{"$f":"IFERROR(INDEX(IngrediencePrázdné,SMALL((IF(LEN(IngrediencePrázdné),ROW(INDIRECT(\"1:\"&ROWS(IngrediencePrázdné))))),ROW(A25)),1),\"\")","v":""},{"$f":"IFERROR(VLOOKUP('Nákupní seznam'!$B27,AnalýzaDat!$U$8:$W$301,3,FALSE),\"\")","v":""}]
[null,{"$f":"IFERROR(INDEX(IngrediencePrázdné,SMALL((IF(LEN(IngrediencePrázdné),ROW(INDIRECT(\"1:\"&ROWS(IngrediencePrázdné))))),ROW(A26)),1),\"\")","v":""},{"$f":"IFERROR(VLOOKUP('Nákupní seznam'!$B28,AnalýzaDat!$U$8:$W$301,3,FALSE),\"\")","v":""}]
[null,{"$f":"IFERROR(INDEX(IngrediencePrázdné,SMALL((IF(LEN(IngrediencePrázdné),ROW(INDIRECT(\"1:\"&ROWS(IngrediencePrázdné))))),ROW(A27)),1),\"\")","v":""},{"$f":"IFERROR(VLOOKUP('Nákupní seznam'!$B29,AnalýzaDat!$U$8:$W$301,3,FALSE),\"\")","v":""}]
[null,{"$f":"IFERROR(INDEX(IngrediencePrázdné,SMALL((IF(LEN(IngrediencePrázdné),ROW(INDIRECT(\"1:\"&ROWS(IngrediencePrázdné))))),ROW(A28)),1),\"\")","v":""},{"$f":"IFERROR(VLOOKUP('Nákupní seznam'!$B30,AnalýzaDat!$U$8:$W$301,3,FALSE),\"\")","v":""}]
[null,{"$f":"IFERROR(INDEX(IngrediencePrázdné,SMALL((IF(LEN(IngrediencePrázdné),ROW(INDIRECT(\"1:\"&ROWS(IngrediencePrázdné))))),ROW(A29)),1),\"\")","v":""},{"$f":"IFERROR(VLOOKUP('Nákupní seznam'!$B31,AnalýzaDat!$U$8:$W$301,3,FALSE),\"\")","v":""}]
[null,{"$f":"IFERROR(INDEX(IngrediencePrázdné,SMALL((IF(LEN(IngrediencePrázdné),ROW(INDIRECT(\"1:\"&ROWS(IngrediencePrázdné))))),ROW(A30)),1),\"\")","v":""},{"$f":"IFERROR(VLOOKUP('Nákupní seznam'!$B32,AnalýzaDat!$U$8:$W$301,3,FALSE),\"\")","v":""}]
[null,{"$f":"IFERROR(INDEX(IngrediencePrázdné,SMALL((IF(LEN(IngrediencePrázdné),ROW(INDIRECT(\"1:\"&ROWS(IngrediencePrázdné))))),ROW(A31)),1),\"\")","v":""},{"$f":"IFERROR(VLOOKUP('Nákupní seznam'!$B33,AnalýzaDat!$U$8:$W$301,3,FALSE),\"\")","v":""}]
[null,{"$f":"IFERROR(INDEX(IngrediencePrázdné,SMALL((IF(LEN(IngrediencePrázdné),ROW(INDIRECT(\"1:\"&ROWS(IngrediencePrázdné))))),ROW(A32)),1),\"\")","v":""},{"$f":"IFERROR(VLOOKUP('Nákupní seznam'!$B34,AnalýzaDat!$U$8:$W$301,3,FALSE),\"\")","v":""}]
[null,{"$f":"IFERROR(INDEX(IngrediencePrázdné,SMALL((IF(LEN(IngrediencePrázdné),ROW(INDIRECT(\"1:\"&ROWS(IngrediencePrázdné))))),ROW(A33)),1),\"\")","v":""},{"$f":"IFERROR(VLOOKUP('Nákupní seznam'!$B35,AnalýzaDat!$U$8:$W$301,3,FALSE),\"\")","v":""}]
[null,{"$f":"IFERROR(INDEX(IngrediencePrázdné,SMALL((IF(LEN(IngrediencePrázdné),ROW(INDIRECT(\"1:\"&ROWS(IngrediencePrázdné))))),ROW(A34)),1),\"\")","v":""},{"$f":"IFERROR(VLOOKUP('Nákupní seznam'!$B36,AnalýzaDat!$U$8:$W$301,3,FALSE),\"\")","v":""}]
[null,{"$f":"IFERROR(INDEX(IngrediencePrázdné,SMALL((IF(LEN(IngrediencePrázdné),ROW(INDIRECT(\"1:\"&ROWS(IngrediencePrázdné))))),ROW(A35)),1),\"\")","v":""},{"$f":"IFERROR(VLOOKUP('Nákupní seznam'!$B37,AnalýzaDat!$U$8:$W$301,3,FALSE),\"\")","v":""}]
[null,{"$f":"IFERROR(INDEX(IngrediencePrázdné,SMALL((IF(LEN(IngrediencePrázdné),ROW(INDIRECT(\"1:\"&ROWS(IngrediencePrázdné))))),ROW(A36)),1),\"\")","v":""},{"$f":"IFERROR(VLOOKUP('Nákupní seznam'!$B38,AnalýzaDat!$U$8:$W$301,3,FALSE),\"\")","v":""}]
[null,{"$f":"IFERROR(INDEX(IngrediencePrázdné,SMALL((IF(LEN(IngrediencePrázdné),ROW(INDIRECT(\"1:\"&ROWS(IngrediencePrázdné))))),ROW(A37)),1),\"\")","v":""},{"$f":"IFERROR(VLOOKUP('Nákupní seznam'!$B39,AnalýzaDat!$U$8:$W$301,3,FALSE),\"\")","v":""}]
[null,{"$f":"IFERROR(INDEX(IngrediencePrázdné,SMALL((IF(LEN(IngrediencePrázdné),ROW(INDIRECT(\"1:\"&ROWS(IngrediencePrázdné))))),ROW(A38)),1),\"\")","v":""},{"$f":"IFERROR(VLOOKUP('Nákupní seznam'!$B40,AnalýzaDat!$U$8:$W$301,3,FALSE),\"\")","v":""}]
[null,{"$f":"IFERROR(INDEX(IngrediencePrázdné,SMALL((IF(LEN(IngrediencePrázdné),ROW(INDIRECT(\"1:\"&ROWS(IngrediencePrázdné))))),ROW(A39)),1),\"\")","v":""},{"$f":"IFERROR(VLOOKUP('Nákupní seznam'!$B41,AnalýzaDat!$U$8:$W$301,3,FALSE),\"\")","v":""}]
[null,{"$f":"IFERROR(INDEX(IngrediencePrázdné,SMALL((IF(LEN(IngrediencePrázdné),ROW(INDIRECT(\"1:\"&ROWS(IngrediencePrázdné))))),ROW(A40)),1),\"\")","v":""},{"$f":"IFERROR(VLOOKUP('Nákupní seznam'!$B42,AnalýzaDat!$U$8:$W$301,3,FALSE),\"\")","v":""}]
[null,{"$f":"IFERROR(INDEX(IngrediencePrázdné,SMALL((IF(LEN(IngrediencePrázdné),ROW(INDIRECT(\"1:\"&ROWS(IngrediencePrázdné))))),ROW(A41)),1),\"\")","v":""},{"$f":"IFERROR(VLOOKUP('Nákupní seznam'!$B43,AnalýzaDat!$U$8:$W$301,3,FALSE),\"\")","v":""}]
[null,{"$f":"IFERROR(INDEX(IngrediencePrázdné,SMALL((IF(LEN(IngrediencePrázdné),ROW(INDIRECT(\"1:\"&ROWS(IngrediencePrázdné))))),ROW(A42)),1),\"\")","v":""},{"$f":"IFERROR(VLOOKUP('Nákupní seznam'!$B44,AnalýzaDat!$U$8:$W$301,3,FALSE),\"\")","v":""}]
[null,{"$f":"IFERROR(INDEX(IngrediencePrázdné,SMALL((IF(LEN(IngrediencePrázdné),ROW(INDIRECT(\"1:\"&ROWS(IngrediencePrázdné))))),ROW(A43)),1),\"\")","v":""},{"$f":"IFERROR(VLOOKUP('Nákupní seznam'!$B45,AnalýzaDat!$U$8:$W$301,3,FALSE),\"\")","v":""}]
[null,{"$f":"IFERROR(INDEX(IngrediencePrázdné,SMALL((IF(LEN(IngrediencePrázdné),ROW(INDIRECT(\"1:\"&ROWS(IngrediencePrázdné))))),ROW(A44)),1),\"\")","v":""},{"$f":"IFERROR(VLOOKUP('Nákupní seznam'!$B46,AnalýzaDat!$U$8:$W$301,3,FALSE),\"\")","v":""}]
[null,{"$f":"IFERROR(INDEX(IngrediencePrázdné,SMALL((IF(LEN(IngrediencePrázdné),ROW(INDIRECT(\"1:\"&ROWS(IngrediencePrázdné))))),ROW(A45)),1),\"\")","v":""},{"$f":"IFERROR(VLOOKUP('Nákupní seznam'!$B47,AnalýzaDat!$U$8:$W$301,3,FALSE),\"\")","v":""}]
[null,{"$f":"IFERROR(INDEX(IngrediencePrázdné,SMALL((IF(LEN(IngrediencePrázdné),ROW(INDIRECT(\"1:\"&ROWS(IngrediencePrázdné))))),ROW(A46)),1),\"\")","v":""},{"$f":"IFERROR(VLOOKUP('Nákupní seznam'!$B48,AnalýzaDat!$U$8:$W$301,3,FALSE),\"\")","v":""}]
[null,{"$f":"IFERROR(INDEX(IngrediencePrázdné,SMALL((IF(LEN(IngrediencePrázdné),ROW(INDIRECT(\"1:\"&ROWS(IngrediencePrázdné))))),ROW(A47)),1),\"\")","v":""},{"$f":"IFERROR(VLOOKUP('Nákupní seznam'!$B49,AnalýzaDat!$U$8:$W$301,3,FALSE),\"\")","v":""}]
[null,{"$f":"IFERROR(INDEX(IngrediencePrázdné,SMALL((IF(LEN(IngrediencePrázdné),ROW(INDIRECT(\"1:\"&ROWS(IngrediencePrázdné))))),ROW(A48)),1),\"\")","v":""},{"$f":"IFERROR(VLOOKUP('Nákupní seznam'!$B50,AnalýzaDat!$U$8:$W$301,3,FALSE),\"\")","v":""}]
[null,{"$f":"IFERROR(INDEX(IngrediencePrázdné,SMALL((IF(LEN(IngrediencePrázdné),ROW(INDIRECT(\"1:\"&ROWS(IngrediencePrázdné))))),ROW(A49)),1),\"\")","v":""},{"$f":"IFERROR(VLOOKUP('Nákupní seznam'!$B51,AnalýzaDat!$U$8:$W$301,3,FALSE),\"\")","v":""}]
[null,{"$f":"IFERROR(INDEX(IngrediencePrázdné,SMALL((IF(LEN(IngrediencePrázdné),ROW(INDIRECT(\"1:\"&ROWS(IngrediencePrázdné))))),ROW(A50)),1),\"\")","v":""},{"$f":"IFERROR(VLOOKUP('Nákupní seznam'!$B52,AnalýzaDat!$U$8:$W$301,3,FALSE),\"\")","v":""}]
[null,{"$f":"IFERROR(INDEX(IngrediencePrázdné,SMALL((IF(LEN(IngrediencePrázdné),ROW(INDIRECT(\"1:\"&ROWS(IngrediencePrázdné))))),ROW(A51)),1),\"\")","v":""},{"$f":"IFERROR(VLOOKUP('Nákupní seznam'!$B53,AnalýzaDat!$U$8:$W$301,3,FALSE),\"\")","v":""}]
[null,{"$f":"IFERROR(INDEX(IngrediencePrázdné,SMALL((IF(LEN(IngrediencePrázdné),ROW(INDIRECT(\"1:\"&ROWS(IngrediencePrázdné))))),ROW(A52)),1),\"\")","v":""},{"$f":"IFERROR(VLOOKUP('Nákupní seznam'!$B54,AnalýzaDat!$U$8:$W$301,3,FALSE),\"\")","v":""}]
[null,{"$f":"IFERROR(INDEX(IngrediencePrázdné,SMALL((IF(LEN(IngrediencePrázdné),ROW(INDIRECT(\"1:\"&ROWS(IngrediencePrázdné))))),ROW(A53)),1),\"\")","v":""},{"$f":"IFERROR(VLOOKUP('Nákupní seznam'!$B55,AnalýzaDat!$U$8:$W$301,3,FALSE),\"\")","v":""}]
[null,{"$f":"IFERROR(INDEX(IngrediencePrázdné,SMALL((IF(LEN(IngrediencePrázdné),ROW(INDIRECT(\"1:\"&ROWS(IngrediencePrázdné))))),ROW(A54)),1),\"\")","v":""},{"$f":"IFERROR(VLOOKUP('Nákupní seznam'!$B56,AnalýzaDat!$U$8:$W$301,3,FALSE),\"\")","v":""}]
[null,{"$f":"IFERROR(INDEX(IngrediencePrázdné,SMALL((IF(LEN(IngrediencePrázdné),ROW(INDIRECT(\"1:\"&ROWS(IngrediencePrázdné))))),ROW(A55)),1),\"\")","v":""},{"$f":"IFERROR(VLOOKUP('Nákupní seznam'!$B57,AnalýzaDat!$U$8:$W$301,3,FALSE),\"\")","v":""}]
[null,{"$f":"IFERROR(INDEX(IngrediencePrázdné,SMALL((IF(LEN(IngrediencePrázdné),ROW(INDIRECT(\"1:\"&ROWS(IngrediencePrázdné))))),ROW(A56)),1),\"\")","v":""},{"$f":"IFERROR(VLOOKUP('Nákupní seznam'!$B58,AnalýzaDat!$U$8:$W$301,3,FALSE),\"\")","v":""}]
[null,{"$f":"IFERROR(INDEX(IngrediencePrázdné,SMALL((IF(LEN(IngrediencePrázdné),ROW(INDIRECT(\"1:\"&ROWS(IngrediencePrázdné))))),ROW(A57)),1),\"\")","v":""},{"$f":"IFERROR(VLOOKUP('Nákupní seznam'!$B59,AnalýzaDat!$U$8:$W$301,3,FALSE),\"\")","v":""}]
[null,{"$f":"IFERROR(INDEX(IngrediencePrázdné,SMALL((IF(LEN(IngrediencePrázdné),ROW(INDIRECT(\"1:\"&ROWS(IngrediencePrázdné))))),ROW(A58)),1),\"\")","v":""},{"$f":"IFERROR(VLOOKUP('Nákupní seznam'!$B60,AnalýzaDat!$U$8:$W$301,3,FALSE),\"\")","v":""}]
[null,{"$f":"IFERROR(INDEX(IngrediencePrázdné,SMALL((IF(LEN(IngrediencePrázdné),ROW(INDIRECT(\"1:\"&ROWS(IngrediencePrázdné))))),ROW(A59)),1),\"\")","v":""},{"$f":"IFERROR(VLOOKUP('Nákupní seznam'!$B61,AnalýzaDat!$U$8:$W$301,3,FALSE),\"\")","v":""}]
[null,{"$f":"IFERROR(INDEX(IngrediencePrázdné,SMALL((IF(LEN(IngrediencePrázdné),ROW(INDIRECT(\"1:\"&ROWS(IngrediencePrázdné))))),ROW(A60)),1),\"\")","v":""},{"$f":"IFERROR(VLOOKUP('Nákupní seznam'!$B62,AnalýzaDat!$U$8:$W$301,3,FALSE),\"\")","v":""}]
[null,{"$f":"IFERROR(INDEX(IngrediencePrázdné,SMALL((IF(LEN(IngrediencePrázdné),ROW(INDIRECT(\"1:\"&ROWS(IngrediencePrázdné))))),ROW(A61)),1),\"\")","v":""},{"$f":"IFERROR(VLOOKUP('Nákupní seznam'!$B63,AnalýzaDat!$U$8:$W$301,3,FALSE),\"\")","v":""}]
[null,{"$f":"IFERROR(INDEX(IngrediencePrázdné,SMALL((IF(LEN(IngrediencePrázdné),ROW(INDIRECT(\"1:\"&ROWS(IngrediencePrázdné))))),ROW(A62)),1),\"\")","v":""},{"$f":"IFERROR(VLOOKUP('Nákupní seznam'!$B64,AnalýzaDat!$U$8:$W$301,3,FALSE),\"\")","v":""}]
[null,{"$f":"IFERROR(INDEX(IngrediencePrázdné,SMALL((IF(LEN(IngrediencePrázdné),ROW(INDIRECT(\"1:\"&ROWS(IngrediencePrázdné))))),ROW(A63)),1),\"\")","v":""},{"$f":"IFERROR(VLOOKUP('Nákupní seznam'!$B65,AnalýzaDat!$U$8:$W$301,3,FALSE),\"\")","v":""}]
[null,{"$f":"IFERROR(INDEX(IngrediencePrázdné,SMALL((IF(LEN(IngrediencePrázdné),ROW(INDIRECT(\"1:\"&ROWS(IngrediencePrázdné))))),ROW(A64)),1),\"\")","v":""},{"$f":"IFERROR(VLOOKUP('Nákupní seznam'!$B66,AnalýzaDat!$U$8:$W$301,3,FALSE),\"\")","v":""}]
[null,{"$f":"IFERROR(INDEX(IngrediencePrázdné,SMALL((IF(LEN(IngrediencePrázdné),ROW(INDIRECT(\"1:\"&ROWS(IngrediencePrázdné))))),ROW(A65)),1),\"\")","v":""},{"$f":"IFERROR(VLOOKUP('Nákupní seznam'!$B67,AnalýzaDat!$U$8:$W$301,3,FALSE),\"\")","v":""}]
[null,{"$f":"IFERROR(INDEX(IngrediencePrázdné,SMALL((IF(LEN(IngrediencePrázdné),ROW(INDIRECT(\"1:\"&ROWS(IngrediencePrázdné))))),ROW(A66)),1),\"\")","v":""},{"$f":"IFERROR(VLOOKUP('Nákupní seznam'!$B68,AnalýzaDat!$U$8:$W$301,3,FALSE),\"\")","v":""}]
[null,{"$f":"IFERROR(INDEX(IngrediencePrázdné,SMALL((IF(LEN(IngrediencePrázdné),ROW(INDIRECT(\"1:\"&ROWS(IngrediencePrázdné))))),ROW(A67)),1),\"\")","v":""},{"$f":"IFERROR(VLOOKUP('Nákupní seznam'!$B69,AnalýzaDat!$U$8:$W$301,3,FALSE),\"\")","v":""}]
[null,{"$f":"IFERROR(INDEX(IngrediencePrázdné,SMALL((IF(LEN(IngrediencePrázdné),ROW(INDIRECT(\"1:\"&ROWS(IngrediencePrázdné))))),ROW(A68)),1),\"\")","v":""},{"$f":"IFERROR(VLOOKUP('Nákupní seznam'!$B70,AnalýzaDat!$U$8:$W$301,3,FALSE),\"\")","v":""}]
[null,{"$f":"IFERROR(INDEX(IngrediencePrázdné,SMALL((IF(LEN(IngrediencePrázdné),ROW(INDIRECT(\"1:\"&ROWS(IngrediencePrázdné))))),ROW(A69)),1),\"\")","v":""},{"$f":"IFERROR(VLOOKUP('Nákupní seznam'!$B71,AnalýzaDat!$U$8:$W$301,3,FALSE),\"\")","v":""}]
[null,{"$f":"IFERROR(INDEX(IngrediencePrázdné,SMALL((IF(LEN(IngrediencePrázdné),ROW(INDIRECT(\"1:\"&ROWS(IngrediencePrázdné))))),ROW(A70)),1),\"\")","v":""},{"$f":"IFERROR(VLOOKUP('Nákupní seznam'!$B72,AnalýzaDat!$U$8:$W$301,3,FALSE),\"\")","v":""}]
[null,{"$f":"IFERROR(INDEX(IngrediencePrázdné,SMALL((IF(LEN(IngrediencePrázdné),ROW(INDIRECT(\"1:\"&ROWS(IngrediencePrázdné))))),ROW(A71)),1),\"\")","v":""},{"$f":"IFERROR(VLOOKUP('Nákupní seznam'!$B73,AnalýzaDat!$U$8:$W$301,3,FALSE),\"\")","v":""}]
[null,{"$f":"IFERROR(INDEX(IngrediencePrázdné,SMALL((IF(LEN(IngrediencePrázdné),ROW(INDIRECT(\"1:\"&ROWS(IngrediencePrázdné))))),ROW(A72)),1),\"\")","v":""},{"$f":"IFERROR(VLOOKUP('Nákupní seznam'!$B74,AnalýzaDat!$U$8:$W$301,3,FALSE),\"\")","v":""}]
[null,{"$f":"IFERROR(INDEX(IngrediencePrázdné,SMALL((IF(LEN(IngrediencePrázdné),ROW(INDIRECT(\"1:\"&ROWS(IngrediencePrázdné))))),ROW(A73)),1),\"\")","v":""},{"$f":"IFERROR(VLOOKUP('Nákupní seznam'!$B75,AnalýzaDat!$U$8:$W$301,3,FALSE),\"\")","v":""}]
[null,{"$f":"IFERROR(INDEX(IngrediencePrázdné,SMALL((IF(LEN(IngrediencePrázdné),ROW(INDIRECT(\"1:\"&ROWS(IngrediencePrázdné))))),ROW(A74)),1),\"\")","v":""},{"$f":"IFERROR(VLOOKUP('Nákupní seznam'!$B76,AnalýzaDat!$U$8:$W$301,3,FALSE),\"\")","v":""}]
[null,{"$f":"IFERROR(INDEX(IngrediencePrázdné,SMALL((IF(LEN(IngrediencePrázdné),ROW(INDIRECT(\"1:\"&ROWS(IngrediencePrázdné))))),ROW(A75)),1),\"\")","v":""},{"$f":"IFERROR(VLOOKUP('Nákupní seznam'!$B77,AnalýzaDat!$U$8:$W$301,3,FALSE),\"\")","v":""}]
[null,{"$f":"IFERROR(INDEX(IngrediencePrázdné,SMALL((IF(LEN(IngrediencePrázdné),ROW(INDIRECT(\"1:\"&ROWS(IngrediencePrázdné))))),ROW(A76)),1),\"\")","v":""},{"$f":"IFERROR(VLOOKUP('Nákupní seznam'!$B78,AnalýzaDat!$U$8:$W$301,3,FALSE),\"\")","v":""}]
[null,{"$f":"IFERROR(INDEX(IngrediencePrázdné,SMALL((IF(LEN(IngrediencePrázdné),ROW(INDIRECT(\"1:\"&ROWS(IngrediencePrázdné))))),ROW(A77)),1),\"\")","v":""},{"$f":"IFERROR(VLOOKUP('Nákupní seznam'!$B79,AnalýzaDat!$U$8:$W$301,3,FALSE),\"\")","v":""}]
[null,{"$f":"IFERROR(INDEX(IngrediencePrázdné,SMALL((IF(LEN(IngrediencePrázdné),ROW(INDIRECT(\"1:\"&ROWS(IngrediencePrázdné))))),ROW(A78)),1),\"\")","v":""},{"$f":"IFERROR(VLOOKUP('Nákupní seznam'!$B80,AnalýzaDat!$U$8:$W$301,3,FALSE),\"\")","v":""}]
[null,{"$f":"IFERROR(INDEX(IngrediencePrázdné,SMALL((IF(LEN(IngrediencePrázdné),ROW(INDIRECT(\"1:\"&ROWS(IngrediencePrázdné))))),ROW(A79)),1),\"\")","v":""},{"$f":"IFERROR(VLOOKUP('Nákupní seznam'!$B81,AnalýzaDat!$U$8:$W$301,3,FALSE),\"\")","v":""}]
[null,{"$f":"IFERROR(INDEX(IngrediencePrázdné,SMALL((IF(LEN(IngrediencePrázdné),ROW(INDIRECT(\"1:\"&ROWS(IngrediencePrázdné))))),ROW(A80)),1),\"\")","v":""},{"$f":"IFERROR(VLOOKUP('Nákupní seznam'!$B82,AnalýzaDat!$U$8:$W$301,3,FALSE),\"\")","v":""}]
[null,{"$f":"IFERROR(INDEX(IngrediencePrázdné,SMALL((IF(LEN(IngrediencePrázdné),ROW(INDIRECT(\"1:\"&ROWS(IngrediencePrázdné))))),ROW(A81)),1),\"\")","v":""},{"$f":"IFERROR(VLOOKUP('Nákupní seznam'!$B83,AnalýzaDat!$U$8:$W$301,3,FALSE),\"\")","v":""}]
[null,{"$f":"IFERROR(INDEX(IngrediencePrázdné,SMALL((IF(LEN(IngrediencePrázdné),ROW(INDIRECT(\"1:\"&ROWS(IngrediencePrázdné))))),ROW(A82)),1),\"\")","v":""},{"$f":"IFERROR(VLOOKUP('Nákupní seznam'!$B84,AnalýzaDat!$U$8:$W$301,3,FALSE),\"\")","v":""}]
[null,{"$f":"IFERROR(INDEX(IngrediencePrázdné,SMALL((IF(LEN(IngrediencePrázdné),ROW(INDIRECT(\"1:\"&ROWS(IngrediencePrázdné))))),ROW(A83)),1),\"\")","v":""},{"$f":"IFERROR(VLOOKUP('Nákupní seznam'!$B85,AnalýzaDat!$U$8:$W$301,3,FALSE),\"\")","v":""}]
[null,{"$f":"IFERROR(INDEX(IngrediencePrázdné,SMALL((IF(LEN(IngrediencePrázdné),ROW(INDIRECT(\"1:\"&ROWS(IngrediencePrázdné))))),ROW(A84)),1),\"\")","v":""},{"$f":"IFERROR(VLOOKUP('Nákupní seznam'!$B86,AnalýzaDat!$U$8:$W$301,3,FALSE),\"\")","v":""}]
[null,{"$f":"IFERROR(INDEX(IngrediencePrázdné,SMALL((IF(LEN(IngrediencePrázdné),ROW(INDIRECT(\"1:\"&ROWS(IngrediencePrázdné))))),ROW(A85)),1),\"\")","v":""},{"$f":"IFERROR(VLOOKUP('Nákupní seznam'!$B87,AnalýzaDat!$U$8:$W$301,3,FALSE),\"\")","v":""}]
[null,{"$f":"IFERROR(INDEX(IngrediencePrázdné,SMALL((IF(LEN(IngrediencePrázdné),ROW(INDIRECT(\"1:\"&ROWS(IngrediencePrázdné))))),ROW(A86)),1),\"\")","v":""},{"$f":"IFERROR(VLOOKUP('Nákupní seznam'!$B88,AnalýzaDat!$U$8:$W$301,3,FALSE),\"\")","v":""}]
[null,{"$f":"IFERROR(INDEX(IngrediencePrázdné,SMALL((IF(LEN(IngrediencePrázdné),ROW(INDIRECT(\"1:\"&ROWS(IngrediencePrázdné))))),ROW(A87)),1),\"\")","v":""},{"$f":"IFERROR(VLOOKUP('Nákupní seznam'!$B89,AnalýzaDat!$U$8:$W$301,3,FALSE),\"\")","v":""}]
[null,{"$f":"IFERROR(INDEX(IngrediencePrázdné,SMALL((IF(LEN(IngrediencePrázdné),ROW(INDIRECT(\"1:\"&ROWS(IngrediencePrázdné))))),ROW(A88)),1),\"\")","v":""},{"$f":"IFERROR(VLOOKUP('Nákupní seznam'!$B90,AnalýzaDat!$U$8:$W$301,3,FALSE),\"\")","v":""}]
[null,{"$f":"IFERROR(INDEX(IngrediencePrázdné,SMALL((IF(LEN(IngrediencePrázdné),ROW(INDIRECT(\"1:\"&ROWS(IngrediencePrázdné))))),ROW(A89)),1),\"\")","v":""},{"$f":"IFERROR(VLOOKUP('Nákupní seznam'!$B91,AnalýzaDat!$U$8:$W$301,3,FALSE),\"\")","v":""}]
[null,{"$f":"IFERROR(INDEX(IngrediencePrázdné,SMALL((IF(LEN(IngrediencePrázdné),ROW(INDIRECT(\"1:\"&ROWS(IngrediencePrázdné))))),ROW(A90)),1),\"\")","v":""},{"$f":"IFERROR(VLOOKUP('Nákupní seznam'!$B92,AnalýzaDat!$U$8:$W$301,3,FALSE),\"\")","v":""}]
[null,{"$f":"IFERROR(INDEX(IngrediencePrázdné,SMALL((IF(LEN(IngrediencePrázdné),ROW(INDIRECT(\"1:\"&ROWS(IngrediencePrázdné))))),ROW(A91)),1),\"\")","v":""},{"$f":"IFERROR(VLOOKUP('Nákupní seznam'!$B93,AnalýzaDat!$U$8:$W$301,3,FALSE),\"\")","v":""}]
[null,{"$f":"IFERROR(INDEX(IngrediencePrázdné,SMALL((IF(LEN(IngrediencePrázdné),ROW(INDIRECT(\"1:\"&ROWS(IngrediencePrázdné))))),ROW(A92)),1),\"\")","v":""},{"$f":"IFERROR(VLOOKUP('Nákupní seznam'!$B94,AnalýzaDat!$U$8:$W$301,3,FALSE),\"\")","v":""}]
[null,{"$f":"IFERROR(INDEX(IngrediencePrázdné,SMALL((IF(LEN(IngrediencePrázdné),ROW(INDIRECT(\"1:\"&ROWS(IngrediencePrázdné))))),ROW(A93)),1),\"\")","v":""},{"$f":"IFERROR(VLOOKUP('Nákupní seznam'!$B95,AnalýzaDat!$U$8:$W$301,3,FALSE),\"\")","v":""}]
[null,{"$f":"IFERROR(INDEX(IngrediencePrázdné,SMALL((IF(LEN(IngrediencePrázdné),ROW(INDIRECT(\"1:\"&ROWS(IngrediencePrázdné))))),ROW(A94)),1),\"\")","v":""},{"$f":"IFERROR(VLOOKUP('Nákupní seznam'!$B96,AnalýzaDat!$U$8:$W$301,3,FALSE),\"\")","v":""}]
[null,{"$f":"IFERROR(INDEX(IngrediencePrázdné,SMALL((IF(LEN(IngrediencePrázdné),ROW(INDIRECT(\"1:\"&ROWS(IngrediencePrázdné))))),ROW(A95)),1),\"\")","v":""},{"$f":"IFERROR(VLOOKUP('Nákupní seznam'!$B97,AnalýzaDat!$U$8:$W$301,3,FALSE),\"\")","v":""}]
[null,{"$f":"IFERROR(INDEX(IngrediencePrázdné,SMALL((IF(LEN(IngrediencePrázdné),ROW(INDIRECT(\"1:\"&ROWS(IngrediencePrázdné))))),ROW(A96)),1),\"\")","v":""},{"$f":"IFERROR(VLOOKUP('Nákupní seznam'!$B98,AnalýzaDat!$U$8:$W$301,3,FALSE),\"\")","v":""}]
[null,{"$f":"IFERROR(INDEX(IngrediencePrázdné,SMALL((IF(LEN(IngrediencePrázdné),ROW(INDIRECT(\"1:\"&ROWS(IngrediencePrázdné))))),ROW(A97)),1),\"\")","v":""},{"$f":"IFERROR(VLOOKUP('Nákupní seznam'!$B99,AnalýzaDat!$U$8:$W$301,3,FALSE),\"\")","v":""}]
[null,{"$f":"IFERROR(INDEX(IngrediencePrázdné,SMALL((IF(LEN(IngrediencePrázdné),ROW(INDIRECT(\"1:\"&ROWS(IngrediencePrázdné))))),ROW(A98)),1),\"\")","v":""},{"$f":"IFERROR(VLOOKUP('Nákupní seznam'!$B100,AnalýzaDat!$U$8:$W$301,3,FALSE),\"\")","v":""}]
[null,{"$f":"IFERROR(INDEX(IngrediencePrázdné,SMALL((IF(LEN(IngrediencePrázdné),ROW(INDIRECT(\"1:\"&ROWS(IngrediencePrázdné))))),ROW(A99)),1),\"\")","v":""},{"$f":"IFERROR(VLOOKUP('Nákupní seznam'!$B101,AnalýzaDat!$U$8:$W$301,3,FALSE),\"\")","v":""}]
[null,{"$f":"IFERROR(INDEX(IngrediencePrázdné,SMALL((IF(LEN(IngrediencePrázdné),ROW(INDIRECT(\"1:\"&ROWS(IngrediencePrázdné))))),ROW(A100)),1),\"\")","v":""},{"$f":"IFERROR(VLOOKUP('Nákupní seznam'!$B102,AnalýzaDat!$U$8:$W$301,3,FALSE),\"\")","v":""}]
[null,{"$f":"IFERROR(INDEX(IngrediencePrázdné,SMALL((IF(LEN(IngrediencePrázdné),ROW(INDIRECT(\"1:\"&ROWS(IngrediencePrázdné))))),ROW(A101)),1),\"\")","v":""},{"$f":"IFERROR(VLOOKUP('Nákupní seznam'!$B103,AnalýzaDat!$U$8:$W$301,3,FALSE),\"\")","v":""}]

{"sheet":"Hlavní seznam ingrediencí","index":4,"n_rows":30,"n_cols":11,"rows_kept":30,"hidden":true}
[null,"Souhrn ingrediencí"]
[]
[null,"položka","Sloupec1","3","4","5","6","7","8","9","10"]
[null,{"$f":"IFERROR(IF(INDIRECT(AnalýzaDat!C$3&\"'!e\"&ROW($A3))=0,\"\",INDIRECT(AnalýzaDat!C$3&\"'!e\"&ROW($A3))),\"\")","v":"olivový nebo kanolový olej"},{"$f":"IFERROR(IF(INDIRECT(AnalýzaDat!D$3&\"'!e\"&ROW($A3))=0,\"\",INDIRECT(AnalýzaDat!D$3&\"'!e\"&ROW($A3))),\"\")","v":"Krekry"},{"$f":"IFERROR(IF(INDIRECT(AnalýzaDat!E$3&\"'!e\"&ROW($A3))=0,\"\",INDIRECT(AnalýzaDat!E$3&\"'!e\"&ROW($A3))),\"\")","v":""},{"$f":"IFERROR(IF(INDIRECT(AnalýzaDat!F$3&\"'!e\"&ROW($A3))=0,\"\",INDIRECT(AnalýzaDat!F$3&\"'!e\"&ROW($A3))),\"\")","v":""},{"$f":"IFERROR(IF(INDIRECT(AnalýzaDat!G$3&\"'!e\"&ROW($A3))=0,\"\",INDIRECT(AnalýzaDat!G$3&\"'!e\"&ROW($A3))),\"\")","v":""},{"$f":"IFERROR(IF(INDIRECT(AnalýzaDat!H$3&\"'!e\"&ROW($A3))=0,\"\",INDIRECT(AnalýzaDat!H$3&\"'!e\"&ROW($A3))),\"\")","v":""},{"$f":"IFERROR(IF(INDIRECT(AnalýzaDat!I$3&\"'!e\"&ROW($A3))=0,\"\",INDIRECT(AnalýzaDat!I$3&\"'!e\"&ROW($A3))),\"\")","v":""},{"$f":"IFERROR(IF(INDIRECT(AnalýzaDat!J$3&\"'!e\"&ROW($A3))=0,\"\",INDIRECT(AnalýzaDat!J$3&\"'!e\"&ROW($A3))),\"\")","v":""},{"$f":"IFERROR(IF(INDIRECT(AnalýzaDat!K$3&\"'!e\"&ROW($A3))=0,\"\",INDIRECT(AnalýzaDat!K$3&\"'!e\"&ROW($A3))),\"\")","v":""},{"$f":"IFERROR(IF(INDIRECT(AnalýzaDat!L$3&\"'!e\"&ROW($A3))=0,\"\",INDIRECT(AnalýzaDat!L$3&\"'!e\"&ROW($A3))),\"\")","v":""}]
[null,{"$f":"IFERROR(IF(INDIRECT(AnalýzaDat!C$3&\"'!e\"&ROW($A4))=0,\"\",INDIRECT(AnalýzaDat!C$3&\"'!e\"&ROW($A4))),\"\")","v":"sůl"},{"$f":"IFERROR(IF(INDIRECT(AnalýzaDat!D$3&\"'!e\"&ROW($A4))=0,\"\",INDIRECT(AnalýzaDat!D$3&\"'!e\"&ROW($A4))),\"\")","v":"Smetanový sýr"},{"$f":"IFERROR(IF(INDIRECT(AnalýzaDat!E$3&\"'!e\"&ROW($A4))=0,\"\",INDIRECT(AnalýzaDat!E$3&\"'!e\"&ROW($A4))),\"\")","v":""},{"$f":"IFERROR(IF(INDIRECT(AnalýzaDat!F$3&\"'!e\"&ROW($A4))=0,\"\",INDIRECT(AnalýzaDat!F$3&\"'!e\"&ROW($A4))),\"\")","v":""},{"$f":"IFERROR(IF(INDIRECT(AnalýzaDat!G$3&\"'!e\"&ROW($A4))=0,\"\",INDIRECT(AnalýzaDat!G$3&\"'!e\"&ROW($A4))),\"\")","v":""},{"$f":"IFERROR(IF(INDIRECT(AnalýzaDat!H$3&\"'!e\"&ROW($A4))=0,\"\",INDIRECT(AnalýzaDat!H$3&\"'!e\"&ROW($A4))),\"\")","v":""},{"$f":"IFERROR(IF(INDIRECT(AnalýzaDat!I$3&\"'!e\"&ROW($A4))=0,\"\",INDIRECT(AnalýzaDat!I$3&\"'!e\"&ROW($A4))),\"\")","v":""},{"$f":"IFERROR(IF(INDIRECT(AnalýzaDat!J$3&\"'!e\"&ROW($A4))=0,\"\",INDIRECT(AnalýzaDat!J$3&\"'!e\"&ROW($A4))),\"\")","v":""},{"$f":"IFERROR(IF(INDIRECT(AnalýzaDat!K$3&\"'!e\"&ROW($A4))=0,\"\",INDIRECT(AnalýzaDat!K$3&\"'!e\"&ROW($A4))),\"\")","v":""},{"$f":"IFERROR(IF(INDIRECT(AnalýzaDat!L$3&\"'!e\"&ROW($A4))=0,\"\",INDIRECT(AnalýzaDat!L$3&\"'!e\"&ROW($A4))),\"\")","v":""}]
[null,{"$f":"IFERROR(IF(INDIRECT(AnalýzaDat!C$3&\"'!e\"&ROW($A5))=0,\"\",INDIRECT(AnalýzaDat!C$3&\"'!e\"&ROW($A5))),\"\")","v":"chlebová mouka"},{"$f":"IFERROR(IF(INDIRECT(AnalýzaDat!D$3&\"'!e\"&ROW($A5))=0,\"\",INDIRECT(AnalýzaDat!D$3&\"'!e\"&ROW($A5))),\"\")","v":"Uzený losos"},{"$f":"IFERROR(IF(INDIRECT(AnalýzaDat!E$3&\"'!e\"&ROW($A5))=0,\"\",INDIRECT(AnalýzaDat!E$3&\"'!e\"&ROW($A5))),\"\")","v":""},{"$f":"IFERROR(IF(INDIRECT(AnalýzaDat!F$3&\"'!e\"&ROW($A5))=0,\"\",INDIRECT(AnalýzaDat!F$3&\"'!e\"&ROW($A5))),\"\")","v":""},{"$f":"IFERROR(IF(INDIRECT(AnalýzaDat!G$3&\"'!e\"&ROW($A5))=0,\"\",INDIRECT(AnalýzaDat!G$3&\"'!e\"&ROW($A5))),\"\")","v":""},{"$f":"IFERROR(IF(INDIRECT(AnalýzaDat!H$3&\"'!e\"&ROW($A5))=0,\"\",INDIRECT(AnalýzaDat!H$3&\"'!e\"&ROW($A5))),\"\")","v":""},{"$f":"IFERROR(IF(INDIRECT(AnalýzaDat!I$3&\"'!e\"&ROW($A5))=0,\"\",INDIRECT(AnalýzaDat!I$3&\"'!e\"&ROW($A5))),\"\")","v":""},{"$f":"IFERROR(IF(INDIRECT(AnalýzaDat!J$3&\"'!e\"&ROW($A5))=0,\"\",INDIRECT(AnalýzaDat!J$3&\"'!e\"&ROW($A5))),\"\")","v":""},{"$f":"IFERROR(IF(INDIRECT(AnalýzaDat!K$3&\"'!e\"&ROW($A5))=0,\"\",INDIRECT(AnalýzaDat!K$3&\"'!e\"&ROW($A5))),\"\")","v":""},{"$f":"IFERROR(IF(INDIRECT(AnalýzaDat!L$3&\"'!e\"&ROW($A5))=0,\"\",INDIRECT(AnalýzaDat!L$3&\"'!e\"&ROW($A5))),\"\")","v":""}]
[null,{"$f":"IFERROR(IF(INDIRECT(AnalýzaDat!C$3&\"'!e\"&ROW($A6))=0,\"\",INDIRECT(AnalýzaDat!C$3&\"'!e\"&ROW($A6))),\"\")","v":"aktivní sušené kvasnice"},{"$f":"IFERROR(IF(INDIRECT(AnalýzaDat!D$3&\"'!e\"&ROW($A6))=0,\"\",INDIRECT(AnalýzaDat!D$3&\"'!e\"&ROW($A6))),\"\")","v":"Medová omáčka s hořčicí a koprem"},{"$f":"IFERROR(IF(INDIRECT(AnalýzaDat!E$3&\"'!e\"&ROW($A6))=0,\"\",INDIRECT(AnalýzaDat!E$3&\"'!e\"&ROW($A6))),\"\")","v":""},{"$f":"IFERROR(IF(INDIRECT(AnalýzaDat!F$3&\"'!e\"&ROW($A6))=0,\"\",INDIRECT(AnalýzaDat!F$3&\"'!e\"&ROW($A6))),\"\")","v":""},{"$f":"IFERROR(IF(INDIRECT(AnalýzaDat!G$3&\"'!e\"&ROW($A6))=0,\"\",INDIRECT(AnalýzaDat!G$3&\"'!e\"&ROW($A6))),\"\")","v":""},{"$f":"IFERROR(IF(INDIRECT(AnalýzaDat!H$3&\"'!e\"&ROW($A6))=0,\"\",INDIRECT(AnalýzaDat!H$3&\"'!e\"&ROW($A6))),\"\")","v":""},{"$f":"IFERROR(IF(INDIRECT(AnalýzaDat!I$3&\"'!e\"&ROW($A6))=0,\"\",INDIRECT(AnalýzaDat!I$3&\"'!e\"&ROW($A6))),\"\")","v":""},{"$f":"IFERROR(IF(INDIRECT(AnalýzaDat!J$3&\"'!e\"&ROW($A6))=0,\"\",INDIRECT(AnalýzaDat!J$3&\"'!e\"&ROW($A6))),\"\")","v":""},{"$f":"IFERROR(IF(INDIRECT(AnalýzaDat!K$3&\"'!e\"&ROW($A6))=0,\"\",INDIRECT(AnalýzaDat!K$3&\"'!e\"&ROW($A6))),\"\")","v":""},{"$f":"IFERROR(IF(INDIRECT(AnalýzaDat!L$3&\"'!e\"&ROW($A6))=0,\"\",INDIRECT(AnalýzaDat!L$3&\"'!e\"&ROW($A6))),\"\")","v":""}]
[null,{"$f":"IFERROR(IF(INDIRECT(AnalýzaDat!C$3&\"'!e\"&ROW($A7))=0,\"\",INDIRECT(AnalýzaDat!C$3&\"'!e\"&ROW($A7))),\"\")","v":"teplá voda"},{"$f":"IFERROR(IF(INDIRECT(AnalýzaDat!D$3&\"'!e\"&ROW($A7))=0,\"\",INDIRECT(AnalýzaDat!D$3&\"'!e\"&ROW($A7))),\"\")","v":"Čerstvý kopr"},{"$f":"IFERROR(IF(INDIRECT(AnalýzaDat!E$3&\"'!e\"&ROW($A7))=0,\"\",INDIRECT(AnalýzaDat!E$3&\"'!e\"&ROW($A7))),\"\")","v":""},{"$f":"IFERROR(IF(INDIRECT(AnalýzaDat!F$3&\"'!e\"&ROW($A7))=0,\"\",INDIRECT(AnalýzaDat!F$3&\"'!e\"&ROW($A7))),\"\")","v":""},{"$f":"IFERROR(IF(INDIRECT(AnalýzaDat!G$3&\"'!e\"&ROW($A7))=0,\"\",INDIRECT(AnalýzaDat!G$3&\"'!e\"&ROW($A7))),\"\")","v":""},{"$f":"IFERROR(IF(INDIRECT(AnalýzaDat!H$3&\"'!e\"&ROW($A7))=0,\"\",INDIRECT(AnalýzaDat!H$3&\"'!e\"&ROW($A7))),\"\")","v":""},{"$f":"IFERROR(IF(INDIRECT(AnalýzaDat!I$3&\"'!e\"&ROW($A7))=0,\"\",INDIRECT(AnalýzaDat!I$3&\"'!e\"&ROW($A7))),\"\")","v":""},{"$f":"IFERROR(IF(INDIRECT(AnalýzaDat!J$3&\"'!e\"&ROW($A7))=0,\"\",INDIRECT(AnalýzaDat!J$3&\"'!e\"&ROW($A7))),\"\")","v":""},{"$f":"IFERROR(IF(INDIRECT(AnalýzaDat!K$3&\"'!e\"&ROW($A7))=0,\"\",INDIRECT(AnalýzaDat!K$3&\"'!e\"&ROW($A7))),\"\")","v":""},{"$f":"IFERROR(IF(INDIRECT(AnalýzaDat!L$3&\"'!e\"&ROW($A7))=0,\"\",INDIRECT(AnalýzaDat!L$3&\"'!e\"&ROW($A7))),\"\")","v":""}]
[null,{"$f":"IFERROR(IF(INDIRECT(AnalýzaDat!C$3&\"'!e\"&ROW($A8))=0,\"\",INDIRECT(AnalýzaDat!C$3&\"'!e\"&ROW($A8))),\"\")","v":"mletý česnek"},{"$f":"IFERROR(IF(INDIRECT(AnalýzaDat!D$3&\"'!e\"&ROW($A8))=0,\"\",INDIRECT(AnalýzaDat!D$3&\"'!e\"&ROW($A8))),\"\")","v":""},{"$f":"IFERROR(IF(INDIRECT(AnalýzaDat!E$3&\"'!e\"&ROW($A8))=0,\"\",INDIRECT(AnalýzaDat!E$3&\"'!e\"&ROW($A8))),\"\")","v":""},{"$f":"IFERROR(IF(INDIRECT(AnalýzaDat!F$3&\"'!e\"&ROW($A8))=0,\"\",INDIRECT(AnalýzaDat!F$3&\"'!e\"&ROW($A8))),\"\")","v":""},{"$f":"IFERROR(IF(INDIRECT(AnalýzaDat!G$3&\"'!e\"&ROW($A8))=0,\"\",INDIRECT(AnalýzaDat!G$3&\"'!e\"&ROW($A8))),\"\")","v":""},{"$f":"IFERROR(IF(INDIRECT(AnalýzaDat!H$3&\"'!e\"&ROW($A8))=0,\"\",INDIRECT(AnalýzaDat!H$3&\"'!e\"&ROW($A8))),\"\")","v":""},{"$f":"IFERROR(IF(INDIRECT(AnalýzaDat!I$3&\"'!e\"&ROW($A8))=0,\"\",INDIRECT(AnalýzaDat!I$3&\"'!e\"&ROW($A8))),\"\")","v":""},{"$f":"IFERROR(IF(INDIRECT(AnalýzaDat!J$3&\"'!e\"&ROW($A8))=0,\"\",INDIRECT(AnalýzaDat!J$3&\"'!e\"&ROW($A8))),\"\")","v":""},{"$f":"IFERROR(IF(INDIRECT(AnalýzaDat!K$3&\"'!e\"&ROW($A8))=0,\"\",INDIRECT(AnalýzaDat!K$3&\"'!e\"&ROW($A8))),\"\")","v":""},{"$f":"IFERROR(IF(INDIRECT(AnalýzaDat!L$3&\"'!e\"&ROW($A8))=0,\"\",INDIRECT(AnalýzaDat!L$3&\"'!e\"&ROW($A8))),\"\")","v":""}]
[null,{"$f":"IFERROR(IF(INDIRECT(AnalýzaDat!C$3&\"'!e\"&ROW($A9))=0,\"\",INDIRECT(AnalýzaDat!C$3&\"'!e\"&ROW($A9))),\"\")","v":"česneková sůl"},{"$f":"IFERROR(IF(INDIRECT(AnalýzaDat!D$3&\"'!e\"&ROW($A9))=0,\"\",INDIRECT(AnalýzaDat!D$3&\"'!e\"&ROW($A9))),\"\")","v":""},{"$f":"IFERROR(IF(INDIRECT(AnalýzaDat!E$3&\"'!e\"&ROW($A9))=0,\"\",INDIRECT(AnalýzaDat!E$3&\"'!e\"&ROW($A9))),\"\")","v":""},{"$f":"IFERROR(IF(INDIRECT(AnalýzaDat!F$3&\"'!e\"&ROW($A9))=0,\"\",INDIRECT(AnalýzaDat!F$3&\"'!e\"&ROW($A9))),\"\")","v":""},{"$f":"IFERROR(IF(INDIRECT(AnalýzaDat!G$3&\"'!e\"&ROW($A9))=0,\"\",INDIRECT(AnalýzaDat!G$3&\"'!e\"&ROW($A9))),\"\")","v":""},{"$f":"IFERROR(IF(INDIRECT(AnalýzaDat!H$3&\"'!e\"&ROW($A9))=0,\"\",INDIRECT(AnalýzaDat!H$3&\"'!e\"&ROW($A9))),\"\")","v":""},{"$f":"IFERROR(IF(INDIRECT(AnalýzaDat!I$3&\"'!e\"&ROW($A9))=0,\"\",INDIRECT(AnalýzaDat!I$3&\"'!e\"&ROW($A9))),\"\")","v":""},{"$f":"IFERROR(IF(INDIRECT(AnalýzaDat!J$3&\"'!e\"&ROW($A9))=0,\"\",INDIRECT(AnalýzaDat!J$3&\"'!e\"&ROW($A9))),\"\")","v":""},{"$f":"IFERROR(IF(INDIRECT(AnalýzaDat!K$3&\"'!e\"&ROW($A9))=0,\"\",INDIRECT(AnalýzaDat!K$3&\"'!e\"&ROW($A9))),\"\")","v":""},{"$f":"IFERROR(IF(INDIRECT(AnalýzaDat!L$3&\"'!e\"&ROW($A9))=0,\"\",INDIRECT(AnalýzaDat!L$3&\"'!e\"&ROW($A9))),\"\")","v":""}]
[null,{"$f":"IFERROR(IF(INDIRECT(AnalýzaDat!C$3&\"'!e\"&ROW($A10))=0,\"\",INDIRECT(AnalýzaDat!C$3&\"'!e\"&ROW($A10))),\"\")","v":"nakrájený čerstvý špenát"},{"$f":"IFERROR(IF(INDIRECT(AnalýzaDat!D$3&\"'!e\"&ROW($A10))=0,\"\",INDIRECT(AnalýzaDat!D$3&\"'!e\"&ROW($A10))),\"\")","v":""},{"$f":"IFERROR(IF(INDIRECT(AnalýzaDat!E$3&\"'!e\"&ROW($A10))=0,\"\",INDIRECT(AnalýzaDat!E$3&\"'!e\"&ROW($A10))),\"\")","v":""},{"$f":"IFERROR(IF(INDIRECT(AnalýzaDat!F$3&\"'!e\"&ROW($A10))=0,\"\",INDIRECT(AnalýzaDat!F$3&\"'!e\"&ROW($A10))),\"\")","v":""},{"$f":"IFERROR(IF(INDIRECT(AnalýzaDat!G$3&\"'!e\"&ROW($A10))=0,\"\",INDIRECT(AnalýzaDat!G$3&\"'!e\"&ROW($A10))),\"\")","v":""},{"$f":"IFERROR(IF(INDIRECT(AnalýzaDat!H$3&\"'!e\"&ROW($A10))=0,\"\",INDIRECT(AnalýzaDat!H$3&\"'!e\"&ROW($A10))),\"\")","v":""},{"$f":"IFERROR(IF(INDIRECT(AnalýzaDat!I$3&\"'!e\"&ROW($A10))=0,\"\",INDIRECT(AnalýzaDat!I$3&\"'!e\"&ROW($A10))),\"\")","v":""},{"$f":"IFERROR(IF(INDIRECT(AnalýzaDat!J$3&\"'!e\"&ROW($A10))=0,\"\",INDIRECT(AnalýzaDat!J$3&\"'!e\"&ROW($A10))),\"\")","v":""},{"$f":"IFERROR(IF(INDIRECT(AnalýzaDat!K$3&\"'!e\"&ROW($A10))=0,\"\",INDIRECT(AnalýzaDat!K$3&\"'!e\"&ROW($A10))),\"\")","v":""},{"$f":"IFERROR(IF(INDIRECT(AnalýzaDat!L$3&\"'!e\"&ROW($A10))=0,\"\",INDIRECT(AnalýzaDat!L$3&\"'!e\"&ROW($A10))),\"\")","v":""}]
[null,{"$f":"IFERROR(IF(INDIRECT(AnalýzaDat!C$3&\"'!e\"&ROW($A11))=0,\"\",INDIRECT(AnalýzaDat!C$3&\"'!e\"&ROW($A11))),\"\")","v":"červená cibule"},{"$f":"IFERROR(IF(INDIRECT(AnalýzaDat!D$3&\"'!e\"&ROW($A11))=0,\"\",INDIRECT(AnalýzaDat!D$3&\"'!e\"&ROW($A11))),\"\")","v":""},{"$f":"IFERROR(IF(INDIRECT(AnalýzaDat!E$3&\"'!e\"&ROW($A11))=0,\"\",INDIRECT(AnalýzaDat!E$3&\"'!e\"&ROW($A11))),\"\")","v":""},{"$f":"IFERROR(IF(INDIRECT(AnalýzaDat!F$3&\"'!e\"&ROW($A11))=0,\"\",INDIRECT(AnalýzaDat!F$3&\"'!e\"&ROW($A11))),\"\")","v":""},{"$f":"IFERROR(IF(INDIRECT(AnalýzaDat!G$3&\"'!e\"&ROW($A11))=0,\"\",INDIRECT(AnalýzaDat!G$3&\"'!e\"&ROW($A11))),\"\")","v":""},{"$f":"IFERROR(IF(INDIRECT(AnalýzaDat!H$3&\"'!e\"&ROW($A11))=0,\"\",INDIRECT(AnalýzaDat!H$3&\"'!e\"&ROW($A11))),\"\")","v":""},{"$f":"IFERROR(IF(INDIRECT(AnalýzaDat!I$3&\"'!e\"&ROW($A11))=0,\"\",INDIRECT(AnalýzaDat!I$3&\"'!e\"&ROW($A11))),\"\")","v":""},{"$f":"IFERROR(IF(INDIRECT(AnalýzaDat!J$3&\"'!e\"&ROW($A11))=0,\"\",INDIRECT(AnalýzaDat!J$3&\"'!e\"&ROW($A11))),\"\")","v":""},{"$f":"IFERROR(IF(INDIRECT(AnalýzaDat!K$3&\"'!e\"&ROW($A11))=0,\"\",INDIRECT(AnalýzaDat!K$3&\"'!e\"&ROW($A11))),\"\")","v":""},{"$f":"IFERROR(IF(INDIRECT(AnalýzaDat!L$3&\"'!e\"&ROW($A11))=0,\"\",INDIRECT(AnalýzaDat!L$3&\"'!e\"&ROW($A11))),\"\")","v":""}]
[null,{"$f":"IFERROR(IF(INDIRECT(AnalýzaDat!C$3&\"'!e\"&ROW($A12))=0,\"\",INDIRECT(AnalýzaDat!C$3&\"'!e\"&ROW($A12))),\"\")","v":"plátky čerstvých hub"},{"$f":"IFERROR(IF(INDIRECT(AnalýzaDat!D$3&\"'!e\"&ROW($A12))=0,\"\",INDIRECT(AnalýzaDat!D$3&\"'!e\"&ROW($A12))),\"\")","v":""},{"$f":"IFERROR(IF(INDIRECT(AnalýzaDat!E$3&\"'!e\"&ROW($A12))=0,\"\",INDIRECT(AnalýzaDat!E$3&\"'!e\"&ROW($A12))),\"\")","v":""},{"$f":"IFERROR(IF(INDIRECT(AnalýzaDat!F$3&\"'!e\"&ROW($A12))=0,\"\",INDIRECT(AnalýzaDat!F$3&\"'!e\"&ROW($A12))),\"\")","v":""},{"$f":"IFERROR(IF(INDIRECT(AnalýzaDat!G$3&\"'!e\"&ROW($A12))=0,\"\",INDIRECT(AnalýzaDat!G$3&\"'!e\"&ROW($A12))),\"\")","v":""},{"$f":"IFERROR(IF(INDIRECT(AnalýzaDat!H$3&\"'!e\"&ROW($A12))=0,\"\",INDIRECT(AnalýzaDat!H$3&\"'!e\"&ROW($A12))),\"\")","v":""},{"$f":"IFERROR(IF(INDIRECT(AnalýzaDat!I$3&\"'!e\"&ROW($A12))=0,\"\",INDIRECT(AnalýzaDat!I$3&\"'!e\"&ROW($A12))),\"\")","v":""},{"$f":"IFERROR(IF(INDIRECT(AnalýzaDat!J$3&\"'!e\"&ROW($A12))=0,\"\",INDIRECT(AnalýzaDat!J$3&\"'!e\"&ROW($A12))),\"\")","v":""},{"$f":"IFERROR(IF(INDIRECT(AnalýzaDat!K$3&\"'!e\"&ROW($A12))=0,\"\",INDIRECT(AnalýzaDat!K$3&\"'!e\"&ROW($A12))),\"\")","v":""},{"$f":"IFERROR(IF(INDIRECT(AnalýzaDat!L$3&\"'!e\"&ROW($A12))=0,\"\",INDIRECT(AnalýzaDat!L$3&\"'!e\"&ROW($A12))),\"\")","v":""}]
[null,{"$f":"IFERROR(IF(INDIRECT(AnalýzaDat!C$3&\"'!e\"&ROW($A13))=0,\"\",INDIRECT(AnalýzaDat!C$3&\"'!e\"&ROW($A13))),\"\")","v":"nakrájený sýr mozzarella"},{"$f":"IFERROR(IF(INDIRECT(AnalýzaDat!D$3&\"'!e\"&ROW($A13))=0,\"\",INDIRECT(AnalýzaDat!D$3&\"'!e\"&ROW($A13))),\"\")","v":""},{"$f":"IFERROR(IF(INDIRECT(AnalýzaDat!E$3&\"'!e\"&ROW($A13))=0,\"\",INDIRECT(AnalýzaDat!E$3&\"'!e\"&ROW($A13))),\"\")","v":""},{"$f":"IFERROR(IF(INDIRECT(AnalýzaDat!F$3&\"'!e\"&ROW($A13))=0,\"\",INDIRECT(AnalýzaDat!F$3&\"'!e\"&ROW($A13))),\"\")","v":""},{"$f":"IFERROR(IF(INDIRECT(AnalýzaDat!G$3&\"'!e\"&ROW($A13))=0,\"\",INDIRECT(AnalýzaDat!G$3&\"'!e\"&ROW($A13))),\"\")","v":""},{"$f":"IFERROR(IF(INDIRECT(AnalýzaDat!H$3&\"'!e\"&ROW($A13))=0,\"\",INDIRECT(AnalýzaDat!H$3&\"'!e\"&ROW($A13))),\"\")","v":""},{"$f":"IFERROR(IF(INDIRECT(AnalýzaDat!I$3&\"'!e\"&ROW($A13))=0,\"\",INDIRECT(AnalýzaDat!I$3&\"'!e\"&ROW($A13))),\"\")","v":""},{"$f":"IFERROR(IF(INDIRECT(AnalýzaDat!J$3&\"'!e\"&ROW($A13))=0,\"\",INDIRECT(AnalýzaDat!J$3&\"'!e\"&ROW($A13))),\"\")","v":""},{"$f":"IFERROR(IF(INDIRECT(AnalýzaDat!K$3&\"'!e\"&ROW($A13))=0,\"\",INDIRECT(AnalýzaDat!K$3&\"'!e\"&ROW($A13))),\"\")","v":""},{"$f":"IFERROR(IF(INDIRECT(AnalýzaDat!L$3&\"'!e\"&ROW($A13))=0,\"\",INDIRECT(AnalýzaDat!L$3&\"'!e\"&ROW($A13))),\"\")","v":""}]
[null,{"$f":"IFERROR(IF(INDIRECT(AnalýzaDat!C$3&\"'!e\"&ROW($A14))=0,\"\",INDIRECT(AnalýzaDat!C$3&\"'!e\"&ROW($A14))),\"\")","v":"nadrobený sýr feta"},{"$f":"IFERROR(IF(INDIRECT(AnalýzaDat!D$3&\"'!e\"&ROW($A14))=0,\"\",INDIRECT(AnalýzaDat!D$3&\"'!e\"&ROW($A14))),\"\")","v":""},{"$f":"IFERROR(IF(INDIRECT(AnalýzaDat!E$3&\"'!e\"&ROW($A14))=0,\"\",INDIRECT(AnalýzaDat!E$3&\"'!e\"&ROW($A14))),\"\")","v":""},{"$f":"IFERROR(IF(INDIRECT(AnalýzaDat!F$3&\"'!e\"&ROW($A14))=0,\"\",INDIRECT(AnalýzaDat!F$3&\"'!e\"&ROW($A14))),\"\")","v":""},{"$f":"IFERROR(IF(INDIRECT(AnalýzaDat!G$3&\"'!e\"&ROW($A14))=0,\"\",INDIRECT(AnalýzaDat!G$3&\"'!e\"&ROW($A14))),\"\")","v":""},{"$f":"IFERROR(IF(INDIRECT(AnalýzaDat!H$3&\"'!e\"&ROW($A14))=0,\"\",INDIRECT(AnalýzaDat!H$3&\"'!e\"&ROW($A14))),\"\")","v":""},{"$f":"IFERROR(IF(INDIRECT(AnalýzaDat!I$3&\"'!e\"&ROW($A14))=0,\"\",INDIRECT(AnalýzaDat!I$3&\"'!e\"&ROW($A14))),\"\")","v":""},{"$f":"IFERROR(IF(INDIRECT(AnalýzaDat!J$3&\"'!e\"&ROW($A14))=0,\"\",INDIRECT(AnalýzaDat!J$3&\"'!e\"&ROW($A14))),\"\")","v":""},{"$f":"IFERROR(IF(INDIRECT(AnalýzaDat!K$3&\"'!e\"&ROW($A14))=0,\"\",INDIRECT(AnalýzaDat!K$3&\"'!e\"&ROW($A14))),\"\")","v":""},{"$f":"IFERROR(IF(INDIRECT(AnalýzaDat!L$3&\"'!e\"&ROW($A14))=0,\"\",INDIRECT(AnalýzaDat!L$3&\"'!e\"&ROW($A14))),\"\")","v":""}]
[null,{"$f":"IFERROR(IF(INDIRECT(AnalýzaDat!C$3&\"'!e\"&ROW($A15))=0,\"\",INDIRECT(AnalýzaDat!C$3&\"'!e\"&ROW($A15))),\"\")","v":"sušená bazalka"},{"$f":"IFERROR(IF(INDIRECT(AnalýzaDat!D$3&\"'!e\"&ROW($A15))=0,\"\",INDIRECT(AnalýzaDat!D$3&\"'!e\"&ROW($A15))),\"\")","v":""},{"$f":"IFERROR(IF(INDIRECT(AnalýzaDat!E$3&\"'!e\"&ROW($A15))=0,\"\",INDIRECT(AnalýzaDat!E$3&\"'!e\"&ROW($A15))),\"\")","v":""},{"$f":"IFERROR(IF(INDIRECT(AnalýzaDat!F$3&\"'!e\"&ROW($A15))=0,\"\",INDIRECT(AnalýzaDat!F$3&\"'!e\"&ROW($A15))),\"\")","v":""},{"$f":"IFERROR(IF(INDIRECT(AnalýzaDat!G$3&\"'!e\"&ROW($A15))=0,\"\",INDIRECT(AnalýzaDat!G$3&\"'!e\"&ROW($A15))),\"\")","v":""},{"$f":"IFERROR(IF(INDIRECT(AnalýzaDat!H$3&\"'!e\"&ROW($A15))=0,\"\",INDIRECT(AnalýzaDat!H$3&\"'!e\"&ROW($A15))),\"\")","v":""},{"$f":"IFERROR(IF(INDIRECT(AnalýzaDat!I$3&\"'!e\"&ROW($A15))=0,\"\",INDIRECT(AnalýzaDat!I$3&\"'!e\"&ROW($A15))),\"\")","v":""},{"$f":"IFERROR(IF(INDIRECT(AnalýzaDat!J$3&\"'!e\"&ROW($A15))=0,\"\",INDIRECT(AnalýzaDat!J$3&\"'!e\"&ROW($A15))),\"\")","v":""},{"$f":"IFERROR(IF(INDIRECT(AnalýzaDat!K$3&\"'!e\"&ROW($A15))=0,\"\",INDIRECT(AnalýzaDat!K$3&\"'!e\"&ROW($A15))),\"\")","v":""},{"$f":"IFERROR(IF(INDIRECT(AnalýzaDat!L$3&\"'!e\"&ROW($A15))=0,\"\",INDIRECT(AnalýzaDat!L$3&\"'!e\"&ROW($A15))),\"\")","v":""}]
[null,{"$f":"IFERROR(IF(INDIRECT(AnalýzaDat!C$3&\"'!e\"&ROW($A16))=0,\"\",INDIRECT(AnalýzaDat!C$3&\"'!e\"&ROW($A16))),\"\")","v":""},{"$f":"IFERROR(IF(INDIRECT(AnalýzaDat!D$3&\"'!e\"&ROW($A16))=0,\"\",INDIRECT(AnalýzaDat!D$3&\"'!e\"&ROW($A16))),\"\")","v":""},{"$f":"IFERROR(IF(INDIRECT(AnalýzaDat!E$3&\"'!e\"&ROW($A16))=0,\"\",INDIRECT(AnalýzaDat!E$3&\"'!e\"&ROW($A16))),\"\")","v":""},{"$f":"IFERROR(IF(INDIRECT(AnalýzaDat!F$3&\"'!e\"&ROW($A16))=0,\"\",INDIRECT(AnalýzaDat!F$3&\"'!e\"&ROW($A16))),\"\")","v":""},{"$f":"IFERROR(IF(INDIRECT(AnalýzaDat!G$3&\"'!e\"&ROW($A16))=0,\"\",INDIRECT(AnalýzaDat!G$3&\"'!e\"&ROW($A16))),\"\")","v":""},{"$f":"IFERROR(IF(INDIRECT(AnalýzaDat!H$3&\"'!e\"&ROW($A16))=0,\"\",INDIRECT(AnalýzaDat!H$3&\"'!e\"&ROW($A16))),\"\")","v":""},{"$f":"IFERROR(IF(INDIRECT(AnalýzaDat!I$3&\"'!e\"&ROW($A16))=0,\"\",INDIRECT(AnalýzaDat!I$3&\"'!e\"&ROW($A16))),\"\")","v":""},{"$f":"IFERROR(IF(INDIRECT(AnalýzaDat!J$3&\"'!e\"&ROW($A16))=0,\"\",INDIRECT(AnalýzaDat!J$3&\"'!e\"&ROW($A16))),\"\")","v":""},{"$f":"IFERROR(IF(INDIRECT(AnalýzaDat!K$3&\"'!e\"&ROW($A16))=0,\"\",INDIRECT(AnalýzaDat!K$3&\"'!e\"&ROW($A16))),\"\")","v":""},{"$f":"IFERROR(IF(INDIRECT(AnalýzaDat!L$3&\"'!e\"&ROW($A16))=0,\"\",INDIRECT(AnalýzaDat!L$3&\"'!e\"&ROW($A16))),\"\")","v":""}]
[null,{"$f":"IFERROR(IF(INDIRECT(AnalýzaDat!C$3&\"'!e\"&ROW($A17))=0,\"\",INDIRECT(AnalýzaDat!C$3&\"'!e\"&ROW($A17))),\"\")","v":""},{"$f":"IFERROR(IF(INDIRECT(AnalýzaDat!D$3&\"'!e\"&ROW($A17))=0,\"\",INDIRECT(AnalýzaDat!D$3&\"'!e\"&ROW($A17))),\"\")","v":""},{"$f":"IFERROR(IF(INDIRECT(AnalýzaDat!E$3&\"'!e\"&ROW($A17))=0,\"\",INDIRECT(AnalýzaDat!E$3&\"'!e\"&ROW($A17))),\"\")","v":""},{"$f":"IFERROR(IF(INDIRECT(AnalýzaDat!F$3&\"'!e\"&ROW($A17))=0,\"\",INDIRECT(AnalýzaDat!F$3&\"'!e\"&ROW($A17))),\"\")","v":""},{"$f":"IFERROR(IF(INDIRECT(AnalýzaDat!G$3&\"'!e\"&ROW($A17))=0,\"\",INDIRECT(AnalýzaDat!G$3&\"'!e\"&ROW($A17))),\"\")","v":""},{"$f":"IFERROR(IF(INDIRECT(AnalýzaDat!H$3&\"'!e\"&ROW($A17))=0,\"\",INDIRECT(AnalýzaDat!H$3&\"'!e\"&ROW($A17))),\"\")","v":""},{"$f":"IFERROR(IF(INDIRECT(AnalýzaDat!I$3&\"'!e\"&ROW($A17))=0,\"\",INDIRECT(AnalýzaDat!I$3&\"'!e\"&ROW($A17))),\"\")","v":""},{"$f":"IFERROR(IF(INDIRECT(AnalýzaDat!J$3&\"'!e\"&ROW($A17))=0,\"\",INDIRECT(AnalýzaDat!J$3&\"'!e\"&ROW($A17))),\"\")","v":""},{"$f":"IFERROR(IF(INDIRECT(AnalýzaDat!K$3&\"'!e\"&ROW($A17))=0,\"\",INDIRECT(AnalýzaDat!K$3&\"'!e\"&ROW($A17))),\"\")","v":""},{"$f":"IFERROR(IF(INDIRECT(AnalýzaDat!L$3&\"'!e\"&ROW($A17))=0,\"\",INDIRECT(AnalýzaDat!L$3&\"'!e\"&ROW($A17))),\"\")","v":""}]
[null,{"$f":"IFERROR(IF(INDIRECT(AnalýzaDat!C$3&\"'!e\"&ROW($A18))=0,\"\",INDIRECT(AnalýzaDat!C$3&\"'!e\"&ROW($A18))),\"\")","v":""},{"$f":"IFERROR(IF(INDIRECT(AnalýzaDat!D$3&\"'!e\"&ROW($A18))=0,\"\",INDIRECT(AnalýzaDat!D$3&\"'!e\"&ROW($A18))),\"\")","v":""},{"$f":"IFERROR(IF(INDIRECT(AnalýzaDat!E$3&\"'!e\"&ROW($A18))=0,\"\",INDIRECT(AnalýzaDat!E$3&\"'!e\"&ROW($A18))),\"\")","v":""},{"$f":"IFERROR(IF(INDIRECT(AnalýzaDat!F$3&\"'!e\"&ROW($A18))=0,\"\",INDIRECT(AnalýzaDat!F$3&\"'!e\"&ROW($A18))),\"\")","v":""},{"$f":"IFERROR(IF(INDIRECT(AnalýzaDat!G$3&\"'!e\"&ROW($A18))=0,\"\",INDIRECT(AnalýzaDat!G$3&\"'!e\"&ROW($A18))),\"\")","v":""},{"$f":"IFERROR(IF(INDIRECT(AnalýzaDat!H$3&\"'!e\"&ROW($A18))=0,\"\",INDIRECT(AnalýzaDat!H$3&\"'!e\"&ROW($A18))),\"\")","v":""},{"$f":"IFERROR(IF(INDIRECT(AnalýzaDat!I$3&\"'!e\"&ROW($A18))=0,\"\",INDIRECT(AnalýzaDat!I$3&\"'!e\"&ROW($A18))),\"\")","v":""},{"$f":"IFERROR(IF(INDIRECT(AnalýzaDat!J$3&\"'!e\"&ROW($A18))=0,\"\",INDIRECT(AnalýzaDat!J$3&\"'!e\"&ROW($A18))),\"\")","v":""},{"$f":"IFERROR(IF(INDIRECT(AnalýzaDat!K$3&\"'!e\"&ROW($A18))=0,\"\",INDIRECT(AnalýzaDat!K$3&\"'!e\"&ROW($A18))),\"\")","v":""},{"$f":"IFERROR(IF(INDIRECT(AnalýzaDat!L$3&\"'!e\"&ROW($A18))=0,\"\",INDIRECT(AnalýzaDat!L$3&\"'!e\"&ROW($A18))),\"\")","v":""}]
[null,{"$f":"IFERROR(IF(INDIRECT(AnalýzaDat!C$3&\"'!e\"&ROW($A19))=0,\"\",INDIRECT(AnalýzaDat!C$3&\"'!e\"&ROW($A19))),\"\")","v":""},{"$f":"IFERROR(IF(INDIRECT(AnalýzaDat!D$3&\"'!e\"&ROW($A19))=0,\"\",INDIRECT(AnalýzaDat!D$3&\"'!e\"&ROW($A19))),\"\")","v":""},{"$f":"IFERROR(IF(INDIRECT(AnalýzaDat!E$3&\"'!e\"&ROW($A19))=0,\"\",INDIRECT(AnalýzaDat!E$3&\"'!e\"&ROW($A19))),\"\")","v":""},{"$f":"IFERROR(IF(INDIRECT(AnalýzaDat!F$3&\"'!e\"&ROW($A19))=0,\"\",INDIRECT(AnalýzaDat!F$3&\"'!e\"&ROW($A19))),\"\")","v":""},{"$f":"IFERROR(IF(INDIRECT(AnalýzaDat!G$3&\"'!e\"&ROW($A19))=0,\"\",INDIRECT(AnalýzaDat!G$3&\"'!e\"&ROW($A19))),\"\")","v":""},{"$f":"IFERROR(IF(INDIRECT(AnalýzaDat!H$3&\"'!e\"&ROW($A19))=0,\"\",INDIRECT(AnalýzaDat!H$3&\"'!e\"&ROW($A19))),\"\")","v":""},{"$f":"IFERROR(IF(INDIRECT(AnalýzaDat!I$3&\"'!e\"&ROW($A19))=0,\"\",INDIRECT(AnalýzaDat!I$3&\"'!e\"&ROW($A19))),\"\")","v":""},{"$f":"IFERROR(IF(INDIRECT(AnalýzaDat!J$3&\"'!e\"&ROW($A19))=0,\"\",INDIRECT(AnalýzaDat!J$3&\"'!e\"&ROW($A19))),\"\")","v":""},{"$f":"IFERROR(IF(INDIRECT(AnalýzaDat!K$3&\"'!e\"&ROW($A19))=0,\"\",INDIRECT(AnalýzaDat!K$3&\"'!e\"&ROW($A19))),\"\")","v":""},{"$f":"IFERROR(IF(INDIRECT(AnalýzaDat!L$3&\"'!e\"&ROW($A19))=0,\"\",INDIRECT(AnalýzaDat!L$3&\"'!e\"&ROW($A19))),\"\")","v":""}]
[null,{"$f":"IFERROR(IF(INDIRECT(AnalýzaDat!C$3&\"'!e\"&ROW($A20))=0,\"\",INDIRECT(AnalýzaDat!C$3&\"'!e\"&ROW($A20))),\"\")","v":""},{"$f":"IFERROR(IF(INDIRECT(AnalýzaDat!D$3&\"'!e\"&ROW($A20))=0,\"\",INDIRECT(AnalýzaDat!D$3&\"'!e\"&ROW($A20))),\"\")","v":""},{"$f":"IFERROR(IF(INDIRECT(AnalýzaDat!E$3&\"'!e\"&ROW($A20))=0,\"\",INDIRECT(AnalýzaDat!E$3&\"'!e\"&ROW($A20))),\"\")","v":""},{"$f":"IFERROR(IF(INDIRECT(AnalýzaDat!F$3&\"'!e\"&ROW($A20))=0,\"\",INDIRECT(AnalýzaDat!F$3&\"'!e\"&ROW($A20))),\"\")","v":""},{"$f":"IFERROR(IF(INDIRECT(AnalýzaDat!G$3&\"'!e\"&ROW($A20))=0,\"\",INDIRECT(AnalýzaDat!G$3&\"'!e\"&ROW($A20))),\"\")","v":""},{"$f":"IFERROR(IF(INDIRECT(AnalýzaDat!H$3&\"'!e\"&ROW($A20))=0,\"\",INDIRECT(AnalýzaDat!H$3&\"'!e\"&ROW($A20))),\"\")","v":""},{"$f":"IFERROR(IF(INDIRECT(AnalýzaDat!I$3&\"'!e\"&ROW($A20))=0,\"\",INDIRECT(AnalýzaDat!I$3&\"'!e\"&ROW($A20))),\"\")","v":""},{"$f":"IFERROR(IF(INDIRECT(AnalýzaDat!J$3&\"'!e\"&ROW($A20))=0,\"\",INDIRECT(AnalýzaDat!J$3&\"'!e\"&ROW($A20))),\"\")","v":""},{"$f":"IFERROR(IF(INDIRECT(AnalýzaDat!K$3&\"'!e\"&ROW($A20))=0,\"\",INDIRECT(AnalýzaDat!K$3&\"'!e\"&ROW($A20))),\"\")","v":""},{"$f":"IFERROR(IF(INDIRECT(AnalýzaDat!L$3&\"'!e\"&ROW($A20))=0,\"\",INDIRECT(AnalýzaDat!L$3&\"'!e\"&ROW($A20))),\"\")","v":""}]
[null,{"$f":"IFERROR(IF(INDIRECT(AnalýzaDat!C$3&\"'!e\"&ROW($A21))=0,\"\",INDIRECT(AnalýzaDat!C$3&\"'!e\"&ROW($A21))),\"\")","v":""},{"$f":"IFERROR(IF(INDIRECT(AnalýzaDat!D$3&\"'!e\"&ROW($A21))=0,\"\",INDIRECT(AnalýzaDat!D$3&\"'!e\"&ROW($A21))),\"\")","v":""},{"$f":"IFERROR(IF(INDIRECT(AnalýzaDat!E$3&\"'!e\"&ROW($A21))=0,\"\",INDIRECT(AnalýzaDat!E$3&\"'!e\"&ROW($A21))),\"\")","v":""},{"$f":"IFERROR(IF(INDIRECT(AnalýzaDat!F$3&\"'!e\"&ROW($A21))=0,\"\",INDIRECT(AnalýzaDat!F$3&\"'!e\"&ROW($A21))),\"\")","v":""},{"$f":"IFERROR(IF(INDIRECT(AnalýzaDat!G$3&\"'!e\"&ROW($A21))=0,\"\",INDIRECT(AnalýzaDat!G$3&\"'!e\"&ROW($A21))),\"\")","v":""},{"$f":"IFERROR(IF(INDIRECT(AnalýzaDat!H$3&\"'!e\"&ROW($A21))=0,\"\",INDIRECT(AnalýzaDat!H$3&\"'!e\"&ROW($A21))),\"\")","v":""},{"$f":"IFERROR(IF(INDIRECT(AnalýzaDat!I$3&\"'!e\"&ROW($A21))=0,\"\",INDIRECT(AnalýzaDat!I$3&\"'!e\"&ROW($A21))),\"\")","v":""},{"$f":"IFERROR(IF(INDIRECT(AnalýzaDat!J$3&\"'!e\"&ROW($A21))=0,\"\",INDIRECT(AnalýzaDat!J$3&\"'!e\"&ROW($A21))),\"\")","v":""},{"$f":"IFERROR(IF(INDIRECT(AnalýzaDat!K$3&\"'!e\"&ROW($A21))=0,\"\",INDIRECT(AnalýzaDat!K$3&\"'!e\"&ROW($A21))),\"\")","v":""},{"$f":"IFERROR(IF(INDIRECT(AnalýzaDat!L$3&\"'!e\"&ROW($A21))=0,\"\",INDIRECT(AnalýzaDat!L$3&\"'!e\"&ROW($A21))),\"\")","v":""}]
[null,{"$f":"IFERROR(IF(INDIRECT(AnalýzaDat!C$3&\"'!e\"&ROW($A22))=0,\"\",INDIRECT(AnalýzaDat!C$3&\"'!e\"&ROW($A22))),\"\")","v":""},{"$f":"IFERROR(IF(INDIRECT(AnalýzaDat!D$3&\"'!e\"&ROW($A22))=0,\"\",INDIRECT(AnalýzaDat!D$3&\"'!e\"&ROW($A22))),\"\")","v":""},{"$f":"IFERROR(IF(INDIRECT(AnalýzaDat!E$3&\"'!e\"&ROW($A22))=0,\"\",INDIRECT(AnalýzaDat!E$3&\"'!e\"&ROW($A22))),\"\")","v":""},{"$f":"IFERROR(IF(INDIRECT(AnalýzaDat!F$3&\"'!e\"&ROW($A22))=0,\"\",INDIRECT(AnalýzaDat!F$3&\"'!e\"&ROW($A22))),\"\")","v":""},{"$f":"IFERROR(IF(INDIRECT(AnalýzaDat!G$3&\"'!e\"&ROW($A22))=0,\"\",INDIRECT(AnalýzaDat!G$3&\"'!e\"&ROW($A22))),\"\")","v":""},{"$f":"IFERROR(IF(INDIRECT(AnalýzaDat!H$3&\"'!e\"&ROW($A22))=0,\"\",INDIRECT(AnalýzaDat!H$3&\"'!e\"&ROW($A22))),\"\")","v":""},{"$f":"IFERROR(IF(INDIRECT(AnalýzaDat!I$3&\"'!e\"&ROW($A22))=0,\"\",INDIRECT(AnalýzaDat!I$3&\"'!e\"&ROW($A22))),\"\")","v":""},{"$f":"IFERROR(IF(INDIRECT(AnalýzaDat!J$3&\"'!e\"&ROW($A22))=0,\"\",INDIRECT(AnalýzaDat!J$3&\"'!e\"&ROW($A22))),\"\")","v":""},{"$f":"IFERROR(IF(INDIRECT(AnalýzaDat!K$3&\"'!e\"&ROW($A22))=0,\"\",INDIRECT(AnalýzaDat!K$3&\"'!e\"&ROW($A22))),\"\")","v":""},{"$f":"IFERROR(IF(INDIRECT(AnalýzaDat!L$3&\"'!e\"&ROW($A22))=0,\"\",INDIRECT(AnalýzaDat!L$3&\"'!e\"&ROW($A22))),\"\")","v":""}]
[null,{"$f":"IFERROR(IF(INDIRECT(AnalýzaDat!C$3&\"'!e\"&ROW($A23))=0,\"\",INDIRECT(AnalýzaDat!C$3&\"'!e\"&ROW($A23))),\"\")","v":""},{"$f":"IFERROR(IF(INDIRECT(AnalýzaDat!D$3&\"'!e\"&ROW($A23))=0,\"\",INDIRECT(AnalýzaDat!D$3&\"'!e\"&ROW($A23))),\"\")","v":""},{"$f":"IFERROR(IF(INDIRECT(AnalýzaDat!E$3&\"'!e\"&ROW($A23))=0,\"\",INDIRECT(AnalýzaDat!E$3&\"'!e\"&ROW($A23))),\"\")","v":""},{"$f":"IFERROR(IF(INDIRECT(AnalýzaDat!F$3&\"'!e\"&ROW($A23))=0,\"\",INDIRECT(AnalýzaDat!F$3&\"'!e\"&ROW($A23))),\"\")","v":""},{"$f":"IFERROR(IF(INDIRECT(AnalýzaDat!G$3&\"'!e\"&ROW($A23))=0,\"\",INDIRECT(AnalýzaDat!G$3&\"'!e\"&ROW($A23))),\"\")","v":""},{"$f":"IFERROR(IF(INDIRECT(AnalýzaDat!H$3&\"'!e\"&ROW($A23))=0,\"\",INDIRECT(AnalýzaDat!H$3&\"'!e\"&ROW($A23))),\"\")","v":""},{"$f":"IFERROR(IF(INDIRECT(AnalýzaDat!I$3&\"'!e\"&ROW($A23))=0,\"\",INDIRECT(AnalýzaDat!I$3&\"'!e\"&ROW($A23))),\"\")","v":""},{"$f":"IFERROR(IF(INDIRECT(AnalýzaDat!J$3&\"'!e\"&ROW($A23))=0,\"\",INDIRECT(AnalýzaDat!J$3&\"'!e\"&ROW($A23))),\"\")","v":""},{"$f":"IFERROR(IF(INDIRECT(AnalýzaDat!K$3&\"'!e\"&ROW($A23))=0,\"\",INDIRECT(AnalýzaDat!K$3&\"'!e\"&ROW($A23))),\"\")","v":""},{"$f":"IFERROR(IF(INDIRECT(AnalýzaDat!L$3&\"'!e\"&ROW($A23))=0,\"\",INDIRECT(AnalýzaDat!L$3&\"'!e\"&ROW($A23))),\"\")","v":""}]
[null,{"$f":"IFERROR(IF(INDIRECT(AnalýzaDat!C$3&\"'!e\"&ROW($A24))=0,\"\",INDIRECT(AnalýzaDat!C$3&\"'!e\"&ROW($A24))),\"\")","v":""},{"$f":"IFERROR(IF(INDIRECT(AnalýzaDat!D$3&\"'!e\"&ROW($A24))=0,\"\",INDIRECT(AnalýzaDat!D$3&\"'!e\"&ROW($A24))),\"\")","v":""},{"$f":"IFERROR(IF(INDIRECT(AnalýzaDat!E$3&\"'!e\"&ROW($A24))=0,\"\",INDIRECT(AnalýzaDat!E$3&\"'!e\"&ROW($A24))),\"\")","v":""},{"$f":"IFERROR(IF(INDIRECT(AnalýzaDat!F$3&\"'!e\"&ROW($A24))=0,\"\",INDIRECT(AnalýzaDat!F$3&\"'!e\"&ROW($A24))),\"\")","v":""},{"$f":"IFERROR(IF(INDIRECT(AnalýzaDat!G$3&\"'!e\"&ROW($A24))=0,\"\",INDIRECT(AnalýzaDat!G$3&\"'!e\"&ROW($A24))),\"\")","v":""},{"$f":"IFERROR(IF(INDIRECT(AnalýzaDat!H$3&\"'!e\"&ROW($A24))=0,\"\",INDIRECT(AnalýzaDat!H$3&\"'!e\"&ROW($A24))),\"\")","v":""},{"$f":"IFERROR(IF(INDIRECT(AnalýzaDat!I$3&\"'!e\"&ROW($A24))=0,\"\",INDIRECT(AnalýzaDat!I$3&\"'!e\"&ROW($A24))),\"\")","v":""},{"$f":"IFERROR(IF(INDIRECT(AnalýzaDat!J$3&\"'!e\"&ROW($A24))=0,\"\",INDIRECT(AnalýzaDat!J$3&\"'!e\"&ROW($A24))),\"\")","v":""},{"$f":"IFERROR(IF(INDIRECT(AnalýzaDat!K$3&\"'!e\"&ROW($A24))=0,\"\",INDIRECT(AnalýzaDat!K$3&\"'!e\"&ROW($A24))),\"\")","v":""},{"$f":"IFERROR(IF(INDIRECT(AnalýzaDat!L$3&\"'!e\"&ROW($A24))=0,\"\",INDIRECT(AnalýzaDat!L$3&\"'!e\"&ROW($A24))),\"\")","v":""}]
[null,{"$f":"IFERROR(IF(INDIRECT(AnalýzaDat!C$3&\"'!e\"&ROW($A25))=0,\"\",INDIRECT(AnalýzaDat!C$3&\"'!e\"&ROW($A25))),\"\")","v":""},{"$f":"IFERROR(IF(INDIRECT(AnalýzaDat!D$3&\"'!e\"&ROW($A25))=0,\"\",INDIRECT(AnalýzaDat!D$3&\"'!e\"&ROW($A25))),\"\")","v":""},{"$f":"IFERROR(IF(INDIRECT(AnalýzaDat!E$3&\"'!e\"&ROW($A25))=0,\"\",INDIRECT(AnalýzaDat!E$3&\"'!e\"&ROW($A25))),\"\")","v":""},{"$f":"IFERROR(IF(INDIRECT(AnalýzaDat!F$3&\"'!e\"&ROW($A25))=0,\"\",INDIRECT(AnalýzaDat!F$3&\"'!e\"&ROW($A25))),\"\")","v":""},{"$f":"IFERROR(IF(INDIRECT(AnalýzaDat!G$3&\"'!e\"&ROW($A25))=0,\"\",INDIRECT(AnalýzaDat!G$3&\"'!e\"&ROW($A25))),\"\")","v":""},{"$f":"IFERROR(IF(INDIRECT(AnalýzaDat!H$3&\"'!e\"&ROW($A25))=0,\"\",INDIRECT(AnalýzaDat!H$3&\"'!e\"&ROW($A25))),\"\")","v":""},{"$f":"IFERROR(IF(INDIRECT(AnalýzaDat!I$3&\"'!e\"&ROW($A25))=0,\"\",INDIRECT(AnalýzaDat!I$3&\"'!e\"&ROW($A25))),\"\")","v":""},{"$f":"IFERROR(IF(INDIRECT(AnalýzaDat!J$3&\"'!e\"&ROW($A25))=0,\"\",INDIRECT(AnalýzaDat!J$3&\"'!e\"&ROW($A25))),\"\")","v":""},{"$f":"IFERROR(IF(INDIRECT(AnalýzaDat!K$3&\"'!e\"&ROW($A25))=0,\"\",INDIRECT(AnalýzaDat!K$3&\"'!e\"&ROW($A25))),\"\")","v":""},{"$f":"IFERROR(IF(INDIRECT(AnalýzaDat!L$3&\"'!e\"&ROW($A25))=0,\"\",INDIRECT(AnalýzaDat!L$3&\"'!e\"&ROW($A25))),\"\")","v":""}]
[null,{"$f":"IFERROR(IF(INDIRECT(AnalýzaDat!C$3&\"'!e\"&ROW($A26))=0,\"\",INDIRECT(AnalýzaDat!C$3&\"'!e\"&ROW($A26))),\"\")","v":""},{"$f":"IFERROR(IF(INDIRECT(AnalýzaDat!D$3&\"'!e\"&ROW($A26))=0,\"\",INDIRECT(AnalýzaDat!D$3&\"'!e\"&ROW($A26))),\"\")","v":""},{"$f":"IFERROR(IF(INDIRECT(AnalýzaDat!E$3&\"'!e\"&ROW($A26))=0,\"\",INDIRECT(AnalýzaDat!E$3&\"'!e\"&ROW($A26))),\"\")","v":""},{"$f":"IFERROR(IF(INDIRECT(AnalýzaDat!F$3&\"'!e\"&ROW($A26))=0,\"\",INDIRECT(AnalýzaDat!F$3&\"'!e\"&ROW($A26))),\"\")","v":""},{"$f":"IFERROR(IF(INDIRECT(AnalýzaDat!G$3&\"'!e\"&ROW($A26))=0,\"\",INDIRECT(AnalýzaDat!G$3&\"'!e\"&ROW($A26))),\"\")","v":""},{"$f":"IFERROR(IF(INDIRECT(AnalýzaDat!H$3&\"'!e\"&ROW($A26))=0,\"\",INDIRECT(AnalýzaDat!H$3&\"'!e\"&ROW($A26))),\"\")","v":""},{"$f":"IFERROR(IF(INDIRECT(AnalýzaDat!I$3&\"'!e\"&ROW($A26))=0,\"\",INDIRECT(AnalýzaDat!I$3&\"'!e\"&ROW($A26))),\"\")","v":""},{"$f":"IFERROR(IF(INDIRECT(AnalýzaDat!J$3&\"'!e\"&ROW($A26))=0,\"\",INDIRECT(AnalýzaDat!J$3&\"'!e\"&ROW($A26))),\"\")","v":""},{"$f":"IFERROR(IF(INDIRECT(AnalýzaDat!K$3&\"'!e\"&ROW($A26))=0,\"\",INDIRECT(AnalýzaDat!K$3&\"'!e\"&ROW($A26))),\"\")","v":""},{"$f":"IFERROR(IF(INDIRECT(AnalýzaDat!L$3&\"'!e\"&ROW($A26))=0,\"\",INDIRECT(AnalýzaDat!L$3&\"'!e\"&ROW($A26))),\"\")","v":""}]
[null,{"$f":"IFERROR(IF(INDIRECT(AnalýzaDat!C$3&\"'!e\"&ROW($A27))=0,\"\",INDIRECT(AnalýzaDat!C$3&\"'!e\"&ROW($A27))),\"\")","v":""},{"$f":"IFERROR(IF(INDIRECT(AnalýzaDat!D$3&\"'!e\"&ROW($A27))=0,\"\",INDIRECT(AnalýzaDat!D$3&\"'!e\"&ROW($A27))),\"\")","v":""},{"$f":"IFERROR(IF(INDIRECT(AnalýzaDat!E$3&\"'!e\"&ROW($A27))=0,\"\",INDIRECT(AnalýzaDat!E$3&\"'!e\"&ROW($A27))),\"\")","v":""},{"$f":"IFERROR(IF(INDIRECT(AnalýzaDat!F$3&\"'!e\"&ROW($A27))=0,\"\",INDIRECT(AnalýzaDat!F$3&\"'!e\"&ROW($A27))),\"\")","v":""},{"$f":"IFERROR(IF(INDIRECT(AnalýzaDat!G$3&\"'!e\"&ROW($A27))=0,\"\",INDIRECT(AnalýzaDat!G$3&\"'!e\"&ROW($A27))),\"\")","v":""},{"$f":"IFERROR(IF(INDIRECT(AnalýzaDat!H$3&\"'!e\"&ROW($A27))=0,\"\",INDIRECT(AnalýzaDat!H$3&\"'!e\"&ROW($A27))),\"\")","v":""},{"$f":"IFERROR(IF(INDIRECT(AnalýzaDat!I$3&\"'!e\"&ROW($A27))=0,\"\",INDIRECT(AnalýzaDat!I$3&\"'!e\"&ROW($A27))),\"\")","v":""},{"$f":"IFERROR(IF(INDIRECT(AnalýzaDat!J$3&\"'!e\"&ROW($A27))=0,\"\",INDIRECT(AnalýzaDat!J$3&\"'!e\"&ROW($A27))),\"\")","v":""},{"$f":"IFERROR(IF(INDIRECT(AnalýzaDat!K$3&\"'!e\"&ROW($A27))=0,\"\",INDIRECT(AnalýzaDat!K$3&\"'!e\"&ROW($A27))),\"\")","v":""},{"$f":"IFERROR(IF(INDIRECT(AnalýzaDat!L$3&\"'!e\"&ROW($A27))=0,\"\",INDIRECT(AnalýzaDat!L$3&\"'!e\"&ROW($A27))),\"\")","v":""}]
[null,{"$f":"IFERROR(IF(INDIRECT(AnalýzaDat!C$3&\"'!e\"&ROW($A28))=0,\"\",INDIRECT(AnalýzaDat!C$3&\"'!e\"&ROW($A28))),\"\")","v":""},{"$f":"IFERROR(IF(INDIRECT(AnalýzaDat!D$3&\"'!e\"&ROW($A28))=0,\"\",INDIRECT(AnalýzaDat!D$3&\"'!e\"&ROW($A28))),\"\")","v":""},{"$f":"IFERROR(IF(INDIRECT(AnalýzaDat!E$3&\"'!e\"&ROW($A28))=0,\"\",INDIRECT(AnalýzaDat!E$3&\"'!e\"&ROW($A28))),\"\")","v":""},{"$f":"IFERROR(IF(INDIRECT(AnalýzaDat!F$3&\"'!e\"&ROW($A28))=0,\"\",INDIRECT(AnalýzaDat!F$3&\"'!e\"&ROW($A28))),\"\")","v":""},{"$f":"IFERROR(IF(INDIRECT(AnalýzaDat!G$3&\"'!e\"&ROW($A28))=0,\"\",INDIRECT(AnalýzaDat!G$3&\"'!e\"&ROW($A28))),\"\")","v":""},{"$f":"IFERROR(IF(INDIRECT(AnalýzaDat!H$3&\"'!e\"&ROW($A28))=0,\"\",INDIRECT(AnalýzaDat!H$3&\"'!e\"&ROW($A28))),\"\")","v":""},{"$f":"IFERROR(IF(INDIRECT(AnalýzaDat!I$3&\"'!e\"&ROW($A28))=0,\"\",INDIRECT(AnalýzaDat!I$3&\"'!e\"&ROW($A28))),\"\")","v":""},{"$f":"IFERROR(IF(INDIRECT(AnalýzaDat!J$3&\"'!e\"&ROW($A28))=0,\"\",INDIRECT(AnalýzaDat!J$3&\"'!e\"&ROW($A28))),\"\")","v":""},{"$f":"IFERROR(IF(INDIRECT(AnalýzaDat!K$3&\"'!e\"&ROW($A28))=0,\"\",INDIRECT(AnalýzaDat!K$3&\"'!e\"&ROW($A28))),\"\")","v":""},{"$f":"IFERROR(IF(INDIRECT(AnalýzaDat!L$3&\"'!e\"&ROW($A28))=0,\"\",INDIRECT(AnalýzaDat!L$3&\"'!e\"&ROW($A28))),\"\")","v":""}]
[null,{"$f":"IFERROR(IF(INDIRECT(AnalýzaDat!C$3&\"'!e\"&ROW($A29))=0,\"\",INDIRECT(AnalýzaDat!C$3&\"'!e\"&ROW($A29))),\"\")","v":""},{"$f":"IFERROR(IF(INDIRECT(AnalýzaDat!D$3&\"'!e\"&ROW($A29))=0,\"\",INDIRECT(AnalýzaDat!D$3&\"'!e\"&ROW($A29))),\"\")","v":""},{"$f":"IFERROR(IF(INDIRECT(AnalýzaDat!E$3&\"'!e\"&ROW($A29))=0,\"\",INDIRECT(AnalýzaDat!E$3&\"'!e\"&ROW($A29))),\"\")","v":""},{"$f":"IFERROR(IF(INDIRECT(AnalýzaDat!F$3&\"'!e\"&ROW($A29))=0,\"\",INDIRECT(AnalýzaDat!F$3&\"'!e\"&ROW($A29))),\"\")","v":""},{"$f":"IFERROR(IF(INDIRECT(AnalýzaDat!G$3&\"'!e\"&ROW($A29))=0,\"\",INDIRECT(AnalýzaDat!G$3&\"'!e\"&ROW($A29))),\"\")","v":""},{"$f":"IFERROR(IF(INDIRECT(AnalýzaDat!H$3&\"'!e\"&ROW($A29))=0,\"\",INDIRECT(AnalýzaDat!H$3&\"'!e\"&ROW($A29))),\"\")","v":""},{"$f":"IFERROR(IF(INDIRECT(AnalýzaDat!I$3&\"'!e\"&ROW($A29))=0,\"\",INDIRECT(AnalýzaDat!I$3&\"'!e\"&ROW($A29))),\"\")","v":""},{"$f":"IFERROR(IF(INDIRECT(AnalýzaDat!J$3&\"'!e\"&ROW($A29))=0,\"\",INDIRECT(AnalýzaDat!J$3&\"'!e\"&ROW($A29))),\"\")","v":""},{"$f":"IFERROR(IF(INDIRECT(AnalýzaDat!K$3&\"'!e\"&ROW($A29))=0,\"\",INDIRECT(AnalýzaDat!K$3&\"'!e\"&ROW($A29))),\"\")","v":""},{"$f":"IFERROR(IF(INDIRECT(AnalýzaDat!L$3&\"'!e\"&ROW($A29))=0,\"\",INDIRECT(AnalýzaDat!L$3&\"'!e\"&ROW($A29))),\"\")","v":""}]

{"sheet":"Hlavní seznam měrných jednotek","index":5,"n_rows":30,"n_cols":11,"rows_kept":30,"hidden":true}
[null,"Hlavní seznam měrných jednotek"]
[]
[null,"položka","Sloupec1","3","4","5","6","7","8","9","10"]
[null,{"$f":"IFERROR(IF(INDIRECT(AnalýzaDat!C$3&\"'!c\"&ROW($A3))=0,\"\",INDIRECT(AnalýzaDat!C$3&\"'!c\"&ROW($A3)))&\" \"&INDIRECT(AnalýzaDat!C$3&\"'!d\"&ROW($A3)),\"\")","v":"2 polévkové lžíce"},{"$f":"IFERROR(IF(INDIRECT(AnalýzaDat!D$3&\"'!c\"&ROW($A3))=0,\"\",INDIRECT(AnalýzaDat!D$3&\"'!c\"&ROW($A3)))&\" \"&INDIRECT(AnalýzaDat!D$3&\"'!d\"&ROW($A3)),\"\")","v":"1 krabička"},{"$f":"IFERROR(IF(INDIRECT(AnalýzaDat!E$3&\"'!c\"&ROW($A3))=0,\"\",INDIRECT(AnalýzaDat!E$3&\"'!c\"&ROW($A3)))&\" \"&INDIRECT(AnalýzaDat!E$3&\"'!d\"&ROW($A3)),\"\")","v":""},{"$f":"IFERROR(IF(INDIRECT(AnalýzaDat!F$3&\"'!c\"&ROW($A3))=0,\"\",INDIRECT(AnalýzaDat!F$3&\"'!c\"&ROW($A3)))&\" \"&INDIRECT(AnalýzaDat!F$3&\"'!d\"&ROW($A3)),\"\")","v":""},{"$f":"IFERROR(IF(INDIRECT(AnalýzaDat!G$3&\"'!c\"&ROW($A3))=0,\"\",INDIRECT(AnalýzaDat!G$3&\"'!c\"&ROW($A3)))&\" \"&INDIRECT(AnalýzaDat!G$3&\"'!d\"&ROW($A3)),\"\")","v":""},{"$f":"IFERROR(IF(INDIRECT(AnalýzaDat!H$3&\"'!c\"&ROW($A3))=0,\"\",INDIRECT(AnalýzaDat!H$3&\"'!c\"&ROW($A3)))&\" \"&INDIRECT(AnalýzaDat!H$3&\"'!d\"&ROW($A3)),\"\")","v":""},{"$f":"IFERROR(IF(INDIRECT(AnalýzaDat!I$3&\"'!c\"&ROW($A3))=0,\"\",INDIRECT(AnalýzaDat!I$3&\"'!c\"&ROW($A3)))&\" \"&INDIRECT(AnalýzaDat!I$3&\"'!d\"&ROW($A3)),\"\")","v":""},{"$f":"IFERROR(IF(INDIRECT(AnalýzaDat!J$3&\"'!c\"&ROW($A3))=0,\"\",INDIRECT(AnalýzaDat!J$3&\"'!c\"&ROW($A3)))&\" \"&INDIRECT(AnalýzaDat!J$3&\"'!d\"&ROW($A3)),\"\")","v":""},{"$f":"IFERROR(IF(INDIRECT(AnalýzaDat!K$3&\"'!c\"&ROW($A3))=0,\"\",INDIRECT(AnalýzaDat!K$3&\"'!c\"&ROW($A3)))&\" \"&INDIRECT(AnalýzaDat!K$3&\"'!d\"&ROW($A3)),\"\")","v":""},{"$f":"IFERROR(IF(INDIRECT(AnalýzaDat!L$3&\"'!c\"&ROW($A3))=0,\"\",INDIRECT(AnalýzaDat!L$3&\"'!c\"&ROW($A3)))&\" \"&INDIRECT(AnalýzaDat!L$3&\"'!d\"&ROW($A3)),\"\")","v":""}]
[null,{"$f":"IFERROR(IF(INDIRECT(AnalýzaDat!C$3&\"'!c\"&ROW($A4))=0,\"\",INDIRECT(AnalýzaDat!C$3&\"'!c\"&ROW($A4)))&\" \"&INDIRECT(AnalýzaDat!C$3&\"'!d\"&ROW($A4)),\"\")","v":"1/2 čajová lžička"},{"$f":"IFERROR(IF(INDIRECT(AnalýzaDat!D$3&\"'!c\"&ROW($A4))=0,\"\",INDIRECT(AnalýzaDat!D$3&\"'!c\"&ROW($A4)))&\" \"&INDIRECT(AnalýzaDat!D$3&\"'!d\"&ROW($A4)),\"\")","v":"1 balení"},{"$f":"IFERROR(IF(INDIRECT(AnalýzaDat!E$3&\"'!c\"&ROW($A4))=0,\"\",INDIRECT(AnalýzaDat!E$3&\"'!c\"&ROW($A4)))&\" \"&INDIRECT(AnalýzaDat!E$3&\"'!d\"&ROW($A4)),\"\")","v":""},{"$f":"IFERROR(IF(INDIRECT(AnalýzaDat!F$3&\"'!c\"&ROW($A4))=0,\"\",INDIRECT(AnalýzaDat!F$3&\"'!c\"&ROW($A4)))&\" \"&INDIRECT(AnalýzaDat!F$3&\"'!d\"&ROW($A4)),\"\")","v":""},{"$f":"IFERROR(IF(INDIRECT(AnalýzaDat!G$3&\"'!c\"&ROW($A4))=0,\"\",INDIRECT(AnalýzaDat!G$3&\"'!c\"&ROW($A4)))&\" \"&INDIRECT(AnalýzaDat!G$3&\"'!d\"&ROW($A4)),\"\")","v":""},{"$f":"IFERROR(IF(INDIRECT(AnalýzaDat!H$3&\"'!c\"&ROW($A4))=0,\"\",INDIRECT(AnalýzaDat!H$3&\"'!c\"&ROW($A4)))&\" \"&INDIRECT(AnalýzaDat!H$3&\"'!d\"&ROW($A4)),\"\")","v":""},{"$f":"IFERROR(IF(INDIRECT(AnalýzaDat!I$3&\"'!c\"&ROW($A4))=0,\"\",INDIRECT(AnalýzaDat!I$3&\"'!c\"&ROW($A4)))&\" \"&INDIRECT(AnalýzaDat!I$3&\"'!d\"&ROW($A4)),\"\")","v":""},{"$f":"IFERROR(IF(INDIRECT(AnalýzaDat!J$3&\"'!c\"&ROW($A4))=0,\"\",INDIRECT(AnalýzaDat!J$3&\"'!c\"&ROW($A4)))&\" \"&INDIRECT(AnalýzaDat!J$3&\"'!d\"&ROW($A4)),\"\")","v":""},{"$f":"IFERROR(IF(INDIRECT(AnalýzaDat!K$3&\"'!c\"&ROW($A4))=0,\"\",INDIRECT(AnalýzaDat!K$3&\"'!c\"&ROW($A4)))&\" \"&INDIRECT(AnalýzaDat!K$3&\"'!d\"&ROW($A4)),\"\")","v":""},{"$f":"IFERROR(IF(INDIRECT(AnalýzaDat!L$3&\"'!c\"&ROW($A4))=0,\"\",INDIRECT(AnalýzaDat!L$3&\"'!c\"&ROW($A4)))&\" \"&INDIRECT(AnalýzaDat!L$3&\"'!d\"&ROW($A4)),\"\")","v":""}]
[null,{"$f":"IFERROR(IF(INDIRECT(AnalýzaDat!C$3&\"'!c\"&ROW($A5))=0,\"\",INDIRECT(AnalýzaDat!C$3&\"'!c\"&ROW($A5)))&\" \"&INDIRECT(AnalýzaDat!C$3&\"'!d\"&ROW($A5)),\"\")","v":"2 šálky"},{"$f":"IFERROR(IF(INDIRECT(AnalýzaDat!D$3&\"'!c\"&ROW($A5))=0,\"\",INDIRECT(AnalýzaDat!D$3&\"'!c\"&ROW($A5)))&\" \"&INDIRECT(AnalýzaDat!D$3&\"'!d\"&ROW($A5)),\"\")","v":"1 balení"},{"$f":"IFERROR(IF(INDIRECT(AnalýzaDat!E$3&\"'!c\"&ROW($A5))=0,\"\",INDIRECT(AnalýzaDat!E$3&\"'!c\"&ROW($A5)))&\" \"&INDIRECT(AnalýzaDat!E$3&\"'!d\"&ROW($A5)),\"\")","v":""},{"$f":"IFERROR(IF(INDIRECT(AnalýzaDat!F$3&\"'!c\"&ROW($A5))=0,\"\",INDIRECT(AnalýzaDat!F$3&\"'!c\"&ROW($A5)))&\" \"&INDIRECT(AnalýzaDat!F$3&\"'!d\"&ROW($A5)),\"\")","v":""},{"$f":"IFERROR(IF(INDIRECT(AnalýzaDat!G$3&\"'!c\"&ROW($A5))=0,\"\",INDIRECT(AnalýzaDat!G$3&\"'!c\"&ROW($A5)))&\" \"&INDIRECT(AnalýzaDat!G$3&\"'!d\"&ROW($A5)),\"\")","v":""},{"$f":"IFERROR(IF(INDIRECT(AnalýzaDat!H$3&\"'!c\"&ROW($A5))=0,\"\",INDIRECT(AnalýzaDat!H$3&\"'!c\"&ROW($A5)))&\" \"&INDIRECT(AnalýzaDat!H$3&\"'!d\"&ROW($A5)),\"\")","v":""},{"$f":"IFERROR(IF(INDIRECT(AnalýzaDat!I$3&\"'!c\"&ROW($A5))=0,\"\",INDIRECT(AnalýzaDat!I$3&\"'!c\"&ROW($A5)))&\" \"&INDIRECT(AnalýzaDat!I$3&\"'!d\"&ROW($A5)),\"\")","v":""},{"$f":"IFERROR(IF(INDIRECT(AnalýzaDat!J$3&\"'!c\"&ROW($A5))=0,\"\",INDIRECT(AnalýzaDat!J$3&\"'!c\"&ROW($A5)))&\" \"&INDIRECT(AnalýzaDat!J$3&\"'!d\"&ROW($A5)),\"\")","v":""},{"$f":"IFERROR(IF(INDIRECT(AnalýzaDat!K$3&\"'!c\"&ROW($A5))=0,\"\",INDIRECT(AnalýzaDat!K$3&\"'!c\"&ROW($A5)))&\" \"&INDIRECT(AnalýzaDat!K$3&\"'!d\"&ROW($A5)),\"\")","v":""},{"$f":"IFERROR(IF(INDIRECT(AnalýzaDat!L$3&\"'!c\"&ROW($A5))=0,\"\",INDIRECT(AnalýzaDat!L$3&\"'!c\"&ROW($A5)))&\" \"&INDIRECT(AnalýzaDat!L$3&\"'!d\"&ROW($A5)),\"\")","v":""}]
[null,{"$f":"IFERROR(IF(INDIRECT(AnalýzaDat!C$3&\"'!c\"&ROW($A6))=0,\"\",INDIRECT(AnalýzaDat!C$3&\"'!c\"&ROW($A6)))&\" \"&INDIRECT(AnalýzaDat!C$3&\"'!d\"&ROW($A6)),\"\")","v":"2 čajové lžičky"},{"$f":"IFERROR(IF(INDIRECT(AnalýzaDat!D$3&\"'!c\"&ROW($A6))=0,\"\",INDIRECT(AnalýzaDat!D$3&\"'!c\"&ROW($A6)))&\" \"&INDIRECT(AnalýzaDat!D$3&\"'!d\"&ROW($A6)),\"\")","v":"1 polévková lžíce"},{"$f":"IFERROR(IF(INDIRECT(AnalýzaDat!E$3&\"'!c\"&ROW($A6))=0,\"\",INDIRECT(AnalýzaDat!E$3&\"'!c\"&ROW($A6)))&\" \"&INDIRECT(AnalýzaDat!E$3&\"'!d\"&ROW($A6)),\"\")","v":""},{"$f":"IFERROR(IF(INDIRECT(AnalýzaDat!F$3&\"'!c\"&ROW($A6))=0,\"\",INDIRECT(AnalýzaDat!F$3&\"'!c\"&ROW($A6)))&\" \"&INDIRECT(AnalýzaDat!F$3&\"'!d\"&ROW($A6)),\"\")","v":""},{"$f":"IFERROR(IF(INDIRECT(AnalýzaDat!G$3&\"'!c\"&ROW($A6))=0,\"\",INDIRECT(AnalýzaDat!G$3&\"'!c\"&ROW($A6)))&\" \"&INDIRECT(AnalýzaDat!G$3&\"'!d\"&ROW($A6)),\"\")","v":""},{"$f":"IFERROR(IF(INDIRECT(AnalýzaDat!H$3&\"'!c\"&ROW($A6))=0,\"\",INDIRECT(AnalýzaDat!H$3&\"'!c\"&ROW($A6)))&\" \"&INDIRECT(AnalýzaDat!H$3&\"'!d\"&ROW($A6)),\"\")","v":""},{"$f":"IFERROR(IF(INDIRECT(AnalýzaDat!I$3&\"'!c\"&ROW($A6))=0,\"\",INDIRECT(AnalýzaDat!I$3&\"'!c\"&ROW($A6)))&\" \"&INDIRECT(AnalýzaDat!I$3&\"'!d\"&ROW($A6)),\"\")","v":""},{"$f":"IFERROR(IF(INDIRECT(AnalýzaDat!J$3&\"'!c\"&ROW($A6))=0,\"\",INDIRECT(AnalýzaDat!J$3&\"'!c\"&ROW($A6)))&\" \"&INDIRECT(AnalýzaDat!J$3&\"'!d\"&ROW($A6)),\"\")","v":""},{"$f":"IFERROR(IF(INDIRECT(AnalýzaDat!K$3&\"'!c\"&ROW($A6))=0,\"\",INDIRECT(AnalýzaDat!K$3&\"'!c\"&ROW($A6)))&\" \"&INDIRECT(AnalýzaDat!K$3&\"'!d\"&ROW($A6)),\"\")","v":""},{"$f":"IFERROR(IF(INDIRECT(AnalýzaDat!L$3&\"'!c\"&ROW($A6))=0,\"\",INDIRECT(AnalýzaDat!L$3&\"'!c\"&ROW($A6)))&\" \"&INDIRECT(AnalýzaDat!L$3&\"'!d\"&ROW($A6)),\"\")","v":""}]
[null,{"$f":"IFERROR(IF(INDIRECT(AnalýzaDat!C$3&\"'!c\"&ROW($A7))=0,\"\",INDIRECT(AnalýzaDat!C$3&\"'!c\"&ROW($A7)))&\" \"&INDIRECT(AnalýzaDat!C$3&\"'!d\"&ROW($A7)),\"\")","v":"3/4 šálek"},{"$f":"IFERROR(IF(INDIRECT(AnalýzaDat!D$3&\"'!c\"&ROW($A7))=0,\"\",INDIRECT(AnalýzaDat!D$3&\"'!c\"&ROW($A7)))&\" \"&INDIRECT(AnalýzaDat!D$3&\"'!d\"&ROW($A7)),\"\")","v":"5 snítka"},{"$f":"IFERROR(IF(INDIRECT(AnalýzaDat!E$3&\"'!c\"&ROW($A7))=0,\"\",INDIRECT(AnalýzaDat!E$3&\"'!c\"&ROW($A7)))&\" \"&INDIRECT(AnalýzaDat!E$3&\"'!d\"&ROW($A7)),\"\")","v":""},{"$f":"IFERROR(IF(INDIRECT(AnalýzaDat!F$3&\"'!c\"&ROW($A7))=0,\"\",INDIRECT(AnalýzaDat!F$3&\"'!c\"&ROW($A7)))&\" \"&INDIRECT(AnalýzaDat!F$3&\"'!d\"&ROW($A7)),\"\")","v":""},{"$f":"IFERROR(IF(INDIRECT(AnalýzaDat!G$3&\"'!c\"&ROW($A7))=0,\"\",INDIRECT(AnalýzaDat!G$3&\"'!c\"&ROW($A7)))&\" \"&INDIRECT(AnalýzaDat!G$3&\"'!d\"&ROW($A7)),\"\")","v":""},{"$f":"IFERROR(IF(INDIRECT(AnalýzaDat!H$3&\"'!c\"&ROW($A7))=0,\"\",INDIRECT(AnalýzaDat!H$3&\"'!c\"&ROW($A7)))&\" \"&INDIRECT(AnalýzaDat!H$3&\"'!d\"&ROW($A7)),\"\")","v":""},{"$f":"IFERROR(IF(INDIRECT(AnalýzaDat!I$3&\"'!c\"&ROW($A7))=0,\"\",INDIRECT(AnalýzaDat!I$3&\"'!c\"&ROW($A7)))&\" \"&INDIRECT(AnalýzaDat!I$3&\"'!d\"&ROW($A7)),\"\")","v":""},{"$f":"IFERROR(IF(INDIRECT(AnalýzaDat!J$3&\"'!c\"&ROW($A7))=0,\"\",INDIRECT(AnalýzaDat!J$3&\"'!c\"&ROW($A7)))&\" \"&INDIRECT(AnalýzaDat!J$3&\"'!d\"&ROW($A7)),\"\")","v":""},{"$f":"IFERROR(IF(INDIRECT(AnalýzaDat!K$3&\"'!c\"&ROW($A7))=0,\"\",INDIRECT(AnalýzaDat!K$3&\"'!c\"&ROW($A7)))&\" \"&INDIRECT(AnalýzaDat!K$3&\"'!d\"&ROW($A7)),\"\")","v":""},{"$f":"IFERROR(IF(INDIRECT(AnalýzaDat!L$3&\"'!c\"&ROW($A7))=0,\"\",INDIRECT(AnalýzaDat!L$3&\"'!c\"&ROW($A7)))&\" \"&INDIRECT(AnalýzaDat!L$3&\"'!d\"&ROW($A7)),\"\")","v":""}]
[null,{"$f":"IFERROR(IF(INDIRECT(AnalýzaDat!C$3&\"'!c\"&ROW($A8))=0,\"\",INDIRECT(AnalýzaDat!C$3&\"'!c\"&ROW($A8)))&\" \"&INDIRECT(AnalýzaDat!C$3&\"'!d\"&ROW($A8)),\"\")","v":"1 stroužek"},{"$f":"IFERROR(IF(INDIRECT(AnalýzaDat!D$3&\"'!c\"&ROW($A8))=0,\"\",INDIRECT(AnalýzaDat!D$3&\"'!c\"&ROW($A8)))&\" \"&INDIRECT(AnalýzaDat!D$3&\"'!d\"&ROW($A8)),\"\")","v":" "},{"$f":"IFERROR(IF(INDIRECT(AnalýzaDat!E$3&\"'!c\"&ROW($A8))=0,\"\",INDIRECT(AnalýzaDat!E$3&\"'!c\"&ROW($A8)))&\" \"&INDIRECT(AnalýzaDat!E$3&\"'!d\"&ROW($A8)),\"\")","v":""},{"$f":"IFERROR(IF(INDIRECT(AnalýzaDat!F$3&\"'!c\"&ROW($A8))=0,\"\",INDIRECT(AnalýzaDat!F$3&\"'!c\"&ROW($A8)))&\" \"&INDIRECT(AnalýzaDat!F$3&\"'!d\"&ROW($A8)),\"\")","v":""},{"$f":"IFERROR(IF(INDIRECT(AnalýzaDat!G$3&\"'!c\"&ROW($A8))=0,\"\",INDIRECT(AnalýzaDat!G$3&\"'!c\"&ROW($A8)))&\" \"&INDIRECT(AnalýzaDat!G$3&\"'!d\"&ROW($A8)),\"\")","v":""},{"$f":"IFERROR(IF(INDIRECT(AnalýzaDat!H$3&\"'!c\"&ROW($A8))=0,\"\",INDIRECT(AnalýzaDat!H$3&\"'!c\"&ROW($A8)))&\" \"&INDIRECT(AnalýzaDat!H$3&\"'!d\"&ROW($A8)),\"\")","v":""},{"$f":"IFERROR(IF(INDIRECT(AnalýzaDat!I$3&\"'!c\"&ROW($A8))=0,\"\",INDIRECT(AnalýzaDat!I$3&\"'!c\"&ROW($A8)))&\" \"&INDIRECT(AnalýzaDat!I$3&\"'!d\"&ROW($A8)),\"\")","v":""},{"$f":"IFERROR(IF(INDIRECT(AnalýzaDat!J$3&\"'!c\"&ROW($A8))=0,\"\",INDIRECT(AnalýzaDat!J$3&\"'!c\"&ROW($A8)))&\" \"&INDIRECT(AnalýzaDat!J$3&\"'!d\"&ROW($A8)),\"\")","v":""},{"$f":"IFERROR(IF(INDIRECT(AnalýzaDat!K$3&\"'!c\"&ROW($A8))=0,\"\",INDIRECT(AnalýzaDat!K$3&\"'!c\"&ROW($A8)))&\" \"&INDIRECT(AnalýzaDat!K$3&\"'!d\"&ROW($A8)),\"\")","v":""},{"$f":"IFERROR(IF(INDIRECT(AnalýzaDat!L$3&\"'!c\"&ROW($A8))=0,\"\",INDIRECT(AnalýzaDat!L$3&\"'!c\"&ROW($A8)))&\" \"&INDIRECT(AnalýzaDat!L$3&\"'!d\"&ROW($A8)),\"\")","v":""}]
[null,{"$f":"IFERROR(IF(INDIRECT(AnalýzaDat!C$3&\"'!c\"&ROW($A9))=0,\"\",INDIRECT(AnalýzaDat!C$3&\"'!c\"&ROW($A9)))&\" \"&INDIRECT(AnalýzaDat!C$3&\"'!d\"&ROW($A9)),\"\")","v":"1/8 čajová lžička"},{"$f":"IFERROR(IF(INDIRECT(AnalýzaDat!D$3&\"'!c\"&ROW($A9))=0,\"\",INDIRECT(AnalýzaDat!D$3&\"'!c\"&ROW($A9)))&\" \"&INDIRECT(AnalýzaDat!D$3&\"'!d\"&ROW($A9)),\"\")","v":" "},{"$f":"IFERROR(IF(INDIRECT(AnalýzaDat!E$3&\"'!c\"&ROW($A9))=0,\"\",INDIRECT(AnalýzaDat!E$3&\"'!c\"&ROW($A9)))&\" \"&INDIRECT(AnalýzaDat!E$3&\"'!d\"&ROW($A9)),\"\")","v":""},{"$f":"IFERROR(IF(INDIRECT(AnalýzaDat!F$3&\"'!c\"&ROW($A9))=0,\"\",INDIRECT(AnalýzaDat!F$3&\"'!c\"&ROW($A9)))&\" \"&INDIRECT(AnalýzaDat!F$3&\"'!d\"&ROW($A9)),\"\")","v":""},{"$f":"IFERROR(IF(INDIRECT(AnalýzaDat!G$3&\"'!c\"&ROW($A9))=0,\"\",INDIRECT(AnalýzaDat!G$3&\"'!c\"&ROW($A9)))&\" \"&INDIRECT(AnalýzaDat!G$3&\"'!d\"&ROW($A9)),\"\")","v":""},{"$f":"IFERROR(IF(INDIRECT(AnalýzaDat!H$3&\"'!c\"&ROW($A9))=0,\"\",INDIRECT(AnalýzaDat!H$3&\"'!c\"&ROW($A9)))&\" \"&INDIRECT(AnalýzaDat!H$3&\"'!d\"&ROW($A9)),\"\")","v":""},{"$f":"IFERROR(IF(INDIRECT(AnalýzaDat!I$3&\"'!c\"&ROW($A9))=0,\"\",INDIRECT(AnalýzaDat!I$3&\"'!c\"&ROW($A9)))&\" \"&INDIRECT(AnalýzaDat!I$3&\"'!d\"&ROW($A9)),\"\")","v":""},{"$f":"IFERROR(IF(INDIRECT(AnalýzaDat!J$3&\"'!c\"&ROW($A9))=0,\"\",INDIRECT(AnalýzaDat!J$3&\"'!c\"&ROW($A9)))&\" \"&INDIRECT(AnalýzaDat!J$3&\"'!d\"&ROW($A9)),\"\")","v":""},{"$f":"IFERROR(IF(INDIRECT(AnalýzaDat!K$3&\"'!c\"&ROW($A9))=0,\"\",INDIRECT(AnalýzaDat!K$3&\"'!c\"&ROW($A9)))&\" \"&INDIRECT(AnalýzaDat!K$3&\"'!d\"&ROW($A9)),\"\")","v":""},{"$f":"IFERROR(IF(INDIRECT(AnalýzaDat!L$3&\"'!c\"&ROW($A9))=0,\"\",INDIRECT(AnalýzaDat!L$3&\"'!c\"&ROW($A9)))&\" \"&INDIRECT(AnalýzaDat!L$3&\"'!d\"&ROW($A9)),\"\")","v":""}]
[null,{"$f":"IFERROR(IF(INDIRECT(AnalýzaDat!C$3&\"'!c\"&ROW($A10))=0,\"\",INDIRECT(AnalýzaDat!C$3&\"'!c\"&ROW($A10)))&\" \"&INDIRECT(AnalýzaDat!C$3&\"'!d\"&ROW($A10)),\"\")","v":"2 šálky"},{"$f":"IFERROR(IF(INDIRECT(AnalýzaDat!D$3&\"'!c\"&ROW($A10))=0,\"\",INDIRECT(AnalýzaDat!D$3&\"'!c\"&ROW($A10)))&\" \"&INDIRECT(AnalýzaDat!D$3&\"'!d\"&ROW($A10)),\"\")","v":" "},{"$f":"IFERROR(IF(INDIRECT(AnalýzaDat!E$3&\"'!c\"&ROW($A10))=0,\"\",INDIRECT(AnalýzaDat!E$3&\"'!c\"&ROW($A10)))&\" \"&INDIRECT(AnalýzaDat!E$3&\"'!d\"&ROW($A10)),\"\")","v":""},{"$f":"IFERROR(IF(INDIRECT(AnalýzaDat!F$3&\"'!c\"&ROW($A10))=0,\"\",INDIRECT(AnalýzaDat!F$3&\"'!c\"&ROW($A10)))&\" \"&INDIRECT(AnalýzaDat!F$3&\"'!d\"&ROW($A10)),\"\")","v":""},{"$f":"IFERROR(IF(INDIRECT(AnalýzaDat!G$3&\"'!c\"&ROW($A10))=0,\"\",INDIRECT(AnalýzaDat!G$3&\"'!c\"&ROW($A10)))&\" \"&INDIRECT(AnalýzaDat!G$3&\"'!d\"&ROW($A10)),\"\")","v":""},{"$f":"IFERROR(IF(INDIRECT(AnalýzaDat!H$3&\"'!c\"&ROW($A10))=0,\"\",INDIRECT(AnalýzaDat!H$3&\"'!c\"&ROW($A10)))&\" \"&INDIRECT(AnalýzaDat!H$3&\"'!d\"&ROW($A10)),\"\")","v":""},{"$f":"IFERROR(IF(INDIRECT(AnalýzaDat!I$3&\"'!c\"&ROW($A10))=0,\"\",INDIRECT(AnalýzaDat!I$3&\"'!c\"&ROW($A10)))&\" \"&INDIRECT(AnalýzaDat!I$3&\"'!d\"&ROW($A10)),\"\")","v":""},{"$f":"IFERROR(IF(INDIRECT(AnalýzaDat!J$3&\"'!c\"&ROW($A10))=0,\"\",INDIRECT(AnalýzaDat!J$3&\"'!c\"&ROW($A10)))&\" \"&INDIRECT(AnalýzaDat!J$3&\"'!d\"&ROW($A10)),\"\")","v":""},{"$f":"IFERROR(IF(INDIRECT(AnalýzaDat!K$3&\"'!c\"&ROW($A10))=0,\"\",INDIRECT(AnalýzaDat!K$3&\"'!c\"&ROW($A10)))&\" \"&INDIRECT(AnalýzaDat!K$3&\"'!d\"&ROW($A10)),\"\")","v":""},{"$f":"IFERROR(IF(INDIRECT(AnalýzaDat!L$3&\"'!c\"&ROW($A10))=0,\"\",INDIRECT(AnalýzaDat!L$3&\"'!c\"&ROW($A10)))&\" \"&INDIRECT(AnalýzaDat!L$3&\"'!d\"&ROW($A10)),\"\")","v":""}]
[null,{"$f":"IFERROR(IF(INDIRECT(AnalýzaDat!C$3&\"'!c\"&ROW($A11))=0,\"\",INDIRECT(AnalýzaDat!C$3&\"'!c\"&ROW($A11)))&\" \"&INDIRECT(AnalýzaDat!C$3&\"'!d\"&ROW($A11)),\"\")","v":"1 malé"},{"$f":"IFERROR(IF(INDIRECT(AnalýzaDat!D$3&\"'!c\"&ROW($A11))=0,\"\",INDIRECT(AnalýzaDat!D$3&\"'!c\"&ROW($A11)))&\" \"&INDIRECT(AnalýzaDat!D$3&\"'!d\"&ROW($A11)),\"\")","v":" "},{"$f":"IFERROR(IF(INDIRECT(AnalýzaDat!E$3&\"'!c\"&ROW($A11))=0,\"\",INDIRECT(AnalýzaDat!E$3&\"'!c\"&ROW($A11)))&\" \"&INDIRECT(AnalýzaDat!E$3&\"'!d\"&ROW($A11)),\"\")","v":""},{"$f":"IFERROR(IF(INDIRECT(AnalýzaDat!F$3&\"'!c\"&ROW($A11))=0,\"\",INDIRECT(AnalýzaDat!F$3&\"'!c\"&ROW($A11)))&\" \"&INDIRECT(AnalýzaDat!F$3&\"'!d\"&ROW($A11)),\"\")","v":""},{"$f":"IFERROR(IF(INDIRECT(AnalýzaDat!G$3&\"'!c\"&ROW($A11))=0,\"\",INDIRECT(AnalýzaDat!G$3&\"'!c\"&ROW($A11)))&\" \"&INDIRECT(AnalýzaDat!G$3&\"'!d\"&ROW($A11)),\"\")","v":""},{"$f":"IFERROR(IF(INDIRECT(AnalýzaDat!H$3&\"'!c\"&ROW($A11))=0,\"\",INDIRECT(AnalýzaDat!H$3&\"'!c\"&ROW($A11)))&\" \"&INDIRECT(AnalýzaDat!H$3&\"'!d\"&ROW($A11)),\"\")","v":""},{"$f":"IFERROR(IF(INDIRECT(AnalýzaDat!I$3&\"'!c\"&ROW($A11))=0,\"\",INDIRECT(AnalýzaDat!I$3&\"'!c\"&ROW($A11)))&\" \"&INDIRECT(AnalýzaDat!I$3&\"'!d\"&ROW($A11)),\"\")","v":""},{"$f":"IFERROR(IF(INDIRECT(AnalýzaDat!J$3&\"'!c\"&ROW($A11))=0,\"\",INDIRECT(AnalýzaDat!J$3&\"'!c\"&ROW($A11)))&\" \"&INDIRECT(AnalýzaDat!J$3&\"'!d\"&ROW($A11)),\"\")","v":""},{"$f":"IFERROR(IF(INDIRECT(AnalýzaDat!K$3&\"'!c\"&ROW($A11))=0,\"\",INDIRECT(AnalýzaDat!K$3&\"'!c\"&ROW($A11)))&\" \"&INDIRECT(AnalýzaDat!K$3&\"'!d\"&ROW($A11)),\"\")","v":""},{"$f":"IFERROR(IF(INDIRECT(AnalýzaDat!L$3&\"'!c\"&ROW($A11))=0,\"\",INDIRECT(AnalýzaDat!L$3&\"'!c\"&ROW($A11)))&\" \"&INDIRECT(AnalýzaDat!L$3&\"'!d\"&ROW($A11)),\"\")","v":""}]
[null,{"$f":"IFERROR(IF(INDIRECT(AnalýzaDat!C$3&\"'!c\"&ROW($A12))=0,\"\",INDIRECT(AnalýzaDat!C$3&\"'!c\"&ROW($A12)))&\" \"&INDIRECT(AnalýzaDat!C$3&\"'!d\"&ROW($A12)),\"\")","v":"1 šálek"},{"$f":"IFERROR(IF(INDIRECT(AnalýzaDat!D$3&\"'!c\"&ROW($A12))=0,\"\",INDIRECT(AnalýzaDat!D$3&\"'!c\"&ROW($A12)))&\" \"&INDIRECT(AnalýzaDat!D$3&\"'!d\"&ROW($A12)),\"\")","v":" "},{"$f":"IFERROR(IF(INDIRECT(AnalýzaDat!E$3&\"'!c\"&ROW($A12))=0,\"\",INDIRECT(AnalýzaDat!E$3&\"'!c\"&ROW($A12)))&\" \"&INDIRECT(AnalýzaDat!E$3&\"'!d\"&ROW($A12)),\"\")","v":""},{"$f":"IFERROR(IF(INDIRECT(AnalýzaDat!F$3&\"'!c\"&ROW($A12))=0,\"\",INDIRECT(AnalýzaDat!F$3&\"'!c\"&ROW($A12)))&\" \"&INDIRECT(AnalýzaDat!F$3&\"'!d\"&ROW($A12)),\"\")","v":""},{"$f":"IFERROR(IF(INDIRECT(AnalýzaDat!G$3&\"'!c\"&ROW($A12))=0,\"\",INDIRECT(AnalýzaDat!G$3&\"'!c\"&ROW($A12)))&\" \"&INDIRECT(AnalýzaDat!G$3&\"'!d\"&ROW($A12)),\"\")","v":""},{"$f":"IFERROR(IF(INDIRECT(AnalýzaDat!H$3&\"'!c\"&ROW($A12))=0,\"\",INDIRECT(AnalýzaDat!H$3&\"'!c\"&ROW($A12)))&\" \"&INDIRECT(AnalýzaDat!H$3&\"'!d\"&ROW($A12)),\"\")","v":""},{"$f":"IFERROR(IF(INDIRECT(AnalýzaDat!I$3&\"'!c\"&ROW($A12))=0,\"\",INDIRECT(AnalýzaDat!I$3&\"'!c\"&ROW($A12)))&\" \"&INDIRECT(AnalýzaDat!I$3&\"'!d\"&ROW($A12)),\"\")","v":""},{"$f":"IFERROR(IF(INDIRECT(AnalýzaDat!J$3&\"'!c\"&ROW($A12))=0,\"\",INDIRECT(AnalýzaDat!J$3&\"'!c\"&ROW($A12)))&\" \"&INDIRECT(AnalýzaDat!J$3&\"'!d\"&ROW($A12)),\"\")","v":""},{"$f":"IFERROR(IF(INDIRECT(AnalýzaDat!K$3&\"'!c\"&ROW($A12))=0,\"\",INDIRECT(AnalýzaDat!K$3&\"'!c\"&ROW($A12)))&\" \"&INDIRECT(AnalýzaDat!K$3&\"'!d\"&ROW($A12)),\"\")","v":""},{"$f":"IFERROR(IF(INDIRECT(AnalýzaDat!L$3&\"'!c\"&ROW($A12))=0,\"\",INDIRECT(AnalýzaDat!L$3&\"'!c\"&ROW($A12)))&\" \"&INDIRECT(AnalýzaDat!L$3&\"'!d\"&ROW($A12)),\"\")","v":""}]
[null,{"$f":"IFERROR(IF(INDIRECT(AnalýzaDat!C$3&\"'!c\"&ROW($A13))=0,\"\",INDIRECT(AnalýzaDat!C$3&\"'!c\"&ROW($A13)))&\" \"&INDIRECT(AnalýzaDat!C$3&\"'!d\"&ROW($A13)),\"\")","v":"1 šálek"},{"$f":"IFERROR(IF(INDIRECT(AnalýzaDat!D$3&\"'!c\"&ROW($A13))=0,\"\",INDIRECT(AnalýzaDat!D$3&\"'!c\"&ROW($A13)))&\" \"&INDIRECT(AnalýzaDat!D$3&\"'!d\"&ROW($A13)),\"\")","v":" "},{"$f":"IFERROR(IF(INDIRECT(AnalýzaDat!E$3&\"'!c\"&ROW($A13))=0,\"\",INDIRECT(AnalýzaDat!E$3&\"'!c\"&ROW($A13)))&\" \"&INDIRECT(AnalýzaDat!E$3&\"'!d\"&ROW($A13)),\"\")","v":""},{"$f":"IFERROR(IF(INDIRECT(AnalýzaDat!F$3&\"'!c\"&ROW($A13))=0,\"\",INDIRECT(AnalýzaDat!F$3&\"'!c\"&ROW($A13)))&\" \"&INDIRECT(AnalýzaDat!F$3&\"'!d\"&ROW($A13)),\"\")","v":""},{"$f":"IFERROR(IF(INDIRECT(AnalýzaDat!G$3&\"'!c\"&ROW($A13))=0,\"\",INDIRECT(AnalýzaDat!G$3&\"'!c\"&ROW($A13)))&\" \"&INDIRECT(AnalýzaDat!G$3&\"'!d\"&ROW($A13)),\"\")","v":""},{"$f":"IFERROR(IF(INDIRECT(AnalýzaDat!H$3&\"'!c\"&ROW($A13))=0,\"\",INDIRECT(AnalýzaDat!H$3&\"'!c\"&ROW($A13)))&\" \"&INDIRECT(AnalýzaDat!H$3&\"'!d\"&ROW($A13)),\"\")","v":""},{"$f":"IFERROR(IF(INDIRECT(AnalýzaDat!I$3&\"'!c\"&ROW($A13))=0,\"\",INDIRECT(AnalýzaDat!I$3&\"'!c\"&ROW($A13)))&\" \"&INDIRECT(AnalýzaDat!I$3&\"'!d\"&ROW($A13)),\"\")","v":""},{"$f":"IFERROR(IF(INDIRECT(AnalýzaDat!J$3&\"'!c\"&ROW($A13))=0,\"\",INDIRECT(AnalýzaDat!J$3&\"'!c\"&ROW($A13)))&\" \"&INDIRECT(AnalýzaDat!J$3&\"'!d\"&ROW($A13)),\"\")","v":""},{"$f":"IFERROR(IF(INDIRECT(AnalýzaDat!K$3&\"'!c\"&ROW($A13))=0,\"\",INDIRECT(AnalýzaDat!K$3&\"'!c\"&ROW($A13)))&\" \"&INDIRECT(AnalýzaDat!K$3&\"'!d\"&ROW($A13)),\"\")","v":""},{"$f":"IFERROR(IF(INDIRECT(AnalýzaDat!L$3&\"'!c\"&ROW($A13))=0,\"\",INDIRECT(AnalýzaDat!L$3&\"'!c\"&ROW($A13)))&\" \"&INDIRECT(AnalýzaDat!L$3&\"'!d\"&ROW($A13)),\"\")","v":""}]
[null,{"$f":"IFERROR(IF(INDIRECT(AnalýzaDat!C$3&\"'!c\"&ROW($A14))=0,\"\",INDIRECT(AnalýzaDat!C$3&\"'!c\"&ROW($A14)))&\" \"&INDIRECT(AnalýzaDat!C$3&\"'!d\"&ROW($A14)),\"\")","v":"1/4 šálek"},{"$f":"IFERROR(IF(INDIRECT(AnalýzaDat!D$3&\"'!c\"&ROW($A14))=0,\"\",INDIRECT(AnalýzaDat!D$3&\"'!c\"&ROW($A14)))&\" \"&INDIRECT(AnalýzaDat!D$3&\"'!d\"&ROW($A14)),\"\")","v":" "},{"$f":"IFERROR(IF(INDIRECT(AnalýzaDat!E$3&\"'!c\"&ROW($A14))=0,\"\",INDIRECT(AnalýzaDat!E$3&\"'!c\"&ROW($A14)))&\" \"&INDIRECT(AnalýzaDat!E$3&\"'!d\"&ROW($A14)),\"\")","v":""},{"$f":"IFERROR(IF(INDIRECT(AnalýzaDat!F$3&\"'!c\"&ROW($A14))=0,\"\",INDIRECT(AnalýzaDat!F$3&\"'!c\"&ROW($A14)))&\" \"&INDIRECT(AnalýzaDat!F$3&\"'!d\"&ROW($A14)),\"\")","v":""},{"$f":"IFERROR(IF(INDIRECT(AnalýzaDat!G$3&\"'!c\"&ROW($A14))=0,\"\",INDIRECT(AnalýzaDat!G$3&\"'!c\"&ROW($A14)))&\" \"&INDIRECT(AnalýzaDat!G$3&\"'!d\"&ROW($A14)),\"\")","v":""},{"$f":"IFERROR(IF(INDIRECT(AnalýzaDat!H$3&\"'!c\"&ROW($A14))=0,\"\",INDIRECT(AnalýzaDat!H$3&\"'!c\"&ROW($A14)))&\" \"&INDIRECT(AnalýzaDat!H$3&\"'!d\"&ROW($A14)),\"\")","v":""},{"$f":"IFERROR(IF(INDIRECT(AnalýzaDat!I$3&\"'!c\"&ROW($A14))=0,\"\",INDIRECT(AnalýzaDat!I$3&\"'!c\"&ROW($A14)))&\" \"&INDIRECT(AnalýzaDat!I$3&\"'!d\"&ROW($A14)),\"\")","v":""},{"$f":"IFERROR(IF(INDIRECT(AnalýzaDat!J$3&\"'!c\"&ROW($A14))=0,\"\",INDIRECT(AnalýzaDat!J$3&\"'!c\"&ROW($A14)))&\" \"&INDIRECT(AnalýzaDat!J$3&\"'!d\"&ROW($A14)),\"\")","v":""},{"$f":"IFERROR(IF(INDIRECT(AnalýzaDat!K$3&\"'!c\"&ROW($A14))=0,\"\",INDIRECT(AnalýzaDat!K$3&\"'!c\"&ROW($A14)))&\" \"&INDIRECT(AnalýzaDat!K$3&\"'!d\"&ROW($A14)),\"\")","v":""},{"$f":"IFERROR(IF(INDIRECT(AnalýzaDat!L$3&\"'!c\"&ROW($A14))=0,\"\",INDIRECT(AnalýzaDat!L$3&\"'!c\"&ROW($A14)))&\" \"&INDIRECT(AnalýzaDat!L$3&\"'!d\"&ROW($A14)),\"\")","v":""}]
[null,{"$f":"IFERROR(IF(INDIRECT(AnalýzaDat!C$3&\"'!c\"&ROW($A15))=0,\"\",INDIRECT(AnalýzaDat!C$3&\"'!c\"&ROW($A15)))&\" \"&INDIRECT(AnalýzaDat!C$3&\"'!d\"&ROW($A15)),\"\")","v":"1/2 čajová lžička"},{"$f":"IFERROR(IF(INDIRECT(AnalýzaDat!D$3&\"'!c\"&ROW($A15))=0,\"\",INDIRECT(AnalýzaDat!D$3&\"'!c\"&ROW($A15)))&\" \"&INDIRECT(AnalýzaDat!D$3&\"'!d\"&ROW($A15)),\"\")","v":" "},{"$f":"IFERROR(IF(INDIRECT(AnalýzaDat!E$3&\"'!c\"&ROW($A15))=0,\"\",INDIRECT(AnalýzaDat!E$3&\"'!c\"&ROW($A15)))&\" \"&INDIRECT(AnalýzaDat!E$3&\"'!d\"&ROW($A15)),\"\")","v":""},{"$f":"IFERROR(IF(INDIRECT(AnalýzaDat!F$3&\"'!c\"&ROW($A15))=0,\"\",INDIRECT(AnalýzaDat!F$3&\"'!c\"&ROW($A15)))&\" \"&INDIRECT(AnalýzaDat!F$3&\"'!d\"&ROW($A15)),\"\")","v":""},{"$f":"IFERROR(IF(INDIRECT(AnalýzaDat!G$3&\"'!c\"&ROW($A15))=0,\"\",INDIRECT(AnalýzaDat!G$3&\"'!c\"&ROW($A15)))&\" \"&INDIRECT(AnalýzaDat!G$3&\"'!d\"&ROW($A15)),\"\")","v":""},{"$f":"IFERROR(IF(INDIRECT(AnalýzaDat!H$3&\"'!c\"&ROW($A15))=0,\"\",INDIRECT(AnalýzaDat!H$3&\"'!c\"&ROW($A15)))&\" \"&INDIRECT(AnalýzaDat!H$3&\"'!d\"&ROW($A15)),\"\")","v":""},{"$f":"IFERROR(IF(INDIRECT(AnalýzaDat!I$3&\"'!c\"&ROW($A15))=0,\"\",INDIRECT(AnalýzaDat!I$3&\"'!c\"&ROW($A15)))&\" \"&INDIRECT(AnalýzaDat!I$3&\"'!d\"&ROW($A15)),\"\")","v":""},{"$f":"IFERROR(IF(INDIRECT(AnalýzaDat!J$3&\"'!c\"&ROW($A15))=0,\"\",INDIRECT(AnalýzaDat!J$3&\"'!c\"&ROW($A15)))&\" \"&INDIRECT(AnalýzaDat!J$3&\"'!d\"&ROW($A15)),\"\")","v":""},{"$f":"IFERROR(IF(INDIRECT(AnalýzaDat!K$3&\"'!c\"&ROW($A15))=0,\"\",INDIRECT(AnalýzaDat!K$3&\"'!c\"&ROW($A15)))&\" \"&INDIRECT(AnalýzaDat!K$3&\"'!d\"&ROW($A15)),\"\")","v":""},{"$f":"IFERROR(IF(INDIRECT(AnalýzaDat!L$3&\"'!c\"&ROW($A15))=0,\"\",INDIRECT(AnalýzaDat!L$3&\"'!c\"&ROW($A15)))&\" \"&INDIRECT(AnalýzaDat!L$3&\"'!d\"&ROW($A15)),\"\")","v":""}]
[null,{"$f":"IFERROR(IF(INDIRECT(AnalýzaDat!C$3&\"'!c\"&ROW($A16))=0,\"\",INDIRECT(AnalýzaDat!C$3&\"'!c\"&ROW($A16)))&\" \"&INDIRECT(AnalýzaDat!C$3&\"'!d\"&ROW($A16)),\"\")","v":" "},{"$f":"IFERROR(IF(INDIRECT(AnalýzaDat!D$3&\"'!c\"&ROW($A16))=0,\"\",INDIRECT(AnalýzaDat!D$3&\"'!c\"&ROW($A16)))&\" \"&INDIRECT(AnalýzaDat!D$3&\"'!d\"&ROW($A16)),\"\")","v":" "},{"$f":"IFERROR(IF(INDIRECT(AnalýzaDat!E$3&\"'!c\"&ROW($A16))=0,\"\",INDIRECT(AnalýzaDat!E$3&\"'!c\"&ROW($A16)))&\" \"&INDIRECT(AnalýzaDat!E$3&\"'!d\"&ROW($A16)),\"\")","v":""},{"$f":"IFERROR(IF(INDIRECT(AnalýzaDat!F$3&\"'!c\"&ROW($A16))=0,\"\",INDIRECT(AnalýzaDat!F$3&\"'!c\"&ROW($A16)))&\" \"&INDIRECT(AnalýzaDat!F$3&\"'!d\"&ROW($A16)),\"\")","v":""},{"$f":"IFERROR(IF(INDIRECT(AnalýzaDat!G$3&\"'!c\"&ROW($A16))=0,\"\",INDIRECT(AnalýzaDat!G$3&\"'!c\"&ROW($A16)))&\" \"&INDIRECT(AnalýzaDat!G$3&\"'!d\"&ROW($A16)),\"\")","v":""},{"$f":"IFERROR(IF(INDIRECT(AnalýzaDat!H$3&\"'!c\"&ROW($A16))=0,\"\",INDIRECT(AnalýzaDat!H$3&\"'!c\"&ROW($A16)))&\" \"&INDIRECT(AnalýzaDat!H$3&\"'!d\"&ROW($A16)),\"\")","v":""},{"$f":"IFERROR(IF(INDIRECT(AnalýzaDat!I$3&\"'!c\"&ROW($A16))=0,\"\",INDIRECT(AnalýzaDat!I$3&\"'!c\"&ROW($A16)))&\" \"&INDIRECT(AnalýzaDat!I$3&\"'!d\"&ROW($A16)),\"\")","v":""},{"$f":"IFERROR(IF(INDIRECT(AnalýzaDat!J$3&\"'!c\"&ROW($A16))=0,\"\",INDIRECT(AnalýzaDat!J$3&\"'!c\"&ROW($A16)))&\" \"&INDIRECT(AnalýzaDat!J$3&\"'!d\"&ROW($A16)),\"\")","v":""},{"$f":"IFERROR(IF(INDIRECT(AnalýzaDat!K$3&\"'!c\"&ROW($A16))=0,\"\",INDIRECT(AnalýzaDat!K$3&\"'!c\"&ROW($A16)))&\" \"&INDIRECT(AnalýzaDat!K$3&\"'!d\"&ROW($A16)),\"\")","v":""},{"$f":"IFERROR(IF(INDIRECT(AnalýzaDat!L$3&\"'!c\"&ROW($A16))=0,\"\",INDIRECT(AnalýzaDat!L$3&\"'!c\"&ROW($A16)))&\" \"&INDIRECT(AnalýzaDat!L$3&\"'!d\"&ROW($A16)),\"\")","v":""}]
[null,{"$f":"IFERROR(IF(INDIRECT(AnalýzaDat!C$3&\"'!c\"&ROW($A17))=0,\"\",INDIRECT(AnalýzaDat!C$3&\"'!c\"&ROW($A17)))&\" \"&INDIRECT(AnalýzaDat!C$3&\"'!d\"&ROW($A17)),\"\")","v":" "},{"$f":"IFERROR(IF(INDIRECT(AnalýzaDat!D$3&\"'!c\"&ROW($A17))=0,\"\",INDIRECT(AnalýzaDat!D$3&\"'!c\"&ROW($A17)))&\" \"&INDIRECT(AnalýzaDat!D$3&\"'!d\"&ROW($A17)),\"\")","v":" "},{"$f":"IFERROR(IF(INDIRECT(AnalýzaDat!E$3&\"'!c\"&ROW($A17))=0,\"\",INDIRECT(AnalýzaDat!E$3&\"'!c\"&ROW($A17)))&\" \"&INDIRECT(AnalýzaDat!E$3&\"'!d\"&ROW($A17)),\"\")","v":""},{"$f":"IFERROR(IF(INDIRECT(AnalýzaDat!F$3&\"'!c\"&ROW($A17))=0,\"\",INDIRECT(AnalýzaDat!F$3&\"'!c\"&ROW($A17)))&\" \"&INDIRECT(AnalýzaDat!F$3&\"'!d\"&ROW($A17)),\"\")","v":""},{"$f":"IFERROR(IF(INDIRECT(AnalýzaDat!G$3&\"'!c\"&ROW($A17))=0,\"\",INDIRECT(AnalýzaDat!G$3&\"'!c\"&ROW($A17)))&\" \"&INDIRECT(AnalýzaDat!G$3&\"'!d\"&ROW($A17)),\"\")","v":""},{"$f":"IFERROR(IF(INDIRECT(AnalýzaDat!H$3&\"'!c\"&ROW($A17))=0,\"\",INDIRECT(AnalýzaDat!H$3&\"'!c\"&ROW($A17)))&\" \"&INDIRECT(AnalýzaDat!H$3&\"'!d\"&ROW($A17)),\"\")","v":""},{"$f":"IFERROR(IF(INDIRECT(AnalýzaDat!I$3&\"'!c\"&ROW($A17))=0,\"\",INDIRECT(AnalýzaDat!I$3&\"'!c\"&ROW($A17)))&\" \"&INDIRECT(AnalýzaDat!I$3&\"'!d\"&ROW($A17)),\"\")","v":""},{"$f":"IFERROR(IF(INDIRECT(AnalýzaDat!J$3&\"'!c\"&ROW($A17))=0,\"\",INDIRECT(AnalýzaDat!J$3&\"'!c\"&ROW($A17)))&\" \"&INDIRECT(AnalýzaDat!J$3&\"'!d\"&ROW($A17)),\"\")","v":""},{"$f":"IFERROR(IF(INDIRECT(AnalýzaDat!K$3&\"'!c\"&ROW($A17))=0,\"\",INDIRECT(AnalýzaDat!K$3&\"'!c\"&ROW($A17)))&\" \"&INDIRECT(AnalýzaDat!K$3&\"'!d\"&ROW($A17)),\"\")","v":""},{"$f":"IFERROR(IF(INDIRECT(AnalýzaDat!L$3&\"'!c\"&ROW($A17))=0,\"\",INDIRECT(AnalýzaDat!L$3&\"'!c\"&ROW($A17)))&\" \"&INDIRECT(AnalýzaDat!L$3&\"'!d\"&ROW($A17)),\"\")","v":""}]
[null,{"$f":"IFERROR(IF(INDIRECT(AnalýzaDat!C$3&\"'!c\"&ROW($A18))=0,\"\",INDIRECT(AnalýzaDat!C$3&\"'!c\"&ROW($A18)))&\" \"&INDIRECT(AnalýzaDat!C$3&\"'!d\"&ROW($A18)),\"\")","v":" "},{"$f":"IFERROR(IF(INDIRECT(AnalýzaDat!D$3&\"'!c\"&ROW($A18))=0,\"\",INDIRECT(AnalýzaDat!D$3&\"'!c\"&ROW($A18)))&\" \"&INDIRECT(AnalýzaDat!D$3&\"'!d\"&ROW($A18)),\"\")","v":" "},{"$f":"IFERROR(IF(INDIRECT(AnalýzaDat!E$3&\"'!c\"&ROW($A18))=0,\"\",INDIRECT(AnalýzaDat!E$3&\"'!c\"&ROW($A18)))&\" \"&INDIRECT(AnalýzaDat!E$3&\"'!d\"&ROW($A18)),\"\")","v":""},{"$f":"IFERROR(IF(INDIRECT(AnalýzaDat!F$3&\"'!c\"&ROW($A18))=0,\"\",INDIRECT(AnalýzaDat!F$3&\"'!c\"&ROW($A18)))&\" \"&INDIRECT(AnalýzaDat!F$3&\"'!d\"&ROW($A18)),\"\")","v":""},{"$f":"IFERROR(IF(INDIRECT(AnalýzaDat!G$3&\"'!c\"&ROW($A18))=0,\"\",INDIRECT(AnalýzaDat!G$3&\"'!c\"&ROW($A18)))&\" \"&INDIRECT(AnalýzaDat!G$3&\"'!d\"&ROW($A18)),\"\")","v":""},{"$f":"IFERROR(IF(INDIRECT(AnalýzaDat!H$3&\"'!c\"&ROW($A18))=0,\"\",INDIRECT(AnalýzaDat!H$3&\"'!c\"&ROW($A18)))&\" \"&INDIRECT(AnalýzaDat!H$3&\"'!d\"&ROW($A18)),\"\")","v":""},{"$f":"IFERROR(IF(INDIRECT(AnalýzaDat!I$3&\"'!c\"&ROW($A18))=0,\"\",INDIRECT(AnalýzaDat!I$3&\"'!c\"&ROW($A18)))&\" \"&INDIRECT(AnalýzaDat!I$3&\"'!d\"&ROW($A18)),\"\")","v":""},{"$f":"IFERROR(IF(INDIRECT(AnalýzaDat!J$3&\"'!c\"&ROW($A18))=0,\"\",INDIRECT(AnalýzaDat!J$3&\"'!c\"&ROW($A18)))&\" \"&INDIRECT(AnalýzaDat!J$3&\"'!d\"&ROW($A18)),\"\")","v":""},{"$f":"IFERROR(IF(INDIRECT(AnalýzaDat!K$3&\"'!c\"&ROW($A18))=0,\"\",INDIRECT(AnalýzaDat!K$3&\"'!c\"&ROW($A18)))&\" \"&INDIRECT(AnalýzaDat!K$3&\"'!d\"&ROW($A18)),\"\")","v":""},{"$f":"IFERROR(IF(INDIRECT(AnalýzaDat!L$3&\"'!c\"&ROW($A18))=0,\"\",INDIRECT(AnalýzaDat!L$3&\"'!c\"&ROW($A18)))&\" \"&INDIRECT(AnalýzaDat!L$3&\"'!d\"&ROW($A18)),\"\")","v":""}]
[null,{"$f":"IFERROR(IF(INDIRECT(AnalýzaDat!C$3&\"'!c\"&ROW($A19))=0,\"\",INDIRECT(AnalýzaDat!C$3&\"'!c\"&ROW($A19)))&\" \"&INDIRECT(AnalýzaDat!C$3&\"'!d\"&ROW($A19)),\"\")","v":" "},{"$f":"IFERROR(IF(INDIRECT(AnalýzaDat!D$3&\"'!c\"&ROW($A19))=0,\"\",INDIRECT(AnalýzaDat!D$3&\"'!c\"&ROW($A19)))&\" \"&INDIRECT(AnalýzaDat!D$3&\"'!d\"&ROW($A19)),\"\")","v":" "},{"$f":"IFERROR(IF(INDIRECT(AnalýzaDat!E$3&\"'!c\"&ROW($A19))=0,\"\",INDIRECT(AnalýzaDat!E$3&\"'!c\"&ROW($A19)))&\" \"&INDIRECT(AnalýzaDat!E$3&\"'!d\"&ROW($A19)),\"\")","v":""},{"$f":"IFERROR(IF(INDIRECT(AnalýzaDat!F$3&\"'!c\"&ROW($A19))=0,\"\",INDIRECT(AnalýzaDat!F$3&\"'!c\"&ROW($A19)))&\" \"&INDIRECT(AnalýzaDat!F$3&\"'!d\"&ROW($A19)),\"\")","v":""},{"$f":"IFERROR(IF(INDIRECT(AnalýzaDat!G$3&\"'!c\"&ROW($A19))=0,\"\",INDIRECT(AnalýzaDat!G$3&\"'!c\"&ROW($A19)))&\" \"&INDIRECT(AnalýzaDat!G$3&\"'!d\"&ROW($A19)),\"\")","v":""},{"$f":"IFERROR(IF(INDIRECT(AnalýzaDat!H$3&\"'!c\"&ROW($A19))=0,\"\",INDIRECT(AnalýzaDat!H$3&\"'!c\"&ROW($A19)))&\" \"&INDIRECT(AnalýzaDat!H$3&\"'!d\"&ROW($A19)),\"\")","v":""},{"$f":"IFERROR(IF(INDIRECT(AnalýzaDat!I$3&\"'!c\"&ROW($A19))=0,\"\",INDIRECT(AnalýzaDat!I$3&\"'!c\"&ROW($A19)))&\" \"&INDIRECT(AnalýzaDat!I$3&\"'!d\"&ROW($A19)),\"\")","v":""},{"$f":"IFERROR(IF(INDIRECT(AnalýzaDat!J$3&\"'!c\"&ROW($A19))=0,\"\",INDIRECT(AnalýzaDat!J$3&\"'!c\"&ROW($A19)))&\" \"&INDIRECT(AnalýzaDat!J$3&\"'!d\"&ROW($A19)),\"\")","v":""},{"$f":"IFERROR(IF(INDIRECT(AnalýzaDat!K$3&\"'!c\"&ROW($A19))=0,\"\",INDIRECT(AnalýzaDat!K$3&\"'!c\"&ROW($A19)))&\" \"&INDIRECT(AnalýzaDat!K$3&\"'!d\"&ROW($A19)),\"\")","v":""},{"$f":"IFERROR(IF(INDIRECT(AnalýzaDat!L$3&\"'!c\"&ROW($A19))=0,\"\",INDIRECT(AnalýzaDat!L$3&\"'!c\"&ROW($A19)))&\" \"&INDIRECT(AnalýzaDat!L$3&\"'!d\"&ROW($A19)),\"\")","v":""}]
[null,{"$f":"IFERROR(IF(INDIRECT(AnalýzaDat!C$3&\"'!c\"&ROW($A20))=0,\"\",INDIRECT(AnalýzaDat!C$3&\"'!c\"&ROW($A20)))&\" \"&INDIRECT(AnalýzaDat!C$3&\"'!d\"&ROW($A20)),\"\")","v":" "},{"$f":"IFERROR(IF(INDIRECT(AnalýzaDat!D$3&\"'!c\"&ROW($A20))=0,\"\",INDIRECT(AnalýzaDat!D$3&\"'!c\"&ROW($A20)))&\" \"&INDIRECT(AnalýzaDat!D$3&\"'!d\"&ROW($A20)),\"\")","v":" "},{"$f":"IFERROR(IF(INDIRECT(AnalýzaDat!E$3&\"'!c\"&ROW($A20))=0,\"\",INDIRECT(AnalýzaDat!E$3&\"'!c\"&ROW($A20)))&\" \"&INDIRECT(AnalýzaDat!E$3&\"'!d\"&ROW($A20)),\"\")","v":""},{"$f":"IFERROR(IF(INDIRECT(AnalýzaDat!F$3&\"'!c\"&ROW($A20))=0,\"\",INDIRECT(AnalýzaDat!F$3&\"'!c\"&ROW($A20)))&\" \"&INDIRECT(AnalýzaDat!F$3&\"'!d\"&ROW($A20)),\"\")","v":""},{"$f":"IFERROR(IF(INDIRECT(AnalýzaDat!G$3&\"'!c\"&ROW($A20))=0,\"\",INDIRECT(AnalýzaDat!G$3&\"'!c\"&ROW($A20)))&\" \"&INDIRECT(AnalýzaDat!G$3&\"'!d\"&ROW($A20)),\"\")","v":""},{"$f":"IFERROR(IF(INDIRECT(AnalýzaDat!H$3&\"'!c\"&ROW($A20))=0,\"\",INDIRECT(AnalýzaDat!H$3&\"'!c\"&ROW($A20)))&\" \"&INDIRECT(AnalýzaDat!H$3&\"'!d\"&ROW($A20)),\"\")","v":""},{"$f":"IFERROR(IF(INDIRECT(AnalýzaDat!I$3&\"'!c\"&ROW($A20))=0,\"\",INDIRECT(AnalýzaDat!I$3&\"'!c\"&ROW($A20)))&\" \"&INDIRECT(AnalýzaDat!I$3&\"'!d\"&ROW($A20)),\"\")","v":""},{"$f":"IFERROR(IF(INDIRECT(AnalýzaDat!J$3&\"'!c\"&ROW($A20))=0,\"\",INDIRECT(AnalýzaDat!J$3&\"'!c\"&ROW($A20)))&\" \"&INDIRECT(AnalýzaDat!J$3&\"'!d\"&ROW($A20)),\"\")","v":""},{"$f":"IFERROR(IF(INDIRECT(AnalýzaDat!K$3&\"'!c\"&ROW($A20))=0,\"\",INDIRECT(AnalýzaDat!K$3&\"'!c\"&ROW($A20)))&\" \"&INDIRECT(AnalýzaDat!K$3&\"'!d\"&ROW($A20)),\"\")","v":""},{"$f":"IFERROR(IF(INDIRECT(AnalýzaDat!L$3&\"'!c\"&ROW($A20))=0,\"\",INDIRECT(AnalýzaDat!L$3&\"'!c\"&ROW($A20)))&\" \"&INDIRECT(AnalýzaDat!L$3&\"'!d\"&ROW($A20)),\"\")","v":""}]
[null,{"$f":"IFERROR(IF(INDIRECT(AnalýzaDat!C$3&\"'!c\"&ROW($A21))=0,\"\",INDIRECT(AnalýzaDat!C$3&\"'!c\"&ROW($A21)))&\" \"&INDIRECT(AnalýzaDat!C$3&\"'!d\"&ROW($A21)),\"\")","v":" "},{"$f":"IFERROR(IF(INDIRECT(AnalýzaDat!D$3&\"'!c\"&ROW($A21))=0,\"\",INDIRECT(AnalýzaDat!D$3&\"'!c\"&ROW($A21)))&\" \"&INDIRECT(AnalýzaDat!D$3&\"'!d\"&ROW($A21)),\"\")","v":" "},{"$f":"IFERROR(IF(INDIRECT(AnalýzaDat!E$3&\"'!c\"&ROW($A21))=0,\"\",INDIRECT(AnalýzaDat!E$3&\"'!c\"&ROW($A21)))&\" \"&INDIRECT(AnalýzaDat!E$3&\"'!d\"&ROW($A21)),\"\")","v":""},{"$f":"IFERROR(IF(INDIRECT(AnalýzaDat!F$3&\"'!c\"&ROW($A21))=0,\"\",INDIRECT(AnalýzaDat!F$3&\"'!c\"&ROW($A21)))&\" \"&INDIRECT(AnalýzaDat!F$3&\"'!d\"&ROW($A21)),\"\")","v":""},{"$f":"IFERROR(IF(INDIRECT(AnalýzaDat!G$3&\"'!c\"&ROW($A21))=0,\"\",INDIRECT(AnalýzaDat!G$3&\"'!c\"&ROW($A21)))&\" \"&INDIRECT(AnalýzaDat!G$3&\"'!d\"&ROW($A21)),\"\")","v":""},{"$f":"IFERROR(IF(INDIRECT(AnalýzaDat!H$3&\"'!c\"&ROW($A21))=0,\"\",INDIRECT(AnalýzaDat!H$3&\"'!c\"&ROW($A21)))&\" \"&INDIRECT(AnalýzaDat!H$3&\"'!d\"&ROW($A21)),\"\")","v":""},{"$f":"IFERROR(IF(INDIRECT(AnalýzaDat!I$3&\"'!c\"&ROW($A21))=0,\"\",INDIRECT(AnalýzaDat!I$3&\"'!c\"&ROW($A21)))&\" \"&INDIRECT(AnalýzaDat!I$3&\"'!d\"&ROW($A21)),\"\")","v":""},{"$f":"IFERROR(IF(INDIRECT(AnalýzaDat!J$3&\"'!c\"&ROW($A21))=0,\"\",INDIRECT(AnalýzaDat!J$3&\"'!c\"&ROW($A21)))&\" \"&INDIRECT(AnalýzaDat!J$3&\"'!d\"&ROW($A21)),\"\")","v":""},{"$f":"IFERROR(IF(INDIRECT(AnalýzaDat!K$3&\"'!c\"&ROW($A21))=0,\"\",INDIRECT(AnalýzaDat!K$3&\"'!c\"&ROW($A21)))&\" \"&INDIRECT(AnalýzaDat!K$3&\"'!d\"&ROW($A21)),\"\")","v":""},{"$f":"IFERROR(IF(INDIRECT(AnalýzaDat!L$3&\"'!c\"&ROW($A21))=0,\"\",INDIRECT(AnalýzaDat!L$3&\"'!c\"&ROW($A21)))&\" \"&INDIRECT(AnalýzaDat!L$3&\"'!d\"&ROW($A21)),\"\")","v":""}]
[null,{"$f":"IFERROR(IF(INDIRECT(AnalýzaDat!C$3&\"'!c\"&ROW($A22))=0,\"\",INDIRECT(AnalýzaDat!C$3&\"'!c\"&ROW($A22)))&\" \"&INDIRECT(AnalýzaDat!C$3&\"'!d\"&ROW($A22)),\"\")","v":" "},{"$f":"IFERROR(IF(INDIRECT(AnalýzaDat!D$3&\"'!c\"&ROW($A22))=0,\"\",INDIRECT(AnalýzaDat!D$3&\"'!c\"&ROW($A22)))&\" \"&INDIRECT(AnalýzaDat!D$3&\"'!d\"&ROW($A22)),\"\")","v":" "},{"$f":"IFERROR(IF(INDIRECT(AnalýzaDat!E$3&\"'!c\"&ROW($A22))=0,\"\",INDIRECT(AnalýzaDat!E$3&\"'!c\"&ROW($A22)))&\" \"&INDIRECT(AnalýzaDat!E$3&\"'!d\"&ROW($A22)),\"\")","v":""},{"$f":"IFERROR(IF(INDIRECT(AnalýzaDat!F$3&\"'!c\"&ROW($A22))=0,\"\",INDIRECT(AnalýzaDat!F$3&\"'!c\"&ROW($A22)))&\" \"&INDIRECT(AnalýzaDat!F$3&\"'!d\"&ROW($A22)),\"\")","v":""},{"$f":"IFERROR(IF(INDIRECT(AnalýzaDat!G$3&\"'!c\"&ROW($A22))=0,\"\",INDIRECT(AnalýzaDat!G$3&\"'!c\"&ROW($A22)))&\" \"&INDIRECT(AnalýzaDat!G$3&\"'!d\"&ROW($A22)),\"\")","v":""},{"$f":"IFERROR(IF(INDIRECT(AnalýzaDat!H$3&\"'!c\"&ROW($A22))=0,\"\",INDIRECT(AnalýzaDat!H$3&\"'!c\"&ROW($A22)))&\" \"&INDIRECT(AnalýzaDat!H$3&\"'!d\"&ROW($A22)),\"\")","v":""},{"$f":"IFERROR(IF(INDIRECT(AnalýzaDat!I$3&\"'!c\"&ROW($A22))=0,\"\",INDIRECT(AnalýzaDat!I$3&\"'!c\"&ROW($A22)))&\" \"&INDIRECT(AnalýzaDat!I$3&\"'!d\"&ROW($A22)),\"\")","v":""},{"$f":"IFERROR(IF(INDIRECT(AnalýzaDat!J$3&\"'!c\"&ROW($A22))=0,\"\",INDIRECT(AnalýzaDat!J$3&\"'!c\"&ROW($A22)))&\" \"&INDIRECT(AnalýzaDat!J$3&\"'!d\"&ROW($A22)),\"\")","v":""},{"$f":"IFERROR(IF(INDIRECT(AnalýzaDat!K$3&\"'!c\"&ROW($A22))=0,\"\",INDIRECT(AnalýzaDat!K$3&\"'!c\"&ROW($A22)))&\" \"&INDIRECT(AnalýzaDat!K$3&\"'!d\"&ROW($A22)),\"\")","v":""},{"$f":"IFERROR(IF(INDIRECT(AnalýzaDat!L$3&\"'!c\"&ROW($A22))=0,\"\",INDIRECT(AnalýzaDat!L$3&\"'!c\"&ROW($A22)))&\" \"&INDIRECT(AnalýzaDat!L$3&\"'!d\"&ROW($A22)),\"\")","v":""}]
[null,{"$f":"IFERROR(IF(INDIRECT(AnalýzaDat!C$3&\"'!c\"&ROW($A23))=0,\"\",INDIRECT(AnalýzaDat!C$3&\"'!c\"&ROW($A23)))&\" \"&INDIRECT(AnalýzaDat!C$3&\"'!d\"&ROW($A23)),\"\")","v":" "},{"$f":"IFERROR(IF(INDIRECT(AnalýzaDat!D$3&\"'!c\"&ROW($A23))=0,\"\",INDIRECT(AnalýzaDat!D$3&\"'!c\"&ROW($A23)))&\" \"&INDIRECT(AnalýzaDat!D$3&\"'!d\"&ROW($A23)),\"\")","v":" "},{"$f":"IFERROR(IF(INDIRECT(AnalýzaDat!E$3&\"'!c\"&ROW($A23))=0,\"\",INDIRECT(AnalýzaDat!E$3&\"'!c\"&ROW($A23)))&\" \"&INDIRECT(AnalýzaDat!E$3&\"'!d\"&ROW($A23)),\"\")","v":""},{"$f":"IFERROR(IF(INDIRECT(AnalýzaDat!F$3&\"'!c\"&ROW($A23))=0,\"\",INDIRECT(AnalýzaDat!F$3&\"'!c\"&ROW($A23)))&\" \"&INDIRECT(AnalýzaDat!F$3&\"'!d\"&ROW($A23)),\"\")","v":""},{"$f":"IFERROR(IF(INDIRECT(AnalýzaDat!G$3&\"'!c\"&ROW($A23))=0,\"\",INDIRECT(AnalýzaDat!G$3&\"'!c\"&ROW($A23)))&\" \"&INDIRECT(AnalýzaDat!G$3&\"'!d\"&ROW($A23)),\"\")","v":""},{"$f":"IFERROR(IF(INDIRECT(AnalýzaDat!H$3&\"'!c\"&ROW($A23))=0,\"\",INDIRECT(AnalýzaDat!H$3&\"'!c\"&ROW($A23)))&\" \"&INDIRECT(AnalýzaDat!H$3&\"'!d\"&ROW($A23)),\"\")","v":""},{"$f":"IFERROR(IF(INDIRECT(AnalýzaDat!I$3&\"'!c\"&ROW($A23))=0,\"\",INDIRECT(AnalýzaDat!I$3&\"'!c\"&ROW($A23)))&\" \"&INDIRECT(AnalýzaDat!I$3&\"'!d\"&ROW($A23)),\"\")","v":""},{"$f":"IFERROR(IF(INDIRECT(AnalýzaDat!J$3&\"'!c\"&ROW($A23))=0,\"\",INDIRECT(AnalýzaDat!J$3&\"'!c\"&ROW($A23)))&\" \"&INDIRECT(AnalýzaDat!J$3&\"'!d\"&ROW($A23)),\"\")","v":""},{"$f":"IFERROR(IF(INDIRECT(AnalýzaDat!K$3&\"'!c\"&ROW($A23))=0,\"\",INDIRECT(AnalýzaDat!K$3&\"'!c\"&ROW($A23)))&\" \"&INDIRECT(AnalýzaDat!K$3&\"'!d\"&ROW($A23)),\"\")","v":""},{"$f":"IFERROR(IF(INDIRECT(AnalýzaDat!L$3&\"'!c\"&ROW($A23))=0,\"\",INDIRECT(AnalýzaDat!L$3&\"'!c\"&ROW($A23)))&\" \"&INDIRECT(AnalýzaDat!L$3&\"'!d\"&ROW($A23)),\"\")","v":""}]
[null,{"$f":"IFERROR(IF(INDIRECT(AnalýzaDat!C$3&\"'!c\"&ROW($A24))=0,\"\",INDIRECT(AnalýzaDat!C$3&\"'!c\"&ROW($A24)))&\" \"&INDIRECT(AnalýzaDat!C$3&\"'!d\"&ROW($A24)),\"\")","v":" "},{"$f":"IFERROR(IF(INDIRECT(AnalýzaDat!D$3&\"'!c\"&ROW($A24))=0,\"\",INDIRECT(AnalýzaDat!D$3&\"'!c\"&ROW($A24)))&\" \"&INDIRECT(AnalýzaDat!D$3&\"'!d\"&ROW($A24)),\"\")","v":" "},{"$f":"IFERROR(IF(INDIRECT(AnalýzaDat!E$3&\"'!c\"&ROW($A24))=0,\"\",INDIRECT(AnalýzaDat!E$3&\"'!c\"&ROW($A24)))&\" \"&INDIRECT(AnalýzaDat!E$3&\"'!d\"&ROW($A24)),\"\")","v":""},{"$f":"IFERROR(IF(INDIRECT(AnalýzaDat!F$3&\"'!c\"&ROW($A24))=0,\"\",INDIRECT(AnalýzaDat!F$3&\"'!c\"&ROW($A24)))&\" \"&INDIRECT(AnalýzaDat!F$3&\"'!d\"&ROW($A24)),\"\")","v":""},{"$f":"IFERROR(IF(INDIRECT(AnalýzaDat!G$3&\"'!c\"&ROW($A24))=0,\"\",INDIRECT(AnalýzaDat!G$3&\"'!c\"&ROW($A24)))&\" \"&INDIRECT(AnalýzaDat!G$3&\"'!d\"&ROW($A24)),\"\")","v":""},{"$f":"IFERROR(IF(INDIRECT(AnalýzaDat!H$3&\"'!c\"&ROW($A24))=0,\"\",INDIRECT(AnalýzaDat!H$3&\"'!c\"&ROW($A24)))&\" \"&INDIRECT(AnalýzaDat!H$3&\"'!d\"&ROW($A24)),\"\")","v":""},{"$f":"IFERROR(IF(INDIRECT(AnalýzaDat!I$3&\"'!c\"&ROW($A24))=0,\"\",INDIRECT(AnalýzaDat!I$3&\"'!c\"&ROW($A24)))&\" \"&INDIRECT(AnalýzaDat!I$3&\"'!d\"&ROW($A24)),\"\")","v":""},{"$f":"IFERROR(IF(INDIRECT(AnalýzaDat!J$3&\"'!c\"&ROW($A24))=0,\"\",INDIRECT(AnalýzaDat!J$3&\"'!c\"&ROW($A24)))&\" \"&INDIRECT(AnalýzaDat!J$3&\"'!d\"&ROW($A24)),\"\")","v":""},{"$f":"IFERROR(IF(INDIRECT(AnalýzaDat!K$3&\"'!c\"&ROW($A24))=0,\"\",INDIRECT(AnalýzaDat!K$3&\"'!c\"&ROW($A24)))&\" \"&INDIRECT(AnalýzaDat!K$3&\"'!d\"&ROW($A24)),\"\")","v":""},{"$f":"IFERROR(IF(INDIRECT(AnalýzaDat!L$3&\"'!c\"&ROW($A24))=0,\"\",INDIRECT(AnalýzaDat!L$3&\"'!c\"&ROW($A24)))&\" \"&INDIRECT(AnalýzaDat!L$3&\"'!d\"&ROW($A24)),\"\")","v":""}]
[null,{"$f":"IFERROR(IF(INDIRECT(AnalýzaDat!C$3&\"'!c\"&ROW($A25))=0,\"\",INDIRECT(AnalýzaDat!C$3&\"'!c\"&ROW($A25)))&\" \"&INDIRECT(AnalýzaDat!C$3&\"'!d\"&ROW($A25)),\"\")","v":" "},{"$f":"IFERROR(IF(INDIRECT(AnalýzaDat!D$3&\"'!c\"&ROW($A25))=0,\"\",INDIRECT(AnalýzaDat!D$3&\"'!c\"&ROW($A25)))&\" \"&INDIRECT(AnalýzaDat!D$3&\"'!d\"&ROW($A25)),\"\")","v":" "},{"$f":"IFERROR(IF(INDIRECT(AnalýzaDat!E$3&\"'!c\"&ROW($A25))=0,\"\",INDIRECT(AnalýzaDat!E$3&\"'!c\"&ROW($A25)))&\" \"&INDIRECT(AnalýzaDat!E$3&\"'!d\"&ROW($A25)),\"\")","v":""},{"$f":"IFERROR(IF(INDIRECT(AnalýzaDat!F$3&\"'!c\"&ROW($A25))=0,\"\",INDIRECT(AnalýzaDat!F$3&\"'!c\"&ROW($A25)))&\" \"&INDIRECT(AnalýzaDat!F$3&\"'!d\"&ROW($A25)),\"\")","v":""},{"$f":"IFERROR(IF(INDIRECT(AnalýzaDat!G$3&\"'!c\"&ROW($A25))=0,\"\",INDIRECT(AnalýzaDat!G$3&\"'!c\"&ROW($A25)))&\" \"&INDIRECT(AnalýzaDat!G$3&\"'!d\"&ROW($A25)),\"\")","v":""},{"$f":"IFERROR(IF(INDIRECT(AnalýzaDat!H$3&\"'!c\"&ROW($A25))=0,\"\",INDIRECT(AnalýzaDat!H$3&\"'!c\"&ROW($A25)))&\" \"&INDIRECT(AnalýzaDat!H$3&\"'!d\"&ROW($A25)),\"\")","v":""},{"$f":"IFERROR(IF(INDIRECT(AnalýzaDat!I$3&\"'!c\"&ROW($A25))=0,\"\",INDIRECT(AnalýzaDat!I$3&\"'!c\"&ROW($A25)))&\" \"&INDIRECT(AnalýzaDat!I$3&\"'!d\"&ROW($A25)),\"\")","v":""},{"$f":"IFERROR(IF(INDIRECT(AnalýzaDat!J$3&\"'!c\"&ROW($A25))=0,\"\",INDIRECT(AnalýzaDat!J$3&\"'!c\"&ROW($A25)))&\" \"&INDIRECT(AnalýzaDat!J$3&\"'!d\"&ROW($A25)),\"\")","v":""},{"$f":"IFERROR(IF(INDIRECT(AnalýzaDat!K$3&\"'!c\"&ROW($A25))=0,\"\",INDIRECT(AnalýzaDat!K$3&\"'!c\"&ROW($A25)))&\" \"&INDIRECT(AnalýzaDat!K$3&\"'!d\"&ROW($A25)),\"\")","v":""},{"$f":"IFERROR(IF(INDIRECT(AnalýzaDat!L$3&\"'!c\"&ROW($A25))=0,\"\",INDIRECT(AnalýzaDat!L$3&\"'!c\"&ROW($A25)))&\" \"&INDIRECT(AnalýzaDat!L$3&\"'!d\"&ROW($A25)),\"\")","v":""}]
[null,{"$f":"IFERROR(IF(INDIRECT(AnalýzaDat!C$3&\"'!c\"&ROW($A26))=0,\"\",INDIRECT(AnalýzaDat!C$3&\"'!c\"&ROW($A26)))&\" \"&INDIRECT(AnalýzaDat!C$3&\"'!d\"&ROW($A26)),\"\")","v":" "},{"$f":"IFERROR(IF(INDIRECT(AnalýzaDat!D$3&\"'!c\"&ROW($A26))=0,\"\",INDIRECT(AnalýzaDat!D$3&\"'!c\"&ROW($A26)))&\" \"&INDIRECT(AnalýzaDat!D$3&\"'!d\"&ROW($A26)),\"\")","v":" "},{"$f":"IFERROR(IF(INDIRECT(AnalýzaDat!E$3&\"'!c\"&ROW($A26))=0,\"\",INDIRECT(AnalýzaDat!E$3&\"'!c\"&ROW($A26)))&\" \"&INDIRECT(AnalýzaDat!E$3&\"'!d\"&ROW($A26)),\"\")","v":""},{"$f":"IFERROR(IF(INDIRECT(AnalýzaDat!F$3&\"'!c\"&ROW($A26))=0,\"\",INDIRECT(AnalýzaDat!F$3&\"'!c\"&ROW($A26)))&\" \"&INDIRECT(AnalýzaDat!F$3&\"'!d\"&ROW($A26)),\"\")","v":""},{"$f":"IFERROR(IF(INDIRECT(AnalýzaDat!G$3&\"'!c\"&ROW($A26))=0,\"\",INDIRECT(AnalýzaDat!G$3&\"'!c\"&ROW($A26)))&\" \"&INDIRECT(AnalýzaDat!G$3&\"'!d\"&ROW($A26)),\"\")","v":""},{"$f":"IFERROR(IF(INDIRECT(AnalýzaDat!H$3&\"'!c\"&ROW($A26))=0,\"\",INDIRECT(AnalýzaDat!H$3&\"'!c\"&ROW($A26)))&\" \"&INDIRECT(AnalýzaDat!H$3&\"'!d\"&ROW($A26)),\"\")","v":""},{"$f":"IFERROR(IF(INDIRECT(AnalýzaDat!I$3&\"'!c\"&ROW($A26))=0,\"\",INDIRECT(AnalýzaDat!I$3&\"'!c\"&ROW($A26)))&\" \"&INDIRECT(AnalýzaDat!I$3&\"'!d\"&ROW($A26)),\"\")","v":""},{"$f":"IFERROR(IF(INDIRECT(AnalýzaDat!J$3&\"'!c\"&ROW($A26))=0,\"\",INDIRECT(AnalýzaDat!J$3&\"'!c\"&ROW($A26)))&\" \"&INDIRECT(AnalýzaDat!J$3&\"'!d\"&ROW($A26)),\"\")","v":""},{"$f":"IFERROR(IF(INDIRECT(AnalýzaDat!K$3&\"'!c\"&ROW($A26))=0,\"\",INDIRECT(AnalýzaDat!K$3&\"'!c\"&ROW($A26)))&\" \"&INDIRECT(AnalýzaDat!K$3&\"'!d\"&ROW($A26)),\"\")","v":""},{"$f":"IFERROR(IF(INDIRECT(AnalýzaDat!L$3&\"'!c\"&ROW($A26))=0,\"\",INDIRECT(AnalýzaDat!L$3&\"'!c\"&ROW($A26)))&\" \"&INDIRECT(AnalýzaDat!L$3&\"'!d\"&ROW($A26)),\"\")","v":""}]
[null,{"$f":"IFERROR(IF(INDIRECT(AnalýzaDat!C$3&\"'!c\"&ROW($A27))=0,\"\",INDIRECT(AnalýzaDat!C$3&\"'!c\"&ROW($A27)))&\" \"&INDIRECT(AnalýzaDat!C$3&\"'!d\"&ROW($A27)),\"\")","v":" "},{"$f":"IFERROR(IF(INDIRECT(AnalýzaDat!D$3&\"'!c\"&ROW($A27))=0,\"\",INDIRECT(AnalýzaDat!D$3&\"'!c\"&ROW($A27)))&\" \"&INDIRECT(AnalýzaDat!D$3&\"'!d\"&ROW($A27)),\"\")","v":" "},{"$f":"IFERROR(IF(INDIRECT(AnalýzaDat!E$3&\"'!c\"&ROW($A27))=0,\"\",INDIRECT(AnalýzaDat!E$3&\"'!c\"&ROW($A27)))&\" \"&INDIRECT(AnalýzaDat!E$3&\"'!d\"&ROW($A27)),\"\")","v":""},{"$f":"IFERROR(IF(INDIRECT(AnalýzaDat!F$3&\"'!c\"&ROW($A27))=0,\"\",INDIRECT(AnalýzaDat!F$3&\"'!c\"&ROW($A27)))&\" \"&INDIRECT(AnalýzaDat!F$3&\"'!d\"&ROW($A27)),\"\")","v":""},{"$f":"IFERROR(IF(INDIRECT(AnalýzaDat!G$3&\"'!c\"&ROW($A27))=0,\"\",INDIRECT(AnalýzaDat!G$3&\"'!c\"&ROW($A27)))&\" \"&INDIRECT(AnalýzaDat!G$3&\"'!d\"&ROW($A27)),\"\")","v":""},{"$f":"IFERROR(IF(INDIRECT(AnalýzaDat!H$3&\"'!c\"&ROW($A27))=0,\"\",INDIRECT(AnalýzaDat!H$3&\"'!c\"&ROW($A27)))&\" \"&INDIRECT(AnalýzaDat!H$3&\"'!d\"&ROW($A27)),\"\")","v":""},{"$f":"IFERROR(IF(INDIRECT(AnalýzaDat!I$3&\"'!c\"&ROW($A27))=0,\"\",INDIRECT(AnalýzaDat!I$3&\"'!c\"&ROW($A27)))&\" \"&INDIRECT(AnalýzaDat!I$3&\"'!d\"&ROW($A27)),\"\")","v":""},{"$f":"IFERROR(IF(INDIRECT(AnalýzaDat!J$3&\"'!c\"&ROW($A27))=0,\"\",INDIRECT(AnalýzaDat!J$3&\"'!c\"&ROW($A27)))&\" \"&INDIRECT(AnalýzaDat!J$3&\"'!d\"&ROW($A27)),\"\")","v":""},{"$f":"IFERROR(IF(INDIRECT(AnalýzaDat!K$3&\"'!c\"&ROW($A27))=0,\"\",INDIRECT(AnalýzaDat!K$3&\"'!c\"&ROW($A27)))&\" \"&INDIRECT(AnalýzaDat!K$3&\"'!d\"&ROW($A27)),\"\")","v":""},{"$f":"IFERROR(IF(INDIRECT(AnalýzaDat!L$3&\"'!c\"&ROW($A27))=0,\"\",INDIRECT(AnalýzaDat!L$3&\"'!c\"&ROW($A27)))&\" \"&INDIRECT(AnalýzaDat!L$3&\"'!d\"&ROW($A27)),\"\")","v":""}]
[null,{"$f":"IFERROR(IF(INDIRECT(AnalýzaDat!C$3&\"'!c\"&ROW($A28))=0,\"\",INDIRECT(AnalýzaDat!C$3&\"'!c\"&ROW($A28)))&\" \"&INDIRECT(AnalýzaDat!C$3&\"'!d\"&ROW($A28)),\"\")","v":" "},{"$f":"IFERROR(IF(INDIRECT(AnalýzaDat!D$3&\"'!c\"&ROW($A28))=0,\"\",INDIRECT(AnalýzaDat!D$3&\"'!c\"&ROW($A28)))&\" \"&INDIRECT(AnalýzaDat!D$3&\"'!d\"&ROW($A28)),\"\")","v":" "},{"$f":"IFERROR(IF(INDIRECT(AnalýzaDat!E$3&\"'!c\"&ROW($A28))=0,\"\",INDIRECT(AnalýzaDat!E$3&\"'!c\"&ROW($A28)))&\" \"&INDIRECT(AnalýzaDat!E$3&\"'!d\"&ROW($A28)),\"\")","v":""},{"$f":"IFERROR(IF(INDIRECT(AnalýzaDat!F$3&\"'!c\"&ROW($A28))=0,\"\",INDIRECT(AnalýzaDat!F$3&\"'!c\"&ROW($A28)))&\" \"&INDIRECT(AnalýzaDat!F$3&\"'!d\"&ROW($A28)),\"\")","v":""},{"$f":"IFERROR(IF(INDIRECT(AnalýzaDat!G$3&\"'!c\"&ROW($A28))=0,\"\",INDIRECT(AnalýzaDat!G$3&\"'!c\"&ROW($A28)))&\" \"&INDIRECT(AnalýzaDat!G$3&\"'!d\"&ROW($A28)),\"\")","v":""},{"$f":"IFERROR(IF(INDIRECT(AnalýzaDat!H$3&\"'!c\"&ROW($A28))=0,\"\",INDIRECT(AnalýzaDat!H$3&\"'!c\"&ROW($A28)))&\" \"&INDIRECT(AnalýzaDat!H$3&\"'!d\"&ROW($A28)),\"\")","v":""},{"$f":"IFERROR(IF(INDIRECT(AnalýzaDat!I$3&\"'!c\"&ROW($A28))=0,\"\",INDIRECT(AnalýzaDat!I$3&\"'!c\"&ROW($A28)))&\" \"&INDIRECT(AnalýzaDat!I$3&\"'!d\"&ROW($A28)),\"\")","v":""},{"$f":"IFERROR(IF(INDIRECT(AnalýzaDat!J$3&\"'!c\"&ROW($A28))=0,\"\",INDIRECT(AnalýzaDat!J$3&\"'!c\"&ROW($A28)))&\" \"&INDIRECT(AnalýzaDat!J$3&\"'!d\"&ROW($A28)),\"\")","v":""},{"$f":"IFERROR(IF(INDIRECT(AnalýzaDat!K$3&\"'!c\"&ROW($A28))=0,\"\",INDIRECT(AnalýzaDat!K$3&\"'!c\"&ROW($A28)))&\" \"&INDIRECT(AnalýzaDat!K$3&\"'!d\"&ROW($A28)),\"\")","v":""},{"$f":"IFERROR(IF(INDIRECT(AnalýzaDat!L$3&\"'!c\"&ROW($A28))=0,\"\",INDIRECT(AnalýzaDat!L$3&\"'!c\"&ROW($A28)))&\" \"&INDIRECT(AnalýzaDat!L$3&\"'!d\"&ROW($A28)),\"\")","v":""}]
[null,{"$f":"IFERROR(IF(INDIRECT(AnalýzaDat!C$3&\"'!c\"&ROW($A29))=0,\"\",INDIRECT(AnalýzaDat!C$3&\"'!c\"&ROW($A29)))&\" \"&INDIRECT(AnalýzaDat!C$3&\"'!d\"&ROW($A29)),\"\")","v":" "},{"$f":"IFERROR(IF(INDIRECT(AnalýzaDat!D$3&\"'!c\"&ROW($A29))=0,\"\",INDIRECT(AnalýzaDat!D$3&\"'!c\"&ROW($A29)))&\" \"&INDIRECT(AnalýzaDat!D$3&\"'!d\"&ROW($A29)),\"\")","v":" "},{"$f":"IFERROR(IF(INDIRECT(AnalýzaDat!E$3&\"'!c\"&ROW($A29))=0,\"\",INDIRECT(AnalýzaDat!E$3&\"'!c\"&ROW($A29)))&\" \"&INDIRECT(AnalýzaDat!E$3&\"'!d\"&ROW($A29)),\"\")","v":""},{"$f":"IFERROR(IF(INDIRECT(AnalýzaDat!F$3&\"'!c\"&ROW($A29))=0,\"\",INDIRECT(AnalýzaDat!F$3&\"'!c\"&ROW($A29)))&\" \"&INDIRECT(AnalýzaDat!F$3&\"'!d\"&ROW($A29)),\"\")","v":""},{"$f":"IFERROR(IF(INDIRECT(AnalýzaDat!G$3&\"'!c\"&ROW($A29))=0,\"\",INDIRECT(AnalýzaDat!G$3&\"'!c\"&ROW($A29)))&\" \"&INDIRECT(AnalýzaDat!G$3&\"'!d\"&ROW($A29)),\"\")","v":""},{"$f":"IFERROR(IF(INDIRECT(AnalýzaDat!H$3&\"'!c\"&ROW($A29))=0,\"\",INDIRECT(AnalýzaDat!H$3&\"'!c\"&ROW($A29)))&\" \"&INDIRECT(AnalýzaDat!H$3&\"'!d\"&ROW($A29)),\"\")","v":""},{"$f":"IFERROR(IF(INDIRECT(AnalýzaDat!I$3&\"'!c\"&ROW($A29))=0,\"\",INDIRECT(AnalýzaDat!I$3&\"'!c\"&ROW($A29)))&\" \"&INDIRECT(AnalýzaDat!I$3&\"'!d\"&ROW($A29)),\"\")","v":""},{"$f":"IFERROR(IF(INDIRECT(AnalýzaDat!J$3&\"'!c\"&ROW($A29))=0,\"\",INDIRECT(AnalýzaDat!J$3&\"'!c\"&ROW($A29)))&\" \"&INDIRECT(AnalýzaDat!J$3&\"'!d\"&ROW($A29)),\"\")","v":""},{"$f":"IFERROR(IF(INDIRECT(AnalýzaDat!K$3&\"'!c\"&ROW($A29))=0,\"\",INDIRECT(AnalýzaDat!K$3&\"'!c\"&ROW($A29)))&\" \"&INDIRECT(AnalýzaDat!K$3&\"'!d\"&ROW($A29)),\"\")","v":""},{"$f":"IFERROR(IF(INDIRECT(AnalýzaDat!L$3&\"'!c\"&ROW($A29))=0,\"\",INDIRECT(AnalýzaDat!L$3&\"'!c\"&ROW($A29)))&\" \"&INDIRECT(AnalýzaDat!L$3&\"'!d\"&ROW($A29)),\"\")","v":""}]

{"sheet":"AnalýzaDat","index":6,"n_rows":301,"n_cols":23,"rows_kept":301,"hidden":true,"merged":[[4,1,4,7]]}
[null,"Názvy listů",null,"Na tomto listu se vytvářejí názvy listů s recepty, na které můžete odkazovat ve vzorcích v tomto sešitu. Vodorovná tabulka slouží k vytváření listů s hlavními seznamy ingrediencí a měrných jednotek. \n\nIngredience a měrné jednotky pro všechny recepty vybrané v plánovači jídel se pak agregují do jedné tabulky. V této tabulce se pak určí pořadí, seřadí se a sečtou se všechny měrné jednotky pro stejnou ingredienci. \n\nTyto seřazené a sečtené ingredience se použijí k vytvoření nákupního seznamu na příslušném listu.",null,"Řádek 3 s názvy listů a svislé tabulky ve sloupcích B a C můžou generovat maximálně 20 listů, takže v plánovači jídel nemůže být celkem více než 20 receptů. V plánovači se vybírá 1 recept na den, a proto je nákupní seznam omezený na 7 receptů. Po 7. receptu nákupní seznam přestává fungovat.",null,"Agregované a seřazené tabulky můžou uchovávat maximálně 300 ingrediencí a jejich odpovídajících měrných jednotek. Při překročení 300 položek bude nákupní seznam nepřesný."]
[null,"Nemažte řádek 3!"]
[null,{"$f":"TRANSPOSE($C$7:$C$27)","v":"název listu"},"'Pizza se špenátem a fetou","'Můj nový recept","'","'","'","'","'","'","'","'","'","'","'","'","'","'","'","'","'","'"]
[null,"Toto je prázdný řádek.",{"$nulls":8},"počáteční řádek",{"$f":"ROW(AnalýzaDat!$H$8:$I$299)","v":8}]
[null,"Tabulka níže generuje názvy listů, které se používají k vypsání všech ingrediencí z receptů vybraných na listu Plánovač jídel.",{"$nulls":8},"poslední položka",{"$f":"IFERROR(COUNTA(AnalýzaDat!$I$7:$I$299),počáteční_řádek)+1","v":294}]
[null,{"$f":"IF(COUNTIF(K$3:K3,K3)=1,K3,\"\")","v":"'"},{"$nulls":5},"V tabulce níže se agregují všechny ingredience receptů a měrné jednotky ze sady receptů vybrané v plánovači jídel.",null,null,"Tabulka níže určuje pořadí všech ingrediencí a jejich odpovídajících měrných jednotek.",{"$nulls":5},"Tabulka níže přebírá všechny ingredience a měrné jednotky s pořadími a hledá duplicitní položky. U všech duplicitních ingrediencí se sečtou jejich měrné jednotky. Tento seznam je podkladem pro vygenerování nákupního seznamu. "]
[null,"název receptu","název listu",null,"Neupravujte ani neodstraňujte tabulky nalevo.",null,null,"Množství","agregovaný seznam ingrediencí",null,"Rozhodnutí při shodě","Pořadí","množství","ingredience","Číslo",null,"Seřazeno podle pořadí","množství","ingredience","hdr","výsledky","počet výskytů","Text"]
[null,{"$f":"IFERROR(IF('Plánovač jídel'!$C4<>0,'Plánovač jídel'!$C4,\"\"),\"\")","v":"Pizza se špenátem a fetou"},{"$f":"IFERROR(IF(B8<>0,\"'\"&B8,\"\"),\"\")","v":"'Pizza se špenátem a fetou"},{"$nulls":4},{"$f":"IFERROR(INDEX('Hlavní seznam měrných jednotek'!$B$4:$K$30,1+INT((ROW(A1)-1)/COLUMNS('Hlavní seznam měrných jednotek'!$B$4:$K$30)),MOD(ROW(A1)-1+COLUMNS('Hlavní seznam měrných jednotek'!$B$4:$K$30),COLUMNS('Hlavní seznam měrných jednotek'!$B$4:$K$30))+1),\"\")","v":"2 polévkové lžíce"},{"$f":"IFERROR(INDEX(HlavníSeznamIngrediencí,1+INT((ROW(A1)-1)/COLUMNS(HlavníSeznamIngrediencí)),MOD(ROW(A1)-1+COLUMNS(HlavníSeznamIngrediencí),COLUMNS(HlavníSeznamIngrediencí))+1),\"\")","v":"olivový nebo kanolový olej"},null,{"$f":"IFERROR(RANK(L8,AnalýzaDat!$L$8:$L$301)+SUMPRODUCT(--(L8=AnalýzaDat!$L$8:$L$301),--(O8<AnalýzaDat!$O$8:$O$301)),\"\")","v":7},{"$f":"IFERROR(IF(COUNTIF(AnalýzaDat!$I$8:$I$299,\"<=\"&AnalýzaDat!$I$8:$I$299)=0,\"\",COUNTIF(AnalýzaDat!$I$8:$I$299,\"<=\"&AnalýzaDat!$I$8:$I$299)),\"\")","v":286},{"$f":"IFERROR(IF(AND(poslední_položka-počáteční_řádek=0,LEN(INDEX(AnalýzaDat!$H$8:$I$299,1,1)=0)),\"\",IF(poslední_položka-počáteční_řádek=0,INDEX(AnalýzaDat!$H$8:$I$299,1,1),INDEX(AnalýzaDat!$H$8:$H$299,ROW(A1),1))),\"\")","v":"2 polévkové lžíce"},{"$f":"IFERROR(IF(AND(poslední_položka-počáteční_řádek=0,ISBLANK(INDEX(AnalýzaDat!$I$8:$I$299,1,1))),\"\",IF(poslední_položka-počáteční_řádek=0,INDEX(AnalýzaDat!$I$8:$I$299,1,1),INDEX(AnalýzaDat!$I$8:$I$299,ROW(A1),1))),\"\")","v":"olivový nebo kanolový olej"},{"$f":"poslední_položka","v":294},null,{"$f":"IFERROR(AnalýzaDat!$O8,\"\")","v":294},{"$f":"IFERROR(VLOOKUP(AnalýzaDat!$Q$8:$Q$301,AnalýzaDat!$K$8:$N$301,3,FALSE),\"\")","v":""},{"$f":"IFERROR(VLOOKUP(AnalýzaDat!$Q$8:$Q$301,AnalýzaDat!$K$8:$N$301,4,FALSE),\"\")","v":""},{"$f":"IF(S8=S7,T7,\"\")&REPT(AnalýzaDat!$R8&\", \",AnalýzaDat!$R8<>\"\")","v":""},{"$f":"IF(COUNTIF(S$8:S8,S8)=1,S8,\"\")","v":""},{"$f":"IFERROR(IF(LEN(AnalýzaDat!$S$8:$S$301)=0,\"\",COUNTIF(AnalýzaDat!$S$8:$S$301,S8)),\"\")","v":""},{"$f":"IFERROR(IF(LEN($U8)>0,LEFT(INDIRECT(\"AnalýzaDat!T\"&ROW(AnalýzaDat!$U8)+AnalýzaDat!$V8-1),LEN(INDIRECT(\"AnalýzaDat!T\"&ROW(AnalýzaDat!$U8)+AnalýzaDat!$V8-1))-2),\"\"),\"\")","v":""}]
[null,{"$f":"IFERROR(IF('Plánovač jídel'!$C5<>0,'Plánovač jídel'!$C5,\"\"),\"\")","v":"Můj nový recept"},{"$f":"IFERROR(IF(B9<>0,\"'\"&B9,\"\"),\"\")","v":"'Můj nový recept"},{"$nulls":4},{"$f":"IFERROR(INDEX('Hlavní seznam měrných jednotek'!$B$4:$K$30,1+INT((ROW(A2)-1)/COLUMNS('Hlavní seznam měrných jednotek'!$B$4:$K$30)),MOD(ROW(A2)-1+COLUMNS('Hlavní seznam měrných jednotek'!$B$4:$K$30),COLUMNS('Hlavní seznam měrných jednotek'!$B$4:$K$30))+1),\"\")","v":"1 krabička"},{"$f":"IFERROR(INDEX(HlavníSeznamIngrediencí,1+INT((ROW(A2)-1)/COLUMNS(HlavníSeznamIngrediencí)),MOD(ROW(A2)-1+COLUMNS(HlavníSeznamIngrediencí),COLUMNS(HlavníSeznamIngrediencí))+1),\"\")","v":"Krekry"},null,{"$f":"IFERROR(RANK(L9,AnalýzaDat!$L$8:$L$301)+SUMPRODUCT(--(L9=AnalýzaDat!$L$8:$L$301),--(O9<AnalýzaDat!$O$8:$O$301)),\"\")","v":13},{"$f":"IFERROR(IF(COUNTIF(AnalýzaDat!$I$8:$I$299,\"<=\"&AnalýzaDat!$I$8:$I$299)=0,\"\",COUNTIF(AnalýzaDat!$I$8:$I$299,\"<=\"&AnalýzaDat!$I$8:$I$299)),\"\")","v":280},{"$f":"IFERROR(IF(AND(poslední_položka-počáteční_řádek=0,LEN(INDEX(AnalýzaDat!$H$8:$I$299,1,1)=0)),\"\",IF(poslední_položka-počáteční_řádek=0,INDEX(AnalýzaDat!$H$8:$I$299,1,1),INDEX(AnalýzaDat!$H$8:$H$299,ROW(A2),1))),\"\")","v":"1 krabička"},{"$f":"IFERROR(IF(AND(poslední_položka-počáteční_řádek=0,ISBLANK(INDEX(AnalýzaDat!$I$8:$I$299,1,1))),\"\",IF(poslední_položka-počáteční_řádek=0,INDEX(AnalýzaDat!$I$8:$I$299,1,1),INDEX(AnalýzaDat!$I$8:$I$299,ROW(A2),1))),\"\")","v":"Krekry"},{"$f":"O8-1","v":293},null,{"$f":"IFERROR(AnalýzaDat!$O9,\"\")","v":293},{"$f":"IFERROR(VLOOKUP(AnalýzaDat!$Q$8:$Q$301,AnalýzaDat!$K$8:$N$301,3,FALSE),\"\")","v":""},{"$f":"IFERROR(VLOOKUP(AnalýzaDat!$Q$8:$Q$301,AnalýzaDat!$K$8:$N$301,4,FALSE),\"\")","v":""},{"$f":"IF(S9=S8,T8,\"\")&REPT(AnalýzaDat!$R9&\", \",AnalýzaDat!$R9<>\"\")","v":""},{"$f":"IF(COUNTIF(S$8:S9,S9)=1,S9,\"\")","v":""},{"$f":"IFERROR(IF(LEN(AnalýzaDat!$S$8:$S$301)=0,\"\",COUNTIF(AnalýzaDat!$S$8:$S$301,S9)),\"\")","v":""},{"$f":"IFERROR(IF(LEN($U9)>0,LEFT(INDIRECT(\"AnalýzaDat!T\"&ROW(AnalýzaDat!$U9)+AnalýzaDat!$V9-1),LEN(INDIRECT(\"AnalýzaDat!T\"&ROW(AnalýzaDat!$U9)+AnalýzaDat!$V9-1))-2),\"\"),\"\")","v":""}]
[null,{"$f":"IFERROR(IF('Plánovač jídel'!$C6<>0,'Plánovač jídel'!$C6,\"\"),\"\")","v":""},"'",{"$nulls":4},{"$f":"IFERROR(INDEX('Hlavní seznam měrných jednotek'!$B$4:$K$30,1+INT((ROW(A3)-1)/COLUMNS('Hlavní seznam měrných jednotek'!$B$4:$K$30)),MOD(ROW(A3)-1+COLUMNS('Hlavní seznam měrných jednotek'!$B$4:$K$30),COLUMNS('Hlavní seznam měrných jednotek'!$B$4:$K$30))+1),\"\")","v":""},"",null,{"$f":"IFERROR(RANK(L10,AnalýzaDat!$L$8:$L$301)+SUMPRODUCT(--(L10=AnalýzaDat!$L$8:$L$301),--(O10<AnalýzaDat!$O$8:$O$301)),\"\")","v":""},{"$f":"IFERROR(IF(COUNTIF(AnalýzaDat!$I$8:$I$299,\"<=\"&AnalýzaDat!$I$8:$I$299)=0,\"\",COUNTIF(AnalýzaDat!$I$8:$I$299,\"<=\"&AnalýzaDat!$I$8:$I$299)),\"\")","v":""},{"$f":"IFERROR(IF(AND(poslední_položka-počáteční_řádek=0,LEN(INDEX(AnalýzaDat!$H$8:$I$299,1,1)=0)),\"\",IF(poslední_položka-počáteční_řádek=0,INDEX(AnalýzaDat!$H$8:$I$299,1,1),INDEX(AnalýzaDat!$H$8:$H$299,ROW(A3),1))),\"\")","v":""},{"$f":"IFERROR(IF(AND(poslední_položka-počáteční_řádek=0,ISBLANK(INDEX(AnalýzaDat!$I$8:$I$299,1,1))),\"\",IF(poslední_položka-počáteční_řádek=0,INDEX(AnalýzaDat!$I$8:$I$299,1,1),INDEX(AnalýzaDat!$I$8:$I$299,ROW(A3),1))),\"\")","v":""},{"$f":"O9-1","v":292},null,{"$f":"IFERROR(AnalýzaDat!$O10,\"\")","v":292},{"$f":"IFERROR(VLOOKUP(AnalýzaDat!$Q$8:$Q$301,AnalýzaDat!$K$8:$N$301,3,FALSE),\"\")","v":""},{"$f":"IFERROR(VLOOKUP(AnalýzaDat!$Q$8:$Q$301,AnalýzaDat!$K$8:$N$301,4,FALSE),\"\")","v":""},{"$f":"IF(S10=S9,T9,\"\")&REPT(AnalýzaDat!$R10&\", \",AnalýzaDat!$R10<>\"\")","v":""},{"$f":"IF(COUNTIF(S$8:S10,S10)=1,S10,\"\")","v":""},{"$f":"IFERROR(IF(LEN(AnalýzaDat!$S$8:$S$301)=0,\"\",COUNTIF(AnalýzaDat!$S$8:$S$301,S10)),\"\")","v":""},{"$f":"IFERROR(IF(LEN($U10)>0,LEFT(INDIRECT(\"AnalýzaDat!T\"&ROW(AnalýzaDat!$U10)+AnalýzaDat!$V10-1),LEN(INDIRECT(\"AnalýzaDat!T\"&ROW(AnalýzaDat!$U10)+AnalýzaDat!$V10-1))-2),\"\"),\"\")","v":""}]
[null,{"$f":"IFERROR(IF('Plánovač jídel'!$C7<>0,'Plánovač jídel'!$C7,\"\"),\"\")","v":""},"'",{"$nulls":4},{"$f":"IFERROR(INDEX('Hlavní seznam měrných jednotek'!$B$4:$K$30,1+INT((ROW(A4)-1)/COLUMNS('Hlavní seznam měrných jednotek'!$B$4:$K$30)),MOD(ROW(A4)-1+COLUMNS('Hlavní seznam měrných jednotek'!$B$4:$K$30),COLUMNS('Hlavní seznam měrných jednotek'!$B$4:$K$30))+1),\"\")","v":""},"",null,{"$f":"IFERROR(RANK(L11,AnalýzaDat!$L$8:$L$301)+SUMPRODUCT(--(L11=AnalýzaDat!$L$8:$L$301),--(O11<AnalýzaDat!$O$8:$O$301)),\"\")","v":""},{"$f":"IFERROR(IF(COUNTIF(AnalýzaDat!$I$8:$I$299,\"<=\"&AnalýzaDat!$I$8:$I$299)=0,\"\",COUNTIF(AnalýzaDat!$I$8:$I$299,\"<=\"&AnalýzaDat!$I$8:$I$299)),\"\")","v":""},{"$f":"IFERROR(IF(AND(poslední_položka-počáteční_řádek=0,LEN(INDEX(AnalýzaDat!$H$8:$I$299,1,1)=0)),\"\",IF(poslední_položka-počáteční_řádek=0,INDEX(AnalýzaDat!$H$8:$I$299,1,1),INDEX(AnalýzaDat!$H$8:$H$299,ROW(A4),1))),\"\")","v":""},{"$f":"IFERROR(IF(AND(poslední_položka-počáteční_řádek=0,ISBLANK(INDEX(AnalýzaDat!$I$8:$I$299,1,1))),\"\",IF(poslední_položka-počáteční_řádek=0,INDEX(AnalýzaDat!$I$8:$I$299,1,1),INDEX(AnalýzaDat!$I$8:$I$299,ROW(A4),1))),\"\")","v":""},291,null,{"$f":"IFERROR(AnalýzaDat!$O11,\"\")","v":291},{"$f":"IFERROR(VLOOKUP(AnalýzaDat!$Q$8:$Q$301,AnalýzaDat!$K$8:$N$301,3,FALSE),\"\")","v":""},{"$f":"IFERROR(VLOOKUP(AnalýzaDat!$Q$8:$Q$301,AnalýzaDat!$K$8:$N$301,4,FALSE),\"\")","v":""},{"$f":"IF(S11=S10,T10,\"\")&REPT(AnalýzaDat!$R11&\", \",AnalýzaDat!$R11<>\"\")","v":""},{"$f":"IF(COUNTIF(S$8:S11,S11)=1,S11,\"\")","v":""},{"$f":"IFERROR(IF(LEN(AnalýzaDat!$S$8:$S$301)=0,\"\",COUNTIF(AnalýzaDat!$S$8:$S$301,S11)),\"\")","v":""},{"$f":"IFERROR(IF(LEN($U11)>0,LEFT(INDIRECT(\"AnalýzaDat!T\"&ROW(AnalýzaDat!$U11)+AnalýzaDat!$V11-1),LEN(INDIRECT(\"AnalýzaDat!T\"&ROW(AnalýzaDat!$U11)+AnalýzaDat!$V11-1))-2),\"\"),\"\")","v":""}]
[null,{"$f":"IFERROR(IF('Plánovač jídel'!$C8<>0,'Plánovač jídel'!$C8,\"\"),\"\")","v":""},"'",{"$nulls":4},{"$f":"IFERROR(INDEX('Hlavní seznam měrných jednotek'!$B$4:$K$30,1+INT((ROW(A5)-1)/COLUMNS('Hlavní seznam měrných jednotek'!$B$4:$K$30)),MOD(ROW(A5)-1+COLUMNS('Hlavní seznam měrných jednotek'!$B$4:$K$30),COLUMNS('Hlavní seznam měrných jednotek'!$B$4:$K$30))+1),\"\")","v":""},"",null,{"$f":"IFERROR(RANK(L12,AnalýzaDat!$L$8:$L$301)+SUMPRODUCT(--(L12=AnalýzaDat!$L$8:$L$301),--(O12<AnalýzaDat!$O$8:$O$301)),\"\")","v":""},{"$f":"IFERROR(IF(COUNTIF(AnalýzaDat!$I$8:$I$299,\"<=\"&AnalýzaDat!$I$8:$I$299)=0,\"\",COUNTIF(AnalýzaDat!$I$8:$I$299,\"<=\"&AnalýzaDat!$I$8:$I$299)),\"\")","v":""},{"$f":"IFERROR(IF(AND(poslední_položka-počáteční_řádek=0,LEN(INDEX(AnalýzaDat!$H$8:$I$299,1,1)=0)),\"\",IF(poslední_položka-počáteční_řádek=0,INDEX(AnalýzaDat!$H$8:$I$299,1,1),INDEX(AnalýzaDat!$H$8:$H$299,ROW(A5),1))),\"\")","v":""},{"$f":"IFERROR(IF(AND(poslední_položka-počáteční_řádek=0,ISBLANK(INDEX(AnalýzaDat!$I$8:$I$299,1,1))),\"\",IF(poslední_položka-počáteční_řádek=0,INDEX(AnalýzaDat!$I$8:$I$299,1,1),INDEX(AnalýzaDat!$I$8:$I$299,ROW(A5),1))),\"\")","v":""},290,null,{"$f":"IFERROR(AnalýzaDat!$O12,\"\")","v":290},{"$f":"IFERROR(VLOOKUP(AnalýzaDat!$Q$8:$Q$301,AnalýzaDat!$K$8:$N$301,3,FALSE),\"\")","v":""},{"$f":"IFERROR(VLOOKUP(AnalýzaDat!$Q$8:$Q$301,AnalýzaDat!$K$8:$N$301,4,FALSE),\"\")","v":""},{"$f":"IF(S12=S11,T11,\"\")&REPT(AnalýzaDat!$R12&\", \",AnalýzaDat!$R12<>\"\")","v":""},{"$f":"IF(COUNTIF(S$8:S12,S12)=1,S12,\"\")","v":""},{"$f":"IFERROR(IF(LEN(AnalýzaDat!$S$8:$S$301)=0,\"\",COUNTIF(AnalýzaDat!$S$8:$S$301,S12)),\"\")","v":""},{"$f":"IFERROR(IF(LEN($U12)>0,LEFT(INDIRECT(\"AnalýzaDat!T\"&ROW(AnalýzaDat!$U12)+AnalýzaDat!$V12-1),LEN(INDIRECT(\"AnalýzaDat!T\"&ROW(AnalýzaDat!$U12)+AnalýzaDat!$V12-1))-2),\"\"),\"\")","v":""}]
[null,{"$f":"IFERROR(IF('Plánovač jídel'!$C9<>0,'Plánovač jídel'!$C9,\"\"),\"\")","v":""},"'",{"$nulls":4},{"$f":"IFERROR(INDEX('Hlavní seznam měrných jednotek'!$B$4:$K$30,1+INT((ROW(A6)-1)/COLUMNS('Hlavní seznam měrných jednotek'!$B$4:$K$30)),MOD(ROW(A6)-1+COLUMNS('Hlavní seznam měrných jednotek'!$B$4:$K$30),COLUMNS('Hlavní seznam měrných jednotek'!$B$4:$K$30))+1),\"\")","v":""},"",null,{"$f":"IFERROR(RANK(L13,AnalýzaDat!$L$8:$L$301)+SUMPRODUCT(--(L13=AnalýzaDat!$L$8:$L$301),--(O13<AnalýzaDat!$O$8:$O$301)),\"\")","v":""},{"$f":"IFERROR(IF(COUNTIF(AnalýzaDat!$I$8:$I$299,\"<=\"&AnalýzaDat!$I$8:$I$299)=0,\"\",COUNTIF(AnalýzaDat!$I$8:$I$299,\"<=\"&AnalýzaDat!$I$8:$I$299)),\"\")","v":""},{"$f":"IFERROR(IF(AND(poslední_položka-počáteční_řádek=0,LEN(INDEX(AnalýzaDat!$H$8:$I$299,1,1)=0)),\"\",IF(poslední_položka-počáteční_řádek=0,INDEX(AnalýzaDat!$H$8:$I$299,1,1),INDEX(AnalýzaDat!$H$8:$H$299,ROW(A6),1))),\"\")","v":""},{"$f":"IFERROR(IF(AND(poslední_položka-počáteční_řádek=0,ISBLANK(INDEX(AnalýzaDat!$I$8:$I$299,1,1))),\"\",IF(poslední_položka-počáteční_řádek=0,INDEX(AnalýzaDat!$I$8:$I$299,1,1),INDEX(AnalýzaDat!$I$8:$I$299,ROW(A6),1))),\"\")","v":""},289,null,{"$f":"IFERROR(AnalýzaDat!$O13,\"\")","v":289},{"$f":"IFERROR(VLOOKUP(AnalýzaDat!$Q$8:$Q$301,AnalýzaDat!$K$8:$N$301,3,FALSE),\"\")","v":""},{"$f":"IFERROR(VLOOKUP(AnalýzaDat!$Q$8:$Q$301,AnalýzaDat!$K$8:$N$301,4,FALSE),\"\")","v":""},{"$f":"IF(S13=S12,T12,\"\")&REPT(AnalýzaDat!$R13&\", \",AnalýzaDat!$R13<>\"\")","v":""},{"$f":"IF(COUNTIF(S$8:S13,S13)=1,S13,\"\")","v":""},{"$f":"IFERROR(IF(LEN(AnalýzaDat!$S$8:$S$301)=0,\"\",COUNTIF(AnalýzaDat!$S$8:$S$301,S13)),\"\")","v":""},{"$f":"IFERROR(IF(LEN($U13)>0,LEFT(INDIRECT(\"AnalýzaDat!T\"&ROW(AnalýzaDat!$U13)+AnalýzaDat!$V13-1),LEN(INDIRECT(\"AnalýzaDat!T\"&ROW(AnalýzaDat!$U13)+AnalýzaDat!$V13-1))-2),\"\"),\"\")","v":""}]
[null,{"$f":"IFERROR(IF('Plánovač jídel'!$C10<>0,'Plánovač jídel'!$C10,\"\"),\"\")","v":""},"'",{"$nulls":4},{"$f":"IFERROR(INDEX('Hlavní seznam měrných jednotek'!$B$4:$K$30,1+INT((ROW(A7)-1)/COLUMNS('Hlavní seznam měrných jednotek'!$B$4:$K$30)),MOD(ROW(A7)-1+COLUMNS('Hlavní seznam měrných jednotek'!$B$4:$K$30),COLUMNS('Hlavní seznam měrných jednotek'!$B$4:$K$30))+1),\"\")","v":""},"",null,{"$f":"IFERROR(RANK(L14,AnalýzaDat!$L$8:$L$301)+SUMPRODUCT(--(L14=AnalýzaDat!$L$8:$L$301),--(O14<AnalýzaDat!$O$8:$O$301)),\"\")","v":""},{"$f":"IFERROR(IF(COUNTIF(AnalýzaDat!$I$8:$I$299,\"<=\"&AnalýzaDat!$I$8:$I$299)=0,\"\",COUNTIF(AnalýzaDat!$I$8:$I$299,\"<=\"&AnalýzaDat!$I$8:$I$299)),\"\")","v":""},{"$f":"IFERROR(IF(AND(poslední_položka-počáteční_řádek=0,LEN(INDEX(AnalýzaDat!$H$8:$I$299,1,1)=0)),\"\",IF(poslední_položka-počáteční_řádek=0,INDEX(AnalýzaDat!$H$8:$I$299,1,1),INDEX(AnalýzaDat!$H$8:$H$299,ROW(A7),1))),\"\")","v":""},{"$f":"IFERROR(IF(AND(poslední_položka-počáteční_řádek=0,ISBLANK(INDEX(AnalýzaDat!$I$8:$I$299,1,1))),\"\",IF(poslední_položka-počáteční_řádek=0,INDEX(AnalýzaDat!$I$8:$I$299,1,1),INDEX(AnalýzaDat!$I$8:$I$299,ROW(A7),1))),\"\")","v":""},288,null,{"$f":"IFERROR(AnalýzaDat!$O14,\"\")","v":288},{"$f":"IFERROR(VLOOKUP(AnalýzaDat!$Q$8:$Q$301,AnalýzaDat!$K$8:$N$301,3,FALSE),\"\")","v":""},{"$f":"IFERROR(VLOOKUP(AnalýzaDat!$Q$8:$Q$301,AnalýzaDat!$K$8:$N$301,4,FALSE),\"\")","v":""},{"$f":"IF(S14=S13,T13,\"\")&REPT(AnalýzaDat!$R14&\", \",AnalýzaDat!$R14<>\"\")","v":""},{"$f":"IF(COUNTIF(S$8:S14,S14)=1,S14,\"\")","v":""},{"$f":"IFERROR(IF(LEN(AnalýzaDat!$S$8:$S$301)=0,\"\",COUNTIF(AnalýzaDat!$S$8:$S$301,S14)),\"\")","v":""},{"$f":"IFERROR(IF(LEN($U14)>0,LEFT(INDIRECT(\"AnalýzaDat!T\"&ROW(AnalýzaDat!$U14)+AnalýzaDat!$V14-1),LEN(INDIRECT(\"AnalýzaDat!T\"&ROW(AnalýzaDat!$U14)+AnalýzaDat!$V14-1))-2),\"\"),\"\")","v":""}]
[null,{"$f":"IFERROR(IF('Plánovač jídel'!#REF!<>0,'Plánovač jídel'!#REF!,\"\"),\"\")","v":""},{"$f":"IFERROR(IF(B15<>0,\"'\"&B15,\"\"),\"\")","v":"'"},{"$nulls":4},{"$f":"IFERROR(INDEX('Hlavní seznam měrných jednotek'!$B$4:$K$30,1+INT((ROW(A8)-1)/COLUMNS('Hlavní seznam měrných jednotek'!$B$4:$K$30)),MOD(ROW(A8)-1+COLUMNS('Hlavní seznam měrných jednotek'!$B$4:$K$30),COLUMNS('Hlavní seznam měrných jednotek'!$B$4:$K$30))+1),\"\")","v":""},"",null,{"$f":"IFERROR(RANK(L15,AnalýzaDat!$L$8:$L$301)+SUMPRODUCT(--(L15=AnalýzaDat!$L$8:$L$301),--(O15<AnalýzaDat!$O$8:$O$301)),\"\")","v":""},{"$f":"IFERROR(IF(COUNTIF(AnalýzaDat!$I$8:$I$299,\"<=\"&AnalýzaDat!$I$8:$I$299)=0,\"\",COUNTIF(AnalýzaDat!$I$8:$I$299,\"<=\"&AnalýzaDat!$I$8:$I$299)),\"\")","v":""},{"$f":"IFERROR(IF(AND(poslední_položka-počáteční_řádek=0,LEN(INDEX(AnalýzaDat!$H$8:$I$299,1,1)=0)),\"\",IF(poslední_položka-počáteční_řádek=0,INDEX(AnalýzaDat!$H$8:$I$299,1,1),INDEX(AnalýzaDat!$H$8:$H$299,ROW(A8),1))),\"\")","v":""},{"$f":"IFERROR(IF(AND(poslední_položka-počáteční_řádek=0,ISBLANK(INDEX(AnalýzaDat!$I$8:$I$299,1,1))),\"\",IF(poslední_položka-počáteční_řádek=0,INDEX(AnalýzaDat!$I$8:$I$299,1,1),INDEX(AnalýzaDat!$I$8:$I$299,ROW(A8),1))),\"\")","v":""},287,null,{"$f":"IFERROR(AnalýzaDat!$O15,\"\")","v":287},{"$f":"IFERROR(VLOOKUP(AnalýzaDat!$Q$8:$Q$301,AnalýzaDat!$K$8:$N$301,3,FALSE),\"\")","v":""},{"$f":"IFERROR(VLOOKUP(AnalýzaDat!$Q$8:$Q$301,AnalýzaDat!$K$8:$N$301,4,FALSE),\"\")","v":""},{"$f":"IF(S15=S14,T14,\"\")&REPT(AnalýzaDat!$R15&\", \",AnalýzaDat!$R15<>\"\")","v":""},{"$f":"IF(COUNTIF(S$8:S15,S15)=1,S15,\"\")","v":""},{"$f":"IFERROR(IF(LEN(AnalýzaDat!$S$8:$S$301)=0,\"\",COUNTIF(AnalýzaDat!$S$8:$S$301,S15)),\"\")","v":""},{"$f":"IFERROR(IF(LEN($U15)>0,LEFT(INDIRECT(\"AnalýzaDat!T\"&ROW(AnalýzaDat!$U15)+AnalýzaDat!$V15-1),LEN(INDIRECT(\"AnalýzaDat!T\"&ROW(AnalýzaDat!$U15)+AnalýzaDat!$V15-1))-2),\"\"),\"\")","v":""}]
[null,{"$f":"IFERROR(IF('Plánovač jídel'!#REF!<>0,'Plánovač jídel'!#REF!,\"\"),\"\")","v":""},"'",{"$nulls":4},{"$f":"IFERROR(INDEX('Hlavní seznam měrných jednotek'!$B$4:$K$30,1+INT((ROW(A9)-1)/COLUMNS('Hlavní seznam měrných jednotek'!$B$4:$K$30)),MOD(ROW(A9)-1+COLUMNS('Hlavní seznam měrných jednotek'!$B$4:$K$30),COLUMNS('Hlavní seznam měrných jednotek'!$B$4:$K$30))+1),\"\")","v":""},"",null,{"$f":"IFERROR(RANK(L16,AnalýzaDat!$L$8:$L$301)+SUMPRODUCT(--(L16=AnalýzaDat!$L$8:$L$301),--(O16<AnalýzaDat!$O$8:$O$301)),\"\")","v":""},{"$f":"IFERROR(IF(COUNTIF(AnalýzaDat!$I$8:$I$299,\"<=\"&AnalýzaDat!$I$8:$I$299)=0,\"\",COUNTIF(AnalýzaDat!$I$8:$I$299,\"<=\"&AnalýzaDat!$I$8:$I$299)),\"\")","v":""},{"$f":"IFERROR(IF(AND(poslední_položka-počáteční_řádek=0,LEN(INDEX(AnalýzaDat!$H$8:$I$299,1,1)=0)),\"\",IF(poslední_položka-počáteční_řádek=0,INDEX(AnalýzaDat!$H$8:$I$299,1,1),INDEX(AnalýzaDat!$H$8:$H$299,ROW(A9),1))),\"\")","v":""},{"$f":"IFERROR(IF(AND(poslední_položka-počáteční_řádek=0,ISBLANK(INDEX(AnalýzaDat!$I$8:$I$299,1,1))),\"\",IF(poslední_položka-počáteční_řádek=0,INDEX(AnalýzaDat!$I$8:$I$299,1,1),INDEX(AnalýzaDat!$I$8:$I$299,ROW(A9),1))),\"\")","v":""},286,null,{"$f":"IFERROR(AnalýzaDat!$O16,\"\")","v":286},{"$f":"IFERROR(VLOOKUP(AnalýzaDat!$Q$8:$Q$301,AnalýzaDat!$K$8:$N$301,3,FALSE),\"\")","v":""},{"$f":"IFERROR(VLOOKUP(AnalýzaDat!$Q$8:$Q$301,AnalýzaDat!$K$8:$N$301,4,FALSE),\"\")","v":""},{"$f":"IF(S16=S15,T15,\"\")&REPT(AnalýzaDat!$R16&\", \",AnalýzaDat!$R16<>\"\")","v":""},{"$f":"IF(COUNTIF(S$8:S16,S16)=1,S16,\"\")","v":""},{"$f":"IFERROR(IF(LEN(AnalýzaDat!$S$8:$S$301)=0,\"\",COUNTIF(AnalýzaDat!$S$8:$S$301,S16)),\"\")","v":""},{"$f":"IFERROR(IF(LEN($U16)>0,LEFT(INDIRECT(\"AnalýzaDat!T\"&ROW(AnalýzaDat!$U16)+AnalýzaDat!$V16-1),LEN(INDIRECT(\"AnalýzaDat!T\"&ROW(AnalýzaDat!$U16)+AnalýzaDat!$V16-1))-2),\"\"),\"\")","v":""}]
[null,{"$f":"IFERROR(IF('Plánovač jídel'!#REF!<>0,'Plánovač jídel'!#REF!,\"\"),\"\")","v":""},"'",{"$nulls":4},{"$f":"IFERROR(INDEX('Hlavní seznam měrných jednotek'!$B$4:$K$30,1+INT((ROW(A10)-1)/COLUMNS('Hlavní seznam měrných jednotek'!$B$4:$K$30)),MOD(ROW(A10)-1+COLUMNS('Hlavní seznam měrných jednotek'!$B$4:$K$30),COLUMNS('Hlavní seznam měrných jednotek'!$B$4:$K$30))+1),\"\")","v":""},"",null,{"$f":"IFERROR(RANK(L17,AnalýzaDat!$L$8:$L$301)+SUMPRODUCT(--(L17=AnalýzaDat!$L$8:$L$301),--(O17<AnalýzaDat!$O$8:$O$301)),\"\")","v":""},{"$f":"IFERROR(IF(COUNTIF(AnalýzaDat!$I$8:$I$299,\"<=\"&AnalýzaDat!$I$8:$I$299)=0,\"\",COUNTIF(AnalýzaDat!$I$8:$I$299,\"<=\"&AnalýzaDat!$I$8:$I$299)),\"\")","v":""},{"$f":"IFERROR(IF(AND(poslední_položka-počáteční_řádek=0,LEN(INDEX(AnalýzaDat!$H$8:$I$299,1,1)=0)),\"\",IF(poslední_položka-počáteční_řádek=0,INDEX(AnalýzaDat!$H$8:$I$299,1,1),INDEX(AnalýzaDat!$H$8:$H$299,ROW(A10),1))),\"\")","v":""},{"$f":"IFERROR(IF(AND(poslední_položka-počáteční_řádek=0,ISBLANK(INDEX(AnalýzaDat!$I$8:$I$299,1,1))),\"\",IF(poslední_položka-počáteční_řádek=0,INDEX(AnalýzaDat!$I$8:$I$299,1,1),INDEX(AnalýzaDat!$I$8:$I$299,ROW(A10),1))),\"\")","v":""},285,null,{"$f":"IFERROR(AnalýzaDat!$O17,\"\")","v":285},{"$f":"IFERROR(VLOOKUP(AnalýzaDat!$Q$8:$Q$301,AnalýzaDat!$K$8:$N$301,3,FALSE),\"\")","v":""},{"$f":"IFERROR(VLOOKUP(AnalýzaDat!$Q$8:$Q$301,AnalýzaDat!$K$8:$N$301,4,FALSE),\"\")","v":""},{"$f":"IF(S17=S16,T16,\"\")&REPT(AnalýzaDat!$R17&\", \",AnalýzaDat!$R17<>\"\")","v":""},{"$f":"IF(COUNTIF(S$8:S17,S17)=1,S17,\"\")","v":""},{"$f":"IFERROR(IF(LEN(AnalýzaDat!$S$8:$S$301)=0,\"\",COUNTIF(AnalýzaDat!$S$8:$S$301,S17)),\"\")","v":""},{"$f":"IFERROR(IF(LEN($U17)>0,LEFT(INDIRECT(\"AnalýzaDat!T\"&ROW(AnalýzaDat!$U17)+AnalýzaDat!$V17-1),LEN(INDIRECT(\"AnalýzaDat!T\"&ROW(AnalýzaDat!$U17)+AnalýzaDat!$V17-1))-2),\"\"),\"\")","v":""}]
[null,{"$f":"IFERROR(IF('Plánovač jídel'!#REF!<>0,'Plánovač jídel'!#REF!,\"\"),\"\")","v":""},"'",{"$nulls":4},{"$f":"IFERROR(INDEX('Hlavní seznam měrných jednotek'!$B$4:$K$30,1+INT((ROW(A11)-1)/COLUMNS('Hlavní seznam měrných jednotek'!$B$4:$K$30)),MOD(ROW(A11)-1+COLUMNS('Hlavní seznam měrných jednotek'!$B$4:$K$30),COLUMNS('Hlavní seznam měrných jednotek'!$B$4:$K$30))+1),\"\")","v":"1/2 čajová lžička"},"sůl",null,{"$f":"IFERROR(RANK(L18,AnalýzaDat!$L$8:$L$301)+SUMPRODUCT(--(L18=AnalýzaDat!$L$8:$L$301),--(O18<AnalýzaDat!$O$8:$O$301)),\"\")","v":4},{"$f":"IFERROR(IF(COUNTIF(AnalýzaDat!$I$8:$I$299,\"<=\"&AnalýzaDat!$I$8:$I$299)=0,\"\",COUNTIF(AnalýzaDat!$I$8:$I$299,\"<=\"&AnalýzaDat!$I$8:$I$299)),\"\")","v":289},{"$f":"IFERROR(IF(AND(poslední_položka-počáteční_řádek=0,LEN(INDEX(AnalýzaDat!$H$8:$I$299,1,1)=0)),\"\",IF(poslední_položka-počáteční_řádek=0,INDEX(AnalýzaDat!$H$8:$I$299,1,1),INDEX(AnalýzaDat!$H$8:$H$299,ROW(A11),1))),\"\")","v":"1/2 čajová lžička"},{"$f":"IFERROR(IF(AND(poslední_položka-počáteční_řádek=0,ISBLANK(INDEX(AnalýzaDat!$I$8:$I$299,1,1))),\"\",IF(poslední_položka-počáteční_řádek=0,INDEX(AnalýzaDat!$I$8:$I$299,1,1),INDEX(AnalýzaDat!$I$8:$I$299,ROW(A11),1))),\"\")","v":"sůl"},284,null,{"$f":"IFERROR(AnalýzaDat!$O18,\"\")","v":284},{"$f":"IFERROR(VLOOKUP(AnalýzaDat!$Q$8:$Q$301,AnalýzaDat!$K$8:$N$301,3,FALSE),\"\")","v":""},{"$f":"IFERROR(VLOOKUP(AnalýzaDat!$Q$8:$Q$301,AnalýzaDat!$K$8:$N$301,4,FALSE),\"\")","v":""},{"$f":"IF(S18=S17,T17,\"\")&REPT(AnalýzaDat!$R18&\", \",AnalýzaDat!$R18<>\"\")","v":""},{"$f":"IF(COUNTIF(S$8:S18,S18)=1,S18,\"\")","v":""},{"$f":"IFERROR(IF(LEN(AnalýzaDat!$S$8:$S$301)=0,\"\",COUNTIF(AnalýzaDat!$S$8:$S$301,S18)),\"\")","v":""},{"$f":"IFERROR(IF(LEN($U18)>0,LEFT(INDIRECT(\"AnalýzaDat!T\"&ROW(AnalýzaDat!$U18)+AnalýzaDat!$V18-1),LEN(INDIRECT(\"AnalýzaDat!T\"&ROW(AnalýzaDat!$U18)+AnalýzaDat!$V18-1))-2),\"\"),\"\")","v":""}]
[null,{"$f":"IFERROR(IF('Plánovač jídel'!#REF!<>0,'Plánovač jídel'!#REF!,\"\"),\"\")","v":""},"'",{"$nulls":4},{"$f":"IFERROR(INDEX('Hlavní seznam měrných jednotek'!$B$4:$K$30,1+INT((ROW(A12)-1)/COLUMNS('Hlavní seznam měrných jednotek'!$B$4:$K$30)),MOD(ROW(A12)-1+COLUMNS('Hlavní seznam měrných jednotek'!$B$4:$K$30),COLUMNS('Hlavní seznam měrných jednotek'!$B$4:$K$30))+1),\"\")","v":"1 balení"},"Smetanový sýr",null,{"$f":"IFERROR(RANK(L19,AnalýzaDat!$L$8:$L$301)+SUMPRODUCT(--(L19=AnalýzaDat!$L$8:$L$301),--(O19<AnalýzaDat!$O$8:$O$301)),\"\")","v":5},{"$f":"IFERROR(IF(COUNTIF(AnalýzaDat!$I$8:$I$299,\"<=\"&AnalýzaDat!$I$8:$I$299)=0,\"\",COUNTIF(AnalýzaDat!$I$8:$I$299,\"<=\"&AnalýzaDat!$I$8:$I$299)),\"\")","v":288},{"$f":"IFERROR(IF(AND(poslední_položka-počáteční_řádek=0,LEN(INDEX(AnalýzaDat!$H$8:$I$299,1,1)=0)),\"\",IF(poslední_položka-počáteční_řádek=0,INDEX(AnalýzaDat!$H$8:$I$299,1,1),INDEX(AnalýzaDat!$H$8:$H$299,ROW(A12),1))),\"\")","v":"1 balení"},{"$f":"IFERROR(IF(AND(poslední_položka-počáteční_řádek=0,ISBLANK(INDEX(AnalýzaDat!$I$8:$I$299,1,1))),\"\",IF(poslední_položka-počáteční_řádek=0,INDEX(AnalýzaDat!$I$8:$I$299,1,1),INDEX(AnalýzaDat!$I$8:$I$299,ROW(A12),1))),\"\")","v":"Smetanový sýr"},283,null,{"$f":"IFERROR(AnalýzaDat!$O19,\"\")","v":283},{"$f":"IFERROR(VLOOKUP(AnalýzaDat!$Q$8:$Q$301,AnalýzaDat!$K$8:$N$301,3,FALSE),\"\")","v":""},{"$f":"IFERROR(VLOOKUP(AnalýzaDat!$Q$8:$Q$301,AnalýzaDat!$K$8:$N$301,4,FALSE),\"\")","v":""},{"$f":"IF(S19=S18,T18,\"\")&REPT(AnalýzaDat!$R19&\", \",AnalýzaDat!$R19<>\"\")","v":""},{"$f":"IF(COUNTIF(S$8:S19,S19)=1,S19,\"\")","v":""},{"$f":"IFERROR(IF(LEN(AnalýzaDat!$S$8:$S$301)=0,\"\",COUNTIF(AnalýzaDat!$S$8:$S$301,S19)),\"\")","v":""},{"$f":"IFERROR(IF(LEN($U19)>0,LEFT(INDIRECT(\"AnalýzaDat!T\"&ROW(AnalýzaDat!$U19)+AnalýzaDat!$V19-1),LEN(INDIRECT(\"AnalýzaDat!T\"&ROW(AnalýzaDat!$U19)+AnalýzaDat!$V19-1))-2),\"\"),\"\")","v":""}]
[null,{"$f":"IFERROR(IF('Plánovač jídel'!#REF!<>0,'Plánovač jídel'!#REF!,\"\"),\"\")","v":""},"'",{"$nulls":4},{"$f":"IFERROR(INDEX('Hlavní seznam měrných jednotek'!$B$4:$K$30,1+INT((ROW(A13)-1)/COLUMNS('Hlavní seznam měrných jednotek'!$B$4:$K$30)),MOD(ROW(A13)-1+COLUMNS('Hlavní seznam měrných jednotek'!$B$4:$K$30),COLUMNS('Hlavní seznam měrných jednotek'!$B$4:$K$30))+1),\"\")","v":""},"",null,{"$f":"IFERROR(RANK(L20,AnalýzaDat!$L$8:$L$301)+SUMPRODUCT(--(L20=AnalýzaDat!$L$8:$L$301),--(O20<AnalýzaDat!$O$8:$O$301)),\"\")","v":""},{"$f":"IFERROR(IF(COUNTIF(AnalýzaDat!$I$8:$I$299,\"<=\"&AnalýzaDat!$I$8:$I$299)=0,\"\",COUNTIF(AnalýzaDat!$I$8:$I$299,\"<=\"&AnalýzaDat!$I$8:$I$299)),\"\")","v":""},{"$f":"IFERROR(IF(AND(poslední_položka-počáteční_řádek=0,LEN(INDEX(AnalýzaDat!$H$8:$I$299,1,1)=0)),\"\",IF(poslední_položka-počáteční_řádek=0,INDEX(AnalýzaDat!$H$8:$I$299,1,1),INDEX(AnalýzaDat!$H$8:$H$299,ROW(A13),1))),\"\")","v":""},{"$f":"IFERROR(IF(AND(poslední_položka-počáteční_řádek=0,ISBLANK(INDEX(AnalýzaDat!$I$8:$I$299,1,1))),\"\",IF(poslední_položka-počáteční_řádek=0,INDEX(AnalýzaDat!$I$8:$I$299,1,1),INDEX(AnalýzaDat!$I$8:$I$299,ROW(A13),1))),\"\")","v":""},282,null,{"$f":"IFERROR(AnalýzaDat!$O20,\"\")","v":282},{"$f":"IFERROR(VLOOKUP(AnalýzaDat!$Q$8:$Q$301,AnalýzaDat!$K$8:$N$301,3,FALSE),\"\")","v":""},{"$f":"IFERROR(VLOOKUP(AnalýzaDat!$Q$8:$Q$301,AnalýzaDat!$K$8:$N$301,4,FALSE),\"\")","v":""},{"$f":"IF(S20=S19,T19,\"\")&REPT(AnalýzaDat!$R20&\", \",AnalýzaDat!$R20<>\"\")","v":""},{"$f":"IF(COUNTIF(S$8:S20,S20)=1,S20,\"\")","v":""},{"$f":"IFERROR(IF(LEN(AnalýzaDat!$S$8:$S$301)=0,\"\",COUNTIF(AnalýzaDat!$S$8:$S$301,S20)),\"\")","v":""},{"$f":"IFERROR(IF(LEN($U20)>0,LEFT(INDIRECT(\"AnalýzaDat!T\"&ROW(AnalýzaDat!$U20)+AnalýzaDat!$V20-1),LEN(INDIRECT(\"AnalýzaDat!T\"&ROW(AnalýzaDat!$U20)+AnalýzaDat!$V20-1))-2),\"\"),\"\")","v":""}]
[null,{"$f":"IFERROR(IF('Plánovač jídel'!#REF!<>0,'Plánovač jídel'!#REF!,\"\"),\"\")","v":""},"'",{"$nulls":4},{"$f":"IFERROR(INDEX('Hlavní seznam měrných jednotek'!$B$4:$K$30,1+INT((ROW(A14)-1)/COLUMNS('Hlavní seznam měrných jednotek'!$B$4:$K$30)),MOD(ROW(A14)-1+COLUMNS('Hlavní seznam měrných jednotek'!$B$4:$K$30),COLUMNS('Hlavní seznam měrných jednotek'!$B$4:$K$30))+1),\"\")","v":""},"",null,{"$f":"IFERROR(RANK(L21,AnalýzaDat!$L$8:$L$301)+SUMPRODUCT(--(L21=AnalýzaDat!$L$8:$L$301),--(O21<AnalýzaDat!$O$8:$O$301)),\"\")","v":""},{"$f":"IFERROR(IF(COUNTIF(AnalýzaDat!$I$8:$I$299,\"<=\"&AnalýzaDat!$I$8:$I$299)=0,\"\",COUNTIF(AnalýzaDat!$I$8:$I$299,\"<=\"&AnalýzaDat!$I$8:$I$299)),\"\")","v":""},{"$f":"IFERROR(IF(AND(poslední_položka-počáteční_řádek=0,LEN(INDEX(AnalýzaDat!$H$8:$I$299,1,1)=0)),\"\",IF(poslední_položka-počáteční_řádek=0,INDEX(AnalýzaDat!$H$8:$I$299,1,1),INDEX(AnalýzaDat!$H$8:$H$299,ROW(A14),1))),\"\")","v":""},{"$f":"IFERROR(IF(AND(poslední_položka-počáteční_řádek=0,ISBLANK(INDEX(AnalýzaDat!$I$8:$I$299,1,1))),\"\",IF(poslední_položka-počáteční_řádek=0,INDEX(AnalýzaDat!$I$8:$I$299,1,1),INDEX(AnalýzaDat!$I$8:$I$299,ROW(A14),1))),\"\")","v":""},281,null,{"$f":"IFERROR(AnalýzaDat!$O21,\"\")","v":281},{"$f":"IFERROR(VLOOKUP(AnalýzaDat!$Q$8:$Q$301,AnalýzaDat!$K$8:$N$301,3,FALSE),\"\")","v":""},{"$f":"IFERROR(VLOOKUP(AnalýzaDat!$Q$8:$Q$301,AnalýzaDat!$K$8:$N$301,4,FALSE),\"\")","v":""},{"$f":"IF(S21=S20,T20,\"\")&REPT(AnalýzaDat!$R21&\", \",AnalýzaDat!$R21<>\"\")","v":""},{"$f":"IF(COUNTIF(S$8:S21,S21)=1,S21,\"\")","v":""},{"$f":"IFERROR(IF(LEN(AnalýzaDat!$S$8:$S$301)=0,\"\",COUNTIF(AnalýzaDat!$S$8:$S$301,S21)),\"\")","v":""},{"$f":"IFERROR(IF(LEN($U21)>0,LEFT(INDIRECT(\"AnalýzaDat!T\"&ROW(AnalýzaDat!$U21)+AnalýzaDat!$V21-1),LEN(INDIRECT(\"AnalýzaDat!T\"&ROW(AnalýzaDat!$U21)+AnalýzaDat!$V21-1))-2),\"\"),\"\")","v":""}]
[null,{"$f":"IFERROR(IF('Plánovač jídel'!#REF!<>0,'Plánovač jídel'!#REF!,\"\"),\"\")","v":""},"'",{"$nulls":4},{"$f":"IFERROR(INDEX('Hlavní seznam měrných jednotek'!$B$4:$K$30,1+INT((ROW(A15)-1)/COLUMNS('Hlavní seznam měrných jednotek'!$B$4:$K$30)),MOD(ROW(A15)-1+COLUMNS('Hlavní seznam měrných jednotek'!$B$4:$K$30),COLUMNS('Hlavní seznam měrných jednotek'!$B$4:$K$30))+1),\"\")","v":""},"",null,{"$f":"IFERROR(RANK(L22,AnalýzaDat!$L$8:$L$301)+SUMPRODUCT(--(L22=AnalýzaDat!$L$8:$L$301),--(O22<AnalýzaDat!$O$8:$O$301)),\"\")","v":""},{"$f":"IFERROR(IF(COUNTIF(AnalýzaDat!$I$8:$I$299,\"<=\"&AnalýzaDat!$I$8:$I$299)=0,\"\",COUNTIF(AnalýzaDat!$I$8:$I$299,\"<=\"&AnalýzaDat!$I$8:$I$299)),\"\")","v":""},{"$f":"IFERROR(IF(AND(poslední_položka-počáteční_řádek=0,LEN(INDEX(AnalýzaDat!$H$8:$I$299,1,1)=0)),\"\",IF(poslední_položka-počáteční_řádek=0,INDEX(AnalýzaDat!$H$8:$I$299,1,1),INDEX(AnalýzaDat!$H$8:$H$299,ROW(A15),1))),\"\")","v":""},{"$f":"IFERROR(IF(AND(poslední_položka-počáteční_řádek=0,ISBLANK(INDEX(AnalýzaDat!$I$8:$I$299,1,1))),\"\",IF(poslední_položka-počáteční_řádek=0,INDEX(AnalýzaDat!$I$8:$I$299,1,1),INDEX(AnalýzaDat!$I$8:$I$299,ROW(A15),1))),\"\")","v":""},280,null,{"$f":"IFERROR(AnalýzaDat!$O22,\"\")","v":280},{"$f":"IFERROR(VLOOKUP(AnalýzaDat!$Q$8:$Q$301,AnalýzaDat!$K$8:$N$301,3,FALSE),\"\")","v":""},{"$f":"IFERROR(VLOOKUP(AnalýzaDat!$Q$8:$Q$301,AnalýzaDat!$K$8:$N$301,4,FALSE),\"\")","v":""},{"$f":"IF(S22=S21,T21,\"\")&REPT(AnalýzaDat!$R22&\", \",AnalýzaDat!$R22<>\"\")","v":""},{"$f":"IF(COUNTIF(S$8:S22,S22)=1,S22,\"\")","v":""},{"$f":"IFERROR(IF(LEN(AnalýzaDat!$S$8:$S$301)=0,\"\",COUNTIF(AnalýzaDat!$S$8:$S$301,S22)),\"\")","v":""},{"$f":"IFERROR(IF(LEN($U22)>0,LEFT(INDIRECT(\"AnalýzaDat!T\"&ROW(AnalýzaDat!$U22)+AnalýzaDat!$V22-1),LEN(INDIRECT(\"AnalýzaDat!T\"&ROW(AnalýzaDat!$U22)+AnalýzaDat!$V22-1))-2),\"\"),\"\")","v":""}]
[null,{"$f":"IFERROR(IF('Plánovač jídel'!#REF!<>0,'Plánovač jídel'!#REF!,\"\"),\"\")","v":""},"'",{"$nulls":4},{"$f":"IFERROR(INDEX('Hlavní seznam měrných jednotek'!$B$4:$K$30,1+INT((ROW(A16)-1)/COLUMNS('Hlavní seznam měrných jednotek'!$B$4:$K$30)),MOD(ROW(A16)-1+COLUMNS('Hlavní seznam měrných jednotek'!$B$4:$K$30),COLUMNS('Hlavní seznam měrných jednotek'!$B$4:$K$30))+1),\"\")","v":""},"",null,{"$f":"IFERROR(RANK(L23,AnalýzaDat!$L$8:$L$301)+SUMPRODUCT(--(L23=AnalýzaDat!$L$8:$L$301),--(O23<AnalýzaDat!$O$8:$O$301)),\"\")","v":""},{"$f":"IFERROR(IF(COUNTIF(AnalýzaDat!$I$8:$I$299,\"<=\"&AnalýzaDat!$I$8:$I$299)=0,\"\",COUNTIF(AnalýzaDat!$I$8:$I$299,\"<=\"&AnalýzaDat!$I$8:$I$299)),\"\")","v":""},{"$f":"IFERROR(IF(AND(poslední_položka-počáteční_řádek=0,LEN(INDEX(AnalýzaDat!$H$8:$I$299,1,1)=0)),\"\",IF(poslední_položka-počáteční_řádek=0,INDEX(AnalýzaDat!$H$8:$I$299,1,1),INDEX(AnalýzaDat!$H$8:$H$299,ROW(A16),1))),\"\")","v":""},{"$f":"IFERROR(IF(AND(poslední_položka-počáteční_řádek=0,ISBLANK(INDEX(AnalýzaDat!$I$8:$I$299,1,1))),\"\",IF(poslední_položka-počáteční_řádek=0,INDEX(AnalýzaDat!$I$8:$I$299,1,1),INDEX(AnalýzaDat!$I$8:$I$299,ROW(A16),1))),\"\")","v":""},279,null,{"$f":"IFERROR(AnalýzaDat!$O23,\"\")","v":279},{"$f":"IFERROR(VLOOKUP(AnalýzaDat!$Q$8:$Q$301,AnalýzaDat!$K$8:$N$301,3,FALSE),\"\")","v":""},{"$f":"IFERROR(VLOOKUP(AnalýzaDat!$Q$8:$Q$301,AnalýzaDat!$K$8:$N$301,4,FALSE),\"\")","v":""},{"$f":"IF(S23=S22,T22,\"\")&REPT(AnalýzaDat!$R23&\", \",AnalýzaDat!$R23<>\"\")","v":""},{"$f":"IF(COUNTIF(S$8:S23,S23)=1,S23,\"\")","v":""},{"$f":"IFERROR(IF(LEN(AnalýzaDat!$S$8:$S$301)=0,\"\",COUNTIF(AnalýzaDat!$S$8:$S$301,S23)),\"\")","v":""},{"$f":"IFERROR(IF(LEN($U23)>0,LEFT(INDIRECT(\"AnalýzaDat!T\"&ROW(AnalýzaDat!$U23)+AnalýzaDat!$V23-1),LEN(INDIRECT(\"AnalýzaDat!T\"&ROW(AnalýzaDat!$U23)+AnalýzaDat!$V23-1))-2),\"\"),\"\")","v":""}]
[null,{"$f":"IFERROR(IF('Plánovač jídel'!#REF!<>0,'Plánovač jídel'!#REF!,\"\"),\"\")","v":""},"'",{"$nulls":4},{"$f":"IFERROR(INDEX('Hlavní seznam měrných jednotek'!$B$4:$K$30,1+INT((ROW(A17)-1)/COLUMNS('Hlavní seznam měrných jednotek'!$B$4:$K$30)),MOD(ROW(A17)-1+COLUMNS('Hlavní seznam měrných jednotek'!$B$4:$K$30),COLUMNS('Hlavní seznam měrných jednotek'!$B$4:$K$30))+1),\"\")","v":""},"",null,{"$f":"IFERROR(RANK(L24,AnalýzaDat!$L$8:$L$301)+SUMPRODUCT(--(L24=AnalýzaDat!$L$8:$L$301),--(O24<AnalýzaDat!$O$8:$O$301)),\"\")","v":""},{"$f":"IFERROR(IF(COUNTIF(AnalýzaDat!$I$8:$I$299,\"<=\"&AnalýzaDat!$I$8:$I$299)=0,\"\",COUNTIF(AnalýzaDat!$I$8:$I$299,\"<=\"&AnalýzaDat!$I$8:$I$299)),\"\")","v":""},{"$f":"IFERROR(IF(AND(poslední_položka-počáteční_řádek=0,LEN(INDEX(AnalýzaDat!$H$8:$I$299,1,1)=0)),\"\",IF(poslední_položka-počáteční_řádek=0,INDEX(AnalýzaDat!$H$8:$I$299,1,1),INDEX(AnalýzaDat!$H$8:$H$299,ROW(A17),1))),\"\")","v":""},{"$f":"IFERROR(IF(AND(poslední_položka-počáteční_řádek=0,ISBLANK(INDEX(AnalýzaDat!$I$8:$I$299,1,1))),\"\",IF(poslední_položka-počáteční_řádek=0,INDEX(AnalýzaDat!$I$8:$I$299,1,1),INDEX(AnalýzaDat!$I$8:$I$299,ROW(A17),1))),\"\")","v":""},278,null,{"$f":"IFERROR(AnalýzaDat!$O24,\"\")","v":278},{"$f":"IFERROR(VLOOKUP(AnalýzaDat!$Q$8:$Q$301,AnalýzaDat!$K$8:$N$301,3,FALSE),\"\")","v":""},{"$f":"IFERROR(VLOOKUP(AnalýzaDat!$Q$8:$Q$301,AnalýzaDat!$K$8:$N$301,4,FALSE),\"\")","v":""},{"$f":"IF(S24=S23,T23,\"\")&REPT(AnalýzaDat!$R24&\", \",AnalýzaDat!$R24<>\"\")","v":""},{"$f":"IF(COUNTIF(S$8:S24,S24)=1,S24,\"\")","v":""},{"$f":"IFERROR(IF(LEN(AnalýzaDat!$S$8:$S$301)=0,\"\",COUNTIF(AnalýzaDat!$S$8:$S$301,S24)),\"\")","v":""},{"$f":"IFERROR(IF(LEN($U24)>0,LEFT(INDIRECT(\"AnalýzaDat!T\"&ROW(AnalýzaDat!$U24)+AnalýzaDat!$V24-1),LEN(INDIRECT(\"AnalýzaDat!T\"&ROW(AnalýzaDat!$U24)+AnalýzaDat!$V24-1))-2),\"\"),\"\")","v":""}]
[null,{"$f":"IFERROR(IF('Plánovač jídel'!#REF!<>0,'Plánovač jídel'!#REF!,\"\"),\"\")","v":""},"'",{"$nulls":4},{"$f":"IFERROR(INDEX('Hlavní seznam měrných jednotek'!$B$4:$K$30,1+INT((ROW(A18)-1)/COLUMNS('Hlavní seznam měrných jednotek'!$B$4:$K$30)),MOD(ROW(A18)-1+COLUMNS('Hlavní seznam měrných jednotek'!$B$4:$K$30),COLUMNS('Hlavní seznam měrných jednotek'!$B$4:$K$30))+1),\"\")","v":""},"",null,{"$f":"IFERROR(RANK(L25,AnalýzaDat!$L$8:$L$301)+SUMPRODUCT(--(L25=AnalýzaDat!$L$8:$L$301),--(O25<AnalýzaDat!$O$8:$O$301)),\"\")","v":""},{"$f":"IFERROR(IF(COUNTIF(AnalýzaDat!$I$8:$I$299,\"<=\"&AnalýzaDat!$I$8:$I$299)=0,\"\",COUNTIF(AnalýzaDat!$I$8:$I$299,\"<=\"&AnalýzaDat!$I$8:$I$299)),\"\")","v":""},{"$f":"IFERROR(IF(AND(poslední_položka-počáteční_řádek=0,LEN(INDEX(AnalýzaDat!$H$8:$I$299,1,1)=0)),\"\",IF(poslední_položka-počáteční_řádek=0,INDEX(AnalýzaDat!$H$8:$I$299,1,1),INDEX(AnalýzaDat!$H$8:$H$299,ROW(A18),1))),\"\")","v":""},{"$f":"IFERROR(IF(AND(poslední_položka-počáteční_řádek=0,ISBLANK(INDEX(AnalýzaDat!$I$8:$I$299,1,1))),\"\",IF(poslední_položka-počáteční_řádek=0,INDEX(AnalýzaDat!$I$8:$I$299,1,1),INDEX(AnalýzaDat!$I$8:$I$299,ROW(A18),1))),\"\")","v":""},277,null,{"$f":"IFERROR(AnalýzaDat!$O25,\"\")","v":277},{"$f":"IFERROR(VLOOKUP(AnalýzaDat!$Q$8:$Q$301,AnalýzaDat!$K$8:$N$301,3,FALSE),\"\")","v":""},{"$f":"IFERROR(VLOOKUP(AnalýzaDat!$Q$8:$Q$301,AnalýzaDat!$K$8:$N$301,4,FALSE),\"\")","v":""},{"$f":"IF(S25=S24,T24,\"\")&REPT(AnalýzaDat!$R25&\", \",AnalýzaDat!$R25<>\"\")","v":""},{"$f":"IF(COUNTIF(S$8:S25,S25)=1,S25,\"\")","v":""},{"$f":"IFERROR(IF(LEN(AnalýzaDat!$S$8:$S$301)=0,\"\",COUNTIF(AnalýzaDat!$S$8:$S$301,S25)),\"\")","v":""},{"$f":"IFERROR(IF(LEN($U25)>0,LEFT(INDIRECT(\"AnalýzaDat!T\"&ROW(AnalýzaDat!$U25)+AnalýzaDat!$V25-1),LEN(INDIRECT(\"AnalýzaDat!T\"&ROW(AnalýzaDat!$U25)+AnalýzaDat!$V25-1))-2),\"\"),\"\")","v":""}]
[null,{"$f":"IFERROR(IF('Plánovač jídel'!#REF!<>0,'Plánovač jídel'!#REF!,\"\"),\"\")","v":""},"'",{"$nulls":4},{"$f":"IFERROR(INDEX('Hlavní seznam měrných jednotek'!$B$4:$K$30,1+INT((ROW(A19)-1)/COLUMNS('Hlavní seznam měrných jednotek'!$B$4:$K$30)),MOD(ROW(A19)-1+COLUMNS('Hlavní seznam měrných jednotek'!$B$4:$K$30),COLUMNS('Hlavní seznam měrných jednotek'!$B$4:$K$30))+1),\"\")","v":""},"",null,{"$f":"IFERROR(RANK(L26,AnalýzaDat!$L$8:$L$301)+SUMPRODUCT(--(L26=AnalýzaDat!$L$8:$L$301),--(O26<AnalýzaDat!$O$8:$O$301)),\"\")","v":""},{"$f":"IFERROR(IF(COUNTIF(AnalýzaDat!$I$8:$I$299,\"<=\"&AnalýzaDat!$I$8:$I$299)=0,\"\",COUNTIF(AnalýzaDat!$I$8:$I$299,\"<=\"&AnalýzaDat!$I$8:$I$299)),\"\")","v":""},{"$f":"IFERROR(IF(AND(poslední_položka-počáteční_řádek=0,LEN(INDEX(AnalýzaDat!$H$8:$I$299,1,1)=0)),\"\",IF(poslední_položka-počáteční_řádek=0,INDEX(AnalýzaDat!$H$8:$I$299,1,1),INDEX(AnalýzaDat!$H$8:$H$299,ROW(A19),1))),\"\")","v":""},{"$f":"IFERROR(IF(AND(poslední_položka-počáteční_řádek=0,ISBLANK(INDEX(AnalýzaDat!$I$8:$I$299,1,1))),\"\",IF(poslední_položka-počáteční_řádek=0,INDEX(AnalýzaDat!$I$8:$I$299,1,1),INDEX(AnalýzaDat!$I$8:$I$299,ROW(A19),1))),\"\")","v":""},276,null,{"$f":"IFERROR(AnalýzaDat!$O26,\"\")","v":276},{"$f":"IFERROR(VLOOKUP(AnalýzaDat!$Q$8:$Q$301,AnalýzaDat!$K$8:$N$301,3,FALSE),\"\")","v":""},{"$f":"IFERROR(VLOOKUP(AnalýzaDat!$Q$8:$Q$301,AnalýzaDat!$K$8:$N$301,4,FALSE),\"\")","v":""},{"$f":"IF(S26=S25,T25,\"\")&REPT(AnalýzaDat!$R26&\", \",AnalýzaDat!$R26<>\"\")","v":""},{"$f":"IF(COUNTIF(S$8:S26,S26)=1,S26,\"\")","v":""},{"$f":"IFERROR(IF(LEN(AnalýzaDat!$S$8:$S$301)=0,\"\",COUNTIF(AnalýzaDat!$S$8:$S$301,S26)),\"\")","v":""},{"$f":"IFERROR(IF(LEN($U26)>0,LEFT(INDIRECT(\"AnalýzaDat!T\"&ROW(AnalýzaDat!$U26)+AnalýzaDat!$V26-1),LEN(INDIRECT(\"AnalýzaDat!T\"&ROW(AnalýzaDat!$U26)+AnalýzaDat!$V26-1))-2),\"\"),\"\")","v":""}]
[null,{"$f":"IFERROR(IF('Plánovač jídel'!#REF!<>0,'Plánovač jídel'!#REF!,\"\"),\"\")","v":""},"'",{"$nulls":4},{"$f":"IFERROR(INDEX('Hlavní seznam měrných jednotek'!$B$4:$K$30,1+INT((ROW(A20)-1)/COLUMNS('Hlavní seznam měrných jednotek'!$B$4:$K$30)),MOD(ROW(A20)-1+COLUMNS('Hlavní seznam měrných jednotek'!$B$4:$K$30),COLUMNS('Hlavní seznam měrných jednotek'!$B$4:$K$30))+1),\"\")","v":""},"",null,{"$f":"IFERROR(RANK(L27,AnalýzaDat!$L$8:$L$301)+SUMPRODUCT(--(L27=AnalýzaDat!$L$8:$L$301),--(O27<AnalýzaDat!$O$8:$O$301)),\"\")","v":""},{"$f":"IFERROR(IF(COUNTIF(AnalýzaDat!$I$8:$I$299,\"<=\"&AnalýzaDat!$I$8:$I$299)=0,\"\",COUNTIF(AnalýzaDat!$I$8:$I$299,\"<=\"&AnalýzaDat!$I$8:$I$299)),\"\")","v":""},{"$f":"IFERROR(IF(AND(poslední_položka-počáteční_řádek=0,LEN(INDEX(AnalýzaDat!$H$8:$I$299,1,1)=0)),\"\",IF(poslední_položka-počáteční_řádek=0,INDEX(AnalýzaDat!$H$8:$I$299,1,1),INDEX(AnalýzaDat!$H$8:$H$299,ROW(A20),1))),\"\")","v":""},{"$f":"IFERROR(IF(AND(poslední_položka-počáteční_řádek=0,ISBLANK(INDEX(AnalýzaDat!$I$8:$I$299,1,1))),\"\",IF(poslední_položka-počáteční_řádek=0,INDEX(AnalýzaDat!$I$8:$I$299,1,1),INDEX(AnalýzaDat!$I$8:$I$299,ROW(A20),1))),\"\")","v":""},275,null,{"$f":"IFERROR(AnalýzaDat!$O27,\"\")","v":275},{"$f":"IFERROR(VLOOKUP(AnalýzaDat!$Q$8:$Q$301,AnalýzaDat!$K$8:$N$301,3,FALSE),\"\")","v":""},{"$f":"IFERROR(VLOOKUP(AnalýzaDat!$Q$8:$Q$301,AnalýzaDat!$K$8:$N$301,4,FALSE),\"\")","v":""},{"$f":"IF(S27=S26,T26,\"\")&REPT(AnalýzaDat!$R27&\", \",AnalýzaDat!$R27<>\"\")","v":""},{"$f":"IF(COUNTIF(S$8:S27,S27)=1,S27,\"\")","v":""},{"$f":"IFERROR(IF(LEN(AnalýzaDat!$S$8:$S$301)=0,\"\",COUNTIF(AnalýzaDat!$S$8:$S$301,S27)),\"\")","v":""},{"$f":"IFERROR(IF(LEN($U27)>0,LEFT(INDIRECT(\"AnalýzaDat!T\"&ROW(AnalýzaDat!$U27)+AnalýzaDat!$V27-1),LEN(INDIRECT(\"AnalýzaDat!T\"&ROW(AnalýzaDat!$U27)+AnalýzaDat!$V27-1))-2),\"\"),\"\")","v":""}]
[{"$nulls":7},{"$f":"IFERROR(INDEX('Hlavní seznam měrných jednotek'!$B$4:$K$30,1+INT((ROW(A21)-1)/COLUMNS('Hlavní seznam měrných jednotek'!$B$4:$K$30)),MOD(ROW(A21)-1+COLUMNS('Hlavní seznam měrných jednotek'!$B$4:$K$30),COLUMNS('Hlavní seznam měrných jednotek'!$B$4:$K$30))+1),\"\")","v":"2 šálky"},"chlebová mouka",null,{"$f":"IFERROR(RANK(L28,AnalýzaDat!$L$8:$L$301)+SUMPRODUCT(--(L28=AnalýzaDat!$L$8:$L$301),--(O28<AnalýzaDat!$O$8:$O$301)),\"\")","v":14},{"$f":"IFERROR(IF(COUNTIF(AnalýzaDat!$I$8:$I$299,\"<=\"&AnalýzaDat!$I$8:$I$299)=0,\"\",COUNTIF(AnalýzaDat!$I$8:$I$299,\"<=\"&AnalýzaDat!$I$8:$I$299)),\"\")","v":279},{"$f":"IFERROR(IF(AND(poslední_položka-počáteční_řádek=0,LEN(INDEX(AnalýzaDat!$H$8:$I$299,1,1)=0)),\"\",IF(poslední_položka-počáteční_řádek=0,INDEX(AnalýzaDat!$H$8:$I$299,1,1),INDEX(AnalýzaDat!$H$8:$H$299,ROW(A21),1))),\"\")","v":"2 šálky"},{"$f":"IFERROR(IF(AND(poslední_položka-počáteční_řádek=0,ISBLANK(INDEX(AnalýzaDat!$I$8:$I$299,1,1))),\"\",IF(poslední_položka-počáteční_řádek=0,INDEX(AnalýzaDat!$I$8:$I$299,1,1),INDEX(AnalýzaDat!$I$8:$I$299,ROW(A21),1))),\"\")","v":"chlebová mouka"},274,null,{"$f":"IFERROR(AnalýzaDat!$O28,\"\")","v":274},{"$f":"IFERROR(VLOOKUP(AnalýzaDat!$Q$8:$Q$301,AnalýzaDat!$K$8:$N$301,3,FALSE),\"\")","v":""},{"$f":"IFERROR(VLOOKUP(AnalýzaDat!$Q$8:$Q$301,AnalýzaDat!$K$8:$N$301,4,FALSE),\"\")","v":""},{"$f":"IF(S28=S27,T27,\"\")&REPT(AnalýzaDat!$R28&\", \",AnalýzaDat!$R28<>\"\")","v":""},{"$f":"IF(COUNTIF(S$8:S28,S28)=1,S28,\"\")","v":""},{"$f":"IFERROR(IF(LEN(AnalýzaDat!$S$8:$S$301)=0,\"\",COUNTIF(AnalýzaDat!$S$8:$S$301,S28)),\"\")","v":""},{"$f":"IFERROR(IF(LEN($U28)>0,LEFT(INDIRECT(\"AnalýzaDat!T\"&ROW(AnalýzaDat!$U28)+AnalýzaDat!$V28-1),LEN(INDIRECT(\"AnalýzaDat!T\"&ROW(AnalýzaDat!$U28)+AnalýzaDat!$V28-1))-2),\"\"),\"\")","v":""}]
[{"$nulls":7},{"$f":"IFERROR(INDEX('Hlavní seznam měrných jednotek'!$B$4:$K$30,1+INT((ROW(A22)-1)/COLUMNS('Hlavní seznam měrných jednotek'!$B$4:$K$30)),MOD(ROW(A22)-1+COLUMNS('Hlavní seznam měrných jednotek'!$B$4:$K$30),COLUMNS('Hlavní seznam měrných jednotek'!$B$4:$K$30))+1),\"\")","v":"1 balení"},"Uzený losos",null,{"$f":"IFERROR(RANK(L29,AnalýzaDat!$L$8:$L$301)+SUMPRODUCT(--(L29=AnalýzaDat!$L$8:$L$301),--(O29<AnalýzaDat!$O$8:$O$301)),\"\")","v":1},{"$f":"IFERROR(IF(COUNTIF(AnalýzaDat!$I$8:$I$299,\"<=\"&AnalýzaDat!$I$8:$I$299)=0,\"\",COUNTIF(AnalýzaDat!$I$8:$I$299,\"<=\"&AnalýzaDat!$I$8:$I$299)),\"\")","v":292},{"$f":"IFERROR(IF(AND(poslední_položka-počáteční_řádek=0,LEN(INDEX(AnalýzaDat!$H$8:$I$299,1,1)=0)),\"\",IF(poslední_položka-počáteční_řádek=0,INDEX(AnalýzaDat!$H$8:$I$299,1,1),INDEX(AnalýzaDat!$H$8:$H$299,ROW(A22),1))),\"\")","v":"1 balení"},{"$f":"IFERROR(IF(AND(poslední_položka-počáteční_řádek=0,ISBLANK(INDEX(AnalýzaDat!$I$8:$I$299,1,1))),\"\",IF(poslední_položka-počáteční_řádek=0,INDEX(AnalýzaDat!$I$8:$I$299,1,1),INDEX(AnalýzaDat!$I$8:$I$299,ROW(A22),1))),\"\")","v":"Uzený losos"},273,null,{"$f":"IFERROR(AnalýzaDat!$O29,\"\")","v":273},{"$f":"IFERROR(VLOOKUP(AnalýzaDat!$Q$8:$Q$301,AnalýzaDat!$K$8:$N$301,3,FALSE),\"\")","v":""},{"$f":"IFERROR(VLOOKUP(AnalýzaDat!$Q$8:$Q$301,AnalýzaDat!$K$8:$N$301,4,FALSE),\"\")","v":""},{"$f":"IF(S29=S28,T28,\"\")&REPT(AnalýzaDat!$R29&\", \",AnalýzaDat!$R29<>\"\")","v":""},{"$f":"IF(COUNTIF(S$8:S29,S29)=1,S29,\"\")","v":""},{"$f":"IFERROR(IF(LEN(AnalýzaDat!$S$8:$S$301)=0,\"\",COUNTIF(AnalýzaDat!$S$8:$S$301,S29)),\"\")","v":""},{"$f":"IFERROR(IF(LEN($U29)>0,LEFT(INDIRECT(\"AnalýzaDat!T\"&ROW(AnalýzaDat!$U29)+AnalýzaDat!$V29-1),LEN(INDIRECT(\"AnalýzaDat!T\"&ROW(AnalýzaDat!$U29)+AnalýzaDat!$V29-1))-2),\"\"),\"\")","v":""}]
[{"$nulls":7},{"$f":"IFERROR(INDEX('Hlavní seznam měrných jednotek'!$B$4:$K$30,1+INT((ROW(A23)-1)/COLUMNS('Hlavní seznam měrných jednotek'!$B$4:$K$30)),MOD(ROW(A23)-1+COLUMNS('Hlavní seznam měrných jednotek'!$B$4:$K$30),COLUMNS('Hlavní seznam měrných jednotek'!$B$4:$K$30))+1),\"\")","v":""},"",null,{"$f":"IFERROR(RANK(L30,AnalýzaDat!$L$8:$L$301)+SUMPRODUCT(--(L30=AnalýzaDat!$L$8:$L$301),--(O30<AnalýzaDat!$O$8:$O$301)),\"\")","v":""},{"$f":"IFERROR(IF(COUNTIF(AnalýzaDat!$I$8:$I$299,\"<=\"&AnalýzaDat!$I$8:$I$299)=0,\"\",COUNTIF(AnalýzaDat!$I$8:$I$299,\"<=\"&AnalýzaDat!$I$8:$I$299)),\"\")","v":""},{"$f":"IFERROR(IF(AND(poslední_položka-počáteční_řádek=0,LEN(INDEX(AnalýzaDat!$H$8:$I$299,1,1)=0)),\"\",IF(poslední_položka-počáteční_řádek=0,INDEX(AnalýzaDat!$H$8:$I$299,1,1),INDEX(AnalýzaDat!$H$8:$H$299,ROW(A23),1))),\"\")","v":""},{"$f":"IFERROR(IF(AND(poslední_položka-počáteční_řádek=0,ISBLANK(INDEX(AnalýzaDat!$I$8:$I$299,1,1))),\"\",IF(poslední_položka-počáteční_řádek=0,INDEX(AnalýzaDat!$I$8:$I$299,1,1),INDEX(AnalýzaDat!$I$8:$I$299,ROW(A23),1))),\"\")","v":""},272,null,{"$f":"IFERROR(AnalýzaDat!$O30,\"\")","v":272},{"$f":"IFERROR(VLOOKUP(AnalýzaDat!$Q$8:$Q$301,AnalýzaDat!$K$8:$N$301,3,FALSE),\"\")","v":""},{"$f":"IFERROR(VLOOKUP(AnalýzaDat!$Q$8:$Q$301,AnalýzaDat!$K$8:$N$301,4,FALSE),\"\")","v":""},{"$f":"IF(S30=S29,T29,\"\")&REPT(AnalýzaDat!$R30&\", \",AnalýzaDat!$R30<>\"\")","v":""},{"$f":"IF(COUNTIF(S$8:S30,S30)=1,S30,\"\")","v":""},{"$f":"IFERROR(IF(LEN(AnalýzaDat!$S$8:$S$301)=0,\"\",COUNTIF(AnalýzaDat!$S$8:$S$301,S30)),\"\")","v":""},{"$f":"IFERROR(IF(LEN($U30)>0,LEFT(INDIRECT(\"AnalýzaDat!T\"&ROW(AnalýzaDat!$U30)+AnalýzaDat!$V30-1),LEN(INDIRECT(\"AnalýzaDat!T\"&ROW(AnalýzaDat!$U30)+AnalýzaDat!$V30-1))-2),\"\"),\"\")","v":""}]
[{"$nulls":7},{"$f":"IFERROR(INDEX('Hlavní seznam měrných jednotek'!$B$4:$K$30,1+INT((ROW(A24)-1)/COLUMNS('Hlavní seznam měrných jednotek'!$B$4:$K$30)),MOD(ROW(A24)-1+COLUMNS('Hlavní seznam měrných jednotek'!$B$4:$K$30),COLUMNS('Hlavní seznam měrných jednotek'!$B$4:$K$30))+1),\"\")","v":""},"",null,{"$f":"IFERROR(RANK(L31,AnalýzaDat!$L$8:$L$301)+SUMPRODUCT(--(L31=AnalýzaDat!$L$8:$L$301),--(O31<AnalýzaDat!$O$8:$O$301)),\"\")","v":""},{"$f":"IFERROR(IF(COUNTIF(AnalýzaDat!$I$8:$I$299,\"<=\"&AnalýzaDat!$I$8:$I$299)=0,\"\",COUNTIF(AnalýzaDat!$I$8:$I$299,\"<=\"&AnalýzaDat!$I$8:$I$299)),\"\")","v":""},{"$f":"IFERROR(IF(AND(poslední_položka-počáteční_řádek=0,LEN(INDEX(AnalýzaDat!$H$8:$I$299,1,1)=0)),\"\",IF(poslední_položka-počáteční_řádek=0,INDEX(AnalýzaDat!$H$8:$I$299,1,1),INDEX(AnalýzaDat!$H$8:$H$299,ROW(A24),1))),\"\")","v":""},{"$f":"IFERROR(IF(AND(poslední_položka-počáteční_řádek=0,ISBLANK(INDEX(AnalýzaDat!$I$8:$I$299,1,1))),\"\",IF(poslední_položka-počáteční_řádek=0,INDEX(AnalýzaDat!$I$8:$I$299,1,1),INDEX(AnalýzaDat!$I$8:$I$299,ROW(A24),1))),\"\")","v":""},271,null,{"$f":"IFERROR(AnalýzaDat!$O31,\"\")","v":271},{"$f":"IFERROR(VLOOKUP(AnalýzaDat!$Q$8:$Q$301,AnalýzaDat!$K$8:$N$301,3,FALSE),\"\")","v":""},{"$f":"IFERROR(VLOOKUP(AnalýzaDat!$Q$8:$Q$301,AnalýzaDat!$K$8:$N$301,4,FALSE),\"\")","v":""},{"$f":"IF(S31=S30,T30,\"\")&REPT(AnalýzaDat!$R31&\", \",AnalýzaDat!$R31<>\"\")","v":""},{"$f":"IF(COUNTIF(S$8:S31,S31)=1,S31,\"\")","v":""},{"$f":"IFERROR(IF(LEN(AnalýzaDat!$S$8:$S$301)=0,\"\",COUNTIF(AnalýzaDat!$S$8:$S$301,S31)),\"\")","v":""},{"$f":"IFERROR(IF(LEN($U31)>0,LEFT(INDIRECT(\"AnalýzaDat!T\"&ROW(AnalýzaDat!$U31)+AnalýzaDat!$V31-1),LEN(INDIRECT(\"AnalýzaDat!T\"&ROW(AnalýzaDat!$U31)+AnalýzaDat!$V31-1))-2),\"\"),\"\")","v":""}]
[{"$nulls":7},{"$f":"IFERROR(INDEX('Hlavní seznam měrných jednotek'!$B$4:$K$30,1+INT((ROW(A25)-1)/COLUMNS('Hlavní seznam měrných jednotek'!$B$4:$K$30)),MOD(ROW(A25)-1+COLUMNS('Hlavní seznam měrných jednotek'!$B$4:$K$30),COLUMNS('Hlavní seznam měrných jednotek'!$B$4:$K$30))+1),\"\")","v":""},"",null,{"$f":"IFERROR(RANK(L32,AnalýzaDat!$L$8:$L$301)+SUMPRODUCT(--(L32=AnalýzaDat!$L$8:$L$301),--(O32<AnalýzaDat!$O$8:$O$301)),\"\")","v":""},{"$f":"IFERROR(IF(COUNTIF(AnalýzaDat!$I$8:$I$299,\"<=\"&AnalýzaDat!$I$8:$I$299)=0,\"\",COUNTIF(AnalýzaDat!$I$8:$I$299,\"<=\"&AnalýzaDat!$I$8:$I$299)),\"\")","v":""},{"$f":"IFERROR(IF(AND(poslední_položka-počáteční_řádek=0,LEN(INDEX(AnalýzaDat!$H$8:$I$299,1,1)=0)),\"\",IF(poslední_položka-počáteční_řádek=0,INDEX(AnalýzaDat!$H$8:$I$299,1,1),INDEX(AnalýzaDat!$H$8:$H$299,ROW(A25),1))),\"\")","v":""},{"$f":"IFERROR(IF(AND(poslední_položka-počáteční_řádek=0,ISBLANK(INDEX(AnalýzaDat!$I$8:$I$299,1,1))),\"\",IF(poslední_položka-počáteční_řádek=0,INDEX(AnalýzaDat!$I$8:$I$299,1,1),INDEX(AnalýzaDat!$I$8:$I$299,ROW(A25),1))),\"\")","v":""},270,null,{"$f":"IFERROR(AnalýzaDat!$O32,\"\")","v":270},{"$f":"IFERROR(VLOOKUP(AnalýzaDat!$Q$8:$Q$301,AnalýzaDat!$K$8:$N$301,3,FALSE),\"\")","v":""},{"$f":"IFERROR(VLOOKUP(AnalýzaDat!$Q$8:$Q$301,AnalýzaDat!$K$8:$N$301,4,FALSE),\"\")","v":""},{"$f":"IF(S32=S31,T31,\"\")&REPT(AnalýzaDat!$R32&\", \",AnalýzaDat!$R32<>\"\")","v":""},{"$f":"IF(COUNTIF(S$8:S32,S32)=1,S32,\"\")","v":""},{"$f":"IFERROR(IF(LEN(AnalýzaDat!$S$8:$S$301)=0,\"\",COUNTIF(AnalýzaDat!$S$8:$S$301,S32)),\"\")","v":""},{"$f":"IFERROR(IF(LEN($U32)>0,LEFT(INDIRECT(\"AnalýzaDat!T\"&ROW(AnalýzaDat!$U32)+AnalýzaDat!$V32-1),LEN(INDIRECT(\"AnalýzaDat!T\"&ROW(AnalýzaDat!$U32)+AnalýzaDat!$V32-1))-2),\"\"),\"\")","v":""}]
[{"$nulls":7},{"$f":"IFERROR(INDEX('Hlavní seznam měrných jednotek'!$B$4:$K$30,1+INT((ROW(A26)-1)/COLUMNS('Hlavní seznam měrných jednotek'!$B$4:$K$30)),MOD(ROW(A26)-1+COLUMNS('Hlavní seznam měrných jednotek'!$B$4:$K$30),COLUMNS('Hlavní seznam měrných jednotek'!$B$4:$K$30))+1),\"\")","v":""},"",null,{"$f":"IFERROR(RANK(L33,AnalýzaDat!$L$8:$L$301)+SUMPRODUCT(--(L33=AnalýzaDat!$L$8:$L$301),--(O33<AnalýzaDat!$O$8:$O$301)),\"\")","v":""},{"$f":"IFERROR(IF(COUNTIF(AnalýzaDat!$I$8:$I$299,\"<=\"&AnalýzaDat!$I$8:$I$299)=0,\"\",COUNTIF(AnalýzaDat!$I$8:$I$299,\"<=\"&AnalýzaDat!$I$8:$I$299)),\"\")","v":""},{"$f":"IFERROR(IF(AND(poslední_položka-počáteční_řádek=0,LEN(INDEX(AnalýzaDat!$H$8:$I$299,1,1)=0)),\"\",IF(poslední_položka-počáteční_řádek=0,INDEX(AnalýzaDat!$H$8:$I$299,1,1),INDEX(AnalýzaDat!$H$8:$H$299,ROW(A26),1))),\"\")","v":""},{"$f":"IFERROR(IF(AND(poslední_položka-počáteční_řádek=0,ISBLANK(INDEX(AnalýzaDat!$I$8:$I$299,1,1))),\"\",IF(poslední_položka-počáteční_řádek=0,INDEX(AnalýzaDat!$I$8:$I$299,1,1),INDEX(AnalýzaDat!$I$8:$I$299,ROW(A26),1))),\"\")","v":""},269,null,{"$f":"IFERROR(AnalýzaDat!$O33,\"\")","v":269},{"$f":"IFERROR(VLOOKUP(AnalýzaDat!$Q$8:$Q$301,AnalýzaDat!$K$8:$N$301,3,FALSE),\"\")","v":""},{"$f":"IFERROR(VLOOKUP(AnalýzaDat!$Q$8:$Q$301,AnalýzaDat!$K$8:$N$301,4,FALSE),\"\")","v":""},{"$f":"IF(S33=S32,T32,\"\")&REPT(AnalýzaDat!$R33&\", \",AnalýzaDat!$R33<>\"\")","v":""},{"$f":"IF(COUNTIF(S$8:S33,S33)=1,S33,\"\")","v":""},{"$f":"IFERROR(IF(LEN(AnalýzaDat!$S$8:$S$301)=0,\"\",COUNTIF(AnalýzaDat!$S$8:$S$301,S33)),\"\")","v":""},{"$f":"IFERROR(IF(LEN($U33)>0,LEFT(INDIRECT(\"AnalýzaDat!T\"&ROW(AnalýzaDat!$U33)+AnalýzaDat!$V33-1),LEN(INDIRECT(\"AnalýzaDat!T\"&ROW(AnalýzaDat!$U33)+AnalýzaDat!$V33-1))-2),\"\"),\"\")","v":""}]
[{"$nulls":7},{"$f":"IFERROR(INDEX('Hlavní seznam měrných jednotek'!$B$4:$K$30,1+INT((ROW(A27)-1)/COLUMNS('Hlavní seznam měrných jednotek'!$B$4:$K$30)),MOD(ROW(A27)-1+COLUMNS('Hlavní seznam měrných jednotek'!$B$4:$K$30),COLUMNS('Hlavní seznam měrných jednotek'!$B$4:$K$30))+1),\"\")","v":""},"",null,{"$f":"IFERROR(RANK(L34,AnalýzaDat!$L$8:$L$301)+SUMPRODUCT(--(L34=AnalýzaDat!$L$8:$L$301),--(O34<AnalýzaDat!$O$8:$O$301)),\"\")","v":""},{"$f":"IFERROR(IF(COUNTIF(AnalýzaDat!$I$8:$I$299,\"<=\"&AnalýzaDat!$I$8:$I$299)=0,\"\",COUNTIF(AnalýzaDat!$I$8:$I$299,\"<=\"&AnalýzaDat!$I$8:$I$299)),\"\")","v":""},{"$f":"IFERROR(IF(AND(poslední_položka-počáteční_řádek=0,LEN(INDEX(AnalýzaDat!$H$8:$I$299,1,1)=0)),\"\",IF(poslední_položka-počáteční_řádek=0,INDEX(AnalýzaDat!$H$8:$I$299,1,1),INDEX(AnalýzaDat!$H$8:$H$299,ROW(A27),1))),\"\")","v":""},{"$f":"IFERROR(IF(AND(poslední_položka-počáteční_řádek=0,ISBLANK(INDEX(AnalýzaDat!$I$8:$I$299,1,1))),\"\",IF(poslední_položka-počáteční_řádek=0,INDEX(AnalýzaDat!$I$8:$I$299,1,1),INDEX(AnalýzaDat!$I$8:$I$299,ROW(A27),1))),\"\")","v":""},268,null,{"$f":"IFERROR(AnalýzaDat!$O34,\"\")","v":268},{"$f":"IFERROR(VLOOKUP(AnalýzaDat!$Q$8:$Q$301,AnalýzaDat!$K$8:$N$301,3,FALSE),\"\")","v":""},{"$f":"IFERROR(VLOOKUP(AnalýzaDat!$Q$8:$Q$301,AnalýzaDat!$K$8:$N$301,4,FALSE),\"\")","v":""},{"$f":"IF(S34=S33,T33,\"\")&REPT(AnalýzaDat!$R34&\", \",AnalýzaDat!$R34<>\"\")","v":""},{"$f":"IF(COUNTIF(S$8:S34,S34)=1,S34,\"\")","v":""},{"$f":"IFERROR(IF(LEN(AnalýzaDat!$S$8:$S$301)=0,\"\",COUNTIF(AnalýzaDat!$S$8:$S$301,S34)),\"\")","v":""},{"$f":"IFERROR(IF(LEN($U34)>0,LEFT(INDIRECT(\"AnalýzaDat!T\"&ROW(AnalýzaDat!$U34)+AnalýzaDat!$V34-1),LEN(INDIRECT(\"AnalýzaDat!T\"&ROW(AnalýzaDat!$U34)+AnalýzaDat!$V34-1))-2),\"\"),\"\")","v":""}]
[{"$nulls":7},{"$f":"IFERROR(INDEX('Hlavní seznam měrných jednotek'!$B$4:$K$30,1+INT((ROW(A28)-1)/COLUMNS('Hlavní seznam měrných jednotek'!$B$4:$K$30)),MOD(ROW(A28)-1+COLUMNS('Hlavní seznam měrných jednotek'!$B$4:$K$30),COLUMNS('Hlavní seznam měrných jednotek'!$B$4:$K$30))+1),\"\")","v":""},"",null,{"$f":"IFERROR(RANK(L35,AnalýzaDat!$L$8:$L$301)+SUMPRODUCT(--(L35=AnalýzaDat!$L$8:$L$301),--(O35<AnalýzaDat!$O$8:$O$301)),\"\")","v":""},{"$f":"IFERROR(IF(COUNTIF(AnalýzaDat!$I$8:$I$299,\"<=\"&AnalýzaDat!$I$8:$I$299)=0,\"\",COUNTIF(AnalýzaDat!$I$8:$I$299,\"<=\"&AnalýzaDat!$I$8:$I$299)),\"\")","v":""},{"$f":"IFERROR(IF(AND(poslední_položka-počáteční_řádek=0,LEN(INDEX(AnalýzaDat!$H$8:$I$299,1,1)=0)),\"\",IF(poslední_položka-počáteční_řádek=0,INDEX(AnalýzaDat!$H$8:$I$299,1,1),INDEX(AnalýzaDat!$H$8:$H$299,ROW(A28),1))),\"\")","v":""},{"$f":"IFERROR(IF(AND(poslední_položka-počáteční_řádek=0,ISBLANK(INDEX(AnalýzaDat!$I$8:$I$299,1,1))),\"\",IF(poslední_položka-počáteční_řádek=0,INDEX(AnalýzaDat!$I$8:$I$299,1,1),INDEX(AnalýzaDat!$I$8:$I$299,ROW(A28),1))),\"\")","v":""},267,null,{"$f":"IFERROR(AnalýzaDat!$O35,\"\")","v":267},{"$f":"IFERROR(VLOOKUP(AnalýzaDat!$Q$8:$Q$301,AnalýzaDat!$K$8:$N$301,3,FALSE),\"\")","v":""},{"$f":"IFERROR(VLOOKUP(AnalýzaDat!$Q$8:$Q$301,AnalýzaDat!$K$8:$N$301,4,FALSE),\"\")","v":""},{"$f":"IF(S35=S34,T34,\"\")&REPT(AnalýzaDat!$R35&\", \",AnalýzaDat!$R35<>\"\")","v":""},{"$f":"IF(COUNTIF(S$8:S35,S35)=1,S35,\"\")","v":""},{"$f":"IFERROR(IF(LEN(AnalýzaDat!$S$8:$S$301)=0,\"\",COUNTIF(AnalýzaDat!$S$8:$S$301,S35)),\"\")","v":""},{"$f":"IFERROR(IF(LEN($U35)>0,LEFT(INDIRECT(\"AnalýzaDat!T\"&ROW(AnalýzaDat!$U35)+AnalýzaDat!$V35-1),LEN(INDIRECT(\"AnalýzaDat!T\"&ROW(AnalýzaDat!$U35)+AnalýzaDat!$V35-1))-2),\"\"),\"\")","v":""}]
[{"$nulls":7},{"$f":"IFERROR(INDEX('Hlavní seznam měrných jednotek'!$B$4:$K$30,1+INT((ROW(A29)-1)/COLUMNS('Hlavní seznam měrných jednotek'!$B$4:$K$30)),MOD(ROW(A29)-1+COLUMNS('Hlavní seznam měrných jednotek'!$B$4:$K$30),COLUMNS('Hlavní seznam měrných jednotek'!$B$4:$K$30))+1),\"\")","v":""},"",null,{"$f":"IFERROR(RANK(L36,AnalýzaDat!$L$8:$L$301)+SUMPRODUCT(--(L36=AnalýzaDat!$L$8:$L$301),--(O36<AnalýzaDat!$O$8:$O$301)),\"\")","v":""},{"$f":"IFERROR(IF(COUNTIF(AnalýzaDat!$I$8:$I$299,\"<=\"&AnalýzaDat!$I$8:$I$299)=0,\"\",COUNTIF(AnalýzaDat!$I$8:$I$299,\"<=\"&AnalýzaDat!$I$8:$I$299)),\"\")","v":""},{"$f":"IFERROR(IF(AND(poslední_položka-počáteční_řádek=0,LEN(INDEX(AnalýzaDat!$H$8:$I$299,1,1)=0)),\"\",IF(poslední_položka-počáteční_řádek=0,INDEX(AnalýzaDat!$H$8:$I$299,1,1),INDEX(AnalýzaDat!$H$8:$H$299,ROW(A29),1))),\"\")","v":""},{"$f":"IFERROR(IF(AND(poslední_položka-počáteční_řádek=0,ISBLANK(INDEX(AnalýzaDat!$I$8:$I$299,1,1))),\"\",IF(poslední_položka-počáteční_řádek=0,INDEX(AnalýzaDat!$I$8:$I$299,1,1),INDEX(AnalýzaDat!$I$8:$I$299,ROW(A29),1))),\"\")","v":""},266,null,{"$f":"IFERROR(AnalýzaDat!$O36,\"\")","v":266},{"$f":"IFERROR(VLOOKUP(AnalýzaDat!$Q$8:$Q$301,AnalýzaDat!$K$8:$N$301,3,FALSE),\"\")","v":""},{"$f":"IFERROR(VLOOKUP(AnalýzaDat!$Q$8:$Q$301,AnalýzaDat!$K$8:$N$301,4,FALSE),\"\")","v":""},{"$f":"IF(S36=S35,T35,\"\")&REPT(AnalýzaDat!$R36&\", \",AnalýzaDat!$R36<>\"\")","v":""},{"$f":"IF(COUNTIF(S$8:S36,S36)=1,S36,\"\")","v":""},{"$f":"IFERROR(IF(LEN(AnalýzaDat!$S$8:$S$301)=0,\"\",COUNTIF(AnalýzaDat!$S$8:$S$301,S36)),\"\")","v":""},{"$f":"IFERROR(IF(LEN($U36)>0,LEFT(INDIRECT(\"AnalýzaDat!T\"&ROW(AnalýzaDat!$U36)+AnalýzaDat!$V36-1),LEN(INDIRECT(\"AnalýzaDat!T\"&ROW(AnalýzaDat!$U36)+AnalýzaDat!$V36-1))-2),\"\"),\"\")","v":""}]
[{"$nulls":7},{"$f":"IFERROR(INDEX('Hlavní seznam měrných jednotek'!$B$4:$K$30,1+INT((ROW(A30)-1)/COLUMNS('Hlavní seznam měrných jednotek'!$B$4:$K$30)),MOD(ROW(A30)-1+COLUMNS('Hlavní seznam měrných jednotek'!$B$4:$K$30),COLUMNS('Hlavní seznam měrných jednotek'!$B$4:$K$30))+1),\"\")","v":""},"",null,{"$f":"IFERROR(RANK(L37,AnalýzaDat!$L$8:$L$301)+SUMPRODUCT(--(L37=AnalýzaDat!$L$8:$L$301),--(O37<AnalýzaDat!$O$8:$O$301)),\"\")","v":""},{"$f":"IFERROR(IF(COUNTIF(AnalýzaDat!$I$8:$I$299,\"<=\"&AnalýzaDat!$I$8:$I$299)=0,\"\",COUNTIF(AnalýzaDat!$I$8:$I$299,\"<=\"&AnalýzaDat!$I$8:$I$299)),\"\")","v":""},{"$f":"IFERROR(IF(AND(poslední_položka-počáteční_řádek=0,LEN(INDEX(AnalýzaDat!$H$8:$I$299,1,1)=0)),\"\",IF(poslední_položka-počáteční_řádek=0,INDEX(AnalýzaDat!$H$8:$I$299,1,1),INDEX(AnalýzaDat!$H$8:$H$299,ROW(A30),1))),\"\")","v":""},{"$f":"IFERROR(IF(AND(poslední_položka-počáteční_řádek=0,ISBLANK(INDEX(AnalýzaDat!$I$8:$I$299,1,1))),\"\",IF(poslední_položka-počáteční_řádek=0,INDEX(AnalýzaDat!$I$8:$I$299,1,1),INDEX(AnalýzaDat!$I$8:$I$299,ROW(A30),1))),\"\")","v":""},265,null,{"$f":"IFERROR(AnalýzaDat!$O37,\"\")","v":265},{"$f":"IFERROR(VLOOKUP(AnalýzaDat!$Q$8:$Q$301,AnalýzaDat!$K$8:$N$301,3,FALSE),\"\")","v":""},{"$f":"IFERROR(VLOOKUP(AnalýzaDat!$Q$8:$Q$301,AnalýzaDat!$K$8:$N$301,4,FALSE),\"\")","v":""},{"$f":"IF(S37=S36,T36,\"\")&REPT(AnalýzaDat!$R37&\", \",AnalýzaDat!$R37<>\"\")","v":""},{"$f":"IF(COUNTIF(S$8:S37,S37)=1,S37,\"\")","v":""},{"$f":"IFERROR(IF(LEN(AnalýzaDat!$S$8:$S$301)=0,\"\",COUNTIF(AnalýzaDat!$S$8:$S$301,S37)),\"\")","v":""},{"$f":"IFERROR(IF(LEN($U37)>0,LEFT(INDIRECT(\"AnalýzaDat!T\"&ROW(AnalýzaDat!$U37)+AnalýzaDat!$V37-1),LEN(INDIRECT(\"AnalýzaDat!T\"&ROW(AnalýzaDat!$U37)+AnalýzaDat!$V37-1))-2),\"\"),\"\")","v":""}]
[{"$nulls":7},{"$f":"IFERROR(INDEX('Hlavní seznam měrných jednotek'!$B$4:$K$30,1+INT((ROW(A31)-1)/COLUMNS('Hlavní seznam měrných jednotek'!$B$4:$K$30)),MOD(ROW(A31)-1+COLUMNS('Hlavní seznam měrných jednotek'!$B$4:$K$30),COLUMNS('Hlavní seznam měrných jednotek'!$B$4:$K$30))+1),\"\")","v":"2 čajové lžičky"},"aktivní sušené kvasnice",null,{"$f":"IFERROR(RANK(L38,AnalýzaDat!$L$8:$L$301)+SUMPRODUCT(--(L38=AnalýzaDat!$L$8:$L$301),--(O38<AnalýzaDat!$O$8:$O$301)),\"\")","v":18},{"$f":"IFERROR(IF(COUNTIF(AnalýzaDat!$I$8:$I$299,\"<=\"&AnalýzaDat!$I$8:$I$299)=0,\"\",COUNTIF(AnalýzaDat!$I$8:$I$299,\"<=\"&AnalýzaDat!$I$8:$I$299)),\"\")","v":275},{"$f":"IFERROR(IF(AND(poslední_položka-počáteční_řádek=0,LEN(INDEX(AnalýzaDat!$H$8:$I$299,1,1)=0)),\"\",IF(poslední_položka-počáteční_řádek=0,INDEX(AnalýzaDat!$H$8:$I$299,1,1),INDEX(AnalýzaDat!$H$8:$H$299,ROW(A31),1))),\"\")","v":"2 čajové lžičky"},{"$f":"IFERROR(IF(AND(poslední_položka-počáteční_řádek=0,ISBLANK(INDEX(AnalýzaDat!$I$8:$I$299,1,1))),\"\",IF(poslední_položka-počáteční_řádek=0,INDEX(AnalýzaDat!$I$8:$I$299,1,1),INDEX(AnalýzaDat!$I$8:$I$299,ROW(A31),1))),\"\")","v":"aktivní sušené kvasnice"},264,null,{"$f":"IFERROR(AnalýzaDat!$O38,\"\")","v":264},{"$f":"IFERROR(VLOOKUP(AnalýzaDat!$Q$8:$Q$301,AnalýzaDat!$K$8:$N$301,3,FALSE),\"\")","v":""},{"$f":"IFERROR(VLOOKUP(AnalýzaDat!$Q$8:$Q$301,AnalýzaDat!$K$8:$N$301,4,FALSE),\"\")","v":""},{"$f":"IF(S38=S37,T37,\"\")&REPT(AnalýzaDat!$R38&\", \",AnalýzaDat!$R38<>\"\")","v":""},{"$f":"IF(COUNTIF(S$8:S38,S38)=1,S38,\"\")","v":""},{"$f":"IFERROR(IF(LEN(AnalýzaDat!$S$8:$S$301)=0,\"\",COUNTIF(AnalýzaDat!$S$8:$S$301,S38)),\"\")","v":""},{"$f":"IFERROR(IF(LEN($U38)>0,LEFT(INDIRECT(\"AnalýzaDat!T\"&ROW(AnalýzaDat!$U38)+AnalýzaDat!$V38-1),LEN(INDIRECT(\"AnalýzaDat!T\"&ROW(AnalýzaDat!$U38)+AnalýzaDat!$V38-1))-2),\"\"),\"\")","v":""}]
[{"$nulls":7},{"$f":"IFERROR(INDEX('Hlavní seznam měrných jednotek'!$B$4:$K$30,1+INT((ROW(A32)-1)/COLUMNS('Hlavní seznam měrných jednotek'!$B$4:$K$30)),MOD(ROW(A32)-1+COLUMNS('Hlavní seznam měrných jednotek'!$B$4:$K$30),COLUMNS('Hlavní seznam měrných jednotek'!$B$4:$K$30))+1),\"\")","v":"1 polévková lžíce"},"Medová omáčka s hořčicí a koprem",null,{"$f":"IFERROR(RANK(L39,AnalýzaDat!$L$8:$L$301)+SUMPRODUCT(--(L39=AnalýzaDat!$L$8:$L$301),--(O39<AnalýzaDat!$O$8:$O$301)),\"\")","v":12},{"$f":"IFERROR(IF(COUNTIF(AnalýzaDat!$I$8:$I$299,\"<=\"&AnalýzaDat!$I$8:$I$299)=0,\"\",COUNTIF(AnalýzaDat!$I$8:$I$299,\"<=\"&AnalýzaDat!$I$8:$I$299)),\"\")","v":281},{"$f":"IFERROR(IF(AND(poslední_položka-počáteční_řádek=0,LEN(INDEX(AnalýzaDat!$H$8:$I$299,1,1)=0)),\"\",IF(poslední_položka-počáteční_řádek=0,INDEX(AnalýzaDat!$H$8:$I$299,1,1),INDEX(AnalýzaDat!$H$8:$H$299,ROW(A32),1))),\"\")","v":"1 polévková lžíce"},{"$f":"IFERROR(IF(AND(poslední_položka-počáteční_řádek=0,ISBLANK(INDEX(AnalýzaDat!$I$8:$I$299,1,1))),\"\",IF(poslední_položka-počáteční_řádek=0,INDEX(AnalýzaDat!$I$8:$I$299,1,1),INDEX(AnalýzaDat!$I$8:$I$299,ROW(A32),1))),\"\")","v":"Medová omáčka s hořčicí a koprem"},263,null,{"$f":"IFERROR(AnalýzaDat!$O39,\"\")","v":263},{"$f":"IFERROR(VLOOKUP(AnalýzaDat!$Q$8:$Q$301,AnalýzaDat!$K$8:$N$301,3,FALSE),\"\")","v":""},{"$f":"IFERROR(VLOOKUP(AnalýzaDat!$Q$8:$Q$301,AnalýzaDat!$K$8:$N$301,4,FALSE),\"\")","v":""},{"$f":"IF(S39=S38,T38,\"\")&REPT(AnalýzaDat!$R39&\", \",AnalýzaDat!$R39<>\"\")","v":""},{"$f":"IF(COUNTIF(S$8:S39,S39)=1,S39,\"\")","v":""},{"$f":"IFERROR(IF(LEN(AnalýzaDat!$S$8:$S$301)=0,\"\",COUNTIF(AnalýzaDat!$S$8:$S$301,S39)),\"\")","v":""},{"$f":"IFERROR(IF(LEN($U39)>0,LEFT(INDIRECT(\"AnalýzaDat!T\"&ROW(AnalýzaDat!$U39)+AnalýzaDat!$V39-1),LEN(INDIRECT(\"AnalýzaDat!T\"&ROW(AnalýzaDat!$U39)+AnalýzaDat!$V39-1))-2),\"\"),\"\")","v":""}]
[{"$nulls":7},{"$f":"IFERROR(INDEX('Hlavní seznam měrných jednotek'!$B$4:$K$30,1+INT((ROW(A33)-1)/COLUMNS('Hlavní seznam měrných jednotek'!$B$4:$K$30)),MOD(ROW(A33)-1+COLUMNS('Hlavní seznam měrných jednotek'!$B$4:$K$30),COLUMNS('Hlavní seznam měrných jednotek'!$B$4:$K$30))+1),\"\")","v":""},"",null,{"$f":"IFERROR(RANK(L40,AnalýzaDat!$L$8:$L$301)+SUMPRODUCT(--(L40=AnalýzaDat!$L$8:$L$301),--(O40<AnalýzaDat!$O$8:$O$301)),\"\")","v":""},{"$f":"IFERROR(IF(COUNTIF(AnalýzaDat!$I$8:$I$299,\"<=\"&AnalýzaDat!$I$8:$I$299)=0,\"\",COUNTIF(AnalýzaDat!$I$8:$I$299,\"<=\"&AnalýzaDat!$I$8:$I$299)),\"\")","v":""},{"$f":"IFERROR(IF(AND(poslední_položka-počáteční_řádek=0,LEN(INDEX(AnalýzaDat!$H$8:$I$299,1,1)=0)),\"\",IF(poslední_položka-počáteční_řádek=0,INDEX(AnalýzaDat!$H$8:$I$299,1,1),INDEX(AnalýzaDat!$H$8:$H$299,ROW(A33),1))),\"\")","v":""},{"$f":"IFERROR(IF(AND(poslední_položka-počáteční_řádek=0,ISBLANK(INDEX(AnalýzaDat!$I$8:$I$299,1,1))),\"\",IF(poslední_položka-počáteční_řádek=0,INDEX(AnalýzaDat!$I$8:$I$299,1,1),INDEX(AnalýzaDat!$I$8:$I$299,ROW(A33),1))),\"\")","v":""},262,null,{"$f":"IFERROR(AnalýzaDat!$O40,\"\")","v":262},{"$f":"IFERROR(VLOOKUP(AnalýzaDat!$Q$8:$Q$301,AnalýzaDat!$K$8:$N$301,3,FALSE),\"\")","v":""},{"$f":"IFERROR(VLOOKUP(AnalýzaDat!$Q$8:$Q$301,AnalýzaDat!$K$8:$N$301,4,FALSE),\"\")","v":""},{"$f":"IF(S40=S39,T39,\"\")&REPT(AnalýzaDat!$R40&\", \",AnalýzaDat!$R40<>\"\")","v":""},{"$f":"IF(COUNTIF(S$8:S40,S40)=1,S40,\"\")","v":""},{"$f":"IFERROR(IF(LEN(AnalýzaDat!$S$8:$S$301)=0,\"\",COUNTIF(AnalýzaDat!$S$8:$S$301,S40)),\"\")","v":""},{"$f":"IFERROR(IF(LEN($U40)>0,LEFT(INDIRECT(\"AnalýzaDat!T\"&ROW(AnalýzaDat!$U40)+AnalýzaDat!$V40-1),LEN(INDIRECT(\"AnalýzaDat!T\"&ROW(AnalýzaDat!$U40)+AnalýzaDat!$V40-1))-2),\"\"),\"\")","v":""}]
[{"$nulls":7},{"$f":"IFERROR(INDEX('Hlavní seznam měrných jednotek'!$B$4:$K$30,1+INT((ROW(A34)-1)/COLUMNS('Hlavní seznam měrných jednotek'!$B$4:$K$30)),MOD(ROW(A34)-1+COLUMNS('Hlavní seznam měrných jednotek'!$B$4:$K$30),COLUMNS('Hlavní seznam měrných jednotek'!$B$4:$K$30))+1),\"\")","v":""},"",null,{"$f":"IFERROR(RANK(L41,AnalýzaDat!$L$8:$L$301)+SUMPRODUCT(--(L41=AnalýzaDat!$L$8:$L$301),--(O41<AnalýzaDat!$O$8:$O$301)),\"\")","v":""},{"$f":"IFERROR(IF(COUNTIF(AnalýzaDat!$I$8:$I$299,\"<=\"&AnalýzaDat!$I$8:$I$299)=0,\"\",COUNTIF(AnalýzaDat!$I$8:$I$299,\"<=\"&AnalýzaDat!$I$8:$I$299)),\"\")","v":""},{"$f":"IFERROR(IF(AND(poslední_položka-počáteční_řádek=0,LEN(INDEX(AnalýzaDat!$H$8:$I$299,1,1)=0)),\"\",IF(poslední_položka-počáteční_řádek=0,INDEX(AnalýzaDat!$H$8:$I$299,1,1),INDEX(AnalýzaDat!$H$8:$H$299,ROW(A34),1))),\"\")","v":""},{"$f":"IFERROR(IF(AND(poslední_položka-počáteční_řádek=0,ISBLANK(INDEX(AnalýzaDat!$I$8:$I$299,1,1))),\"\",IF(poslední_položka-počáteční_řádek=0,INDEX(AnalýzaDat!$I$8:$I$299,1,1),INDEX(AnalýzaDat!$I$8:$I$299,ROW(A34),1))),\"\")","v":""},261,null,{"$f":"IFERROR(AnalýzaDat!$O41,\"\")","v":261},{"$f":"IFERROR(VLOOKUP(AnalýzaDat!$Q$8:$Q$301,AnalýzaDat!$K$8:$N$301,3,FALSE),\"\")","v":""},{"$f":"IFERROR(VLOOKUP(AnalýzaDat!$Q$8:$Q$301,AnalýzaDat!$K$8:$N$301,4,FALSE),\"\")","v":""},{"$f":"IF(S41=S40,T40,\"\")&REPT(AnalýzaDat!$R41&\", \",AnalýzaDat!$R41<>\"\")","v":""},{"$f":"IF(COUNTIF(S$8:S41,S41)=1,S41,\"\")","v":""},{"$f":"IFERROR(IF(LEN(AnalýzaDat!$S$8:$S$301)=0,\"\",COUNTIF(AnalýzaDat!$S$8:$S$301,S41)),\"\")","v":""},{"$f":"IFERROR(IF(LEN($U41)>0,LEFT(INDIRECT(\"AnalýzaDat!T\"&ROW(AnalýzaDat!$U41)+AnalýzaDat!$V41-1),LEN(INDIRECT(\"AnalýzaDat!T\"&ROW(AnalýzaDat!$U41)+AnalýzaDat!$V41-1))-2),\"\"),\"\")","v":""}]
[{"$nulls":7},{"$f":"IFERROR(INDEX('Hlavní seznam měrných jednotek'!$B$4:$K$30,1+INT((ROW(A35)-1)/COLUMNS('Hlavní seznam měrných jednotek'!$B$4:$K$30)),MOD(ROW(A35)-1+COLUMNS('Hlavní seznam měrných jednotek'!$B$4:$K$30),COLUMNS('Hlavní seznam měrných jednotek'!$B$4:$K$30))+1),\"\")","v":""},"",null,{"$f":"IFERROR(RANK(L42,AnalýzaDat!$L$8:$L$301)+SUMPRODUCT(--(L42=AnalýzaDat!$L$8:$L$301),--(O42<AnalýzaDat!$O$8:$O$301)),\"\")","v":""},{"$f":"IFERROR(IF(COUNTIF(AnalýzaDat!$I$8:$I$299,\"<=\"&AnalýzaDat!$I$8:$I$299)=0,\"\",COUNTIF(AnalýzaDat!$I$8:$I$299,\"<=\"&AnalýzaDat!$I$8:$I$299)),\"\")","v":""},{"$f":"IFERROR(IF(AND(poslední_položka-počáteční_řádek=0,LEN(INDEX(AnalýzaDat!$H$8:$I$299,1,1)=0)),\"\",IF(poslední_položka-počáteční_řádek=0,INDEX(AnalýzaDat!$H$8:$I$299,1,1),INDEX(AnalýzaDat!$H$8:$H$299,ROW(A35),1))),\"\")","v":""},{"$f":"IFERROR(IF(AND(poslední_položka-počáteční_řádek=0,ISBLANK(INDEX(AnalýzaDat!$I$8:$I$299,1,1))),\"\",IF(poslední_položka-počáteční_řádek=0,INDEX(AnalýzaDat!$I$8:$I$299,1,1),INDEX(AnalýzaDat!$I$8:$I$299,ROW(A35),1))),\"\")","v":""},260,null,{"$f":"IFERROR(AnalýzaDat!$O42,\"\")","v":260},{"$f":"IFERROR(VLOOKUP(AnalýzaDat!$Q$8:$Q$301,AnalýzaDat!$K$8:$N$301,3,FALSE),\"\")","v":""},{"$f":"IFERROR(VLOOKUP(AnalýzaDat!$Q$8:$Q$301,AnalýzaDat!$K$8:$N$301,4,FALSE),\"\")","v":""},{"$f":"IF(S42=S41,T41,\"\")&REPT(AnalýzaDat!$R42&\", \",AnalýzaDat!$R42<>\"\")","v":""},{"$f":"IF(COUNTIF(S$8:S42,S42)=1,S42,\"\")","v":""},{"$f":"IFERROR(IF(LEN(AnalýzaDat!$S$8:$S$301)=0,\"\",COUNTIF(AnalýzaDat!$S$8:$S$301,S42)),\"\")","v":""},{"$f":"IFERROR(IF(LEN($U42)>0,LEFT(INDIRECT(\"AnalýzaDat!T\"&ROW(AnalýzaDat!$U42)+AnalýzaDat!$V42-1),LEN(INDIRECT(\"AnalýzaDat!T\"&ROW(AnalýzaDat!$U42)+AnalýzaDat!$V42-1))-2),\"\"),\"\")","v":""}]
[{"$nulls":7},{"$f":"IFERROR(INDEX('Hlavní seznam měrných jednotek'!$B$4:$K$30,1+INT((ROW(A36)-1)/COLUMNS('Hlavní seznam měrných jednotek'!$B$4:$K$30)),MOD(ROW(A36)-1+COLUMNS('Hlavní seznam měrných jednotek'!$B$4:$K$30),COLUMNS('Hlavní seznam měrných jednotek'!$B$4:$K$30))+1),\"\")","v":""},"",null,{"$f":"IFERROR(RANK(L43,AnalýzaDat!$L$8:$L$301)+SUMPRODUCT(--(L43=AnalýzaDat!$L$8:$L$301),--(O43<AnalýzaDat!$O$8:$O$301)),\"\")","v":""},{"$f":"IFERROR(IF(COUNTIF(AnalýzaDat!$I$8:$I$299,\"<=\"&AnalýzaDat!$I$8:$I$299)=0,\"\",COUNTIF(AnalýzaDat!$I$8:$I$299,\"<=\"&AnalýzaDat!$I$8:$I$299)),\"\")","v":""},{"$f":"IFERROR(IF(AND(poslední_položka-počáteční_řádek=0,LEN(INDEX(AnalýzaDat!$H$8:$I$299,1,1)=0)),\"\",IF(poslední_položka-počáteční_řádek=0,INDEX(AnalýzaDat!$H$8:$I$299,1,1),INDEX(AnalýzaDat!$H$8:$H$299,ROW(A36),1))),\"\")","v":""},{"$f":"IFERROR(IF(AND(poslední_položka-počáteční_řádek=0,ISBLANK(INDEX(AnalýzaDat!$I$8:$I$299,1,1))),\"\",IF(poslední_položka-počáteční_řádek=0,INDEX(AnalýzaDat!$I$8:$I$299,1,1),INDEX(AnalýzaDat!$I$8:$I$299,ROW(A36),1))),\"\")","v":""},259,null,{"$f":"IFERROR(AnalýzaDat!$O43,\"\")","v":259},{"$f":"IFERROR(VLOOKUP(AnalýzaDat!$Q$8:$Q$301,AnalýzaDat!$K$8:$N$301,3,FALSE),\"\")","v":""},{"$f":"IFERROR(VLOOKUP(AnalýzaDat!$Q$8:$Q$301,AnalýzaDat!$K$8:$N$301,4,FALSE),\"\")","v":""},{"$f":"IF(S43=S42,T42,\"\")&REPT(AnalýzaDat!$R43&\", \",AnalýzaDat!$R43<>\"\")","v":""},{"$f":"IF(COUNTIF(S$8:S43,S43)=1,S43,\"\")","v":""},{"$f":"IFERROR(IF(LEN(AnalýzaDat!$S$8:$S$301)=0,\"\",COUNTIF(AnalýzaDat!$S$8:$S$301,S43)),\"\")","v":""},{"$f":"IFERROR(IF(LEN($U43)>0,LEFT(INDIRECT(\"AnalýzaDat!T\"&ROW(AnalýzaDat!$U43)+AnalýzaDat!$V43-1),LEN(INDIRECT(\"AnalýzaDat!T\"&ROW(AnalýzaDat!$U43)+AnalýzaDat!$V43-1))-2),\"\"),\"\")","v":""}]
[{"$nulls":7},{"$f":"IFERROR(INDEX('Hlavní seznam měrných jednotek'!$B$4:$K$30,1+INT((ROW(A37)-1)/COLUMNS('Hlavní seznam měrných jednotek'!$B$4:$K$30)),MOD(ROW(A37)-1+COLUMNS('Hlavní seznam měrných jednotek'!$B$4:$K$30),COLUMNS('Hlavní seznam měrných jednotek'!$B$4:$K$30))+1),\"\")","v":""},"",null,{"$f":"IFERROR(RANK(L44,AnalýzaDat!$L$8:$L$301)+SUMPRODUCT(--(L44=AnalýzaDat!$L$8:$L$301),--(O44<AnalýzaDat!$O$8:$O$301)),\"\")","v":""},{"$f":"IFERROR(IF(COUNTIF(AnalýzaDat!$I$8:$I$299,\"<=\"&AnalýzaDat!$I$8:$I$299)=0,\"\",COUNTIF(AnalýzaDat!$I$8:$I$299,\"<=\"&AnalýzaDat!$I$8:$I$299)),\"\")","v":""},{"$f":"IFERROR(IF(AND(poslední_položka-počáteční_řádek=0,LEN(INDEX(AnalýzaDat!$H$8:$I$299,1,1)=0)),\"\",IF(poslední_položka-počáteční_řádek=0,INDEX(AnalýzaDat!$H$8:$I$299,1,1),INDEX(AnalýzaDat!$H$8:$H$299,ROW(A37),1))),\"\")","v":""},{"$f":"IFERROR(IF(AND(poslední_položka-počáteční_řádek=0,ISBLANK(INDEX(AnalýzaDat!$I$8:$I$299,1,1))),\"\",IF(poslední_položka-počáteční_řádek=0,INDEX(AnalýzaDat!$I$8:$I$299,1,1),INDEX(AnalýzaDat!$I$8:$I$299,ROW(A37),1))),\"\")","v":""},258,null,{"$f":"IFERROR(AnalýzaDat!$O44,\"\")","v":258},{"$f":"IFERROR(VLOOKUP(AnalýzaDat!$Q$8:$Q$301,AnalýzaDat!$K$8:$N$301,3,FALSE),\"\")","v":""},{"$f":"IFERROR(VLOOKUP(AnalýzaDat!$Q$8:$Q$301,AnalýzaDat!$K$8:$N$301,4,FALSE),\"\")","v":""},{"$f":"IF(S44=S43,T43,\"\")&REPT(AnalýzaDat!$R44&\", \",AnalýzaDat!$R44<>\"\")","v":""},{"$f":"IF(COUNTIF(S$8:S44,S44)=1,S44,\"\")","v":""},{"$f":"IFERROR(IF(LEN(AnalýzaDat!$S$8:$S$301)=0,\"\",COUNTIF(AnalýzaDat!$S$8:$S$301,S44)),\"\")","v":""},{"$f":"IFERROR(IF(LEN($U44)>0,LEFT(INDIRECT(\"AnalýzaDat!T\"&ROW(AnalýzaDat!$U44)+AnalýzaDat!$V44-1),LEN(INDIRECT(\"AnalýzaDat!T\"&ROW(AnalýzaDat!$U44)+AnalýzaDat!$V44-1))-2),\"\"),\"\")","v":""}]
[{"$nulls":7},{"$f":"IFERROR(INDEX('Hlavní seznam měrných jednotek'!$B$4:$K$30,1+INT((ROW(A38)-1)/COLUMNS('Hlavní seznam měrných jednotek'!$B$4:$K$30)),MOD(ROW(A38)-1+COLUMNS('Hlavní seznam měrných jednotek'!$B$4:$K$30),COLUMNS('Hlavní seznam měrných jednotek'!$B$4:$K$30))+1),\"\")","v":""},"",null,{"$f":"IFERROR(RANK(L45,AnalýzaDat!$L$8:$L$301)+SUMPRODUCT(--(L45=AnalýzaDat!$L$8:$L$301),--(O45<AnalýzaDat!$O$8:$O$301)),\"\")","v":""},{"$f":"IFERROR(IF(COUNTIF(AnalýzaDat!$I$8:$I$299,\"<=\"&AnalýzaDat!$I$8:$I$299)=0,\"\",COUNTIF(AnalýzaDat!$I$8:$I$299,\"<=\"&AnalýzaDat!$I$8:$I$299)),\"\")","v":""},{"$f":"IFERROR(IF(AND(poslední_položka-počáteční_řádek=0,LEN(INDEX(AnalýzaDat!$H$8:$I$299,1,1)=0)),\"\",IF(poslední_položka-počáteční_řádek=0,INDEX(AnalýzaDat!$H$8:$I$299,1,1),INDEX(AnalýzaDat!$H$8:$H$299,ROW(A38),1))),\"\")","v":""},{"$f":"IFERROR(IF(AND(poslední_položka-počáteční_řádek=0,ISBLANK(INDEX(AnalýzaDat!$I$8:$I$299,1,1))),\"\",IF(poslední_položka-počáteční_řádek=0,INDEX(AnalýzaDat!$I$8:$I$299,1,1),INDEX(AnalýzaDat!$I$8:$I$299,ROW(A38),1))),\"\")","v":""},257,null,{"$f":"IFERROR(AnalýzaDat!$O45,\"\")","v":257},{"$f":"IFERROR(VLOOKUP(AnalýzaDat!$Q$8:$Q$301,AnalýzaDat!$K$8:$N$301,3,FALSE),\"\")","v":""},{"$f":"IFERROR(VLOOKUP(AnalýzaDat!$Q$8:$Q$301,AnalýzaDat!$K$8:$N$301,4,FALSE),\"\")","v":""},{"$f":"IF(S45=S44,T44,\"\")&REPT(AnalýzaDat!$R45&\", \",AnalýzaDat!$R45<>\"\")","v":""},{"$f":"IF(COUNTIF(S$8:S45,S45)=1,S45,\"\")","v":""},{"$f":"IFERROR(IF(LEN(AnalýzaDat!$S$8:$S$301)=0,\"\",COUNTIF(AnalýzaDat!$S$8:$S$301,S45)),\"\")","v":""},{"$f":"IFERROR(IF(LEN($U45)>0,LEFT(INDIRECT(\"AnalýzaDat!T\"&ROW(AnalýzaDat!$U45)+AnalýzaDat!$V45-1),LEN(INDIRECT(\"AnalýzaDat!T\"&ROW(AnalýzaDat!$U45)+AnalýzaDat!$V45-1))-2),\"\"),\"\")","v":""}]
[{"$nulls":7},{"$f":"IFERROR(INDEX('Hlavní seznam měrných jednotek'!$B$4:$K$30,1+INT((ROW(A39)-1)/COLUMNS('Hlavní seznam měrných jednotek'!$B$4:$K$30)),MOD(ROW(A39)-1+COLUMNS('Hlavní seznam měrných jednotek'!$B$4:$K$30),COLUMNS('Hlavní seznam měrných jednotek'!$B$4:$K$30))+1),\"\")","v":""},"",null,{"$f":"IFERROR(RANK(L46,AnalýzaDat!$L$8:$L$301)+SUMPRODUCT(--(L46=AnalýzaDat!$L$8:$L$301),--(O46<AnalýzaDat!$O$8:$O$301)),\"\")","v":""},{"$f":"IFERROR(IF(COUNTIF(AnalýzaDat!$I$8:$I$299,\"<=\"&AnalýzaDat!$I$8:$I$299)=0,\"\",COUNTIF(AnalýzaDat!$I$8:$I$299,\"<=\"&AnalýzaDat!$I$8:$I$299)),\"\")","v":""},{"$f":"IFERROR(IF(AND(poslední_položka-počáteční_řádek=0,LEN(INDEX(AnalýzaDat!$H$8:$I$299,1,1)=0)),\"\",IF(poslední_položka-počáteční_řádek=0,INDEX(AnalýzaDat!$H$8:$I$299,1,1),INDEX(AnalýzaDat!$H$8:$H$299,ROW(A39),1))),\"\")","v":""},{"$f":"IFERROR(IF(AND(poslední_položka-počáteční_řádek=0,ISBLANK(INDEX(AnalýzaDat!$I$8:$I$299,1,1))),\"\",IF(poslední_položka-počáteční_řádek=0,INDEX(AnalýzaDat!$I$8:$I$299,1,1),INDEX(AnalýzaDat!$I$8:$I$299,ROW(A39),1))),\"\")","v":""},256,null,{"$f":"IFERROR(AnalýzaDat!$O46,\"\")","v":256},{"$f":"IFERROR(VLOOKUP(AnalýzaDat!$Q$8:$Q$301,AnalýzaDat!$K$8:$N$301,3,FALSE),\"\")","v":""},{"$f":"IFERROR(VLOOKUP(AnalýzaDat!$Q$8:$Q$301,AnalýzaDat!$K$8:$N$301,4,FALSE),\"\")","v":""},{"$f":"IF(S46=S45,T45,\"\")&REPT(AnalýzaDat!$R46&\", \",AnalýzaDat!$R46<>\"\")","v":""},{"$f":"IF(COUNTIF(S$8:S46,S46)=1,S46,\"\")","v":""},{"$f":"IFERROR(IF(LEN(AnalýzaDat!$S$8:$S$301)=0,\"\",COUNTIF(AnalýzaDat!$S$8:$S$301,S46)),\"\")","v":""},{"$f":"IFERROR(IF(LEN($U46)>0,LEFT(INDIRECT(\"AnalýzaDat!T\"&ROW(AnalýzaDat!$U46)+AnalýzaDat!$V46-1),LEN(INDIRECT(\"AnalýzaDat!T\"&ROW(AnalýzaDat!$U46)+AnalýzaDat!$V46-1))-2),\"\"),\"\")","v":""}]
[{"$nulls":7},{"$f":"IFERROR(INDEX('Hlavní seznam měrných jednotek'!$B$4:$K$30,1+INT((ROW(A40)-1)/COLUMNS('Hlavní seznam měrných jednotek'!$B$4:$K$30)),MOD(ROW(A40)-1+COLUMNS('Hlavní seznam měrných jednotek'!$B$4:$K$30),COLUMNS('Hlavní seznam měrných jednotek'!$B$4:$K$30))+1),\"\")","v":""},"",null,{"$f":"IFERROR(RANK(L47,AnalýzaDat!$L$8:$L$301)+SUMPRODUCT(--(L47=AnalýzaDat!$L$8:$L$301),--(O47<AnalýzaDat!$O$8:$O$301)),\"\")","v":""},{"$f":"IFERROR(IF(COUNTIF(AnalýzaDat!$I$8:$I$299,\"<=\"&AnalýzaDat!$I$8:$I$299)=0,\"\",COUNTIF(AnalýzaDat!$I$8:$I$299,\"<=\"&AnalýzaDat!$I$8:$I$299)),\"\")","v":""},{"$f":"IFERROR(IF(AND(poslední_položka-počáteční_řádek=0,LEN(INDEX(AnalýzaDat!$H$8:$I$299,1,1)=0)),\"\",IF(poslední_položka-počáteční_řádek=0,INDEX(AnalýzaDat!$H$8:$I$299,1,1),INDEX(AnalýzaDat!$H$8:$H$299,ROW(A40),1))),\"\")","v":""},{"$f":"IFERROR(IF(AND(poslední_položka-počáteční_řádek=0,ISBLANK(INDEX(AnalýzaDat!$I$8:$I$299,1,1))),\"\",IF(poslední_položka-počáteční_řádek=0,INDEX(AnalýzaDat!$I$8:$I$299,1,1),INDEX(AnalýzaDat!$I$8:$I$299,ROW(A40),1))),\"\")","v":""},255,null,{"$f":"IFERROR(AnalýzaDat!$O47,\"\")","v":255},{"$f":"IFERROR(VLOOKUP(AnalýzaDat!$Q$8:$Q$301,AnalýzaDat!$K$8:$N$301,3,FALSE),\"\")","v":""},{"$f":"IFERROR(VLOOKUP(AnalýzaDat!$Q$8:$Q$301,AnalýzaDat!$K$8:$N$301,4,FALSE),\"\")","v":""},{"$f":"IF(S47=S46,T46,\"\")&REPT(AnalýzaDat!$R47&\", \",AnalýzaDat!$R47<>\"\")","v":""},{"$f":"IF(COUNTIF(S$8:S47,S47)=1,S47,\"\")","v":""},{"$f":"IFERROR(IF(LEN(AnalýzaDat!$S$8:$S$301)=0,\"\",COUNTIF(AnalýzaDat!$S$8:$S$301,S47)),\"\")","v":""},{"$f":"IFERROR(IF(LEN($U47)>0,LEFT(INDIRECT(\"AnalýzaDat!T\"&ROW(AnalýzaDat!$U47)+AnalýzaDat!$V47-1),LEN(INDIRECT(\"AnalýzaDat!T\"&ROW(AnalýzaDat!$U47)+AnalýzaDat!$V47-1))-2),\"\"),\"\")","v":""}]
[{"$nulls":7},{"$f":"IFERROR(INDEX('Hlavní seznam měrných jednotek'!$B$4:$K$30,1+INT((ROW(A41)-1)/COLUMNS('Hlavní seznam měrných jednotek'!$B$4:$K$30)),MOD(ROW(A41)-1+COLUMNS('Hlavní seznam měrných jednotek'!$B$4:$K$30),COLUMNS('Hlavní seznam měrných jednotek'!$B$4:$K$30))+1),\"\")","v":"3/4 šálek"},"teplá voda",null,{"$f":"IFERROR(RANK(L48,AnalýzaDat!$L$8:$L$301)+SUMPRODUCT(--(L48=AnalýzaDat!$L$8:$L$301),--(O48<AnalýzaDat!$O$8:$O$301)),\"\")","v":2},{"$f":"IFERROR(IF(COUNTIF(AnalýzaDat!$I$8:$I$299,\"<=\"&AnalýzaDat!$I$8:$I$299)=0,\"\",COUNTIF(AnalýzaDat!$I$8:$I$299,\"<=\"&AnalýzaDat!$I$8:$I$299)),\"\")","v":291},{"$f":"IFERROR(IF(AND(poslední_položka-počáteční_řádek=0,LEN(INDEX(AnalýzaDat!$H$8:$I$299,1,1)=0)),\"\",IF(poslední_položka-počáteční_řádek=0,INDEX(AnalýzaDat!$H$8:$I$299,1,1),INDEX(AnalýzaDat!$H$8:$H$299,ROW(A41),1))),\"\")","v":"3/4 šálek"},{"$f":"IFERROR(IF(AND(poslední_položka-počáteční_řádek=0,ISBLANK(INDEX(AnalýzaDat!$I$8:$I$299,1,1))),\"\",IF(poslední_položka-počáteční_řádek=0,INDEX(AnalýzaDat!$I$8:$I$299,1,1),INDEX(AnalýzaDat!$I$8:$I$299,ROW(A41),1))),\"\")","v":"teplá voda"},254,null,{"$f":"IFERROR(AnalýzaDat!$O48,\"\")","v":254},{"$f":"IFERROR(VLOOKUP(AnalýzaDat!$Q$8:$Q$301,AnalýzaDat!$K$8:$N$301,3,FALSE),\"\")","v":""},{"$f":"IFERROR(VLOOKUP(AnalýzaDat!$Q$8:$Q$301,AnalýzaDat!$K$8:$N$301,4,FALSE),\"\")","v":""},{"$f":"IF(S48=S47,T47,\"\")&REPT(AnalýzaDat!$R48&\", \",AnalýzaDat!$R48<>\"\")","v":""},{"$f":"IF(COUNTIF(S$8:S48,S48)=1,S48,\"\")","v":""},{"$f":"IFERROR(IF(LEN(AnalýzaDat!$S$8:$S$301)=0,\"\",COUNTIF(AnalýzaDat!$S$8:$S$301,S48)),\"\")","v":""},{"$f":"IFERROR(IF(LEN($U48)>0,LEFT(INDIRECT(\"AnalýzaDat!T\"&ROW(AnalýzaDat!$U48)+AnalýzaDat!$V48-1),LEN(INDIRECT(\"AnalýzaDat!T\"&ROW(AnalýzaDat!$U48)+AnalýzaDat!$V48-1))-2),\"\"),\"\")","v":""}]
[{"$nulls":7},{"$f":"IFERROR(INDEX('Hlavní seznam měrných jednotek'!$B$4:$K$30,1+INT((ROW(A42)-1)/COLUMNS('Hlavní seznam měrných jednotek'!$B$4:$K$30)),MOD(ROW(A42)-1+COLUMNS('Hlavní seznam měrných jednotek'!$B$4:$K$30),COLUMNS('Hlavní seznam měrných jednotek'!$B$4:$K$30))+1),\"\")","v":"5 snítka"},"Čerstvý kopr",null,{"$f":"IFERROR(RANK(L49,AnalýzaDat!$L$8:$L$301)+SUMPRODUCT(--(L49=AnalýzaDat!$L$8:$L$301),--(O49<AnalýzaDat!$O$8:$O$301)),\"\")","v":17},{"$f":"IFERROR(IF(COUNTIF(AnalýzaDat!$I$8:$I$299,\"<=\"&AnalýzaDat!$I$8:$I$299)=0,\"\",COUNTIF(AnalýzaDat!$I$8:$I$299,\"<=\"&AnalýzaDat!$I$8:$I$299)),\"\")","v":276},{"$f":"IFERROR(IF(AND(poslední_položka-počáteční_řádek=0,LEN(INDEX(AnalýzaDat!$H$8:$I$299,1,1)=0)),\"\",IF(poslední_položka-počáteční_řádek=0,INDEX(AnalýzaDat!$H$8:$I$299,1,1),INDEX(AnalýzaDat!$H$8:$H$299,ROW(A42),1))),\"\")","v":"5 snítka"},{"$f":"IFERROR(IF(AND(poslední_položka-počáteční_řádek=0,ISBLANK(INDEX(AnalýzaDat!$I$8:$I$299,1,1))),\"\",IF(poslední_položka-počáteční_řádek=0,INDEX(AnalýzaDat!$I$8:$I$299,1,1),INDEX(AnalýzaDat!$I$8:$I$299,ROW(A42),1))),\"\")","v":"Čerstvý kopr"},253,null,{"$f":"IFERROR(AnalýzaDat!$O49,\"\")","v":253},{"$f":"IFERROR(VLOOKUP(AnalýzaDat!$Q$8:$Q$301,AnalýzaDat!$K$8:$N$301,3,FALSE),\"\")","v":""},{"$f":"IFERROR(VLOOKUP(AnalýzaDat!$Q$8:$Q$301,AnalýzaDat!$K$8:$N$301,4,FALSE),\"\")","v":""},{"$f":"IF(S49=S48,T48,\"\")&REPT(AnalýzaDat!$R49&\", \",AnalýzaDat!$R49<>\"\")","v":""},{"$f":"IF(COUNTIF(S$8:S49,S49)=1,S49,\"\")","v":""},{"$f":"IFERROR(IF(LEN(AnalýzaDat!$S$8:$S$301)=0,\"\",COUNTIF(AnalýzaDat!$S$8:$S$301,S49)),\"\")","v":""},{"$f":"IFERROR(IF(LEN($U49)>0,LEFT(INDIRECT(\"AnalýzaDat!T\"&ROW(AnalýzaDat!$U49)+AnalýzaDat!$V49-1),LEN(INDIRECT(\"AnalýzaDat!T\"&ROW(AnalýzaDat!$U49)+AnalýzaDat!$V49-1))-2),\"\"),\"\")","v":""}]
[{"$nulls":7},{"$f":"IFERROR(INDEX('Hlavní seznam měrných jednotek'!$B$4:$K$30,1+INT((ROW(A43)-1)/COLUMNS('Hlavní seznam měrných jednotek'!$B$4:$K$30)),MOD(ROW(A43)-1+COLUMNS('Hlavní seznam měrných jednotek'!$B$4:$K$30),COLUMNS('Hlavní seznam měrných jednotek'!$B$4:$K$30))+1),\"\")","v":""},"",null,{"$f":"IFERROR(RANK(L50,AnalýzaDat!$L$8:$L$301)+SUMPRODUCT(--(L50=AnalýzaDat!$L$8:$L$301),--(O50<AnalýzaDat!$O$8:$O$301)),\"\")","v":""},{"$f":"IFERROR(IF(COUNTIF(AnalýzaDat!$I$8:$I$299,\"<=\"&AnalýzaDat!$I$8:$I$299)=0,\"\",COUNTIF(AnalýzaDat!$I$8:$I$299,\"<=\"&AnalýzaDat!$I$8:$I$299)),\"\")","v":""},{"$f":"IFERROR(IF(AND(poslední_položka-počáteční_řádek=0,LEN(INDEX(AnalýzaDat!$H$8:$I$299,1,1)=0)),\"\",IF(poslední_položka-počáteční_řádek=0,INDEX(AnalýzaDat!$H$8:$I$299,1,1),INDEX(AnalýzaDat!$H$8:$H$299,ROW(A43),1))),\"\")","v":""},{"$f":"IFERROR(IF(AND(poslední_položka-počáteční_řádek=0,ISBLANK(INDEX(AnalýzaDat!$I$8:$I$299,1,1))),\"\",IF(poslední_položka-počáteční_řádek=0,INDEX(AnalýzaDat!$I$8:$I$299,1,1),INDEX(AnalýzaDat!$I$8:$I$299,ROW(A43),1))),\"\")","v":""},252,null,{"$f":"IFERROR(AnalýzaDat!$O50,\"\")","v":252},{"$f":"IFERROR(VLOOKUP(AnalýzaDat!$Q$8:$Q$301,AnalýzaDat!$K$8:$N$301,3,FALSE),\"\")","v":""},{"$f":"IFERROR(VLOOKUP(AnalýzaDat!$Q$8:$Q$301,AnalýzaDat!$K$8:$N$301,4,FALSE),\"\")","v":""},{"$f":"IF(S50=S49,T49,\"\")&REPT(AnalýzaDat!$R50&\", \",AnalýzaDat!$R50<>\"\")","v":""},{"$f":"IF(COUNTIF(S$8:S50,S50)=1,S50,\"\")","v":""},{"$f":"IFERROR(IF(LEN(AnalýzaDat!$S$8:$S$301)=0,\"\",COUNTIF(AnalýzaDat!$S$8:$S$301,S50)),\"\")","v":""},{"$f":"IFERROR(IF(LEN($U50)>0,LEFT(INDIRECT(\"AnalýzaDat!T\"&ROW(AnalýzaDat!$U50)+AnalýzaDat!$V50-1),LEN(INDIRECT(\"AnalýzaDat!T\"&ROW(AnalýzaDat!$U50)+AnalýzaDat!$V50-1))-2),\"\"),\"\")","v":""}]
[{"$nulls":7},{"$f":"IFERROR(INDEX('Hlavní seznam měrných jednotek'!$B$4:$K$30,1+INT((ROW(A44)-1)/COLUMNS('Hlavní seznam měrných jednotek'!$B$4:$K$30)),MOD(ROW(A44)-1+COLUMNS('Hlavní seznam měrných jednotek'!$B$4:$K$30),COLUMNS('Hlavní seznam měrných jednotek'!$B$4:$K$30))+1),\"\")","v":""},"",null,{"$f":"IFERROR(RANK(L51,AnalýzaDat!$L$8:$L$301)+SUMPRODUCT(--(L51=AnalýzaDat!$L$8:$L$301),--(O51<AnalýzaDat!$O$8:$O$301)),\"\")","v":""},{"$f":"IFERROR(IF(COUNTIF(AnalýzaDat!$I$8:$I$299,\"<=\"&AnalýzaDat!$I$8:$I$299)=0,\"\",COUNTIF(AnalýzaDat!$I$8:$I$299,\"<=\"&AnalýzaDat!$I$8:$I$299)),\"\")","v":""},{"$f":"IFERROR(IF(AND(poslední_položka-počáteční_řádek=0,LEN(INDEX(AnalýzaDat!$H$8:$I$299,1,1)=0)),\"\",IF(poslední_položka-počáteční_řádek=0,INDEX(AnalýzaDat!$H$8:$I$299,1,1),INDEX(AnalýzaDat!$H$8:$H$299,ROW(A44),1))),\"\")","v":""},{"$f":"IFERROR(IF(AND(poslední_položka-počáteční_řádek=0,ISBLANK(INDEX(AnalýzaDat!$I$8:$I$299,1,1))),\"\",IF(poslední_položka-počáteční_řádek=0,INDEX(AnalýzaDat!$I$8:$I$299,1,1),INDEX(AnalýzaDat!$I$8:$I$299,ROW(A44),1))),\"\")","v":""},251,null,{"$f":"IFERROR(AnalýzaDat!$O51,\"\")","v":251},{"$f":"IFERROR(VLOOKUP(AnalýzaDat!$Q$8:$Q$301,AnalýzaDat!$K$8:$N$301,3,FALSE),\"\")","v":""},{"$f":"IFERROR(VLOOKUP(AnalýzaDat!$Q$8:$Q$301,AnalýzaDat!$K$8:$N$301,4,FALSE),\"\")","v":""},{"$f":"IF(S51=S50,T50,\"\")&REPT(AnalýzaDat!$R51&\", \",AnalýzaDat!$R51<>\"\")","v":""},{"$f":"IF(COUNTIF(S$8:S51,S51)=1,S51,\"\")","v":""},{"$f":"IFERROR(IF(LEN(AnalýzaDat!$S$8:$S$301)=0,\"\",COUNTIF(AnalýzaDat!$S$8:$S$301,S51)),\"\")","v":""},{"$f":"IFERROR(IF(LEN($U51)>0,LEFT(INDIRECT(\"AnalýzaDat!T\"&ROW(AnalýzaDat!$U51)+AnalýzaDat!$V51-1),LEN(INDIRECT(\"AnalýzaDat!T\"&ROW(AnalýzaDat!$U51)+AnalýzaDat!$V51-1))-2),\"\"),\"\")","v":""}]
[{"$nulls":7},{"$f":"IFERROR(INDEX('Hlavní seznam měrných jednotek'!$B$4:$K$30,1+INT((ROW(A45)-1)/COLUMNS('Hlavní seznam měrných jednotek'!$B$4:$K$30)),MOD(ROW(A45)-1+COLUMNS('Hlavní seznam měrných jednotek'!$B$4:$K$30),COLUMNS('Hlavní seznam měrných jednotek'!$B$4:$K$30))+1),\"\")","v":""},"",null,{"$f":"IFERROR(RANK(L52,AnalýzaDat!$L$8:$L$301)+SUMPRODUCT(--(L52=AnalýzaDat!$L$8:$L$301),--(O52<AnalýzaDat!$O$8:$O$301)),\"\")","v":""},{"$f":"IFERROR(IF(COUNTIF(AnalýzaDat!$I$8:$I$299,\"<=\"&AnalýzaDat!$I$8:$I$299)=0,\"\",COUNTIF(AnalýzaDat!$I$8:$I$299,\"<=\"&AnalýzaDat!$I$8:$I$299)),\"\")","v":""},{"$f":"IFERROR(IF(AND(poslední_položka-počáteční_řádek=0,LEN(INDEX(AnalýzaDat!$H$8:$I$299,1,1)=0)),\"\",IF(poslední_položka-počáteční_řádek=0,INDEX(AnalýzaDat!$H$8:$I$299,1,1),INDEX(AnalýzaDat!$H$8:$H$299,ROW(A45),1))),\"\")","v":""},{"$f":"IFERROR(IF(AND(poslední_položka-počáteční_řádek=0,ISBLANK(INDEX(AnalýzaDat!$I$8:$I$299,1,1))),\"\",IF(poslední_položka-počáteční_řádek=0,INDEX(AnalýzaDat!$I$8:$I$299,1,1),INDEX(AnalýzaDat!$I$8:$I$299,ROW(A45),1))),\"\")","v":""},250,null,{"$f":"IFERROR(AnalýzaDat!$O52,\"\")","v":250},{"$f":"IFERROR(VLOOKUP(AnalýzaDat!$Q$8:$Q$301,AnalýzaDat!$K$8:$N$301,3,FALSE),\"\")","v":""},{"$f":"IFERROR(VLOOKUP(AnalýzaDat!$Q$8:$Q$301,AnalýzaDat!$K$8:$N$301,4,FALSE),\"\")","v":""},{"$f":"IF(S52=S51,T51,\"\")&REPT(AnalýzaDat!$R52&\", \",AnalýzaDat!$R52<>\"\")","v":""},{"$f":"IF(COUNTIF(S$8:S52,S52)=1,S52,\"\")","v":""},{"$f":"IFERROR(IF(LEN(AnalýzaDat!$S$8:$S$301)=0,\"\",COUNTIF(AnalýzaDat!$S$8:$S$301,S52)),\"\")","v":""},{"$f":"IFERROR(IF(LEN($U52)>0,LEFT(INDIRECT(\"AnalýzaDat!T\"&ROW(AnalýzaDat!$U52)+AnalýzaDat!$V52-1),LEN(INDIRECT(\"AnalýzaDat!T\"&ROW(AnalýzaDat!$U52)+AnalýzaDat!$V52-1))-2),\"\"),\"\")","v":""}]
[{"$nulls":7},{"$f":"IFERROR(INDEX('Hlavní seznam měrných jednotek'!$B$4:$K$30,1+INT((ROW(A46)-1)/COLUMNS('Hlavní seznam měrných jednotek'!$B$4:$K$30)),MOD(ROW(A46)-1+COLUMNS('Hlavní seznam měrných jednotek'!$B$4:$K$30),COLUMNS('Hlavní seznam měrných jednotek'!$B$4:$K$30))+1),\"\")","v":""},"",null,{"$f":"IFERROR(RANK(L53,AnalýzaDat!$L$8:$L$301)+SUMPRODUCT(--(L53=AnalýzaDat!$L$8:$L$301),--(O53<AnalýzaDat!$O$8:$O$301)),\"\")","v":""},{"$f":"IFERROR(IF(COUNTIF(AnalýzaDat!$I$8:$I$299,\"<=\"&AnalýzaDat!$I$8:$I$299)=0,\"\",COUNTIF(AnalýzaDat!$I$8:$I$299,\"<=\"&AnalýzaDat!$I$8:$I$299)),\"\")","v":""},{"$f":"IFERROR(IF(AND(poslední_položka-počáteční_řádek=0,LEN(INDEX(AnalýzaDat!$H$8:$I$299,1,1)=0)),\"\",IF(poslední_položka-počáteční_řádek=0,INDEX(AnalýzaDat!$H$8:$I$299,1,1),INDEX(AnalýzaDat!$H$8:$H$299,ROW(A46),1))),\"\")","v":""},{"$f":"IFERROR(IF(AND(poslední_položka-počáteční_řádek=0,ISBLANK(INDEX(AnalýzaDat!$I$8:$I$299,1,1))),\"\",IF(poslední_položka-počáteční_řádek=0,INDEX(AnalýzaDat!$I$8:$I$299,1,1),INDEX(AnalýzaDat!$I$8:$I$299,ROW(A46),1))),\"\")","v":""},249,null,{"$f":"IFERROR(AnalýzaDat!$O53,\"\")","v":249},{"$f":"IFERROR(VLOOKUP(AnalýzaDat!$Q$8:$Q$301,AnalýzaDat!$K$8:$N$301,3,FALSE),\"\")","v":""},{"$f":"IFERROR(VLOOKUP(AnalýzaDat!$Q$8:$Q$301,AnalýzaDat!$K$8:$N$301,4,FALSE),\"\")","v":""},{"$f":"IF(S53=S52,T52,\"\")&REPT(AnalýzaDat!$R53&\", \",AnalýzaDat!$R53<>\"\")","v":""},{"$f":"IF(COUNTIF(S$8:S53,S53)=1,S53,\"\")","v":""},{"$f":"IFERROR(IF(LEN(AnalýzaDat!$S$8:$S$301)=0,\"\",COUNTIF(AnalýzaDat!$S$8:$S$301,S53)),\"\")","v":""},{"$f":"IFERROR(IF(LEN($U53)>0,LEFT(INDIRECT(\"AnalýzaDat!T\"&ROW(AnalýzaDat!$U53)+AnalýzaDat!$V53-1),LEN(INDIRECT(\"AnalýzaDat!T\"&ROW(AnalýzaDat!$U53)+AnalýzaDat!$V53-1))-2),\"\"),\"\")","v":""}]
[{"$nulls":7},{"$f":"IFERROR(INDEX('Hlavní seznam měrných jednotek'!$B$4:$K$30,1+INT((ROW(A47)-1)/COLUMNS('Hlavní seznam měrných jednotek'!$B$4:$K$30)),MOD(ROW(A47)-1+COLUMNS('Hlavní seznam měrných jednotek'!$B$4:$K$30),COLUMNS('Hlavní seznam měrných jednotek'!$B$4:$K$30))+1),\"\")","v":""},"",null,{"$f":"IFERROR(RANK(L54,AnalýzaDat!$L$8:$L$301)+SUMPRODUCT(--(L54=AnalýzaDat!$L$8:$L$301),--(O54<AnalýzaDat!$O$8:$O$301)),\"\")","v":""},{"$f":"IFERROR(IF(COUNTIF(AnalýzaDat!$I$8:$I$299,\"<=\"&AnalýzaDat!$I$8:$I$299)=0,\"\",COUNTIF(AnalýzaDat!$I$8:$I$299,\"<=\"&AnalýzaDat!$I$8:$I$299)),\"\")","v":""},{"$f":"IFERROR(IF(AND(poslední_položka-počáteční_řádek=0,LEN(INDEX(AnalýzaDat!$H$8:$I$299,1,1)=0)),\"\",IF(poslední_položka-počáteční_řádek=0,INDEX(AnalýzaDat!$H$8:$I$299,1,1),INDEX(AnalýzaDat!$H$8:$H$299,ROW(A47),1))),\"\")","v":""},{"$f":"IFERROR(IF(AND(poslední_položka-počáteční_řádek=0,ISBLANK(INDEX(AnalýzaDat!$I$8:$I$299,1,1))),\"\",IF(poslední_položka-počáteční_řádek=0,INDEX(AnalýzaDat!$I$8:$I$299,1,1),INDEX(AnalýzaDat!$I$8:$I$299,ROW(A47),1))),\"\")","v":""},248,null,{"$f":"IFERROR(AnalýzaDat!$O54,\"\")","v":248},{"$f":"IFERROR(VLOOKUP(AnalýzaDat!$Q$8:$Q$301,AnalýzaDat!$K$8:$N$301,3,FALSE),\"\")","v":""},{"$f":"IFERROR(VLOOKUP(AnalýzaDat!$Q$8:$Q$301,AnalýzaDat!$K$8:$N$301,4,FALSE),\"\")","v":""},{"$f":"IF(S54=S53,T53,\"\")&REPT(AnalýzaDat!$R54&\", \",AnalýzaDat!$R54<>\"\")","v":""},{"$f":"IF(COUNTIF(S$8:S54,S54)=1,S54,\"\")","v":""},{"$f":"IFERROR(IF(LEN(AnalýzaDat!$S$8:$S$301)=0,\"\",COUNTIF(AnalýzaDat!$S$8:$S$301,S54)),\"\")","v":""},{"$f":"IFERROR(IF(LEN($U54)>0,LEFT(INDIRECT(\"AnalýzaDat!T\"&ROW(AnalýzaDat!$U54)+AnalýzaDat!$V54-1),LEN(INDIRECT(\"AnalýzaDat!T\"&ROW(AnalýzaDat!$U54)+AnalýzaDat!$V54-1))-2),\"\"),\"\")","v":""}]
[{"$nulls":7},{"$f":"IFERROR(INDEX('Hlavní seznam měrných jednotek'!$B$4:$K$30,1+INT((ROW(A48)-1)/COLUMNS('Hlavní seznam měrných jednotek'!$B$4:$K$30)),MOD(ROW(A48)-1+COLUMNS('Hlavní seznam měrných jednotek'!$B$4:$K$30),COLUMNS('Hlavní seznam měrných jednotek'!$B$4:$K$30))+1),\"\")","v":""},"",null,{"$f":"IFERROR(RANK(L55,AnalýzaDat!$L$8:$L$301)+SUMPRODUCT(--(L55=AnalýzaDat!$L$8:$L$301),--(O55<AnalýzaDat!$O$8:$O$301)),\"\")","v":""},{"$f":"IFERROR(IF(COUNTIF(AnalýzaDat!$I$8:$I$299,\"<=\"&AnalýzaDat!$I$8:$I$299)=0,\"\",COUNTIF(AnalýzaDat!$I$8:$I$299,\"<=\"&AnalýzaDat!$I$8:$I$299)),\"\")","v":""},{"$f":"IFERROR(IF(AND(poslední_položka-počáteční_řádek=0,LEN(INDEX(AnalýzaDat!$H$8:$I$299,1,1)=0)),\"\",IF(poslední_položka-počáteční_řádek=0,INDEX(AnalýzaDat!$H$8:$I$299,1,1),INDEX(AnalýzaDat!$H$8:$H$299,ROW(A48),1))),\"\")","v":""},{"$f":"IFERROR(IF(AND(poslední_položka-počáteční_řádek=0,ISBLANK(INDEX(AnalýzaDat!$I$8:$I$299,1,1))),\"\",IF(poslední_položka-počáteční_řádek=0,INDEX(AnalýzaDat!$I$8:$I$299,1,1),INDEX(AnalýzaDat!$I$8:$I$299,ROW(A48),1))),\"\")","v":""},247,null,{"$f":"IFERROR(AnalýzaDat!$O55,\"\")","v":247},{"$f":"IFERROR(VLOOKUP(AnalýzaDat!$Q$8:$Q$301,AnalýzaDat!$K$8:$N$301,3,FALSE),\"\")","v":""},{"$f":"IFERROR(VLOOKUP(AnalýzaDat!$Q$8:$Q$301,AnalýzaDat!$K$8:$N$301,4,FALSE),\"\")","v":""},{"$f":"IF(S55=S54,T54,\"\")&REPT(AnalýzaDat!$R55&\", \",AnalýzaDat!$R55<>\"\")","v":""},{"$f":"IF(COUNTIF(S$8:S55,S55)=1,S55,\"\")","v":""},{"$f":"IFERROR(IF(LEN(AnalýzaDat!$S$8:$S$301)=0,\"\",COUNTIF(AnalýzaDat!$S$8:$S$301,S55)),\"\")","v":""},{"$f":"IFERROR(IF(LEN($U55)>0,LEFT(INDIRECT(\"AnalýzaDat!T\"&ROW(AnalýzaDat!$U55)+AnalýzaDat!$V55-1),LEN(INDIRECT(\"AnalýzaDat!T\"&ROW(AnalýzaDat!$U55)+AnalýzaDat!$V55-1))-2),\"\"),\"\")","v":""}]
[{"$nulls":7},{"$f":"IFERROR(INDEX('Hlavní seznam měrných jednotek'!$B$4:$K$30,1+INT((ROW(A49)-1)/COLUMNS('Hlavní seznam měrných jednotek'!$B$4:$K$30)),MOD(ROW(A49)-1+COLUMNS('Hlavní seznam měrných jednotek'!$B$4:$K$30),COLUMNS('Hlavní seznam měrných jednotek'!$B$4:$K$30))+1),\"\")","v":""},"",null,{"$f":"IFERROR(RANK(L56,AnalýzaDat!$L$8:$L$301)+SUMPRODUCT(--(L56=AnalýzaDat!$L$8:$L$301),--(O56<AnalýzaDat!$O$8:$O$301)),\"\")","v":""},{"$f":"IFERROR(IF(COUNTIF(AnalýzaDat!$I$8:$I$299,\"<=\"&AnalýzaDat!$I$8:$I$299)=0,\"\",COUNTIF(AnalýzaDat!$I$8:$I$299,\"<=\"&AnalýzaDat!$I$8:$I$299)),\"\")","v":""},{"$f":"IFERROR(IF(AND(poslední_položka-počáteční_řádek=0,LEN(INDEX(AnalýzaDat!$H$8:$I$299,1,1)=0)),\"\",IF(poslední_položka-počáteční_řádek=0,INDEX(AnalýzaDat!$H$8:$I$299,1,1),INDEX(AnalýzaDat!$H$8:$H$299,ROW(A49),1))),\"\")","v":""},{"$f":"IFERROR(IF(AND(poslední_položka-počáteční_řádek=0,ISBLANK(INDEX(AnalýzaDat!$I$8:$I$299,1,1))),\"\",IF(poslední_položka-počáteční_řádek=0,INDEX(AnalýzaDat!$I$8:$I$299,1,1),INDEX(AnalýzaDat!$I$8:$I$299,ROW(A49),1))),\"\")","v":""},246,null,{"$f":"IFERROR(AnalýzaDat!$O56,\"\")","v":246},{"$f":"IFERROR(VLOOKUP(AnalýzaDat!$Q$8:$Q$301,AnalýzaDat!$K$8:$N$301,3,FALSE),\"\")","v":""},{"$f":"IFERROR(VLOOKUP(AnalýzaDat!$Q$8:$Q$301,AnalýzaDat!$K$8:$N$301,4,FALSE),\"\")","v":""},{"$f":"IF(S56=S55,T55,\"\")&REPT(AnalýzaDat!$R56&\", \",AnalýzaDat!$R56<>\"\")","v":""},{"$f":"IF(COUNTIF(S$8:S56,S56)=1,S56,\"\")","v":""},{"$f":"IFERROR(IF(LEN(AnalýzaDat!$S$8:$S$301)=0,\"\",COUNTIF(AnalýzaDat!$S$8:$S$301,S56)),\"\")","v":""},{"$f":"IFERROR(IF(LEN($U56)>0,LEFT(INDIRECT(\"AnalýzaDat!T\"&ROW(AnalýzaDat!$U56)+AnalýzaDat!$V56-1),LEN(INDIRECT(\"AnalýzaDat!T\"&ROW(AnalýzaDat!$U56)+AnalýzaDat!$V56-1))-2),\"\"),\"\")","v":""}]
[{"$nulls":7},{"$f":"IFERROR(INDEX('Hlavní seznam měrných jednotek'!$B$4:$K$30,1+INT((ROW(A50)-1)/COLUMNS('Hlavní seznam měrných jednotek'!$B$4:$K$30)),MOD(ROW(A50)-1+COLUMNS('Hlavní seznam měrných jednotek'!$B$4:$K$30),COLUMNS('Hlavní seznam měrných jednotek'!$B$4:$K$30))+1),\"\")","v":""},"",null,{"$f":"IFERROR(RANK(L57,AnalýzaDat!$L$8:$L$301)+SUMPRODUCT(--(L57=AnalýzaDat!$L$8:$L$301),--(O57<AnalýzaDat!$O$8:$O$301)),\"\")","v":""},{"$f":"IFERROR(IF(COUNTIF(AnalýzaDat!$I$8:$I$299,\"<=\"&AnalýzaDat!$I$8:$I$299)=0,\"\",COUNTIF(AnalýzaDat!$I$8:$I$299,\"<=\"&AnalýzaDat!$I$8:$I$299)),\"\")","v":""},{"$f":"IFERROR(IF(AND(poslední_položka-počáteční_řádek=0,LEN(INDEX(AnalýzaDat!$H$8:$I$299,1,1)=0)),\"\",IF(poslední_položka-počáteční_řádek=0,INDEX(AnalýzaDat!$H$8:$I$299,1,1),INDEX(AnalýzaDat!$H$8:$H$299,ROW(A50),1))),\"\")","v":""},{"$f":"IFERROR(IF(AND(poslední_položka-počáteční_řádek=0,ISBLANK(INDEX(AnalýzaDat!$I$8:$I$299,1,1))),\"\",IF(poslední_položka-počáteční_řádek=0,INDEX(AnalýzaDat!$I$8:$I$299,1,1),INDEX(AnalýzaDat!$I$8:$I$299,ROW(A50),1))),\"\")","v":""},245,null,{"$f":"IFERROR(AnalýzaDat!$O57,\"\")","v":245},{"$f":"IFERROR(VLOOKUP(AnalýzaDat!$Q$8:$Q$301,AnalýzaDat!$K$8:$N$301,3,FALSE),\"\")","v":""},{"$f":"IFERROR(VLOOKUP(AnalýzaDat!$Q$8:$Q$301,AnalýzaDat!$K$8:$N$301,4,FALSE),\"\")","v":""},{"$f":"IF(S57=S56,T56,\"\")&REPT(AnalýzaDat!$R57&\", \",AnalýzaDat!$R57<>\"\")","v":""},{"$f":"IF(COUNTIF(S$8:S57,S57)=1,S57,\"\")","v":""},{"$f":"IFERROR(IF(LEN(AnalýzaDat!$S$8:$S$301)=0,\"\",COUNTIF(AnalýzaDat!$S$8:$S$301,S57)),\"\")","v":""},{"$f":"IFERROR(IF(LEN($U57)>0,LEFT(INDIRECT(\"AnalýzaDat!T\"&ROW(AnalýzaDat!$U57)+AnalýzaDat!$V57-1),LEN(INDIRECT(\"AnalýzaDat!T\"&ROW(AnalýzaDat!$U57)+AnalýzaDat!$V57-1))-2),\"\"),\"\")","v":""}]
[{"$nulls":7},{"$f":"IFERROR(INDEX('Hlavní seznam měrných jednotek'!$B$4:$K$30,1+INT((ROW(A51)-1)/COLUMNS('Hlavní seznam měrných jednotek'!$B$4:$K$30)),MOD(ROW(A51)-1+COLUMNS('Hlavní seznam měrných jednotek'!$B$4:$K$30),COLUMNS('Hlavní seznam měrných jednotek'!$B$4:$K$30))+1),\"\")","v":"1 stroužek"},"mletý česnek",null,{"$f":"IFERROR(RANK(L58,AnalýzaDat!$L$8:$L$301)+SUMPRODUCT(--(L58=AnalýzaDat!$L$8:$L$301),--(O58<AnalýzaDat!$O$8:$O$301)),\"\")","v":11},{"$f":"IFERROR(IF(COUNTIF(AnalýzaDat!$I$8:$I$299,\"<=\"&AnalýzaDat!$I$8:$I$299)=0,\"\",COUNTIF(AnalýzaDat!$I$8:$I$299,\"<=\"&AnalýzaDat!$I$8:$I$299)),\"\")","v":282},{"$f":"IFERROR(IF(AND(poslední_položka-počáteční_řádek=0,LEN(INDEX(AnalýzaDat!$H$8:$I$299,1,1)=0)),\"\",IF(poslední_položka-počáteční_řádek=0,INDEX(AnalýzaDat!$H$8:$I$299,1,1),INDEX(AnalýzaDat!$H$8:$H$299,ROW(A51),1))),\"\")","v":"1 stroužek"},{"$f":"IFERROR(IF(AND(poslední_položka-počáteční_řádek=0,ISBLANK(INDEX(AnalýzaDat!$I$8:$I$299,1,1))),\"\",IF(poslední_položka-počáteční_řádek=0,INDEX(AnalýzaDat!$I$8:$I$299,1,1),INDEX(AnalýzaDat!$I$8:$I$299,ROW(A51),1))),\"\")","v":"mletý česnek"},244,null,{"$f":"IFERROR(AnalýzaDat!$O58,\"\")","v":244},{"$f":"IFERROR(VLOOKUP(AnalýzaDat!$Q$8:$Q$301,AnalýzaDat!$K$8:$N$301,3,FALSE),\"\")","v":""},{"$f":"IFERROR(VLOOKUP(AnalýzaDat!$Q$8:$Q$301,AnalýzaDat!$K$8:$N$301,4,FALSE),\"\")","v":""},{"$f":"IF(S58=S57,T57,\"\")&REPT(AnalýzaDat!$R58&\", \",AnalýzaDat!$R58<>\"\")","v":""},{"$f":"IF(COUNTIF(S$8:S58,S58)=1,S58,\"\")","v":""},{"$f":"IFERROR(IF(LEN(AnalýzaDat!$S$8:$S$301)=0,\"\",COUNTIF(AnalýzaDat!$S$8:$S$301,S58)),\"\")","v":""},{"$f":"IFERROR(IF(LEN($U58)>0,LEFT(INDIRECT(\"AnalýzaDat!T\"&ROW(AnalýzaDat!$U58)+AnalýzaDat!$V58-1),LEN(INDIRECT(\"AnalýzaDat!T\"&ROW(AnalýzaDat!$U58)+AnalýzaDat!$V58-1))-2),\"\"),\"\")","v":""}]
[{"$nulls":7},{"$f":"IFERROR(INDEX('Hlavní seznam měrných jednotek'!$B$4:$K$30,1+INT((ROW(A52)-1)/COLUMNS('Hlavní seznam měrných jednotek'!$B$4:$K$30)),MOD(ROW(A52)-1+COLUMNS('Hlavní seznam měrných jednotek'!$B$4:$K$30),COLUMNS('Hlavní seznam měrných jednotek'!$B$4:$K$30))+1),\"\")","v":" "},"",null,{"$f":"IFERROR(RANK(L59,AnalýzaDat!$L$8:$L$301)+SUMPRODUCT(--(L59=AnalýzaDat!$L$8:$L$301),--(O59<AnalýzaDat!$O$8:$O$301)),\"\")","v":""},{"$f":"IFERROR(IF(COUNTIF(AnalýzaDat!$I$8:$I$299,\"<=\"&AnalýzaDat!$I$8:$I$299)=0,\"\",COUNTIF(AnalýzaDat!$I$8:$I$299,\"<=\"&AnalýzaDat!$I$8:$I$299)),\"\")","v":""},{"$f":"IFERROR(IF(AND(poslední_položka-počáteční_řádek=0,LEN(INDEX(AnalýzaDat!$H$8:$I$299,1,1)=0)),\"\",IF(poslední_položka-počáteční_řádek=0,INDEX(AnalýzaDat!$H$8:$I$299,1,1),INDEX(AnalýzaDat!$H$8:$H$299,ROW(A52),1))),\"\")","v":" "},{"$f":"IFERROR(IF(AND(poslední_položka-počáteční_řádek=0,ISBLANK(INDEX(AnalýzaDat!$I$8:$I$299,1,1))),\"\",IF(poslední_položka-počáteční_řádek=0,INDEX(AnalýzaDat!$I$8:$I$299,1,1),INDEX(AnalýzaDat!$I$8:$I$299,ROW(A52),1))),\"\")","v":""},243,null,{"$f":"IFERROR(AnalýzaDat!$O59,\"\")","v":243},{"$f":"IFERROR(VLOOKUP(AnalýzaDat!$Q$8:$Q$301,AnalýzaDat!$K$8:$N$301,3,FALSE),\"\")","v":""},{"$f":"IFERROR(VLOOKUP(AnalýzaDat!$Q$8:$Q$301,AnalýzaDat!$K$8:$N$301,4,FALSE),\"\")","v":""},{"$f":"IF(S59=S58,T58,\"\")&REPT(AnalýzaDat!$R59&\", \",AnalýzaDat!$R59<>\"\")","v":""},{"$f":"IF(COUNTIF(S$8:S59,S59)=1,S59,\"\")","v":""},{"$f":"IFERROR(IF(LEN(AnalýzaDat!$S$8:$S$301)=0,\"\",COUNTIF(AnalýzaDat!$S$8:$S$301,S59)),\"\")","v":""},{"$f":"IFERROR(IF(LEN($U59)>0,LEFT(INDIRECT(\"AnalýzaDat!T\"&ROW(AnalýzaDat!$U59)+AnalýzaDat!$V59-1),LEN(INDIRECT(\"AnalýzaDat!T\"&ROW(AnalýzaDat!$U59)+AnalýzaDat!$V59-1))-2),\"\"),\"\")","v":""}]
[{"$nulls":7},{"$f":"IFERROR(INDEX('Hlavní seznam měrných jednotek'!$B$4:$K$30,1+INT((ROW(A53)-1)/COLUMNS('Hlavní seznam měrných jednotek'!$B$4:$K$30)),MOD(ROW(A53)-1+COLUMNS('Hlavní seznam měrných jednotek'!$B$4:$K$30),COLUMNS('Hlavní seznam měrných jednotek'!$B$4:$K$30))+1),\"\")","v":""},"",null,{"$f":"IFERROR(RANK(L60,AnalýzaDat!$L$8:$L$301)+SUMPRODUCT(--(L60=AnalýzaDat!$L$8:$L$301),--(O60<AnalýzaDat!$O$8:$O$301)),\"\")","v":""},{"$f":"IFERROR(IF(COUNTIF(AnalýzaDat!$I$8:$I$299,\"<=\"&AnalýzaDat!$I$8:$I$299)=0,\"\",COUNTIF(AnalýzaDat!$I$8:$I$299,\"<=\"&AnalýzaDat!$I$8:$I$299)),\"\")","v":""},{"$f":"IFERROR(IF(AND(poslední_položka-počáteční_řádek=0,LEN(INDEX(AnalýzaDat!$H$8:$I$299,1,1)=0)),\"\",IF(poslední_položka-počáteční_řádek=0,INDEX(AnalýzaDat!$H$8:$I$299,1,1),INDEX(AnalýzaDat!$H$8:$H$299,ROW(A53),1))),\"\")","v":""},{"$f":"IFERROR(IF(AND(poslední_položka-počáteční_řádek=0,ISBLANK(INDEX(AnalýzaDat!$I$8:$I$299,1,1))),\"\",IF(poslední_položka-počáteční_řádek=0,INDEX(AnalýzaDat!$I$8:$I$299,1,1),INDEX(AnalýzaDat!$I$8:$I$299,ROW(A53),1))),\"\")","v":""},242,null,{"$f":"IFERROR(AnalýzaDat!$O60,\"\")","v":242},{"$f":"IFERROR(VLOOKUP(AnalýzaDat!$Q$8:$Q$301,AnalýzaDat!$K$8:$N$301,3,FALSE),\"\")","v":""},{"$f":"IFERROR(VLOOKUP(AnalýzaDat!$Q$8:$Q$301,AnalýzaDat!$K$8:$N$301,4,FALSE),\"\")","v":""},{"$f":"IF(S60=S59,T59,\"\")&REPT(AnalýzaDat!$R60&\", \",AnalýzaDat!$R60<>\"\")","v":""},{"$f":"IF(COUNTIF(S$8:S60,S60)=1,S60,\"\")","v":""},{"$f":"IFERROR(IF(LEN(AnalýzaDat!$S$8:$S$301)=0,\"\",COUNTIF(AnalýzaDat!$S$8:$S$301,S60)),\"\")","v":""},{"$f":"IFERROR(IF(LEN($U60)>0,LEFT(INDIRECT(\"AnalýzaDat!T\"&ROW(AnalýzaDat!$U60)+AnalýzaDat!$V60-1),LEN(INDIRECT(\"AnalýzaDat!T\"&ROW(AnalýzaDat!$U60)+AnalýzaDat!$V60-1))-2),\"\"),\"\")","v":""}]
[{"$nulls":7},{"$f":"IFERROR(INDEX('Hlavní seznam měrných jednotek'!$B$4:$K$30,1+INT((ROW(A54)-1)/COLUMNS('Hlavní seznam měrných jednotek'!$B$4:$K$30)),MOD(ROW(A54)-1+COLUMNS('Hlavní seznam měrných jednotek'!$B$4:$K$30),COLUMNS('Hlavní seznam měrných jednotek'!$B$4:$K$30))+1),\"\")","v":""},"",null,{"$f":"IFERROR(RANK(L61,AnalýzaDat!$L$8:$L$301)+SUMPRODUCT(--(L61=AnalýzaDat!$L$8:$L$301),--(O61<AnalýzaDat!$O$8:$O$301)),\"\")","v":""},{"$f":"IFERROR(IF(COUNTIF(AnalýzaDat!$I$8:$I$299,\"<=\"&AnalýzaDat!$I$8:$I$299)=0,\"\",COUNTIF(AnalýzaDat!$I$8:$I$299,\"<=\"&AnalýzaDat!$I$8:$I$299)),\"\")","v":""},{"$f":"IFERROR(IF(AND(poslední_položka-počáteční_řádek=0,LEN(INDEX(AnalýzaDat!$H$8:$I$299,1,1)=0)),\"\",IF(poslední_položka-počáteční_řádek=0,INDEX(AnalýzaDat!$H$8:$I$299,1,1),INDEX(AnalýzaDat!$H$8:$H$299,ROW(A54),1))),\"\")","v":""},{"$f":"IFERROR(IF(AND(poslední_položka-počáteční_řádek=0,ISBLANK(INDEX(AnalýzaDat!$I$8:$I$299,1,1))),\"\",IF(poslední_položka-počáteční_řádek=0,INDEX(AnalýzaDat!$I$8:$I$299,1,1),INDEX(AnalýzaDat!$I$8:$I$299,ROW(A54),1))),\"\")","v":""},241,null,{"$f":"IFERROR(AnalýzaDat!$O61,\"\")","v":241},{"$f":"IFERROR(VLOOKUP(AnalýzaDat!$Q$8:$Q$301,AnalýzaDat!$K$8:$N$301,3,FALSE),\"\")","v":""},{"$f":"IFERROR(VLOOKUP(AnalýzaDat!$Q$8:$Q$301,AnalýzaDat!$K$8:$N$301,4,FALSE),\"\")","v":""},{"$f":"IF(S61=S60,T60,\"\")&REPT(AnalýzaDat!$R61&\", \",AnalýzaDat!$R61<>\"\")","v":""},{"$f":"IF(COUNTIF(S$8:S61,S61)=1,S61,\"\")","v":""},{"$f":"IFERROR(IF(LEN(AnalýzaDat!$S$8:$S$301)=0,\"\",COUNTIF(AnalýzaDat!$S$8:$S$301,S61)),\"\")","v":""},{"$f":"IFERROR(IF(LEN($U61)>0,LEFT(INDIRECT(\"AnalýzaDat!T\"&ROW(AnalýzaDat!$U61)+AnalýzaDat!$V61-1),LEN(INDIRECT(\"AnalýzaDat!T\"&ROW(AnalýzaDat!$U61)+AnalýzaDat!$V61-1))-2),\"\"),\"\")","v":""}]
[{"$nulls":7},{"$f":"IFERROR(INDEX('Hlavní seznam měrných jednotek'!$B$4:$K$30,1+INT((ROW(A55)-1)/COLUMNS('Hlavní seznam měrných jednotek'!$B$4:$K$30)),MOD(ROW(A55)-1+COLUMNS('Hlavní seznam měrných jednotek'!$B$4:$K$30),COLUMNS('Hlavní seznam měrných jednotek'!$B$4:$K$30))+1),\"\")","v":""},"",null,{"$f":"IFERROR(RANK(L62,AnalýzaDat!$L$8:$L$301)+SUMPRODUCT(--(L62=AnalýzaDat!$L$8:$L$301),--(O62<AnalýzaDat!$O$8:$O$301)),\"\")","v":""},{"$f":"IFERROR(IF(COUNTIF(AnalýzaDat!$I$8:$I$299,\"<=\"&AnalýzaDat!$I$8:$I$299)=0,\"\",COUNTIF(AnalýzaDat!$I$8:$I$299,\"<=\"&AnalýzaDat!$I$8:$I$299)),\"\")","v":""},{"$f":"IFERROR(IF(AND(poslední_položka-počáteční_řádek=0,LEN(INDEX(AnalýzaDat!$H$8:$I$299,1,1)=0)),\"\",IF(poslední_položka-počáteční_řádek=0,INDEX(AnalýzaDat!$H$8:$I$299,1,1),INDEX(AnalýzaDat!$H$8:$H$299,ROW(A55),1))),\"\")","v":""},{"$f":"IFERROR(IF(AND(poslední_položka-počáteční_řádek=0,ISBLANK(INDEX(AnalýzaDat!$I$8:$I$299,1,1))),\"\",IF(poslední_položka-počáteční_řádek=0,INDEX(AnalýzaDat!$I$8:$I$299,1,1),INDEX(AnalýzaDat!$I$8:$I$299,ROW(A55),1))),\"\")","v":""},240,null,{"$f":"IFERROR(AnalýzaDat!$O62,\"\")","v":240},{"$f":"IFERROR(VLOOKUP(AnalýzaDat!$Q$8:$Q$301,AnalýzaDat!$K$8:$N$301,3,FALSE),\"\")","v":""},{"$f":"IFERROR(VLOOKUP(AnalýzaDat!$Q$8:$Q$301,AnalýzaDat!$K$8:$N$301,4,FALSE),\"\")","v":""},{"$f":"IF(S62=S61,T61,\"\")&REPT(AnalýzaDat!$R62&\", \",AnalýzaDat!$R62<>\"\")","v":""},{"$f":"IF(COUNTIF(S$8:S62,S62)=1,S62,\"\")","v":""},{"$f":"IFERROR(IF(LEN(AnalýzaDat!$S$8:$S$301)=0,\"\",COUNTIF(AnalýzaDat!$S$8:$S$301,S62)),\"\")","v":""},{"$f":"IFERROR(IF(LEN($U62)>0,LEFT(INDIRECT(\"AnalýzaDat!T\"&ROW(AnalýzaDat!$U62)+AnalýzaDat!$V62-1),LEN(INDIRECT(\"AnalýzaDat!T\"&ROW(AnalýzaDat!$U62)+AnalýzaDat!$V62-1))-2),\"\"),\"\")","v":""}]
[{"$nulls":7},{"$f":"IFERROR(INDEX('Hlavní seznam měrných jednotek'!$B$4:$K$30,1+INT((ROW(A56)-1)/COLUMNS('Hlavní seznam měrných jednotek'!$B$4:$K$30)),MOD(ROW(A56)-1+COLUMNS('Hlavní seznam měrných jednotek'!$B$4:$K$30),COLUMNS('Hlavní seznam měrných jednotek'!$B$4:$K$30))+1),\"\")","v":""},"",null,{"$f":"IFERROR(RANK(L63,AnalýzaDat!$L$8:$L$301)+SUMPRODUCT(--(L63=AnalýzaDat!$L$8:$L$301),--(O63<AnalýzaDat!$O$8:$O$301)),\"\")","v":""},{"$f":"IFERROR(IF(COUNTIF(AnalýzaDat!$I$8:$I$299,\"<=\"&AnalýzaDat!$I$8:$I$299)=0,\"\",COUNTIF(AnalýzaDat!$I$8:$I$299,\"<=\"&AnalýzaDat!$I$8:$I$299)),\"\")","v":""},{"$f":"IFERROR(IF(AND(poslední_položka-počáteční_řádek=0,LEN(INDEX(AnalýzaDat!$H$8:$I$299,1,1)=0)),\"\",IF(poslední_položka-počáteční_řádek=0,INDEX(AnalýzaDat!$H$8:$I$299,1,1),INDEX(AnalýzaDat!$H$8:$H$299,ROW(A56),1))),\"\")","v":""},{"$f":"IFERROR(IF(AND(poslední_položka-počáteční_řádek=0,ISBLANK(INDEX(AnalýzaDat!$I$8:$I$299,1,1))),\"\",IF(poslední_položka-počáteční_řádek=0,INDEX(AnalýzaDat!$I$8:$I$299,1,1),INDEX(AnalýzaDat!$I$8:$I$299,ROW(A56),1))),\"\")","v":""},239,null,{"$f":"IFERROR(AnalýzaDat!$O63,\"\")","v":239},{"$f":"IFERROR(VLOOKUP(AnalýzaDat!$Q$8:$Q$301,AnalýzaDat!$K$8:$N$301,3,FALSE),\"\")","v":""},{"$f":"IFERROR(VLOOKUP(AnalýzaDat!$Q$8:$Q$301,AnalýzaDat!$K$8:$N$301,4,FALSE),\"\")","v":""},{"$f":"IF(S63=S62,T62,\"\")&REPT(AnalýzaDat!$R63&\", \",AnalýzaDat!$R63<>\"\")","v":""},{"$f":"IF(COUNTIF(S$8:S63,S63)=1,S63,\"\")","v":""},{"$f":"IFERROR(IF(LEN(AnalýzaDat!$S$8:$S$301)=0,\"\",COUNTIF(AnalýzaDat!$S$8:$S$301,S63)),\"\")","v":""},{"$f":"IFERROR(IF(LEN($U63)>0,LEFT(INDIRECT(\"AnalýzaDat!T\"&ROW(AnalýzaDat!$U63)+AnalýzaDat!$V63-1),LEN(INDIRECT(\"AnalýzaDat!T\"&ROW(AnalýzaDat!$U63)+AnalýzaDat!$V63-1))-2),\"\"),\"\")","v":""}]
[{"$nulls":7},{"$f":"IFERROR(INDEX('Hlavní seznam měrných jednotek'!$B$4:$K$30,1+INT((ROW(A57)-1)/COLUMNS('Hlavní seznam měrných jednotek'!$B$4:$K$30)),MOD(ROW(A57)-1+COLUMNS('Hlavní seznam měrných jednotek'!$B$4:$K$30),COLUMNS('Hlavní seznam měrných jednotek'!$B$4:$K$30))+1),\"\")","v":""},"",null,{"$f":"IFERROR(RANK(L64,AnalýzaDat!$L$8:$L$301)+SUMPRODUCT(--(L64=AnalýzaDat!$L$8:$L$301),--(O64<AnalýzaDat!$O$8:$O$301)),\"\")","v":""},{"$f":"IFERROR(IF(COUNTIF(AnalýzaDat!$I$8:$I$299,\"<=\"&AnalýzaDat!$I$8:$I$299)=0,\"\",COUNTIF(AnalýzaDat!$I$8:$I$299,\"<=\"&AnalýzaDat!$I$8:$I$299)),\"\")","v":""},{"$f":"IFERROR(IF(AND(poslední_položka-počáteční_řádek=0,LEN(INDEX(AnalýzaDat!$H$8:$I$299,1,1)=0)),\"\",IF(poslední_položka-počáteční_řádek=0,INDEX(AnalýzaDat!$H$8:$I$299,1,1),INDEX(AnalýzaDat!$H$8:$H$299,ROW(A57),1))),\"\")","v":""},{"$f":"IFERROR(IF(AND(poslední_položka-počáteční_řádek=0,ISBLANK(INDEX(AnalýzaDat!$I$8:$I$299,1,1))),\"\",IF(poslední_položka-počáteční_řádek=0,INDEX(AnalýzaDat!$I$8:$I$299,1,1),INDEX(AnalýzaDat!$I$8:$I$299,ROW(A57),1))),\"\")","v":""},238,null,{"$f":"IFERROR(AnalýzaDat!$O64,\"\")","v":238},{"$f":"IFERROR(VLOOKUP(AnalýzaDat!$Q$8:$Q$301,AnalýzaDat!$K$8:$N$301,3,FALSE),\"\")","v":""},{"$f":"IFERROR(VLOOKUP(AnalýzaDat!$Q$8:$Q$301,AnalýzaDat!$K$8:$N$301,4,FALSE),\"\")","v":""},{"$f":"IF(S64=S63,T63,\"\")&REPT(AnalýzaDat!$R64&\", \",AnalýzaDat!$R64<>\"\")","v":""},{"$f":"IF(COUNTIF(S$8:S64,S64)=1,S64,\"\")","v":""},{"$f":"IFERROR(IF(LEN(AnalýzaDat!$S$8:$S$301)=0,\"\",COUNTIF(AnalýzaDat!$S$8:$S$301,S64)),\"\")","v":""},{"$f":"IFERROR(IF(LEN($U64)>0,LEFT(INDIRECT(\"AnalýzaDat!T\"&ROW(AnalýzaDat!$U64)+AnalýzaDat!$V64-1),LEN(INDIRECT(\"AnalýzaDat!T\"&ROW(AnalýzaDat!$U64)+AnalýzaDat!$V64-1))-2),\"\"),\"\")","v":""}]
[{"$nulls":7},{"$f":"IFERROR(INDEX('Hlavní seznam měrných jednotek'!$B$4:$K$30,1+INT((ROW(A58)-1)/COLUMNS('Hlavní seznam měrných jednotek'!$B$4:$K$30)),MOD(ROW(A58)-1+COLUMNS('Hlavní seznam měrných jednotek'!$B$4:$K$30),COLUMNS('Hlavní seznam měrných jednotek'!$B$4:$K$30))+1),\"\")","v":""},"",null,{"$f":"IFERROR(RANK(L65,AnalýzaDat!$L$8:$L$301)+SUMPRODUCT(--(L65=AnalýzaDat!$L$8:$L$301),--(O65<AnalýzaDat!$O$8:$O$301)),\"\")","v":""},{"$f":"IFERROR(IF(COUNTIF(AnalýzaDat!$I$8:$I$299,\"<=\"&AnalýzaDat!$I$8:$I$299)=0,\"\",COUNTIF(AnalýzaDat!$I$8:$I$299,\"<=\"&AnalýzaDat!$I$8:$I$299)),\"\")","v":""},{"$f":"IFERROR(IF(AND(poslední_položka-počáteční_řádek=0,LEN(INDEX(AnalýzaDat!$H$8:$I$299,1,1)=0)),\"\",IF(poslední_položka-počáteční_řádek=0,INDEX(AnalýzaDat!$H$8:$I$299,1,1),INDEX(AnalýzaDat!$H$8:$H$299,ROW(A58),1))),\"\")","v":""},{"$f":"IFERROR(IF(AND(poslední_položka-počáteční_řádek=0,ISBLANK(INDEX(AnalýzaDat!$I$8:$I$299,1,1))),\"\",IF(poslední_položka-počáteční_řádek=0,INDEX(AnalýzaDat!$I$8:$I$299,1,1),INDEX(AnalýzaDat!$I$8:$I$299,ROW(A58),1))),\"\")","v":""},237,null,{"$f":"IFERROR(AnalýzaDat!$O65,\"\")","v":237},{"$f":"IFERROR(VLOOKUP(AnalýzaDat!$Q$8:$Q$301,AnalýzaDat!$K$8:$N$301,3,FALSE),\"\")","v":""},{"$f":"IFERROR(VLOOKUP(AnalýzaDat!$Q$8:$Q$301,AnalýzaDat!$K$8:$N$301,4,FALSE),\"\")","v":""},{"$f":"IF(S65=S64,T64,\"\")&REPT(AnalýzaDat!$R65&\", \",AnalýzaDat!$R65<>\"\")","v":""},{"$f":"IF(COUNTIF(S$8:S65,S65)=1,S65,\"\")","v":""},{"$f":"IFERROR(IF(LEN(AnalýzaDat!$S$8:$S$301)=0,\"\",COUNTIF(AnalýzaDat!$S$8:$S$301,S65)),\"\")","v":""},{"$f":"IFERROR(IF(LEN($U65)>0,LEFT(INDIRECT(\"AnalýzaDat!T\"&ROW(AnalýzaDat!$U65)+AnalýzaDat!$V65-1),LEN(INDIRECT(\"AnalýzaDat!T\"&ROW(AnalýzaDat!$U65)+AnalýzaDat!$V65-1))-2),\"\"),\"\")","v":""}]
[{"$nulls":7},{"$f":"IFERROR(INDEX('Hlavní seznam měrných jednotek'!$B$4:$K$30,1+INT((ROW(A59)-1)/COLUMNS('Hlavní seznam měrných jednotek'!$B$4:$K$30)),MOD(ROW(A59)-1+COLUMNS('Hlavní seznam měrných jednotek'!$B$4:$K$30),COLUMNS('Hlavní seznam měrných jednotek'!$B$4:$K$30))+1),\"\")","v":""},"",null,{"$f":"IFERROR(RANK(L66,AnalýzaDat!$L$8:$L$301)+SUMPRODUCT(--(L66=AnalýzaDat!$L$8:$L$301),--(O66<AnalýzaDat!$O$8:$O$301)),\"\")","v":""},{"$f":"IFERROR(IF(COUNTIF(AnalýzaDat!$I$8:$I$299,\"<=\"&AnalýzaDat!$I$8:$I$299)=0,\"\",COUNTIF(AnalýzaDat!$I$8:$I$299,\"<=\"&AnalýzaDat!$I$8:$I$299)),\"\")","v":""},{"$f":"IFERROR(IF(AND(poslední_položka-počáteční_řádek=0,LEN(INDEX(AnalýzaDat!$H$8:$I$299,1,1)=0)),\"\",IF(poslední_položka-počáteční_řádek=0,INDEX(AnalýzaDat!$H$8:$I$299,1,1),INDEX(AnalýzaDat!$H$8:$H$299,ROW(A59),1))),\"\")","v":""},{"$f":"IFERROR(IF(AND(poslední_položka-počáteční_řádek=0,ISBLANK(INDEX(AnalýzaDat!$I$8:$I$299,1,1))),\"\",IF(poslední_položka-počáteční_řádek=0,INDEX(AnalýzaDat!$I$8:$I$299,1,1),INDEX(AnalýzaDat!$I$8:$I$299,ROW(A59),1))),\"\")","v":""},236,null,{"$f":"IFERROR(AnalýzaDat!$O66,\"\")","v":236},{"$f":"IFERROR(VLOOKUP(AnalýzaDat!$Q$8:$Q$301,AnalýzaDat!$K$8:$N$301,3,FALSE),\"\")","v":""},{"$f":"IFERROR(VLOOKUP(AnalýzaDat!$Q$8:$Q$301,AnalýzaDat!$K$8:$N$301,4,FALSE),\"\")","v":""},{"$f":"IF(S66=S65,T65,\"\")&REPT(AnalýzaDat!$R66&\", \",AnalýzaDat!$R66<>\"\")","v":""},{"$f":"IF(COUNTIF(S$8:S66,S66)=1,S66,\"\")","v":""},{"$f":"IFERROR(IF(LEN(AnalýzaDat!$S$8:$S$301)=0,\"\",COUNTIF(AnalýzaDat!$S$8:$S$301,S66)),\"\")","v":""},{"$f":"IFERROR(IF(LEN($U66)>0,LEFT(INDIRECT(\"AnalýzaDat!T\"&ROW(AnalýzaDat!$U66)+AnalýzaDat!$V66-1),LEN(INDIRECT(\"AnalýzaDat!T\"&ROW(AnalýzaDat!$U66)+AnalýzaDat!$V66-1))-2),\"\"),\"\")","v":""}]
[{"$nulls":7},{"$f":"IFERROR(INDEX('Hlavní seznam měrných jednotek'!$B$4:$K$30,1+INT((ROW(A60)-1)/COLUMNS('Hlavní seznam měrných jednotek'!$B$4:$K$30)),MOD(ROW(A60)-1+COLUMNS('Hlavní seznam měrných jednotek'!$B$4:$K$30),COLUMNS('Hlavní seznam měrných jednotek'!$B$4:$K$30))+1),\"\")","v":""},"",null,{"$f":"IFERROR(RANK(L67,AnalýzaDat!$L$8:$L$301)+SUMPRODUCT(--(L67=AnalýzaDat!$L$8:$L$301),--(O67<AnalýzaDat!$O$8:$O$301)),\"\")","v":""},{"$f":"IFERROR(IF(COUNTIF(AnalýzaDat!$I$8:$I$299,\"<=\"&AnalýzaDat!$I$8:$I$299)=0,\"\",COUNTIF(AnalýzaDat!$I$8:$I$299,\"<=\"&AnalýzaDat!$I$8:$I$299)),\"\")","v":""},{"$f":"IFERROR(IF(AND(poslední_položka-počáteční_řádek=0,LEN(INDEX(AnalýzaDat!$H$8:$I$299,1,1)=0)),\"\",IF(poslední_položka-počáteční_řádek=0,INDEX(AnalýzaDat!$H$8:$I$299,1,1),INDEX(AnalýzaDat!$H$8:$H$299,ROW(A60),1))),\"\")","v":""},{"$f":"IFERROR(IF(AND(poslední_položka-počáteční_řádek=0,ISBLANK(INDEX(AnalýzaDat!$I$8:$I$299,1,1))),\"\",IF(poslední_položka-počáteční_řádek=0,INDEX(AnalýzaDat!$I$8:$I$299,1,1),INDEX(AnalýzaDat!$I$8:$I$299,ROW(A60),1))),\"\")","v":""},235,null,{"$f":"IFERROR(AnalýzaDat!$O67,\"\")","v":235},{"$f":"IFERROR(VLOOKUP(AnalýzaDat!$Q$8:$Q$301,AnalýzaDat!$K$8:$N$301,3,FALSE),\"\")","v":""},{"$f":"IFERROR(VLOOKUP(AnalýzaDat!$Q$8:$Q$301,AnalýzaDat!$K$8:$N$301,4,FALSE),\"\")","v":""},{"$f":"IF(S67=S66,T66,\"\")&REPT(AnalýzaDat!$R67&\", \",AnalýzaDat!$R67<>\"\")","v":""},{"$f":"IF(COUNTIF(S$8:S67,S67)=1,S67,\"\")","v":""},{"$f":"IFERROR(IF(LEN(AnalýzaDat!$S$8:$S$301)=0,\"\",COUNTIF(AnalýzaDat!$S$8:$S$301,S67)),\"\")","v":""},{"$f":"IFERROR(IF(LEN($U67)>0,LEFT(INDIRECT(\"AnalýzaDat!T\"&ROW(AnalýzaDat!$U67)+AnalýzaDat!$V67-1),LEN(INDIRECT(\"AnalýzaDat!T\"&ROW(AnalýzaDat!$U67)+AnalýzaDat!$V67-1))-2),\"\"),\"\")","v":""}]
[{"$nulls":7},{"$f":"IFERROR(INDEX('Hlavní seznam měrných jednotek'!$B$4:$K$30,1+INT((ROW(A61)-1)/COLUMNS('Hlavní seznam měrných jednotek'!$B$4:$K$30)),MOD(ROW(A61)-1+COLUMNS('Hlavní seznam měrných jednotek'!$B$4:$K$30),COLUMNS('Hlavní seznam měrných jednotek'!$B$4:$K$30))+1),\"\")","v":"1/8 čajová lžička"},"česneková sůl",null,{"$f":"IFERROR(RANK(L68,AnalýzaDat!$L$8:$L$301)+SUMPRODUCT(--(L68=AnalýzaDat!$L$8:$L$301),--(O68<AnalýzaDat!$O$8:$O$301)),\"\")","v":15},{"$f":"IFERROR(IF(COUNTIF(AnalýzaDat!$I$8:$I$299,\"<=\"&AnalýzaDat!$I$8:$I$299)=0,\"\",COUNTIF(AnalýzaDat!$I$8:$I$299,\"<=\"&AnalýzaDat!$I$8:$I$299)),\"\")","v":278},{"$f":"IFERROR(IF(AND(poslední_položka-počáteční_řádek=0,LEN(INDEX(AnalýzaDat!$H$8:$I$299,1,1)=0)),\"\",IF(poslední_položka-počáteční_řádek=0,INDEX(AnalýzaDat!$H$8:$I$299,1,1),INDEX(AnalýzaDat!$H$8:$H$299,ROW(A61),1))),\"\")","v":"1/8 čajová lžička"},{"$f":"IFERROR(IF(AND(poslední_položka-počáteční_řádek=0,ISBLANK(INDEX(AnalýzaDat!$I$8:$I$299,1,1))),\"\",IF(poslední_položka-počáteční_řádek=0,INDEX(AnalýzaDat!$I$8:$I$299,1,1),INDEX(AnalýzaDat!$I$8:$I$299,ROW(A61),1))),\"\")","v":"česneková sůl"},234,null,{"$f":"IFERROR(AnalýzaDat!$O68,\"\")","v":234},{"$f":"IFERROR(VLOOKUP(AnalýzaDat!$Q$8:$Q$301,AnalýzaDat!$K$8:$N$301,3,FALSE),\"\")","v":""},{"$f":"IFERROR(VLOOKUP(AnalýzaDat!$Q$8:$Q$301,AnalýzaDat!$K$8:$N$301,4,FALSE),\"\")","v":""},{"$f":"IF(S68=S67,T67,\"\")&REPT(AnalýzaDat!$R68&\", \",AnalýzaDat!$R68<>\"\")","v":""},{"$f":"IF(COUNTIF(S$8:S68,S68)=1,S68,\"\")","v":""},{"$f":"IFERROR(IF(LEN(AnalýzaDat!$S$8:$S$301)=0,\"\",COUNTIF(AnalýzaDat!$S$8:$S$301,S68)),\"\")","v":""},{"$f":"IFERROR(IF(LEN($U68)>0,LEFT(INDIRECT(\"AnalýzaDat!T\"&ROW(AnalýzaDat!$U68)+AnalýzaDat!$V68-1),LEN(INDIRECT(\"AnalýzaDat!T\"&ROW(AnalýzaDat!$U68)+AnalýzaDat!$V68-1))-2),\"\"),\"\")","v":""}]
[{"$nulls":7},{"$f":"IFERROR(INDEX('Hlavní seznam měrných jednotek'!$B$4:$K$30,1+INT((ROW(A62)-1)/COLUMNS('Hlavní seznam měrných jednotek'!$B$4:$K$30)),MOD(ROW(A62)-1+COLUMNS('Hlavní seznam měrných jednotek'!$B$4:$K$30),COLUMNS('Hlavní seznam měrných jednotek'!$B$4:$K$30))+1),\"\")","v":" "},"",null,{"$f":"IFERROR(RANK(L69,AnalýzaDat!$L$8:$L$301)+SUMPRODUCT(--(L69=AnalýzaDat!$L$8:$L$301),--(O69<AnalýzaDat!$O$8:$O$301)),\"\")","v":""},{"$f":"IFERROR(IF(COUNTIF(AnalýzaDat!$I$8:$I$299,\"<=\"&AnalýzaDat!$I$8:$I$299)=0,\"\",COUNTIF(AnalýzaDat!$I$8:$I$299,\"<=\"&AnalýzaDat!$I$8:$I$299)),\"\")","v":""},{"$f":"IFERROR(IF(AND(poslední_položka-počáteční_řádek=0,LEN(INDEX(AnalýzaDat!$H$8:$I$299,1,1)=0)),\"\",IF(poslední_položka-počáteční_řádek=0,INDEX(AnalýzaDat!$H$8:$I$299,1,1),INDEX(AnalýzaDat!$H$8:$H$299,ROW(A62),1))),\"\")","v":" "},{"$f":"IFERROR(IF(AND(poslední_položka-počáteční_řádek=0,ISBLANK(INDEX(AnalýzaDat!$I$8:$I$299,1,1))),\"\",IF(poslední_položka-počáteční_řádek=0,INDEX(AnalýzaDat!$I$8:$I$299,1,1),INDEX(AnalýzaDat!$I$8:$I$299,ROW(A62),1))),\"\")","v":""},233,null,{"$f":"IFERROR(AnalýzaDat!$O69,\"\")","v":233},{"$f":"IFERROR(VLOOKUP(AnalýzaDat!$Q$8:$Q$301,AnalýzaDat!$K$8:$N$301,3,FALSE),\"\")","v":""},{"$f":"IFERROR(VLOOKUP(AnalýzaDat!$Q$8:$Q$301,AnalýzaDat!$K$8:$N$301,4,FALSE),\"\")","v":""},{"$f":"IF(S69=S68,T68,\"\")&REPT(AnalýzaDat!$R69&\", \",AnalýzaDat!$R69<>\"\")","v":""},{"$f":"IF(COUNTIF(S$8:S69,S69)=1,S69,\"\")","v":""},{"$f":"IFERROR(IF(LEN(AnalýzaDat!$S$8:$S$301)=0,\"\",COUNTIF(AnalýzaDat!$S$8:$S$301,S69)),\"\")","v":""},{"$f":"IFERROR(IF(LEN($U69)>0,LEFT(INDIRECT(\"AnalýzaDat!T\"&ROW(AnalýzaDat!$U69)+AnalýzaDat!$V69-1),LEN(INDIRECT(\"AnalýzaDat!T\"&ROW(AnalýzaDat!$U69)+AnalýzaDat!$V69-1))-2),\"\"),\"\")","v":""}]
[{"$nulls":7},{"$f":"IFERROR(INDEX('Hlavní seznam měrných jednotek'!$B$4:$K$30,1+INT((ROW(A63)-1)/COLUMNS('Hlavní seznam měrných jednotek'!$B$4:$K$30)),MOD(ROW(A63)-1+COLUMNS('Hlavní seznam měrných jednotek'!$B$4:$K$30),COLUMNS('Hlavní seznam měrných jednotek'!$B$4:$K$30))+1),\"\")","v":""},"",null,{"$f":"IFERROR(RANK(L70,AnalýzaDat!$L$8:$L$301)+SUMPRODUCT(--(L70=AnalýzaDat!$L$8:$L$301),--(O70<AnalýzaDat!$O$8:$O$301)),\"\")","v":""},{"$f":"IFERROR(IF(COUNTIF(AnalýzaDat!$I$8:$I$299,\"<=\"&AnalýzaDat!$I$8:$I$299)=0,\"\",COUNTIF(AnalýzaDat!$I$8:$I$299,\"<=\"&AnalýzaDat!$I$8:$I$299)),\"\")","v":""},{"$f":"IFERROR(IF(AND(poslední_položka-počáteční_řádek=0,LEN(INDEX(AnalýzaDat!$H$8:$I$299,1,1)=0)),\"\",IF(poslední_položka-počáteční_řádek=0,INDEX(AnalýzaDat!$H$8:$I$299,1,1),INDEX(AnalýzaDat!$H$8:$H$299,ROW(A63),1))),\"\")","v":""},{"$f":"IFERROR(IF(AND(poslední_položka-počáteční_řádek=0,ISBLANK(INDEX(AnalýzaDat!$I$8:$I$299,1,1))),\"\",IF(poslední_položka-počáteční_řádek=0,INDEX(AnalýzaDat!$I$8:$I$299,1,1),INDEX(AnalýzaDat!$I$8:$I$299,ROW(A63),1))),\"\")","v":""},232,null,{"$f":"IFERROR(AnalýzaDat!$O70,\"\")","v":232},{"$f":"IFERROR(VLOOKUP(AnalýzaDat!$Q$8:$Q$301,AnalýzaDat!$K$8:$N$301,3,FALSE),\"\")","v":""},{"$f":"IFERROR(VLOOKUP(AnalýzaDat!$Q$8:$Q$301,AnalýzaDat!$K$8:$N$301,4,FALSE),\"\")","v":""},{"$f":"IF(S70=S69,T69,\"\")&REPT(AnalýzaDat!$R70&\", \",AnalýzaDat!$R70<>\"\")","v":""},{"$f":"IF(COUNTIF(S$8:S70,S70)=1,S70,\"\")","v":""},{"$f":"IFERROR(IF(LEN(AnalýzaDat!$S$8:$S$301)=0,\"\",COUNTIF(AnalýzaDat!$S$8:$S$301,S70)),\"\")","v":""},{"$f":"IFERROR(IF(LEN($U70)>0,LEFT(INDIRECT(\"AnalýzaDat!T\"&ROW(AnalýzaDat!$U70)+AnalýzaDat!$V70-1),LEN(INDIRECT(\"AnalýzaDat!T\"&ROW(AnalýzaDat!$U70)+AnalýzaDat!$V70-1))-2),\"\"),\"\")","v":""}]
[{"$nulls":7},{"$f":"IFERROR(INDEX('Hlavní seznam měrných jednotek'!$B$4:$K$30,1+INT((ROW(A64)-1)/COLUMNS('Hlavní seznam měrných jednotek'!$B$4:$K$30)),MOD(ROW(A64)-1+COLUMNS('Hlavní seznam měrných jednotek'!$B$4:$K$30),COLUMNS('Hlavní seznam měrných jednotek'!$B$4:$K$30))+1),\"\")","v":""},"",null,{"$f":"IFERROR(RANK(L71,AnalýzaDat!$L$8:$L$301)+SUMPRODUCT(--(L71=AnalýzaDat!$L$8:$L$301),--(O71<AnalýzaDat!$O$8:$O$301)),\"\")","v":""},{"$f":"IFERROR(IF(COUNTIF(AnalýzaDat!$I$8:$I$299,\"<=\"&AnalýzaDat!$I$8:$I$299)=0,\"\",COUNTIF(AnalýzaDat!$I$8:$I$299,\"<=\"&AnalýzaDat!$I$8:$I$299)),\"\")","v":""},{"$f":"IFERROR(IF(AND(poslední_položka-počáteční_řádek=0,LEN(INDEX(AnalýzaDat!$H$8:$I$299,1,1)=0)),\"\",IF(poslední_položka-počáteční_řádek=0,INDEX(AnalýzaDat!$H$8:$I$299,1,1),INDEX(AnalýzaDat!$H$8:$H$299,ROW(A64),1))),\"\")","v":""},{"$f":"IFERROR(IF(AND(poslední_položka-počáteční_řádek=0,ISBLANK(INDEX(AnalýzaDat!$I$8:$I$299,1,1))),\"\",IF(poslední_položka-počáteční_řádek=0,INDEX(AnalýzaDat!$I$8:$I$299,1,1),INDEX(AnalýzaDat!$I$8:$I$299,ROW(A64),1))),\"\")","v":""},231,null,{"$f":"IFERROR(AnalýzaDat!$O71,\"\")","v":231},{"$f":"IFERROR(VLOOKUP(AnalýzaDat!$Q$8:$Q$301,AnalýzaDat!$K$8:$N$301,3,FALSE),\"\")","v":""},{"$f":"IFERROR(VLOOKUP(AnalýzaDat!$Q$8:$Q$301,AnalýzaDat!$K$8:$N$301,4,FALSE),\"\")","v":""},{"$f":"IF(S71=S70,T70,\"\")&REPT(AnalýzaDat!$R71&\", \",AnalýzaDat!$R71<>\"\")","v":""},{"$f":"IF(COUNTIF(S$8:S71,S71)=1,S71,\"\")","v":""},{"$f":"IFERROR(IF(LEN(AnalýzaDat!$S$8:$S$301)=0,\"\",COUNTIF(AnalýzaDat!$S$8:$S$301,S71)),\"\")","v":""},{"$f":"IFERROR(IF(LEN($U71)>0,LEFT(INDIRECT(\"AnalýzaDat!T\"&ROW(AnalýzaDat!$U71)+AnalýzaDat!$V71-1),LEN(INDIRECT(\"AnalýzaDat!T\"&ROW(AnalýzaDat!$U71)+AnalýzaDat!$V71-1))-2),\"\"),\"\")","v":""}]
[{"$nulls":7},{"$f":"IFERROR(INDEX('Hlavní seznam měrných jednotek'!$B$4:$K$30,1+INT((ROW(A65)-1)/COLUMNS('Hlavní seznam měrných jednotek'!$B$4:$K$30)),MOD(ROW(A65)-1+COLUMNS('Hlavní seznam měrných jednotek'!$B$4:$K$30),COLUMNS('Hlavní seznam měrných jednotek'!$B$4:$K$30))+1),\"\")","v":""},{"$f":"IFERROR(INDEX(HlavníSeznamIngrediencí,1+INT((ROW(A65)-1)/COLUMNS(HlavníSeznamIngrediencí)),MOD(ROW(A65)-1+COLUMNS(HlavníSeznamIngrediencí),COLUMNS(HlavníSeznamIngrediencí))+1),\"\")","v":""},null,{"$f":"IFERROR(RANK(L72,AnalýzaDat!$L$8:$L$301)+SUMPRODUCT(--(L72=AnalýzaDat!$L$8:$L$301),--(O72<AnalýzaDat!$O$8:$O$301)),\"\")","v":""},{"$f":"IFERROR(IF(COUNTIF(AnalýzaDat!$I$8:$I$299,\"<=\"&AnalýzaDat!$I$8:$I$299)=0,\"\",COUNTIF(AnalýzaDat!$I$8:$I$299,\"<=\"&AnalýzaDat!$I$8:$I$299)),\"\")","v":""},{"$f":"IFERROR(IF(AND(poslední_položka-počáteční_řádek=0,LEN(INDEX(AnalýzaDat!$H$8:$I$299,1,1)=0)),\"\",IF(poslední_položka-počáteční_řádek=0,INDEX(AnalýzaDat!$H$8:$I$299,1,1),INDEX(AnalýzaDat!$H$8:$H$299,ROW(A65),1))),\"\")","v":""},{"$f":"IFERROR(IF(AND(poslední_položka-počáteční_řádek=0,ISBLANK(INDEX(AnalýzaDat!$I$8:$I$299,1,1))),\"\",IF(poslední_položka-počáteční_řádek=0,INDEX(AnalýzaDat!$I$8:$I$299,1,1),INDEX(AnalýzaDat!$I$8:$I$299,ROW(A65),1))),\"\")","v":""},230,null,{"$f":"IFERROR(AnalýzaDat!$O72,\"\")","v":230},{"$f":"IFERROR(VLOOKUP(AnalýzaDat!$Q$8:$Q$301,AnalýzaDat!$K$8:$N$301,3,FALSE),\"\")","v":""},{"$f":"IFERROR(VLOOKUP(AnalýzaDat!$Q$8:$Q$301,AnalýzaDat!$K$8:$N$301,4,FALSE),\"\")","v":""},{"$f":"IF(S72=S71,T71,\"\")&REPT(AnalýzaDat!$R72&\", \",AnalýzaDat!$R72<>\"\")","v":""},{"$f":"IF(COUNTIF(S$8:S72,S72)=1,S72,\"\")","v":""},{"$f":"IFERROR(IF(LEN(AnalýzaDat!$S$8:$S$301)=0,\"\",COUNTIF(AnalýzaDat!$S$8:$S$301,S72)),\"\")","v":""},{"$f":"IFERROR(IF(LEN($U72)>0,LEFT(INDIRECT(\"AnalýzaDat!T\"&ROW(AnalýzaDat!$U72)+AnalýzaDat!$V72-1),LEN(INDIRECT(\"AnalýzaDat!T\"&ROW(AnalýzaDat!$U72)+AnalýzaDat!$V72-1))-2),\"\"),\"\")","v":""}]
[{"$nulls":7},{"$f":"IFERROR(INDEX('Hlavní seznam měrných jednotek'!$B$4:$K$30,1+INT((ROW(A66)-1)/COLUMNS('Hlavní seznam měrných jednotek'!$B$4:$K$30)),MOD(ROW(A66)-1+COLUMNS('Hlavní seznam měrných jednotek'!$B$4:$K$30),COLUMNS('Hlavní seznam měrných jednotek'!$B$4:$K$30))+1),\"\")","v":""},"",null,{"$f":"IFERROR(RANK(L73,AnalýzaDat!$L$8:$L$301)+SUMPRODUCT(--(L73=AnalýzaDat!$L$8:$L$301),--(O73<AnalýzaDat!$O$8:$O$301)),\"\")","v":""},{"$f":"IFERROR(IF(COUNTIF(AnalýzaDat!$I$8:$I$299,\"<=\"&AnalýzaDat!$I$8:$I$299)=0,\"\",COUNTIF(AnalýzaDat!$I$8:$I$299,\"<=\"&AnalýzaDat!$I$8:$I$299)),\"\")","v":""},{"$f":"IFERROR(IF(AND(poslední_položka-počáteční_řádek=0,LEN(INDEX(AnalýzaDat!$H$8:$I$299,1,1)=0)),\"\",IF(poslední_položka-počáteční_řádek=0,INDEX(AnalýzaDat!$H$8:$I$299,1,1),INDEX(AnalýzaDat!$H$8:$H$299,ROW(A66),1))),\"\")","v":""},{"$f":"IFERROR(IF(AND(poslední_položka-počáteční_řádek=0,ISBLANK(INDEX(AnalýzaDat!$I$8:$I$299,1,1))),\"\",IF(poslední_položka-počáteční_řádek=0,INDEX(AnalýzaDat!$I$8:$I$299,1,1),INDEX(AnalýzaDat!$I$8:$I$299,ROW(A66),1))),\"\")","v":""},229,null,{"$f":"IFERROR(AnalýzaDat!$O73,\"\")","v":229},{"$f":"IFERROR(VLOOKUP(AnalýzaDat!$Q$8:$Q$301,AnalýzaDat!$K$8:$N$301,3,FALSE),\"\")","v":""},{"$f":"IFERROR(VLOOKUP(AnalýzaDat!$Q$8:$Q$301,AnalýzaDat!$K$8:$N$301,4,FALSE),\"\")","v":""},{"$f":"IF(S73=S72,T72,\"\")&REPT(AnalýzaDat!$R73&\", \",AnalýzaDat!$R73<>\"\")","v":""},{"$f":"IF(COUNTIF(S$8:S73,S73)=1,S73,\"\")","v":""},{"$f":"IFERROR(IF(LEN(AnalýzaDat!$S$8:$S$301)=0,\"\",COUNTIF(AnalýzaDat!$S$8:$S$301,S73)),\"\")","v":""},{"$f":"IFERROR(IF(LEN($U73)>0,LEFT(INDIRECT(\"AnalýzaDat!T\"&ROW(AnalýzaDat!$U73)+AnalýzaDat!$V73-1),LEN(INDIRECT(\"AnalýzaDat!T\"&ROW(AnalýzaDat!$U73)+AnalýzaDat!$V73-1))-2),\"\"),\"\")","v":""}]
[{"$nulls":7},{"$f":"IFERROR(INDEX('Hlavní seznam měrných jednotek'!$B$4:$K$30,1+INT((ROW(A67)-1)/COLUMNS('Hlavní seznam měrných jednotek'!$B$4:$K$30)),MOD(ROW(A67)-1+COLUMNS('Hlavní seznam měrných jednotek'!$B$4:$K$30),COLUMNS('Hlavní seznam měrných jednotek'!$B$4:$K$30))+1),\"\")","v":""},"",null,{"$f":"IFERROR(RANK(L74,AnalýzaDat!$L$8:$L$301)+SUMPRODUCT(--(L74=AnalýzaDat!$L$8:$L$301),--(O74<AnalýzaDat!$O$8:$O$301)),\"\")","v":""},{"$f":"IFERROR(IF(COUNTIF(AnalýzaDat!$I$8:$I$299,\"<=\"&AnalýzaDat!$I$8:$I$299)=0,\"\",COUNTIF(AnalýzaDat!$I$8:$I$299,\"<=\"&AnalýzaDat!$I$8:$I$299)),\"\")","v":""},{"$f":"IFERROR(IF(AND(poslední_položka-počáteční_řádek=0,LEN(INDEX(AnalýzaDat!$H$8:$I$299,1,1)=0)),\"\",IF(poslední_položka-počáteční_řádek=0,INDEX(AnalýzaDat!$H$8:$I$299,1,1),INDEX(AnalýzaDat!$H$8:$H$299,ROW(A67),1))),\"\")","v":""},{"$f":"IFERROR(IF(AND(poslední_položka-počáteční_řádek=0,ISBLANK(INDEX(AnalýzaDat!$I$8:$I$299,1,1))),\"\",IF(poslední_položka-počáteční_řádek=0,INDEX(AnalýzaDat!$I$8:$I$299,1,1),INDEX(AnalýzaDat!$I$8:$I$299,ROW(A67),1))),\"\")","v":""},{"$f":"O73-1","v":228},null,{"$f":"IFERROR(AnalýzaDat!$O74,\"\")","v":228},{"$f":"IFERROR(VLOOKUP(AnalýzaDat!$Q$8:$Q$301,AnalýzaDat!$K$8:$N$301,3,FALSE),\"\")","v":""},{"$f":"IFERROR(VLOOKUP(AnalýzaDat!$Q$8:$Q$301,AnalýzaDat!$K$8:$N$301,4,FALSE),\"\")","v":""},{"$f":"IF(S74=S73,T73,\"\")&REPT(AnalýzaDat!$R74&\", \",AnalýzaDat!$R74<>\"\")","v":""},{"$f":"IF(COUNTIF(S$8:S74,S74)=1,S74,\"\")","v":""},{"$f":"IFERROR(IF(LEN(AnalýzaDat!$S$8:$S$301)=0,\"\",COUNTIF(AnalýzaDat!$S$8:$S$301,S74)),\"\")","v":""},{"$f":"IFERROR(IF(LEN($U74)>0,LEFT(INDIRECT(\"AnalýzaDat!T\"&ROW(AnalýzaDat!$U74)+AnalýzaDat!$V74-1),LEN(INDIRECT(\"AnalýzaDat!T\"&ROW(AnalýzaDat!$U74)+AnalýzaDat!$V74-1))-2),\"\"),\"\")","v":""}]
[{"$nulls":7},{"$f":"IFERROR(INDEX('Hlavní seznam měrných jednotek'!$B$4:$K$30,1+INT((ROW(A68)-1)/COLUMNS('Hlavní seznam měrných jednotek'!$B$4:$K$30)),MOD(ROW(A68)-1+COLUMNS('Hlavní seznam měrných jednotek'!$B$4:$K$30),COLUMNS('Hlavní seznam měrných jednotek'!$B$4:$K$30))+1),\"\")","v":""},"",null,{"$f":"IFERROR(RANK(L75,AnalýzaDat!$L$8:$L$301)+SUMPRODUCT(--(L75=AnalýzaDat!$L$8:$L$301),--(O75<AnalýzaDat!$O$8:$O$301)),\"\")","v":""},{"$f":"IFERROR(IF(COUNTIF(AnalýzaDat!$I$8:$I$299,\"<=\"&AnalýzaDat!$I$8:$I$299)=0,\"\",COUNTIF(AnalýzaDat!$I$8:$I$299,\"<=\"&AnalýzaDat!$I$8:$I$299)),\"\")","v":""},{"$f":"IFERROR(IF(AND(poslední_položka-počáteční_řádek=0,LEN(INDEX(AnalýzaDat!$H$8:$I$299,1,1)=0)),\"\",IF(poslední_položka-počáteční_řádek=0,INDEX(AnalýzaDat!$H$8:$I$299,1,1),INDEX(AnalýzaDat!$H$8:$H$299,ROW(A68),1))),\"\")","v":""},{"$f":"IFERROR(IF(AND(poslední_položka-počáteční_řádek=0,ISBLANK(INDEX(AnalýzaDat!$I$8:$I$299,1,1))),\"\",IF(poslední_položka-počáteční_řádek=0,INDEX(AnalýzaDat!$I$8:$I$299,1,1),INDEX(AnalýzaDat!$I$8:$I$299,ROW(A68),1))),\"\")","v":""},227,null,{"$f":"IFERROR(AnalýzaDat!$O75,\"\")","v":227},{"$f":"IFERROR(VLOOKUP(AnalýzaDat!$Q$8:$Q$301,AnalýzaDat!$K$8:$N$301,3,FALSE),\"\")","v":""},{"$f":"IFERROR(VLOOKUP(AnalýzaDat!$Q$8:$Q$301,AnalýzaDat!$K$8:$N$301,4,FALSE),\"\")","v":""},{"$f":"IF(S75=S74,T74,\"\")&REPT(AnalýzaDat!$R75&\", \",AnalýzaDat!$R75<>\"\")","v":""},{"$f":"IF(COUNTIF(S$8:S75,S75)=1,S75,\"\")","v":""},{"$f":"IFERROR(IF(LEN(AnalýzaDat!$S$8:$S$301)=0,\"\",COUNTIF(AnalýzaDat!$S$8:$S$301,S75)),\"\")","v":""},{"$f":"IFERROR(IF(LEN($U75)>0,LEFT(INDIRECT(\"AnalýzaDat!T\"&ROW(AnalýzaDat!$U75)+AnalýzaDat!$V75-1),LEN(INDIRECT(\"AnalýzaDat!T\"&ROW(AnalýzaDat!$U75)+AnalýzaDat!$V75-1))-2),\"\"),\"\")","v":""}]
[{"$nulls":7},{"$f":"IFERROR(INDEX('Hlavní seznam měrných jednotek'!$B$4:$K$30,1+INT((ROW(A69)-1)/COLUMNS('Hlavní seznam měrných jednotek'!$B$4:$K$30)),MOD(ROW(A69)-1+COLUMNS('Hlavní seznam měrných jednotek'!$B$4:$K$30),COLUMNS('Hlavní seznam měrných jednotek'!$B$4:$K$30))+1),\"\")","v":""},"",null,{"$f":"IFERROR(RANK(L76,AnalýzaDat!$L$8:$L$301)+SUMPRODUCT(--(L76=AnalýzaDat!$L$8:$L$301),--(O76<AnalýzaDat!$O$8:$O$301)),\"\")","v":""},{"$f":"IFERROR(IF(COUNTIF(AnalýzaDat!$I$8:$I$299,\"<=\"&AnalýzaDat!$I$8:$I$299)=0,\"\",COUNTIF(AnalýzaDat!$I$8:$I$299,\"<=\"&AnalýzaDat!$I$8:$I$299)),\"\")","v":""},{"$f":"IFERROR(IF(AND(poslední_položka-počáteční_řádek=0,LEN(INDEX(AnalýzaDat!$H$8:$I$299,1,1)=0)),\"\",IF(poslední_položka-počáteční_řádek=0,INDEX(AnalýzaDat!$H$8:$I$299,1,1),INDEX(AnalýzaDat!$H$8:$H$299,ROW(A69),1))),\"\")","v":""},{"$f":"IFERROR(IF(AND(poslední_položka-počáteční_řádek=0,ISBLANK(INDEX(AnalýzaDat!$I$8:$I$299,1,1))),\"\",IF(poslední_položka-počáteční_řádek=0,INDEX(AnalýzaDat!$I$8:$I$299,1,1),INDEX(AnalýzaDat!$I$8:$I$299,ROW(A69),1))),\"\")","v":""},226,null,{"$f":"IFERROR(AnalýzaDat!$O76,\"\")","v":226},{"$f":"IFERROR(VLOOKUP(AnalýzaDat!$Q$8:$Q$301,AnalýzaDat!$K$8:$N$301,3,FALSE),\"\")","v":""},{"$f":"IFERROR(VLOOKUP(AnalýzaDat!$Q$8:$Q$301,AnalýzaDat!$K$8:$N$301,4,FALSE),\"\")","v":""},{"$f":"IF(S76=S75,T75,\"\")&REPT(AnalýzaDat!$R76&\", \",AnalýzaDat!$R76<>\"\")","v":""},{"$f":"IF(COUNTIF(S$8:S76,S76)=1,S76,\"\")","v":""},{"$f":"IFERROR(IF(LEN(AnalýzaDat!$S$8:$S$301)=0,\"\",COUNTIF(AnalýzaDat!$S$8:$S$301,S76)),\"\")","v":""},{"$f":"IFERROR(IF(LEN($U76)>0,LEFT(INDIRECT(\"AnalýzaDat!T\"&ROW(AnalýzaDat!$U76)+AnalýzaDat!$V76-1),LEN(INDIRECT(\"AnalýzaDat!T\"&ROW(AnalýzaDat!$U76)+AnalýzaDat!$V76-1))-2),\"\"),\"\")","v":""}]
[{"$nulls":7},{"$f":"IFERROR(INDEX('Hlavní seznam měrných jednotek'!$B$4:$K$30,1+INT((ROW(A70)-1)/COLUMNS('Hlavní seznam měrných jednotek'!$B$4:$K$30)),MOD(ROW(A70)-1+COLUMNS('Hlavní seznam měrných jednotek'!$B$4:$K$30),COLUMNS('Hlavní seznam měrných jednotek'!$B$4:$K$30))+1),\"\")","v":""},"",null,{"$f":"IFERROR(RANK(L77,AnalýzaDat!$L$8:$L$301)+SUMPRODUCT(--(L77=AnalýzaDat!$L$8:$L$301),--(O77<AnalýzaDat!$O$8:$O$301)),\"\")","v":""},{"$f":"IFERROR(IF(COUNTIF(AnalýzaDat!$I$8:$I$299,\"<=\"&AnalýzaDat!$I$8:$I$299)=0,\"\",COUNTIF(AnalýzaDat!$I$8:$I$299,\"<=\"&AnalýzaDat!$I$8:$I$299)),\"\")","v":""},{"$f":"IFERROR(IF(AND(poslední_položka-počáteční_řádek=0,LEN(INDEX(AnalýzaDat!$H$8:$I$299,1,1)=0)),\"\",IF(poslední_položka-počáteční_řádek=0,INDEX(AnalýzaDat!$H$8:$I$299,1,1),INDEX(AnalýzaDat!$H$8:$H$299,ROW(A70),1))),\"\")","v":""},{"$f":"IFERROR(IF(AND(poslední_položka-počáteční_řádek=0,ISBLANK(INDEX(AnalýzaDat!$I$8:$I$299,1,1))),\"\",IF(poslední_položka-počáteční_řádek=0,INDEX(AnalýzaDat!$I$8:$I$299,1,1),INDEX(AnalýzaDat!$I$8:$I$299,ROW(A70),1))),\"\")","v":""},225,null,{"$f":"IFERROR(AnalýzaDat!$O77,\"\")","v":225},{"$f":"IFERROR(VLOOKUP(AnalýzaDat!$Q$8:$Q$301,AnalýzaDat!$K$8:$N$301,3,FALSE),\"\")","v":""},{"$f":"IFERROR(VLOOKUP(AnalýzaDat!$Q$8:$Q$301,AnalýzaDat!$K$8:$N$301,4,FALSE),\"\")","v":""},{"$f":"IF(S77=S76,T76,\"\")&REPT(AnalýzaDat!$R77&\", \",AnalýzaDat!$R77<>\"\")","v":""},{"$f":"IF(COUNTIF(S$8:S77,S77)=1,S77,\"\")","v":""},{"$f":"IFERROR(IF(LEN(AnalýzaDat!$S$8:$S$301)=0,\"\",COUNTIF(AnalýzaDat!$S$8:$S$301,S77)),\"\")","v":""},{"$f":"IFERROR(IF(LEN($U77)>0,LEFT(INDIRECT(\"AnalýzaDat!T\"&ROW(AnalýzaDat!$U77)+AnalýzaDat!$V77-1),LEN(INDIRECT(\"AnalýzaDat!T\"&ROW(AnalýzaDat!$U77)+AnalýzaDat!$V77-1))-2),\"\"),\"\")","v":""}]
[{"$nulls":7},{"$f":"IFERROR(INDEX('Hlavní seznam měrných jednotek'!$B$4:$K$30,1+INT((ROW(A71)-1)/COLUMNS('Hlavní seznam měrných jednotek'!$B$4:$K$30)),MOD(ROW(A71)-1+COLUMNS('Hlavní seznam měrných jednotek'!$B$4:$K$30),COLUMNS('Hlavní seznam měrných jednotek'!$B$4:$K$30))+1),\"\")","v":"2 šálky"},"nakrájený čerstvý špenát",null,{"$f":"IFERROR(RANK(L78,AnalýzaDat!$L$8:$L$301)+SUMPRODUCT(--(L78=AnalýzaDat!$L$8:$L$301),--(O78<AnalýzaDat!$O$8:$O$301)),\"\")","v":9},{"$f":"IFERROR(IF(COUNTIF(AnalýzaDat!$I$8:$I$299,\"<=\"&AnalýzaDat!$I$8:$I$299)=0,\"\",COUNTIF(AnalýzaDat!$I$8:$I$299,\"<=\"&AnalýzaDat!$I$8:$I$299)),\"\")","v":284},{"$f":"IFERROR(IF(AND(poslední_položka-počáteční_řádek=0,LEN(INDEX(AnalýzaDat!$H$8:$I$299,1,1)=0)),\"\",IF(poslední_položka-počáteční_řádek=0,INDEX(AnalýzaDat!$H$8:$I$299,1,1),INDEX(AnalýzaDat!$H$8:$H$299,ROW(A71),1))),\"\")","v":"2 šálky"},{"$f":"IFERROR(IF(AND(poslední_položka-počáteční_řádek=0,ISBLANK(INDEX(AnalýzaDat!$I$8:$I$299,1,1))),\"\",IF(poslední_položka-počáteční_řádek=0,INDEX(AnalýzaDat!$I$8:$I$299,1,1),INDEX(AnalýzaDat!$I$8:$I$299,ROW(A71),1))),\"\")","v":"nakrájený čerstvý špenát"},224,null,{"$f":"IFERROR(AnalýzaDat!$O78,\"\")","v":224},{"$f":"IFERROR(VLOOKUP(AnalýzaDat!$Q$8:$Q$301,AnalýzaDat!$K$8:$N$301,3,FALSE),\"\")","v":""},{"$f":"IFERROR(VLOOKUP(AnalýzaDat!$Q$8:$Q$301,AnalýzaDat!$K$8:$N$301,4,FALSE),\"\")","v":""},{"$f":"IF(S78=S77,T77,\"\")&REPT(AnalýzaDat!$R78&\", \",AnalýzaDat!$R78<>\"\")","v":""},{"$f":"IF(COUNTIF(S$8:S78,S78)=1,S78,\"\")","v":""},{"$f":"IFERROR(IF(LEN(AnalýzaDat!$S$8:$S$301)=0,\"\",COUNTIF(AnalýzaDat!$S$8:$S$301,S78)),\"\")","v":""},{"$f":"IFERROR(IF(LEN($U78)>0,LEFT(INDIRECT(\"AnalýzaDat!T\"&ROW(AnalýzaDat!$U78)+AnalýzaDat!$V78-1),LEN(INDIRECT(\"AnalýzaDat!T\"&ROW(AnalýzaDat!$U78)+AnalýzaDat!$V78-1))-2),\"\"),\"\")","v":""}]
[{"$nulls":7},{"$f":"IFERROR(INDEX('Hlavní seznam měrných jednotek'!$B$4:$K$30,1+INT((ROW(A72)-1)/COLUMNS('Hlavní seznam měrných jednotek'!$B$4:$K$30)),MOD(ROW(A72)-1+COLUMNS('Hlavní seznam měrných jednotek'!$B$4:$K$30),COLUMNS('Hlavní seznam měrných jednotek'!$B$4:$K$30))+1),\"\")","v":" "},"",null,{"$f":"IFERROR(RANK(L79,AnalýzaDat!$L$8:$L$301)+SUMPRODUCT(--(L79=AnalýzaDat!$L$8:$L$301),--(O79<AnalýzaDat!$O$8:$O$301)),\"\")","v":""},{"$f":"IFERROR(IF(COUNTIF(AnalýzaDat!$I$8:$I$299,\"<=\"&AnalýzaDat!$I$8:$I$299)=0,\"\",COUNTIF(AnalýzaDat!$I$8:$I$299,\"<=\"&AnalýzaDat!$I$8:$I$299)),\"\")","v":""},{"$f":"IFERROR(IF(AND(poslední_položka-počáteční_řádek=0,LEN(INDEX(AnalýzaDat!$H$8:$I$299,1,1)=0)),\"\",IF(poslední_položka-počáteční_řádek=0,INDEX(AnalýzaDat!$H$8:$I$299,1,1),INDEX(AnalýzaDat!$H$8:$H$299,ROW(A72),1))),\"\")","v":" "},{"$f":"IFERROR(IF(AND(poslední_položka-počáteční_řádek=0,ISBLANK(INDEX(AnalýzaDat!$I$8:$I$299,1,1))),\"\",IF(poslední_položka-počáteční_řádek=0,INDEX(AnalýzaDat!$I$8:$I$299,1,1),INDEX(AnalýzaDat!$I$8:$I$299,ROW(A72),1))),\"\")","v":""},223,null,{"$f":"IFERROR(AnalýzaDat!$O79,\"\")","v":223},{"$f":"IFERROR(VLOOKUP(AnalýzaDat!$Q$8:$Q$301,AnalýzaDat!$K$8:$N$301,3,FALSE),\"\")","v":""},{"$f":"IFERROR(VLOOKUP(AnalýzaDat!$Q$8:$Q$301,AnalýzaDat!$K$8:$N$301,4,FALSE),\"\")","v":""},{"$f":"IF(S79=S78,T78,\"\")&REPT(AnalýzaDat!$R79&\", \",AnalýzaDat!$R79<>\"\")","v":""},{"$f":"IF(COUNTIF(S$8:S79,S79)=1,S79,\"\")","v":""},{"$f":"IFERROR(IF(LEN(AnalýzaDat!$S$8:$S$301)=0,\"\",COUNTIF(AnalýzaDat!$S$8:$S$301,S79)),\"\")","v":""},{"$f":"IFERROR(IF(LEN($U79)>0,LEFT(INDIRECT(\"AnalýzaDat!T\"&ROW(AnalýzaDat!$U79)+AnalýzaDat!$V79-1),LEN(INDIRECT(\"AnalýzaDat!T\"&ROW(AnalýzaDat!$U79)+AnalýzaDat!$V79-1))-2),\"\"),\"\")","v":""}]
[{"$nulls":7},{"$f":"IFERROR(INDEX('Hlavní seznam měrných jednotek'!$B$4:$K$30,1+INT((ROW(A73)-1)/COLUMNS('Hlavní seznam měrných jednotek'!$B$4:$K$30)),MOD(ROW(A73)-1+COLUMNS('Hlavní seznam měrných jednotek'!$B$4:$K$30),COLUMNS('Hlavní seznam měrných jednotek'!$B$4:$K$30))+1),\"\")","v":""},"",null,{"$f":"IFERROR(RANK(L80,AnalýzaDat!$L$8:$L$301)+SUMPRODUCT(--(L80=AnalýzaDat!$L$8:$L$301),--(O80<AnalýzaDat!$O$8:$O$301)),\"\")","v":""},{"$f":"IFERROR(IF(COUNTIF(AnalýzaDat!$I$8:$I$299,\"<=\"&AnalýzaDat!$I$8:$I$299)=0,\"\",COUNTIF(AnalýzaDat!$I$8:$I$299,\"<=\"&AnalýzaDat!$I$8:$I$299)),\"\")","v":""},{"$f":"IFERROR(IF(AND(poslední_položka-počáteční_řádek=0,LEN(INDEX(AnalýzaDat!$H$8:$I$299,1,1)=0)),\"\",IF(poslední_položka-počáteční_řádek=0,INDEX(AnalýzaDat!$H$8:$I$299,1,1),INDEX(AnalýzaDat!$H$8:$H$299,ROW(A73),1))),\"\")","v":""},{"$f":"IFERROR(IF(AND(poslední_položka-počáteční_řádek=0,ISBLANK(INDEX(AnalýzaDat!$I$8:$I$299,1,1))),\"\",IF(poslední_položka-počáteční_řádek=0,INDEX(AnalýzaDat!$I$8:$I$299,1,1),INDEX(AnalýzaDat!$I$8:$I$299,ROW(A73),1))),\"\")","v":""},222,null,{"$f":"IFERROR(AnalýzaDat!$O80,\"\")","v":222},{"$f":"IFERROR(VLOOKUP(AnalýzaDat!$Q$8:$Q$301,AnalýzaDat!$K$8:$N$301,3,FALSE),\"\")","v":""},{"$f":"IFERROR(VLOOKUP(AnalýzaDat!$Q$8:$Q$301,AnalýzaDat!$K$8:$N$301,4,FALSE),\"\")","v":""},{"$f":"IF(S80=S79,T79,\"\")&REPT(AnalýzaDat!$R80&\", \",AnalýzaDat!$R80<>\"\")","v":""},{"$f":"IF(COUNTIF(S$8:S80,S80)=1,S80,\"\")","v":""},{"$f":"IFERROR(IF(LEN(AnalýzaDat!$S$8:$S$301)=0,\"\",COUNTIF(AnalýzaDat!$S$8:$S$301,S80)),\"\")","v":""},{"$f":"IFERROR(IF(LEN($U80)>0,LEFT(INDIRECT(\"AnalýzaDat!T\"&ROW(AnalýzaDat!$U80)+AnalýzaDat!$V80-1),LEN(INDIRECT(\"AnalýzaDat!T\"&ROW(AnalýzaDat!$U80)+AnalýzaDat!$V80-1))-2),\"\"),\"\")","v":""}]
[{"$nulls":7},{"$f":"IFERROR(INDEX('Hlavní seznam měrných jednotek'!$B$4:$K$30,1+INT((ROW(A74)-1)/COLUMNS('Hlavní seznam měrných jednotek'!$B$4:$K$30)),MOD(ROW(A74)-1+COLUMNS('Hlavní seznam měrných jednotek'!$B$4:$K$30),COLUMNS('Hlavní seznam měrných jednotek'!$B$4:$K$30))+1),\"\")","v":""},"",null,{"$f":"IFERROR(RANK(L81,AnalýzaDat!$L$8:$L$301)+SUMPRODUCT(--(L81=AnalýzaDat!$L$8:$L$301),--(O81<AnalýzaDat!$O$8:$O$301)),\"\")","v":""},{"$f":"IFERROR(IF(COUNTIF(AnalýzaDat!$I$8:$I$299,\"<=\"&AnalýzaDat!$I$8:$I$299)=0,\"\",COUNTIF(AnalýzaDat!$I$8:$I$299,\"<=\"&AnalýzaDat!$I$8:$I$299)),\"\")","v":""},{"$f":"IFERROR(IF(AND(poslední_položka-počáteční_řádek=0,LEN(INDEX(AnalýzaDat!$H$8:$I$299,1,1)=0)),\"\",IF(poslední_položka-počáteční_řádek=0,INDEX(AnalýzaDat!$H$8:$I$299,1,1),INDEX(AnalýzaDat!$H$8:$H$299,ROW(A74),1))),\"\")","v":""},{"$f":"IFERROR(IF(AND(poslední_položka-počáteční_řádek=0,ISBLANK(INDEX(AnalýzaDat!$I$8:$I$299,1,1))),\"\",IF(poslední_položka-počáteční_řádek=0,INDEX(AnalýzaDat!$I$8:$I$299,1,1),INDEX(AnalýzaDat!$I$8:$I$299,ROW(A74),1))),\"\")","v":""},221,null,{"$f":"IFERROR(AnalýzaDat!$O81,\"\")","v":221},{"$f":"IFERROR(VLOOKUP(AnalýzaDat!$Q$8:$Q$301,AnalýzaDat!$K$8:$N$301,3,FALSE),\"\")","v":""},{"$f":"IFERROR(VLOOKUP(AnalýzaDat!$Q$8:$Q$301,AnalýzaDat!$K$8:$N$301,4,FALSE),\"\")","v":""},{"$f":"IF(S81=S80,T80,\"\")&REPT(AnalýzaDat!$R81&\", \",AnalýzaDat!$R81<>\"\")","v":""},{"$f":"IF(COUNTIF(S$8:S81,S81)=1,S81,\"\")","v":""},{"$f":"IFERROR(IF(LEN(AnalýzaDat!$S$8:$S$301)=0,\"\",COUNTIF(AnalýzaDat!$S$8:$S$301,S81)),\"\")","v":""},{"$f":"IFERROR(IF(LEN($U81)>0,LEFT(INDIRECT(\"AnalýzaDat!T\"&ROW(AnalýzaDat!$U81)+AnalýzaDat!$V81-1),LEN(INDIRECT(\"AnalýzaDat!T\"&ROW(AnalýzaDat!$U81)+AnalýzaDat!$V81-1))-2),\"\"),\"\")","v":""}]
[{"$nulls":7},{"$f":"IFERROR(INDEX('Hlavní seznam měrných jednotek'!$B$4:$K$30,1+INT((ROW(A75)-1)/COLUMNS('Hlavní seznam měrných jednotek'!$B$4:$K$30)),MOD(ROW(A75)-1+COLUMNS('Hlavní seznam měrných jednotek'!$B$4:$K$30),COLUMNS('Hlavní seznam měrných jednotek'!$B$4:$K$30))+1),\"\")","v":""},"",null,{"$f":"IFERROR(RANK(L82,AnalýzaDat!$L$8:$L$301)+SUMPRODUCT(--(L82=AnalýzaDat!$L$8:$L$301),--(O82<AnalýzaDat!$O$8:$O$301)),\"\")","v":""},{"$f":"IFERROR(IF(COUNTIF(AnalýzaDat!$I$8:$I$299,\"<=\"&AnalýzaDat!$I$8:$I$299)=0,\"\",COUNTIF(AnalýzaDat!$I$8:$I$299,\"<=\"&AnalýzaDat!$I$8:$I$299)),\"\")","v":""},{"$f":"IFERROR(IF(AND(poslední_položka-počáteční_řádek=0,LEN(INDEX(AnalýzaDat!$H$8:$I$299,1,1)=0)),\"\",IF(poslední_položka-počáteční_řádek=0,INDEX(AnalýzaDat!$H$8:$I$299,1,1),INDEX(AnalýzaDat!$H$8:$H$299,ROW(A75),1))),\"\")","v":""},{"$f":"IFERROR(IF(AND(poslední_položka-počáteční_řádek=0,ISBLANK(INDEX(AnalýzaDat!$I$8:$I$299,1,1))),\"\",IF(poslední_položka-počáteční_řádek=0,INDEX(AnalýzaDat!$I$8:$I$299,1,1),INDEX(AnalýzaDat!$I$8:$I$299,ROW(A75),1))),\"\")","v":""},220,null,{"$f":"IFERROR(AnalýzaDat!$O82,\"\")","v":220},{"$f":"IFERROR(VLOOKUP(AnalýzaDat!$Q$8:$Q$301,AnalýzaDat!$K$8:$N$301,3,FALSE),\"\")","v":""},{"$f":"IFERROR(VLOOKUP(AnalýzaDat!$Q$8:$Q$301,AnalýzaDat!$K$8:$N$301,4,FALSE),\"\")","v":""},{"$f":"IF(S82=S81,T81,\"\")&REPT(AnalýzaDat!$R82&\", \",AnalýzaDat!$R82<>\"\")","v":""},{"$f":"IF(COUNTIF(S$8:S82,S82)=1,S82,\"\")","v":""},{"$f":"IFERROR(IF(LEN(AnalýzaDat!$S$8:$S$301)=0,\"\",COUNTIF(AnalýzaDat!$S$8:$S$301,S82)),\"\")","v":""},{"$f":"IFERROR(IF(LEN($U82)>0,LEFT(INDIRECT(\"AnalýzaDat!T\"&ROW(AnalýzaDat!$U82)+AnalýzaDat!$V82-1),LEN(INDIRECT(\"AnalýzaDat!T\"&ROW(AnalýzaDat!$U82)+AnalýzaDat!$V82-1))-2),\"\"),\"\")","v":""}]
[{"$nulls":7},{"$f":"IFERROR(INDEX('Hlavní seznam měrných jednotek'!$B$4:$K$30,1+INT((ROW(A76)-1)/COLUMNS('Hlavní seznam měrných jednotek'!$B$4:$K$30)),MOD(ROW(A76)-1+COLUMNS('Hlavní seznam měrných jednotek'!$B$4:$K$30),COLUMNS('Hlavní seznam měrných jednotek'!$B$4:$K$30))+1),\"\")","v":""},"",null,{"$f":"IFERROR(RANK(L83,AnalýzaDat!$L$8:$L$301)+SUMPRODUCT(--(L83=AnalýzaDat!$L$8:$L$301),--(O83<AnalýzaDat!$O$8:$O$301)),\"\")","v":""},{"$f":"IFERROR(IF(COUNTIF(AnalýzaDat!$I$8:$I$299,\"<=\"&AnalýzaDat!$I$8:$I$299)=0,\"\",COUNTIF(AnalýzaDat!$I$8:$I$299,\"<=\"&AnalýzaDat!$I$8:$I$299)),\"\")","v":""},{"$f":"IFERROR(IF(AND(poslední_položka-počáteční_řádek=0,LEN(INDEX(AnalýzaDat!$H$8:$I$299,1,1)=0)),\"\",IF(poslední_položka-počáteční_řádek=0,INDEX(AnalýzaDat!$H$8:$I$299,1,1),INDEX(AnalýzaDat!$H$8:$H$299,ROW(A76),1))),\"\")","v":""},{"$f":"IFERROR(IF(AND(poslední_položka-počáteční_řádek=0,ISBLANK(INDEX(AnalýzaDat!$I$8:$I$299,1,1))),\"\",IF(poslední_položka-počáteční_řádek=0,INDEX(AnalýzaDat!$I$8:$I$299,1,1),INDEX(AnalýzaDat!$I$8:$I$299,ROW(A76),1))),\"\")","v":""},219,null,{"$f":"IFERROR(AnalýzaDat!$O83,\"\")","v":219},{"$f":"IFERROR(VLOOKUP(AnalýzaDat!$Q$8:$Q$301,AnalýzaDat!$K$8:$N$301,3,FALSE),\"\")","v":""},{"$f":"IFERROR(VLOOKUP(AnalýzaDat!$Q$8:$Q$301,AnalýzaDat!$K$8:$N$301,4,FALSE),\"\")","v":""},{"$f":"IF(S83=S82,T82,\"\")&REPT(AnalýzaDat!$R83&\", \",AnalýzaDat!$R83<>\"\")","v":""},{"$f":"IF(COUNTIF(S$8:S83,S83)=1,S83,\"\")","v":""},{"$f":"IFERROR(IF(LEN(AnalýzaDat!$S$8:$S$301)=0,\"\",COUNTIF(AnalýzaDat!$S$8:$S$301,S83)),\"\")","v":""},{"$f":"IFERROR(IF(LEN($U83)>0,LEFT(INDIRECT(\"AnalýzaDat!T\"&ROW(AnalýzaDat!$U83)+AnalýzaDat!$V83-1),LEN(INDIRECT(\"AnalýzaDat!T\"&ROW(AnalýzaDat!$U83)+AnalýzaDat!$V83-1))-2),\"\"),\"\")","v":""}]
[{"$nulls":7},{"$f":"IFERROR(INDEX('Hlavní seznam měrných jednotek'!$B$4:$K$30,1+INT((ROW(A77)-1)/COLUMNS('Hlavní seznam měrných jednotek'!$B$4:$K$30)),MOD(ROW(A77)-1+COLUMNS('Hlavní seznam měrných jednotek'!$B$4:$K$30),COLUMNS('Hlavní seznam měrných jednotek'!$B$4:$K$30))+1),\"\")","v":""},"",null,{"$f":"IFERROR(RANK(L84,AnalýzaDat!$L$8:$L$301)+SUMPRODUCT(--(L84=AnalýzaDat!$L$8:$L$301),--(O84<AnalýzaDat!$O$8:$O$301)),\"\")","v":""},{"$f":"IFERROR(IF(COUNTIF(AnalýzaDat!$I$8:$I$299,\"<=\"&AnalýzaDat!$I$8:$I$299)=0,\"\",COUNTIF(AnalýzaDat!$I$8:$I$299,\"<=\"&AnalýzaDat!$I$8:$I$299)),\"\")","v":""},{"$f":"IFERROR(IF(AND(poslední_položka-počáteční_řádek=0,LEN(INDEX(AnalýzaDat!$H$8:$I$299,1,1)=0)),\"\",IF(poslední_položka-počáteční_řádek=0,INDEX(AnalýzaDat!$H$8:$I$299,1,1),INDEX(AnalýzaDat!$H$8:$H$299,ROW(A77),1))),\"\")","v":""},{"$f":"IFERROR(IF(AND(poslední_položka-počáteční_řádek=0,ISBLANK(INDEX(AnalýzaDat!$I$8:$I$299,1,1))),\"\",IF(poslední_položka-počáteční_řádek=0,INDEX(AnalýzaDat!$I$8:$I$299,1,1),INDEX(AnalýzaDat!$I$8:$I$299,ROW(A77),1))),\"\")","v":""},218,null,{"$f":"IFERROR(AnalýzaDat!$O84,\"\")","v":218},{"$f":"IFERROR(VLOOKUP(AnalýzaDat!$Q$8:$Q$301,AnalýzaDat!$K$8:$N$301,3,FALSE),\"\")","v":""},{"$f":"IFERROR(VLOOKUP(AnalýzaDat!$Q$8:$Q$301,AnalýzaDat!$K$8:$N$301,4,FALSE),\"\")","v":""},{"$f":"IF(S84=S83,T83,\"\")&REPT(AnalýzaDat!$R84&\", \",AnalýzaDat!$R84<>\"\")","v":""},{"$f":"IF(COUNTIF(S$8:S84,S84)=1,S84,\"\")","v":""},{"$f":"IFERROR(IF(LEN(AnalýzaDat!$S$8:$S$301)=0,\"\",COUNTIF(AnalýzaDat!$S$8:$S$301,S84)),\"\")","v":""},{"$f":"IFERROR(IF(LEN($U84)>0,LEFT(INDIRECT(\"AnalýzaDat!T\"&ROW(AnalýzaDat!$U84)+AnalýzaDat!$V84-1),LEN(INDIRECT(\"AnalýzaDat!T\"&ROW(AnalýzaDat!$U84)+AnalýzaDat!$V84-1))-2),\"\"),\"\")","v":""}]
[{"$nulls":7},{"$f":"IFERROR(INDEX('Hlavní seznam měrných jednotek'!$B$4:$K$30,1+INT((ROW(A78)-1)/COLUMNS('Hlavní seznam měrných jednotek'!$B$4:$K$30)),MOD(ROW(A78)-1+COLUMNS('Hlavní seznam měrných jednotek'!$B$4:$K$30),COLUMNS('Hlavní seznam měrných jednotek'!$B$4:$K$30))+1),\"\")","v":""},"",null,{"$f":"IFERROR(RANK(L85,AnalýzaDat!$L$8:$L$301)+SUMPRODUCT(--(L85=AnalýzaDat!$L$8:$L$301),--(O85<AnalýzaDat!$O$8:$O$301)),\"\")","v":""},{"$f":"IFERROR(IF(COUNTIF(AnalýzaDat!$I$8:$I$299,\"<=\"&AnalýzaDat!$I$8:$I$299)=0,\"\",COUNTIF(AnalýzaDat!$I$8:$I$299,\"<=\"&AnalýzaDat!$I$8:$I$299)),\"\")","v":""},{"$f":"IFERROR(IF(AND(poslední_položka-počáteční_řádek=0,LEN(INDEX(AnalýzaDat!$H$8:$I$299,1,1)=0)),\"\",IF(poslední_položka-počáteční_řádek=0,INDEX(AnalýzaDat!$H$8:$I$299,1,1),INDEX(AnalýzaDat!$H$8:$H$299,ROW(A78),1))),\"\")","v":""},{"$f":"IFERROR(IF(AND(poslední_položka-počáteční_řádek=0,ISBLANK(INDEX(AnalýzaDat!$I$8:$I$299,1,1))),\"\",IF(poslední_položka-počáteční_řádek=0,INDEX(AnalýzaDat!$I$8:$I$299,1,1),INDEX(AnalýzaDat!$I$8:$I$299,ROW(A78),1))),\"\")","v":""},217,null,{"$f":"IFERROR(AnalýzaDat!$O85,\"\")","v":217},{"$f":"IFERROR(VLOOKUP(AnalýzaDat!$Q$8:$Q$301,AnalýzaDat!$K$8:$N$301,3,FALSE),\"\")","v":""},{"$f":"IFERROR(VLOOKUP(AnalýzaDat!$Q$8:$Q$301,AnalýzaDat!$K$8:$N$301,4,FALSE),\"\")","v":""},{"$f":"IF(S85=S84,T84,\"\")&REPT(AnalýzaDat!$R85&\", \",AnalýzaDat!$R85<>\"\")","v":""},{"$f":"IF(COUNTIF(S$8:S85,S85)=1,S85,\"\")","v":""},{"$f":"IFERROR(IF(LEN(AnalýzaDat!$S$8:$S$301)=0,\"\",COUNTIF(AnalýzaDat!$S$8:$S$301,S85)),\"\")","v":""},{"$f":"IFERROR(IF(LEN($U85)>0,LEFT(INDIRECT(\"AnalýzaDat!T\"&ROW(AnalýzaDat!$U85)+AnalýzaDat!$V85-1),LEN(INDIRECT(\"AnalýzaDat!T\"&ROW(AnalýzaDat!$U85)+AnalýzaDat!$V85-1))-2),\"\"),\"\")","v":""}]
[{"$nulls":7},{"$f":"IFERROR(INDEX('Hlavní seznam měrných jednotek'!$B$4:$K$30,1+INT((ROW(A79)-1)/COLUMNS('Hlavní seznam měrných jednotek'!$B$4:$K$30)),MOD(ROW(A79)-1+COLUMNS('Hlavní seznam měrných jednotek'!$B$4:$K$30),COLUMNS('Hlavní seznam měrných jednotek'!$B$4:$K$30))+1),\"\")","v":""},"",null,{"$f":"IFERROR(RANK(L86,AnalýzaDat!$L$8:$L$301)+SUMPRODUCT(--(L86=AnalýzaDat!$L$8:$L$301),--(O86<AnalýzaDat!$O$8:$O$301)),\"\")","v":""},{"$f":"IFERROR(IF(COUNTIF(AnalýzaDat!$I$8:$I$299,\"<=\"&AnalýzaDat!$I$8:$I$299)=0,\"\",COUNTIF(AnalýzaDat!$I$8:$I$299,\"<=\"&AnalýzaDat!$I$8:$I$299)),\"\")","v":""},{"$f":"IFERROR(IF(AND(poslední_položka-počáteční_řádek=0,LEN(INDEX(AnalýzaDat!$H$8:$I$299,1,1)=0)),\"\",IF(poslední_položka-počáteční_řádek=0,INDEX(AnalýzaDat!$H$8:$I$299,1,1),INDEX(AnalýzaDat!$H$8:$H$299,ROW(A79),1))),\"\")","v":""},{"$f":"IFERROR(IF(AND(poslední_položka-počáteční_řádek=0,ISBLANK(INDEX(AnalýzaDat!$I$8:$I$299,1,1))),\"\",IF(poslední_položka-počáteční_řádek=0,INDEX(AnalýzaDat!$I$8:$I$299,1,1),INDEX(AnalýzaDat!$I$8:$I$299,ROW(A79),1))),\"\")","v":""},216,null,{"$f":"IFERROR(AnalýzaDat!$O86,\"\")","v":216},{"$f":"IFERROR(VLOOKUP(AnalýzaDat!$Q$8:$Q$301,AnalýzaDat!$K$8:$N$301,3,FALSE),\"\")","v":""},{"$f":"IFERROR(VLOOKUP(AnalýzaDat!$Q$8:$Q$301,AnalýzaDat!$K$8:$N$301,4,FALSE),\"\")","v":""},{"$f":"IF(S86=S85,T85,\"\")&REPT(AnalýzaDat!$R86&\", \",AnalýzaDat!$R86<>\"\")","v":""},{"$f":"IF(COUNTIF(S$8:S86,S86)=1,S86,\"\")","v":""},{"$f":"IFERROR(IF(LEN(AnalýzaDat!$S$8:$S$301)=0,\"\",COUNTIF(AnalýzaDat!$S$8:$S$301,S86)),\"\")","v":""},{"$f":"IFERROR(IF(LEN($U86)>0,LEFT(INDIRECT(\"AnalýzaDat!T\"&ROW(AnalýzaDat!$U86)+AnalýzaDat!$V86-1),LEN(INDIRECT(\"AnalýzaDat!T\"&ROW(AnalýzaDat!$U86)+AnalýzaDat!$V86-1))-2),\"\"),\"\")","v":""}]
[{"$nulls":7},{"$f":"IFERROR(INDEX('Hlavní seznam měrných jednotek'!$B$4:$K$30,1+INT((ROW(A80)-1)/COLUMNS('Hlavní seznam měrných jednotek'!$B$4:$K$30)),MOD(ROW(A80)-1+COLUMNS('Hlavní seznam měrných jednotek'!$B$4:$K$30),COLUMNS('Hlavní seznam měrných jednotek'!$B$4:$K$30))+1),\"\")","v":""},"",null,{"$f":"IFERROR(RANK(L87,AnalýzaDat!$L$8:$L$301)+SUMPRODUCT(--(L87=AnalýzaDat!$L$8:$L$301),--(O87<AnalýzaDat!$O$8:$O$301)),\"\")","v":""},{"$f":"IFERROR(IF(COUNTIF(AnalýzaDat!$I$8:$I$299,\"<=\"&AnalýzaDat!$I$8:$I$299)=0,\"\",COUNTIF(AnalýzaDat!$I$8:$I$299,\"<=\"&AnalýzaDat!$I$8:$I$299)),\"\")","v":""},{"$f":"IFERROR(IF(AND(poslední_položka-počáteční_řádek=0,LEN(INDEX(AnalýzaDat!$H$8:$I$299,1,1)=0)),\"\",IF(poslední_položka-počáteční_řádek=0,INDEX(AnalýzaDat!$H$8:$I$299,1,1),INDEX(AnalýzaDat!$H$8:$H$299,ROW(A80),1))),\"\")","v":""},{"$f":"IFERROR(IF(AND(poslední_položka-počáteční_řádek=0,ISBLANK(INDEX(AnalýzaDat!$I$8:$I$299,1,1))),\"\",IF(poslední_položka-počáteční_řádek=0,INDEX(AnalýzaDat!$I$8:$I$299,1,1),INDEX(AnalýzaDat!$I$8:$I$299,ROW(A80),1))),\"\")","v":""},215,null,{"$f":"IFERROR(AnalýzaDat!$O87,\"\")","v":215},{"$f":"IFERROR(VLOOKUP(AnalýzaDat!$Q$8:$Q$301,AnalýzaDat!$K$8:$N$301,3,FALSE),\"\")","v":""},{"$f":"IFERROR(VLOOKUP(AnalýzaDat!$Q$8:$Q$301,AnalýzaDat!$K$8:$N$301,4,FALSE),\"\")","v":""},{"$f":"IF(S87=S86,T86,\"\")&REPT(AnalýzaDat!$R87&\", \",AnalýzaDat!$R87<>\"\")","v":""},{"$f":"IF(COUNTIF(S$8:S87,S87)=1,S87,\"\")","v":""},{"$f":"IFERROR(IF(LEN(AnalýzaDat!$S$8:$S$301)=0,\"\",COUNTIF(AnalýzaDat!$S$8:$S$301,S87)),\"\")","v":""},{"$f":"IFERROR(IF(LEN($U87)>0,LEFT(INDIRECT(\"AnalýzaDat!T\"&ROW(AnalýzaDat!$U87)+AnalýzaDat!$V87-1),LEN(INDIRECT(\"AnalýzaDat!T\"&ROW(AnalýzaDat!$U87)+AnalýzaDat!$V87-1))-2),\"\"),\"\")","v":""}]
[{"$nulls":7},{"$f":"IFERROR(INDEX('Hlavní seznam měrných jednotek'!$B$4:$K$30,1+INT((ROW(A81)-1)/COLUMNS('Hlavní seznam měrných jednotek'!$B$4:$K$30)),MOD(ROW(A81)-1+COLUMNS('Hlavní seznam měrných jednotek'!$B$4:$K$30),COLUMNS('Hlavní seznam měrných jednotek'!$B$4:$K$30))+1),\"\")","v":"1 malé"},"červená cibule",null,{"$f":"IFERROR(RANK(L88,AnalýzaDat!$L$8:$L$301)+SUMPRODUCT(--(L88=AnalýzaDat!$L$8:$L$301),--(O88<AnalýzaDat!$O$8:$O$301)),\"\")","v":16},{"$f":"IFERROR(IF(COUNTIF(AnalýzaDat!$I$8:$I$299,\"<=\"&AnalýzaDat!$I$8:$I$299)=0,\"\",COUNTIF(AnalýzaDat!$I$8:$I$299,\"<=\"&AnalýzaDat!$I$8:$I$299)),\"\")","v":277},{"$f":"IFERROR(IF(AND(poslední_položka-počáteční_řádek=0,LEN(INDEX(AnalýzaDat!$H$8:$I$299,1,1)=0)),\"\",IF(poslední_položka-počáteční_řádek=0,INDEX(AnalýzaDat!$H$8:$I$299,1,1),INDEX(AnalýzaDat!$H$8:$H$299,ROW(A81),1))),\"\")","v":"1 malé"},{"$f":"IFERROR(IF(AND(poslední_položka-počáteční_řádek=0,ISBLANK(INDEX(AnalýzaDat!$I$8:$I$299,1,1))),\"\",IF(poslední_položka-počáteční_řádek=0,INDEX(AnalýzaDat!$I$8:$I$299,1,1),INDEX(AnalýzaDat!$I$8:$I$299,ROW(A81),1))),\"\")","v":"červená cibule"},214,null,{"$f":"IFERROR(AnalýzaDat!$O88,\"\")","v":214},{"$f":"IFERROR(VLOOKUP(AnalýzaDat!$Q$8:$Q$301,AnalýzaDat!$K$8:$N$301,3,FALSE),\"\")","v":""},{"$f":"IFERROR(VLOOKUP(AnalýzaDat!$Q$8:$Q$301,AnalýzaDat!$K$8:$N$301,4,FALSE),\"\")","v":""},{"$f":"IF(S88=S87,T87,\"\")&REPT(AnalýzaDat!$R88&\", \",AnalýzaDat!$R88<>\"\")","v":""},{"$f":"IF(COUNTIF(S$8:S88,S88)=1,S88,\"\")","v":""},{"$f":"IFERROR(IF(LEN(AnalýzaDat!$S$8:$S$301)=0,\"\",COUNTIF(AnalýzaDat!$S$8:$S$301,S88)),\"\")","v":""},{"$f":"IFERROR(IF(LEN($U88)>0,LEFT(INDIRECT(\"AnalýzaDat!T\"&ROW(AnalýzaDat!$U88)+AnalýzaDat!$V88-1),LEN(INDIRECT(\"AnalýzaDat!T\"&ROW(AnalýzaDat!$U88)+AnalýzaDat!$V88-1))-2),\"\"),\"\")","v":""}]
[{"$nulls":7},{"$f":"IFERROR(INDEX('Hlavní seznam měrných jednotek'!$B$4:$K$30,1+INT((ROW(A82)-1)/COLUMNS('Hlavní seznam měrných jednotek'!$B$4:$K$30)),MOD(ROW(A82)-1+COLUMNS('Hlavní seznam měrných jednotek'!$B$4:$K$30),COLUMNS('Hlavní seznam měrných jednotek'!$B$4:$K$30))+1),\"\")","v":" "},"",null,{"$f":"IFERROR(RANK(L89,AnalýzaDat!$L$8:$L$301)+SUMPRODUCT(--(L89=AnalýzaDat!$L$8:$L$301),--(O89<AnalýzaDat!$O$8:$O$301)),\"\")","v":""},{"$f":"IFERROR(IF(COUNTIF(AnalýzaDat!$I$8:$I$299,\"<=\"&AnalýzaDat!$I$8:$I$299)=0,\"\",COUNTIF(AnalýzaDat!$I$8:$I$299,\"<=\"&AnalýzaDat!$I$8:$I$299)),\"\")","v":""},{"$f":"IFERROR(IF(AND(poslední_položka-počáteční_řádek=0,LEN(INDEX(AnalýzaDat!$H$8:$I$299,1,1)=0)),\"\",IF(poslední_položka-počáteční_řádek=0,INDEX(AnalýzaDat!$H$8:$I$299,1,1),INDEX(AnalýzaDat!$H$8:$H$299,ROW(A82),1))),\"\")","v":" "},{"$f":"IFERROR(IF(AND(poslední_položka-počáteční_řádek=0,ISBLANK(INDEX(AnalýzaDat!$I$8:$I$299,1,1))),\"\",IF(poslední_položka-počáteční_řádek=0,INDEX(AnalýzaDat!$I$8:$I$299,1,1),INDEX(AnalýzaDat!$I$8:$I$299,ROW(A82),1))),\"\")","v":""},213,null,{"$f":"IFERROR(AnalýzaDat!$O89,\"\")","v":213},{"$f":"IFERROR(VLOOKUP(AnalýzaDat!$Q$8:$Q$301,AnalýzaDat!$K$8:$N$301,3,FALSE),\"\")","v":""},{"$f":"IFERROR(VLOOKUP(AnalýzaDat!$Q$8:$Q$301,AnalýzaDat!$K$8:$N$301,4,FALSE),\"\")","v":""},{"$f":"IF(S89=S88,T88,\"\")&REPT(AnalýzaDat!$R89&\", \",AnalýzaDat!$R89<>\"\")","v":""},{"$f":"IF(COUNTIF(S$8:S89,S89)=1,S89,\"\")","v":""},{"$f":"IFERROR(IF(LEN(AnalýzaDat!$S$8:$S$301)=0,\"\",COUNTIF(AnalýzaDat!$S$8:$S$301,S89)),\"\")","v":""},{"$f":"IFERROR(IF(LEN($U89)>0,LEFT(INDIRECT(\"AnalýzaDat!T\"&ROW(AnalýzaDat!$U89)+AnalýzaDat!$V89-1),LEN(INDIRECT(\"AnalýzaDat!T\"&ROW(AnalýzaDat!$U89)+AnalýzaDat!$V89-1))-2),\"\"),\"\")","v":""}]
[{"$nulls":7},{"$f":"IFERROR(INDEX('Hlavní seznam měrných jednotek'!$B$4:$K$30,1+INT((ROW(A83)-1)/COLUMNS('Hlavní seznam měrných jednotek'!$B$4:$K$30)),MOD(ROW(A83)-1+COLUMNS('Hlavní seznam měrných jednotek'!$B$4:$K$30),COLUMNS('Hlavní seznam měrných jednotek'!$B$4:$K$30))+1),\"\")","v":""},"",null,{"$f":"IFERROR(RANK(L90,AnalýzaDat!$L$8:$L$301)+SUMPRODUCT(--(L90=AnalýzaDat!$L$8:$L$301),--(O90<AnalýzaDat!$O$8:$O$301)),\"\")","v":""},{"$f":"IFERROR(IF(COUNTIF(AnalýzaDat!$I$8:$I$299,\"<=\"&AnalýzaDat!$I$8:$I$299)=0,\"\",COUNTIF(AnalýzaDat!$I$8:$I$299,\"<=\"&AnalýzaDat!$I$8:$I$299)),\"\")","v":""},{"$f":"IFERROR(IF(AND(poslední_položka-počáteční_řádek=0,LEN(INDEX(AnalýzaDat!$H$8:$I$299,1,1)=0)),\"\",IF(poslední_položka-počáteční_řádek=0,INDEX(AnalýzaDat!$H$8:$I$299,1,1),INDEX(AnalýzaDat!$H$8:$H$299,ROW(A83),1))),\"\")","v":""},{"$f":"IFERROR(IF(AND(poslední_položka-počáteční_řádek=0,ISBLANK(INDEX(AnalýzaDat!$I$8:$I$299,1,1))),\"\",IF(poslední_položka-počáteční_řádek=0,INDEX(AnalýzaDat!$I$8:$I$299,1,1),INDEX(AnalýzaDat!$I$8:$I$299,ROW(A83),1))),\"\")","v":""},212,null,{"$f":"IFERROR(AnalýzaDat!$O90,\"\")","v":212},{"$f":"IFERROR(VLOOKUP(AnalýzaDat!$Q$8:$Q$301,AnalýzaDat!$K$8:$N$301,3,FALSE),\"\")","v":""},{"$f":"IFERROR(VLOOKUP(AnalýzaDat!$Q$8:$Q$301,AnalýzaDat!$K$8:$N$301,4,FALSE),\"\")","v":""},{"$f":"IF(S90=S89,T89,\"\")&REPT(AnalýzaDat!$R90&\", \",AnalýzaDat!$R90<>\"\")","v":""},{"$f":"IF(COUNTIF(S$8:S90,S90)=1,S90,\"\")","v":""},{"$f":"IFERROR(IF(LEN(AnalýzaDat!$S$8:$S$301)=0,\"\",COUNTIF(AnalýzaDat!$S$8:$S$301,S90)),\"\")","v":""},{"$f":"IFERROR(IF(LEN($U90)>0,LEFT(INDIRECT(\"AnalýzaDat!T\"&ROW(AnalýzaDat!$U90)+AnalýzaDat!$V90-1),LEN(INDIRECT(\"AnalýzaDat!T\"&ROW(AnalýzaDat!$U90)+AnalýzaDat!$V90-1))-2),\"\"),\"\")","v":""}]
[{"$nulls":7},{"$f":"IFERROR(INDEX('Hlavní seznam měrných jednotek'!$B$4:$K$30,1+INT((ROW(A84)-1)/COLUMNS('Hlavní seznam měrných jednotek'!$B$4:$K$30)),MOD(ROW(A84)-1+COLUMNS('Hlavní seznam měrných jednotek'!$B$4:$K$30),COLUMNS('Hlavní seznam měrných jednotek'!$B$4:$K$30))+1),\"\")","v":""},"",null,{"$f":"IFERROR(RANK(L91,AnalýzaDat!$L$8:$L$301)+SUMPRODUCT(--(L91=AnalýzaDat!$L$8:$L$301),--(O91<AnalýzaDat!$O$8:$O$301)),\"\")","v":""},{"$f":"IFERROR(IF(COUNTIF(AnalýzaDat!$I$8:$I$299,\"<=\"&AnalýzaDat!$I$8:$I$299)=0,\"\",COUNTIF(AnalýzaDat!$I$8:$I$299,\"<=\"&AnalýzaDat!$I$8:$I$299)),\"\")","v":""},{"$f":"IFERROR(IF(AND(poslední_položka-počáteční_řádek=0,LEN(INDEX(AnalýzaDat!$H$8:$I$299,1,1)=0)),\"\",IF(poslední_položka-počáteční_řádek=0,INDEX(AnalýzaDat!$H$8:$I$299,1,1),INDEX(AnalýzaDat!$H$8:$H$299,ROW(A84),1))),\"\")","v":""},{"$f":"IFERROR(IF(AND(poslední_položka-počáteční_řádek=0,ISBLANK(INDEX(AnalýzaDat!$I$8:$I$299,1,1))),\"\",IF(poslední_položka-počáteční_řádek=0,INDEX(AnalýzaDat!$I$8:$I$299,1,1),INDEX(AnalýzaDat!$I$8:$I$299,ROW(A84),1))),\"\")","v":""},211,null,{"$f":"IFERROR(AnalýzaDat!$O91,\"\")","v":211},{"$f":"IFERROR(VLOOKUP(AnalýzaDat!$Q$8:$Q$301,AnalýzaDat!$K$8:$N$301,3,FALSE),\"\")","v":""},{"$f":"IFERROR(VLOOKUP(AnalýzaDat!$Q$8:$Q$301,AnalýzaDat!$K$8:$N$301,4,FALSE),\"\")","v":""},{"$f":"IF(S91=S90,T90,\"\")&REPT(AnalýzaDat!$R91&\", \",AnalýzaDat!$R91<>\"\")","v":""},{"$f":"IF(COUNTIF(S$8:S91,S91)=1,S91,\"\")","v":""},{"$f":"IFERROR(IF(LEN(AnalýzaDat!$S$8:$S$301)=0,\"\",COUNTIF(AnalýzaDat!$S$8:$S$301,S91)),\"\")","v":""},{"$f":"IFERROR(IF(LEN($U91)>0,LEFT(INDIRECT(\"AnalýzaDat!T\"&ROW(AnalýzaDat!$U91)+AnalýzaDat!$V91-1),LEN(INDIRECT(\"AnalýzaDat!T\"&ROW(AnalýzaDat!$U91)+AnalýzaDat!$V91-1))-2),\"\"),\"\")","v":""}]
[{"$nulls":7},{"$f":"IFERROR(INDEX('Hlavní seznam měrných jednotek'!$B$4:$K$30,1+INT((ROW(A85)-1)/COLUMNS('Hlavní seznam měrných jednotek'!$B$4:$K$30)),MOD(ROW(A85)-1+COLUMNS('Hlavní seznam měrných jednotek'!$B$4:$K$30),COLUMNS('Hlavní seznam měrných jednotek'!$B$4:$K$30))+1),\"\")","v":""},"",null,{"$f":"IFERROR(RANK(L92,AnalýzaDat!$L$8:$L$301)+SUMPRODUCT(--(L92=AnalýzaDat!$L$8:$L$301),--(O92<AnalýzaDat!$O$8:$O$301)),\"\")","v":""},{"$f":"IFERROR(IF(COUNTIF(AnalýzaDat!$I$8:$I$299,\"<=\"&AnalýzaDat!$I$8:$I$299)=0,\"\",COUNTIF(AnalýzaDat!$I$8:$I$299,\"<=\"&AnalýzaDat!$I$8:$I$299)),\"\")","v":""},{"$f":"IFERROR(IF(AND(poslední_položka-počáteční_řádek=0,LEN(INDEX(AnalýzaDat!$H$8:$I$299,1,1)=0)),\"\",IF(poslední_položka-počáteční_řádek=0,INDEX(AnalýzaDat!$H$8:$I$299,1,1),INDEX(AnalýzaDat!$H$8:$H$299,ROW(A85),1))),\"\")","v":""},{"$f":"IFERROR(IF(AND(poslední_položka-počáteční_řádek=0,ISBLANK(INDEX(AnalýzaDat!$I$8:$I$299,1,1))),\"\",IF(poslední_položka-počáteční_řádek=0,INDEX(AnalýzaDat!$I$8:$I$299,1,1),INDEX(AnalýzaDat!$I$8:$I$299,ROW(A85),1))),\"\")","v":""},210,null,{"$f":"IFERROR(AnalýzaDat!$O92,\"\")","v":210},{"$f":"IFERROR(VLOOKUP(AnalýzaDat!$Q$8:$Q$301,AnalýzaDat!$K$8:$N$301,3,FALSE),\"\")","v":""},{"$f":"IFERROR(VLOOKUP(AnalýzaDat!$Q$8:$Q$301,AnalýzaDat!$K$8:$N$301,4,FALSE),\"\")","v":""},{"$f":"IF(S92=S91,T91,\"\")&REPT(AnalýzaDat!$R92&\", \",AnalýzaDat!$R92<>\"\")","v":""},{"$f":"IF(COUNTIF(S$8:S92,S92)=1,S92,\"\")","v":""},{"$f":"IFERROR(IF(LEN(AnalýzaDat!$S$8:$S$301)=0,\"\",COUNTIF(AnalýzaDat!$S$8:$S$301,S92)),\"\")","v":""},{"$f":"IFERROR(IF(LEN($U92)>0,LEFT(INDIRECT(\"AnalýzaDat!T\"&ROW(AnalýzaDat!$U92)+AnalýzaDat!$V92-1),LEN(INDIRECT(\"AnalýzaDat!T\"&ROW(AnalýzaDat!$U92)+AnalýzaDat!$V92-1))-2),\"\"),\"\")","v":""}]
[{"$nulls":7},{"$f":"IFERROR(INDEX('Hlavní seznam měrných jednotek'!$B$4:$K$30,1+INT((ROW(A86)-1)/COLUMNS('Hlavní seznam měrných jednotek'!$B$4:$K$30)),MOD(ROW(A86)-1+COLUMNS('Hlavní seznam měrných jednotek'!$B$4:$K$30),COLUMNS('Hlavní seznam měrných jednotek'!$B$4:$K$30))+1),\"\")","v":""},"",null,{"$f":"IFERROR(RANK(L93,AnalýzaDat!$L$8:$L$301)+SUMPRODUCT(--(L93=AnalýzaDat!$L$8:$L$301),--(O93<AnalýzaDat!$O$8:$O$301)),\"\")","v":""},{"$f":"IFERROR(IF(COUNTIF(AnalýzaDat!$I$8:$I$299,\"<=\"&AnalýzaDat!$I$8:$I$299)=0,\"\",COUNTIF(AnalýzaDat!$I$8:$I$299,\"<=\"&AnalýzaDat!$I$8:$I$299)),\"\")","v":""},{"$f":"IFERROR(IF(AND(poslední_položka-počáteční_řádek=0,LEN(INDEX(AnalýzaDat!$H$8:$I$299,1,1)=0)),\"\",IF(poslední_položka-počáteční_řádek=0,INDEX(AnalýzaDat!$H$8:$I$299,1,1),INDEX(AnalýzaDat!$H$8:$H$299,ROW(A86),1))),\"\")","v":""},{"$f":"IFERROR(IF(AND(poslední_položka-počáteční_řádek=0,ISBLANK(INDEX(AnalýzaDat!$I$8:$I$299,1,1))),\"\",IF(poslední_položka-počáteční_řádek=0,INDEX(AnalýzaDat!$I$8:$I$299,1,1),INDEX(AnalýzaDat!$I$8:$I$299,ROW(A86),1))),\"\")","v":""},209,null,{"$f":"IFERROR(AnalýzaDat!$O93,\"\")","v":209},{"$f":"IFERROR(VLOOKUP(AnalýzaDat!$Q$8:$Q$301,AnalýzaDat!$K$8:$N$301,3,FALSE),\"\")","v":""},{"$f":"IFERROR(VLOOKUP(AnalýzaDat!$Q$8:$Q$301,AnalýzaDat!$K$8:$N$301,4,FALSE),\"\")","v":""},{"$f":"IF(S93=S92,T92,\"\")&REPT(AnalýzaDat!$R93&\", \",AnalýzaDat!$R93<>\"\")","v":""},{"$f":"IF(COUNTIF(S$8:S93,S93)=1,S93,\"\")","v":""},{"$f":"IFERROR(IF(LEN(AnalýzaDat!$S$8:$S$301)=0,\"\",COUNTIF(AnalýzaDat!$S$8:$S$301,S93)),\"\")","v":""},{"$f":"IFERROR(IF(LEN($U93)>0,LEFT(INDIRECT(\"AnalýzaDat!T\"&ROW(AnalýzaDat!$U93)+AnalýzaDat!$V93-1),LEN(INDIRECT(\"AnalýzaDat!T\"&ROW(AnalýzaDat!$U93)+AnalýzaDat!$V93-1))-2),\"\"),\"\")","v":""}]
[{"$nulls":7},{"$f":"IFERROR(INDEX('Hlavní seznam měrných jednotek'!$B$4:$K$30,1+INT((ROW(A87)-1)/COLUMNS('Hlavní seznam měrných jednotek'!$B$4:$K$30)),MOD(ROW(A87)-1+COLUMNS('Hlavní seznam měrných jednotek'!$B$4:$K$30),COLUMNS('Hlavní seznam měrných jednotek'!$B$4:$K$30))+1),\"\")","v":""},"",null,{"$f":"IFERROR(RANK(L94,AnalýzaDat!$L$8:$L$301)+SUMPRODUCT(--(L94=AnalýzaDat!$L$8:$L$301),--(O94<AnalýzaDat!$O$8:$O$301)),\"\")","v":""},{"$f":"IFERROR(IF(COUNTIF(AnalýzaDat!$I$8:$I$299,\"<=\"&AnalýzaDat!$I$8:$I$299)=0,\"\",COUNTIF(AnalýzaDat!$I$8:$I$299,\"<=\"&AnalýzaDat!$I$8:$I$299)),\"\")","v":""},{"$f":"IFERROR(IF(AND(poslední_položka-počáteční_řádek=0,LEN(INDEX(AnalýzaDat!$H$8:$I$299,1,1)=0)),\"\",IF(poslední_položka-počáteční_řádek=0,INDEX(AnalýzaDat!$H$8:$I$299,1,1),INDEX(AnalýzaDat!$H$8:$H$299,ROW(A87),1))),\"\")","v":""},{"$f":"IFERROR(IF(AND(poslední_položka-počáteční_řádek=0,ISBLANK(INDEX(AnalýzaDat!$I$8:$I$299,1,1))),\"\",IF(poslední_položka-počáteční_řádek=0,INDEX(AnalýzaDat!$I$8:$I$299,1,1),INDEX(AnalýzaDat!$I$8:$I$299,ROW(A87),1))),\"\")","v":""},208,null,{"$f":"IFERROR(AnalýzaDat!$O94,\"\")","v":208},{"$f":"IFERROR(VLOOKUP(AnalýzaDat!$Q$8:$Q$301,AnalýzaDat!$K$8:$N$301,3,FALSE),\"\")","v":""},{"$f":"IFERROR(VLOOKUP(AnalýzaDat!$Q$8:$Q$301,AnalýzaDat!$K$8:$N$301,4,FALSE),\"\")","v":""},{"$f":"IF(S94=S93,T93,\"\")&REPT(AnalýzaDat!$R94&\", \",AnalýzaDat!$R94<>\"\")","v":""},{"$f":"IF(COUNTIF(S$8:S94,S94)=1,S94,\"\")","v":""},{"$f":"IFERROR(IF(LEN(AnalýzaDat!$S$8:$S$301)=0,\"\",COUNTIF(AnalýzaDat!$S$8:$S$301,S94)),\"\")","v":""},{"$f":"IFERROR(IF(LEN($U94)>0,LEFT(INDIRECT(\"AnalýzaDat!T\"&ROW(AnalýzaDat!$U94)+AnalýzaDat!$V94-1),LEN(INDIRECT(\"AnalýzaDat!T\"&ROW(AnalýzaDat!$U94)+AnalýzaDat!$V94-1))-2),\"\"),\"\")","v":""}]
[{"$nulls":7},{"$f":"IFERROR(INDEX('Hlavní seznam měrných jednotek'!$B$4:$K$30,1+INT((ROW(A88)-1)/COLUMNS('Hlavní seznam měrných jednotek'!$B$4:$K$30)),MOD(ROW(A88)-1+COLUMNS('Hlavní seznam měrných jednotek'!$B$4:$K$30),COLUMNS('Hlavní seznam měrných jednotek'!$B$4:$K$30))+1),\"\")","v":""},"",null,{"$f":"IFERROR(RANK(L95,AnalýzaDat!$L$8:$L$301)+SUMPRODUCT(--(L95=AnalýzaDat!$L$8:$L$301),--(O95<AnalýzaDat!$O$8:$O$301)),\"\")","v":""},{"$f":"IFERROR(IF(COUNTIF(AnalýzaDat!$I$8:$I$299,\"<=\"&AnalýzaDat!$I$8:$I$299)=0,\"\",COUNTIF(AnalýzaDat!$I$8:$I$299,\"<=\"&AnalýzaDat!$I$8:$I$299)),\"\")","v":""},{"$f":"IFERROR(IF(AND(poslední_položka-počáteční_řádek=0,LEN(INDEX(AnalýzaDat!$H$8:$I$299,1,1)=0)),\"\",IF(poslední_položka-počáteční_řádek=0,INDEX(AnalýzaDat!$H$8:$I$299,1,1),INDEX(AnalýzaDat!$H$8:$H$299,ROW(A88),1))),\"\")","v":""},{"$f":"IFERROR(IF(AND(poslední_položka-počáteční_řádek=0,ISBLANK(INDEX(AnalýzaDat!$I$8:$I$299,1,1))),\"\",IF(poslední_položka-počáteční_řádek=0,INDEX(AnalýzaDat!$I$8:$I$299,1,1),INDEX(AnalýzaDat!$I$8:$I$299,ROW(A88),1))),\"\")","v":""},207,null,{"$f":"IFERROR(AnalýzaDat!$O95,\"\")","v":207},{"$f":"IFERROR(VLOOKUP(AnalýzaDat!$Q$8:$Q$301,AnalýzaDat!$K$8:$N$301,3,FALSE),\"\")","v":""},{"$f":"IFERROR(VLOOKUP(AnalýzaDat!$Q$8:$Q$301,AnalýzaDat!$K$8:$N$301,4,FALSE),\"\")","v":""},{"$f":"IF(S95=S94,T94,\"\")&REPT(AnalýzaDat!$R95&\", \",AnalýzaDat!$R95<>\"\")","v":""},{"$f":"IF(COUNTIF(S$8:S95,S95)=1,S95,\"\")","v":""},{"$f":"IFERROR(IF(LEN(AnalýzaDat!$S$8:$S$301)=0,\"\",COUNTIF(AnalýzaDat!$S$8:$S$301,S95)),\"\")","v":""},{"$f":"IFERROR(IF(LEN($U95)>0,LEFT(INDIRECT(\"AnalýzaDat!T\"&ROW(AnalýzaDat!$U95)+AnalýzaDat!$V95-1),LEN(INDIRECT(\"AnalýzaDat!T\"&ROW(AnalýzaDat!$U95)+AnalýzaDat!$V95-1))-2),\"\"),\"\")","v":""}]
[{"$nulls":7},{"$f":"IFERROR(INDEX('Hlavní seznam měrných jednotek'!$B$4:$K$30,1+INT((ROW(A89)-1)/COLUMNS('Hlavní seznam měrných jednotek'!$B$4:$K$30)),MOD(ROW(A89)-1+COLUMNS('Hlavní seznam měrných jednotek'!$B$4:$K$30),COLUMNS('Hlavní seznam měrných jednotek'!$B$4:$K$30))+1),\"\")","v":""},"",null,{"$f":"IFERROR(RANK(L96,AnalýzaDat!$L$8:$L$301)+SUMPRODUCT(--(L96=AnalýzaDat!$L$8:$L$301),--(O96<AnalýzaDat!$O$8:$O$301)),\"\")","v":""},{"$f":"IFERROR(IF(COUNTIF(AnalýzaDat!$I$8:$I$299,\"<=\"&AnalýzaDat!$I$8:$I$299)=0,\"\",COUNTIF(AnalýzaDat!$I$8:$I$299,\"<=\"&AnalýzaDat!$I$8:$I$299)),\"\")","v":""},{"$f":"IFERROR(IF(AND(poslední_položka-počáteční_řádek=0,LEN(INDEX(AnalýzaDat!$H$8:$I$299,1,1)=0)),\"\",IF(poslední_položka-počáteční_řádek=0,INDEX(AnalýzaDat!$H$8:$I$299,1,1),INDEX(AnalýzaDat!$H$8:$H$299,ROW(A89),1))),\"\")","v":""},{"$f":"IFERROR(IF(AND(poslední_položka-počáteční_řádek=0,ISBLANK(INDEX(AnalýzaDat!$I$8:$I$299,1,1))),\"\",IF(poslední_položka-počáteční_řádek=0,INDEX(AnalýzaDat!$I$8:$I$299,1,1),INDEX(AnalýzaDat!$I$8:$I$299,ROW(A89),1))),\"\")","v":""},206,null,{"$f":"IFERROR(AnalýzaDat!$O96,\"\")","v":206},{"$f":"IFERROR(VLOOKUP(AnalýzaDat!$Q$8:$Q$301,AnalýzaDat!$K$8:$N$301,3,FALSE),\"\")","v":""},{"$f":"IFERROR(VLOOKUP(AnalýzaDat!$Q$8:$Q$301,AnalýzaDat!$K$8:$N$301,4,FALSE),\"\")","v":""},{"$f":"IF(S96=S95,T95,\"\")&REPT(AnalýzaDat!$R96&\", \",AnalýzaDat!$R96<>\"\")","v":""},{"$f":"IF(COUNTIF(S$8:S96,S96)=1,S96,\"\")","v":""},{"$f":"IFERROR(IF(LEN(AnalýzaDat!$S$8:$S$301)=0,\"\",COUNTIF(AnalýzaDat!$S$8:$S$301,S96)),\"\")","v":""},{"$f":"IFERROR(IF(LEN($U96)>0,LEFT(INDIRECT(\"AnalýzaDat!T\"&ROW(AnalýzaDat!$U96)+AnalýzaDat!$V96-1),LEN(INDIRECT(\"AnalýzaDat!T\"&ROW(AnalýzaDat!$U96)+AnalýzaDat!$V96-1))-2),\"\"),\"\")","v":""}]
[{"$nulls":7},{"$f":"IFERROR(INDEX('Hlavní seznam měrných jednotek'!$B$4:$K$30,1+INT((ROW(A90)-1)/COLUMNS('Hlavní seznam měrných jednotek'!$B$4:$K$30)),MOD(ROW(A90)-1+COLUMNS('Hlavní seznam měrných jednotek'!$B$4:$K$30),COLUMNS('Hlavní seznam měrných jednotek'!$B$4:$K$30))+1),\"\")","v":""},"",null,{"$f":"IFERROR(RANK(L97,AnalýzaDat!$L$8:$L$301)+SUMPRODUCT(--(L97=AnalýzaDat!$L$8:$L$301),--(O97<AnalýzaDat!$O$8:$O$301)),\"\")","v":""},{"$f":"IFERROR(IF(COUNTIF(AnalýzaDat!$I$8:$I$299,\"<=\"&AnalýzaDat!$I$8:$I$299)=0,\"\",COUNTIF(AnalýzaDat!$I$8:$I$299,\"<=\"&AnalýzaDat!$I$8:$I$299)),\"\")","v":""},{"$f":"IFERROR(IF(AND(poslední_položka-počáteční_řádek=0,LEN(INDEX(AnalýzaDat!$H$8:$I$299,1,1)=0)),\"\",IF(poslední_položka-počáteční_řádek=0,INDEX(AnalýzaDat!$H$8:$I$299,1,1),INDEX(AnalýzaDat!$H$8:$H$299,ROW(A90),1))),\"\")","v":""},{"$f":"IFERROR(IF(AND(poslední_položka-počáteční_řádek=0,ISBLANK(INDEX(AnalýzaDat!$I$8:$I$299,1,1))),\"\",IF(poslední_položka-počáteční_řádek=0,INDEX(AnalýzaDat!$I$8:$I$299,1,1),INDEX(AnalýzaDat!$I$8:$I$299,ROW(A90),1))),\"\")","v":""},205,null,{"$f":"IFERROR(AnalýzaDat!$O97,\"\")","v":205},{"$f":"IFERROR(VLOOKUP(AnalýzaDat!$Q$8:$Q$301,AnalýzaDat!$K$8:$N$301,3,FALSE),\"\")","v":""},{"$f":"IFERROR(VLOOKUP(AnalýzaDat!$Q$8:$Q$301,AnalýzaDat!$K$8:$N$301,4,FALSE),\"\")","v":""},{"$f":"IF(S97=S96,T96,\"\")&REPT(AnalýzaDat!$R97&\", \",AnalýzaDat!$R97<>\"\")","v":""},{"$f":"IF(COUNTIF(S$8:S97,S97)=1,S97,\"\")","v":""},{"$f":"IFERROR(IF(LEN(AnalýzaDat!$S$8:$S$301)=0,\"\",COUNTIF(AnalýzaDat!$S$8:$S$301,S97)),\"\")","v":""},{"$f":"IFERROR(IF(LEN($U97)>0,LEFT(INDIRECT(\"AnalýzaDat!T\"&ROW(AnalýzaDat!$U97)+AnalýzaDat!$V97-1),LEN(INDIRECT(\"AnalýzaDat!T\"&ROW(AnalýzaDat!$U97)+AnalýzaDat!$V97-1))-2),\"\"),\"\")","v":""}]
[{"$nulls":7},{"$f":"IFERROR(INDEX('Hlavní seznam měrných jednotek'!$B$4:$K$30,1+INT((ROW(A91)-1)/COLUMNS('Hlavní seznam měrných jednotek'!$B$4:$K$30)),MOD(ROW(A91)-1+COLUMNS('Hlavní seznam měrných jednotek'!$B$4:$K$30),COLUMNS('Hlavní seznam měrných jednotek'!$B$4:$K$30))+1),\"\")","v":"1 šálek"},"plátky čerstvých hub",null,{"$f":"IFERROR(RANK(L98,AnalýzaDat!$L$8:$L$301)+SUMPRODUCT(--(L98=AnalýzaDat!$L$8:$L$301),--(O98<AnalýzaDat!$O$8:$O$301)),\"\")","v":6},{"$f":"IFERROR(IF(COUNTIF(AnalýzaDat!$I$8:$I$299,\"<=\"&AnalýzaDat!$I$8:$I$299)=0,\"\",COUNTIF(AnalýzaDat!$I$8:$I$299,\"<=\"&AnalýzaDat!$I$8:$I$299)),\"\")","v":287},{"$f":"IFERROR(IF(AND(poslední_položka-počáteční_řádek=0,LEN(INDEX(AnalýzaDat!$H$8:$I$299,1,1)=0)),\"\",IF(poslední_položka-počáteční_řádek=0,INDEX(AnalýzaDat!$H$8:$I$299,1,1),INDEX(AnalýzaDat!$H$8:$H$299,ROW(A91),1))),\"\")","v":"1 šálek"},{"$f":"IFERROR(IF(AND(poslední_položka-počáteční_řádek=0,ISBLANK(INDEX(AnalýzaDat!$I$8:$I$299,1,1))),\"\",IF(poslední_položka-počáteční_řádek=0,INDEX(AnalýzaDat!$I$8:$I$299,1,1),INDEX(AnalýzaDat!$I$8:$I$299,ROW(A91),1))),\"\")","v":"plátky čerstvých hub"},204,null,{"$f":"IFERROR(AnalýzaDat!$O98,\"\")","v":204},{"$f":"IFERROR(VLOOKUP(AnalýzaDat!$Q$8:$Q$301,AnalýzaDat!$K$8:$N$301,3,FALSE),\"\")","v":""},{"$f":"IFERROR(VLOOKUP(AnalýzaDat!$Q$8:$Q$301,AnalýzaDat!$K$8:$N$301,4,FALSE),\"\")","v":""},{"$f":"IF(S98=S97,T97,\"\")&REPT(AnalýzaDat!$R98&\", \",AnalýzaDat!$R98<>\"\")","v":""},{"$f":"IF(COUNTIF(S$8:S98,S98)=1,S98,\"\")","v":""},{"$f":"IFERROR(IF(LEN(AnalýzaDat!$S$8:$S$301)=0,\"\",COUNTIF(AnalýzaDat!$S$8:$S$301,S98)),\"\")","v":""},{"$f":"IFERROR(IF(LEN($U98)>0,LEFT(INDIRECT(\"AnalýzaDat!T\"&ROW(AnalýzaDat!$U98)+AnalýzaDat!$V98-1),LEN(INDIRECT(\"AnalýzaDat!T\"&ROW(AnalýzaDat!$U98)+AnalýzaDat!$V98-1))-2),\"\"),\"\")","v":""}]
[{"$nulls":7},{"$f":"IFERROR(INDEX('Hlavní seznam měrných jednotek'!$B$4:$K$30,1+INT((ROW(A92)-1)/COLUMNS('Hlavní seznam měrných jednotek'!$B$4:$K$30)),MOD(ROW(A92)-1+COLUMNS('Hlavní seznam měrných jednotek'!$B$4:$K$30),COLUMNS('Hlavní seznam měrných jednotek'!$B$4:$K$30))+1),\"\")","v":" "},"",null,{"$f":"IFERROR(RANK(L99,AnalýzaDat!$L$8:$L$301)+SUMPRODUCT(--(L99=AnalýzaDat!$L$8:$L$301),--(O99<AnalýzaDat!$O$8:$O$301)),\"\")","v":""},{"$f":"IFERROR(IF(COUNTIF(AnalýzaDat!$I$8:$I$299,\"<=\"&AnalýzaDat!$I$8:$I$299)=0,\"\",COUNTIF(AnalýzaDat!$I$8:$I$299,\"<=\"&AnalýzaDat!$I$8:$I$299)),\"\")","v":""},{"$f":"IFERROR(IF(AND(poslední_položka-počáteční_řádek=0,LEN(INDEX(AnalýzaDat!$H$8:$I$299,1,1)=0)),\"\",IF(poslední_položka-počáteční_řádek=0,INDEX(AnalýzaDat!$H$8:$I$299,1,1),INDEX(AnalýzaDat!$H$8:$H$299,ROW(A92),1))),\"\")","v":" "},{"$f":"IFERROR(IF(AND(poslední_položka-počáteční_řádek=0,ISBLANK(INDEX(AnalýzaDat!$I$8:$I$299,1,1))),\"\",IF(poslední_položka-počáteční_řádek=0,INDEX(AnalýzaDat!$I$8:$I$299,1,1),INDEX(AnalýzaDat!$I$8:$I$299,ROW(A92),1))),\"\")","v":""},203,null,{"$f":"IFERROR(AnalýzaDat!$O99,\"\")","v":203},{"$f":"IFERROR(VLOOKUP(AnalýzaDat!$Q$8:$Q$301,AnalýzaDat!$K$8:$N$301,3,FALSE),\"\")","v":""},{"$f":"IFERROR(VLOOKUP(AnalýzaDat!$Q$8:$Q$301,AnalýzaDat!$K$8:$N$301,4,FALSE),\"\")","v":""},{"$f":"IF(S99=S98,T98,\"\")&REPT(AnalýzaDat!$R99&\", \",AnalýzaDat!$R99<>\"\")","v":""},{"$f":"IF(COUNTIF(S$8:S99,S99)=1,S99,\"\")","v":""},{"$f":"IFERROR(IF(LEN(AnalýzaDat!$S$8:$S$301)=0,\"\",COUNTIF(AnalýzaDat!$S$8:$S$301,S99)),\"\")","v":""},{"$f":"IFERROR(IF(LEN($U99)>0,LEFT(INDIRECT(\"AnalýzaDat!T\"&ROW(AnalýzaDat!$U99)+AnalýzaDat!$V99-1),LEN(INDIRECT(\"AnalýzaDat!T\"&ROW(AnalýzaDat!$U99)+AnalýzaDat!$V99-1))-2),\"\"),\"\")","v":""}]
[{"$nulls":7},{"$f":"IFERROR(INDEX('Hlavní seznam měrných jednotek'!$B$4:$K$30,1+INT((ROW(A93)-1)/COLUMNS('Hlavní seznam měrných jednotek'!$B$4:$K$30)),MOD(ROW(A93)-1+COLUMNS('Hlavní seznam měrných jednotek'!$B$4:$K$30),COLUMNS('Hlavní seznam měrných jednotek'!$B$4:$K$30))+1),\"\")","v":""},"",null,{"$f":"IFERROR(RANK(L100,AnalýzaDat!$L$8:$L$301)+SUMPRODUCT(--(L100=AnalýzaDat!$L$8:$L$301),--(O100<AnalýzaDat!$O$8:$O$301)),\"\")","v":""},{"$f":"IFERROR(IF(COUNTIF(AnalýzaDat!$I$8:$I$299,\"<=\"&AnalýzaDat!$I$8:$I$299)=0,\"\",COUNTIF(AnalýzaDat!$I$8:$I$299,\"<=\"&AnalýzaDat!$I$8:$I$299)),\"\")","v":""},{"$f":"IFERROR(IF(AND(poslední_položka-počáteční_řádek=0,LEN(INDEX(AnalýzaDat!$H$8:$I$299,1,1)=0)),\"\",IF(poslední_položka-počáteční_řádek=0,INDEX(AnalýzaDat!$H$8:$I$299,1,1),INDEX(AnalýzaDat!$H$8:$H$299,ROW(A93),1))),\"\")","v":""},{"$f":"IFERROR(IF(AND(poslední_položka-počáteční_řádek=0,ISBLANK(INDEX(AnalýzaDat!$I$8:$I$299,1,1))),\"\",IF(poslední_položka-počáteční_řádek=0,INDEX(AnalýzaDat!$I$8:$I$299,1,1),INDEX(AnalýzaDat!$I$8:$I$299,ROW(A93),1))),\"\")","v":""},202,null,{"$f":"IFERROR(AnalýzaDat!$O100,\"\")","v":202},{"$f":"IFERROR(VLOOKUP(AnalýzaDat!$Q$8:$Q$301,AnalýzaDat!$K$8:$N$301,3,FALSE),\"\")","v":""},{"$f":"IFERROR(VLOOKUP(AnalýzaDat!$Q$8:$Q$301,AnalýzaDat!$K$8:$N$301,4,FALSE),\"\")","v":""},{"$f":"IF(S100=S99,T99,\"\")&REPT(AnalýzaDat!$R100&\", \",AnalýzaDat!$R100<>\"\")","v":""},{"$f":"IF(COUNTIF(S$8:S100,S100)=1,S100,\"\")","v":""},{"$f":"IFERROR(IF(LEN(AnalýzaDat!$S$8:$S$301)=0,\"\",COUNTIF(AnalýzaDat!$S$8:$S$301,S100)),\"\")","v":""},{"$f":"IFERROR(IF(LEN($U100)>0,LEFT(INDIRECT(\"AnalýzaDat!T\"&ROW(AnalýzaDat!$U100)+AnalýzaDat!$V100-1),LEN(INDIRECT(\"AnalýzaDat!T\"&ROW(AnalýzaDat!$U100)+AnalýzaDat!$V100-1))-2),\"\"),\"\")","v":""}]
[{"$nulls":7},{"$f":"IFERROR(INDEX('Hlavní seznam měrných jednotek'!$B$4:$K$30,1+INT((ROW(A94)-1)/COLUMNS('Hlavní seznam měrných jednotek'!$B$4:$K$30)),MOD(ROW(A94)-1+COLUMNS('Hlavní seznam měrných jednotek'!$B$4:$K$30),COLUMNS('Hlavní seznam měrných jednotek'!$B$4:$K$30))+1),\"\")","v":""},"",null,{"$f":"IFERROR(RANK(L101,AnalýzaDat!$L$8:$L$301)+SUMPRODUCT(--(L101=AnalýzaDat!$L$8:$L$301),--(O101<AnalýzaDat!$O$8:$O$301)),\"\")","v":""},{"$f":"IFERROR(IF(COUNTIF(AnalýzaDat!$I$8:$I$299,\"<=\"&AnalýzaDat!$I$8:$I$299)=0,\"\",COUNTIF(AnalýzaDat!$I$8:$I$299,\"<=\"&AnalýzaDat!$I$8:$I$299)),\"\")","v":""},{"$f":"IFERROR(IF(AND(poslední_položka-počáteční_řádek=0,LEN(INDEX(AnalýzaDat!$H$8:$I$299,1,1)=0)),\"\",IF(poslední_položka-počáteční_řádek=0,INDEX(AnalýzaDat!$H$8:$I$299,1,1),INDEX(AnalýzaDat!$H$8:$H$299,ROW(A94),1))),\"\")","v":""},{"$f":"IFERROR(IF(AND(poslední_položka-počáteční_řádek=0,ISBLANK(INDEX(AnalýzaDat!$I$8:$I$299,1,1))),\"\",IF(poslední_položka-počáteční_řádek=0,INDEX(AnalýzaDat!$I$8:$I$299,1,1),INDEX(AnalýzaDat!$I$8:$I$299,ROW(A94),1))),\"\")","v":""},201,null,{"$f":"IFERROR(AnalýzaDat!$O101,\"\")","v":201},{"$f":"IFERROR(VLOOKUP(AnalýzaDat!$Q$8:$Q$301,AnalýzaDat!$K$8:$N$301,3,FALSE),\"\")","v":""},{"$f":"IFERROR(VLOOKUP(AnalýzaDat!$Q$8:$Q$301,AnalýzaDat!$K$8:$N$301,4,FALSE),\"\")","v":""},{"$f":"IF(S101=S100,T100,\"\")&REPT(AnalýzaDat!$R101&\", \",AnalýzaDat!$R101<>\"\")","v":""},{"$f":"IF(COUNTIF(S$8:S101,S101)=1,S101,\"\")","v":""},{"$f":"IFERROR(IF(LEN(AnalýzaDat!$S$8:$S$301)=0,\"\",COUNTIF(AnalýzaDat!$S$8:$S$301,S101)),\"\")","v":""},{"$f":"IFERROR(IF(LEN($U101)>0,LEFT(INDIRECT(\"AnalýzaDat!T\"&ROW(AnalýzaDat!$U101)+AnalýzaDat!$V101-1),LEN(INDIRECT(\"AnalýzaDat!T\"&ROW(AnalýzaDat!$U101)+AnalýzaDat!$V101-1))-2),\"\"),\"\")","v":""}]
[{"$nulls":7},{"$f":"IFERROR(INDEX('Hlavní seznam měrných jednotek'!$B$4:$K$30,1+INT((ROW(A95)-1)/COLUMNS('Hlavní seznam měrných jednotek'!$B$4:$K$30)),MOD(ROW(A95)-1+COLUMNS('Hlavní seznam měrných jednotek'!$B$4:$K$30),COLUMNS('Hlavní seznam měrných jednotek'!$B$4:$K$30))+1),\"\")","v":""},"",null,{"$f":"IFERROR(RANK(L102,AnalýzaDat!$L$8:$L$301)+SUMPRODUCT(--(L102=AnalýzaDat!$L$8:$L$301),--(O102<AnalýzaDat!$O$8:$O$301)),\"\")","v":""},{"$f":"IFERROR(IF(COUNTIF(AnalýzaDat!$I$8:$I$299,\"<=\"&AnalýzaDat!$I$8:$I$299)=0,\"\",COUNTIF(AnalýzaDat!$I$8:$I$299,\"<=\"&AnalýzaDat!$I$8:$I$299)),\"\")","v":""},{"$f":"IFERROR(IF(AND(poslední_položka-počáteční_řádek=0,LEN(INDEX(AnalýzaDat!$H$8:$I$299,1,1)=0)),\"\",IF(poslední_položka-počáteční_řádek=0,INDEX(AnalýzaDat!$H$8:$I$299,1,1),INDEX(AnalýzaDat!$H$8:$H$299,ROW(A95),1))),\"\")","v":""},{"$f":"IFERROR(IF(AND(poslední_položka-počáteční_řádek=0,ISBLANK(INDEX(AnalýzaDat!$I$8:$I$299,1,1))),\"\",IF(poslední_položka-počáteční_řádek=0,INDEX(AnalýzaDat!$I$8:$I$299,1,1),INDEX(AnalýzaDat!$I$8:$I$299,ROW(A95),1))),\"\")","v":""},200,null,{"$f":"IFERROR(AnalýzaDat!$O102,\"\")","v":200},{"$f":"IFERROR(VLOOKUP(AnalýzaDat!$Q$8:$Q$301,AnalýzaDat!$K$8:$N$301,3,FALSE),\"\")","v":""},{"$f":"IFERROR(VLOOKUP(AnalýzaDat!$Q$8:$Q$301,AnalýzaDat!$K$8:$N$301,4,FALSE),\"\")","v":""},{"$f":"IF(S102=S101,T101,\"\")&REPT(AnalýzaDat!$R102&\", \",AnalýzaDat!$R102<>\"\")","v":""},{"$f":"IF(COUNTIF(S$8:S102,S102)=1,S102,\"\")","v":""},{"$f":"IFERROR(IF(LEN(AnalýzaDat!$S$8:$S$301)=0,\"\",COUNTIF(AnalýzaDat!$S$8:$S$301,S102)),\"\")","v":""},{"$f":"IFERROR(IF(LEN($U102)>0,LEFT(INDIRECT(\"AnalýzaDat!T\"&ROW(AnalýzaDat!$U102)+AnalýzaDat!$V102-1),LEN(INDIRECT(\"AnalýzaDat!T\"&ROW(AnalýzaDat!$U102)+AnalýzaDat!$V102-1))-2),\"\"),\"\")","v":""}]
[{"$nulls":7},{"$f":"IFERROR(INDEX('Hlavní seznam měrných jednotek'!$B$4:$K$30,1+INT((ROW(A96)-1)/COLUMNS('Hlavní seznam měrných jednotek'!$B$4:$K$30)),MOD(ROW(A96)-1+COLUMNS('Hlavní seznam měrných jednotek'!$B$4:$K$30),COLUMNS('Hlavní seznam měrných jednotek'!$B$4:$K$30))+1),\"\")","v":""},"",null,{"$f":"IFERROR(RANK(L103,AnalýzaDat!$L$8:$L$301)+SUMPRODUCT(--(L103=AnalýzaDat!$L$8:$L$301),--(O103<AnalýzaDat!$O$8:$O$301)),\"\")","v":""},{"$f":"IFERROR(IF(COUNTIF(AnalýzaDat!$I$8:$I$299,\"<=\"&AnalýzaDat!$I$8:$I$299)=0,\"\",COUNTIF(AnalýzaDat!$I$8:$I$299,\"<=\"&AnalýzaDat!$I$8:$I$299)),\"\")","v":""},{"$f":"IFERROR(IF(AND(poslední_položka-počáteční_řádek=0,LEN(INDEX(AnalýzaDat!$H$8:$I$299,1,1)=0)),\"\",IF(poslední_položka-počáteční_řádek=0,INDEX(AnalýzaDat!$H$8:$I$299,1,1),INDEX(AnalýzaDat!$H$8:$H$299,ROW(A96),1))),\"\")","v":""},{"$f":"IFERROR(IF(AND(poslední_položka-počáteční_řádek=0,ISBLANK(INDEX(AnalýzaDat!$I$8:$I$299,1,1))),\"\",IF(poslední_položka-počáteční_řádek=0,INDEX(AnalýzaDat!$I$8:$I$299,1,1),INDEX(AnalýzaDat!$I$8:$I$299,ROW(A96),1))),\"\")","v":""},199,null,{"$f":"IFERROR(AnalýzaDat!$O103,\"\")","v":199},{"$f":"IFERROR(VLOOKUP(AnalýzaDat!$Q$8:$Q$301,AnalýzaDat!$K$8:$N$301,3,FALSE),\"\")","v":""},{"$f":"IFERROR(VLOOKUP(AnalýzaDat!$Q$8:$Q$301,AnalýzaDat!$K$8:$N$301,4,FALSE),\"\")","v":""},{"$f":"IF(S103=S102,T102,\"\")&REPT(AnalýzaDat!$R103&\", \",AnalýzaDat!$R103<>\"\")","v":""},{"$f":"IF(COUNTIF(S$8:S103,S103)=1,S103,\"\")","v":""},{"$f":"IFERROR(IF(LEN(AnalýzaDat!$S$8:$S$301)=0,\"\",COUNTIF(AnalýzaDat!$S$8:$S$301,S103)),\"\")","v":""},{"$f":"IFERROR(IF(LEN($U103)>0,LEFT(INDIRECT(\"AnalýzaDat!T\"&ROW(AnalýzaDat!$U103)+AnalýzaDat!$V103-1),LEN(INDIRECT(\"AnalýzaDat!T\"&ROW(AnalýzaDat!$U103)+AnalýzaDat!$V103-1))-2),\"\"),\"\")","v":""}]
[{"$nulls":7},{"$f":"IFERROR(INDEX('Hlavní seznam měrných jednotek'!$B$4:$K$30,1+INT((ROW(A97)-1)/COLUMNS('Hlavní seznam měrných jednotek'!$B$4:$K$30)),MOD(ROW(A97)-1+COLUMNS('Hlavní seznam měrných jednotek'!$B$4:$K$30),COLUMNS('Hlavní seznam měrných jednotek'!$B$4:$K$30))+1),\"\")","v":""},"",null,{"$f":"IFERROR(RANK(L104,AnalýzaDat!$L$8:$L$301)+SUMPRODUCT(--(L104=AnalýzaDat!$L$8:$L$301),--(O104<AnalýzaDat!$O$8:$O$301)),\"\")","v":""},{"$f":"IFERROR(IF(COUNTIF(AnalýzaDat!$I$8:$I$299,\"<=\"&AnalýzaDat!$I$8:$I$299)=0,\"\",COUNTIF(AnalýzaDat!$I$8:$I$299,\"<=\"&AnalýzaDat!$I$8:$I$299)),\"\")","v":""},{"$f":"IFERROR(IF(AND(poslední_položka-počáteční_řádek=0,LEN(INDEX(AnalýzaDat!$H$8:$I$299,1,1)=0)),\"\",IF(poslední_položka-počáteční_řádek=0,INDEX(AnalýzaDat!$H$8:$I$299,1,1),INDEX(AnalýzaDat!$H$8:$H$299,ROW(A97),1))),\"\")","v":""},{"$f":"IFERROR(IF(AND(poslední_položka-počáteční_řádek=0,ISBLANK(INDEX(AnalýzaDat!$I$8:$I$299,1,1))),\"\",IF(poslední_položka-počáteční_řádek=0,INDEX(AnalýzaDat!$I$8:$I$299,1,1),INDEX(AnalýzaDat!$I$8:$I$299,ROW(A97),1))),\"\")","v":""},198,null,{"$f":"IFERROR(AnalýzaDat!$O104,\"\")","v":198},{"$f":"IFERROR(VLOOKUP(AnalýzaDat!$Q$8:$Q$301,AnalýzaDat!$K$8:$N$301,3,FALSE),\"\")","v":""},{"$f":"IFERROR(VLOOKUP(AnalýzaDat!$Q$8:$Q$301,AnalýzaDat!$K$8:$N$301,4,FALSE),\"\")","v":""},{"$f":"IF(S104=S103,T103,\"\")&REPT(AnalýzaDat!$R104&\", \",AnalýzaDat!$R104<>\"\")","v":""},{"$f":"IF(COUNTIF(S$8:S104,S104)=1,S104,\"\")","v":""},{"$f":"IFERROR(IF(LEN(AnalýzaDat!$S$8:$S$301)=0,\"\",COUNTIF(AnalýzaDat!$S$8:$S$301,S104)),\"\")","v":""},{"$f":"IFERROR(IF(LEN($U104)>0,LEFT(INDIRECT(\"AnalýzaDat!T\"&ROW(AnalýzaDat!$U104)+AnalýzaDat!$V104-1),LEN(INDIRECT(\"AnalýzaDat!T\"&ROW(AnalýzaDat!$U104)+AnalýzaDat!$V104-1))-2),\"\"),\"\")","v":""}]
[{"$nulls":7},{"$f":"IFERROR(INDEX('Hlavní seznam měrných jednotek'!$B$4:$K$30,1+INT((ROW(A98)-1)/COLUMNS('Hlavní seznam měrných jednotek'!$B$4:$K$30)),MOD(ROW(A98)-1+COLUMNS('Hlavní seznam měrných jednotek'!$B$4:$K$30),COLUMNS('Hlavní seznam měrných jednotek'!$B$4:$K$30))+1),\"\")","v":""},"",null,{"$f":"IFERROR(RANK(L105,AnalýzaDat!$L$8:$L$301)+SUMPRODUCT(--(L105=AnalýzaDat!$L$8:$L$301),--(O105<AnalýzaDat!$O$8:$O$301)),\"\")","v":""},{"$f":"IFERROR(IF(COUNTIF(AnalýzaDat!$I$8:$I$299,\"<=\"&AnalýzaDat!$I$8:$I$299)=0,\"\",COUNTIF(AnalýzaDat!$I$8:$I$299,\"<=\"&AnalýzaDat!$I$8:$I$299)),\"\")","v":""},{"$f":"IFERROR(IF(AND(poslední_položka-počáteční_řádek=0,LEN(INDEX(AnalýzaDat!$H$8:$I$299,1,1)=0)),\"\",IF(poslední_položka-počáteční_řádek=0,INDEX(AnalýzaDat!$H$8:$I$299,1,1),INDEX(AnalýzaDat!$H$8:$H$299,ROW(A98),1))),\"\")","v":""},{"$f":"IFERROR(IF(AND(poslední_položka-počáteční_řádek=0,ISBLANK(INDEX(AnalýzaDat!$I$8:$I$299,1,1))),\"\",IF(poslední_položka-počáteční_řádek=0,INDEX(AnalýzaDat!$I$8:$I$299,1,1),INDEX(AnalýzaDat!$I$8:$I$299,ROW(A98),1))),\"\")","v":""},197,null,{"$f":"IFERROR(AnalýzaDat!$O105,\"\")","v":197},{"$f":"IFERROR(VLOOKUP(AnalýzaDat!$Q$8:$Q$301,AnalýzaDat!$K$8:$N$301,3,FALSE),\"\")","v":""},{"$f":"IFERROR(VLOOKUP(AnalýzaDat!$Q$8:$Q$301,AnalýzaDat!$K$8:$N$301,4,FALSE),\"\")","v":""},{"$f":"IF(S105=S104,T104,\"\")&REPT(AnalýzaDat!$R105&\", \",AnalýzaDat!$R105<>\"\")","v":""},{"$f":"IF(COUNTIF(S$8:S105,S105)=1,S105,\"\")","v":""},{"$f":"IFERROR(IF(LEN(AnalýzaDat!$S$8:$S$301)=0,\"\",COUNTIF(AnalýzaDat!$S$8:$S$301,S105)),\"\")","v":""},{"$f":"IFERROR(IF(LEN($U105)>0,LEFT(INDIRECT(\"AnalýzaDat!T\"&ROW(AnalýzaDat!$U105)+AnalýzaDat!$V105-1),LEN(INDIRECT(\"AnalýzaDat!T\"&ROW(AnalýzaDat!$U105)+AnalýzaDat!$V105-1))-2),\"\"),\"\")","v":""}]
[{"$nulls":7},{"$f":"IFERROR(INDEX('Hlavní seznam měrných jednotek'!$B$4:$K$30,1+INT((ROW(A99)-1)/COLUMNS('Hlavní seznam měrných jednotek'!$B$4:$K$30)),MOD(ROW(A99)-1+COLUMNS('Hlavní seznam měrných jednotek'!$B$4:$K$30),COLUMNS('Hlavní seznam měrných jednotek'!$B$4:$K$30))+1),\"\")","v":""},"",null,{"$f":"IFERROR(RANK(L106,AnalýzaDat!$L$8:$L$301)+SUMPRODUCT(--(L106=AnalýzaDat!$L$8:$L$301),--(O106<AnalýzaDat!$O$8:$O$301)),\"\")","v":""},{"$f":"IFERROR(IF(COUNTIF(AnalýzaDat!$I$8:$I$299,\"<=\"&AnalýzaDat!$I$8:$I$299)=0,\"\",COUNTIF(AnalýzaDat!$I$8:$I$299,\"<=\"&AnalýzaDat!$I$8:$I$299)),\"\")","v":""},{"$f":"IFERROR(IF(AND(poslední_položka-počáteční_řádek=0,LEN(INDEX(AnalýzaDat!$H$8:$I$299,1,1)=0)),\"\",IF(poslední_položka-počáteční_řádek=0,INDEX(AnalýzaDat!$H$8:$I$299,1,1),INDEX(AnalýzaDat!$H$8:$H$299,ROW(A99),1))),\"\")","v":""},{"$f":"IFERROR(IF(AND(poslední_položka-počáteční_řádek=0,ISBLANK(INDEX(AnalýzaDat!$I$8:$I$299,1,1))),\"\",IF(poslední_položka-počáteční_řádek=0,INDEX(AnalýzaDat!$I$8:$I$299,1,1),INDEX(AnalýzaDat!$I$8:$I$299,ROW(A99),1))),\"\")","v":""},196,null,{"$f":"IFERROR(AnalýzaDat!$O106,\"\")","v":196},{"$f":"IFERROR(VLOOKUP(AnalýzaDat!$Q$8:$Q$301,AnalýzaDat!$K$8:$N$301,3,FALSE),\"\")","v":""},{"$f":"IFERROR(VLOOKUP(AnalýzaDat!$Q$8:$Q$301,AnalýzaDat!$K$8:$N$301,4,FALSE),\"\")","v":""},{"$f":"IF(S106=S105,T105,\"\")&REPT(AnalýzaDat!$R106&\", \",AnalýzaDat!$R106<>\"\")","v":""},{"$f":"IF(COUNTIF(S$8:S106,S106)=1,S106,\"\")","v":""},{"$f":"IFERROR(IF(LEN(AnalýzaDat!$S$8:$S$301)=0,\"\",COUNTIF(AnalýzaDat!$S$8:$S$301,S106)),\"\")","v":""},{"$f":"IFERROR(IF(LEN($U106)>0,LEFT(INDIRECT(\"AnalýzaDat!T\"&ROW(AnalýzaDat!$U106)+AnalýzaDat!$V106-1),LEN(INDIRECT(\"AnalýzaDat!T\"&ROW(AnalýzaDat!$U106)+AnalýzaDat!$V106-1))-2),\"\"),\"\")","v":""}]
[{"$nulls":7},{"$f":"IFERROR(INDEX('Hlavní seznam měrných jednotek'!$B$4:$K$30,1+INT((ROW(A100)-1)/COLUMNS('Hlavní seznam měrných jednotek'!$B$4:$K$30)),MOD(ROW(A100)-1+COLUMNS('Hlavní seznam měrných jednotek'!$B$4:$K$30),COLUMNS('Hlavní seznam měrných jednotek'!$B$4:$K$30))+1),\"\")","v":""},"",null,{"$f":"IFERROR(RANK(L107,AnalýzaDat!$L$8:$L$301)+SUMPRODUCT(--(L107=AnalýzaDat!$L$8:$L$301),--(O107<AnalýzaDat!$O$8:$O$301)),\"\")","v":""},{"$f":"IFERROR(IF(COUNTIF(AnalýzaDat!$I$8:$I$299,\"<=\"&AnalýzaDat!$I$8:$I$299)=0,\"\",COUNTIF(AnalýzaDat!$I$8:$I$299,\"<=\"&AnalýzaDat!$I$8:$I$299)),\"\")","v":""},{"$f":"IFERROR(IF(AND(poslední_položka-počáteční_řádek=0,LEN(INDEX(AnalýzaDat!$H$8:$I$299,1,1)=0)),\"\",IF(poslední_položka-počáteční_řádek=0,INDEX(AnalýzaDat!$H$8:$I$299,1,1),INDEX(AnalýzaDat!$H$8:$H$299,ROW(A100),1))),\"\")","v":""},{"$f":"IFERROR(IF(AND(poslední_položka-počáteční_řádek=0,ISBLANK(INDEX(AnalýzaDat!$I$8:$I$299,1,1))),\"\",IF(poslední_položka-počáteční_řádek=0,INDEX(AnalýzaDat!$I$8:$I$299,1,1),INDEX(AnalýzaDat!$I$8:$I$299,ROW(A100),1))),\"\")","v":""},195,null,{"$f":"IFERROR(AnalýzaDat!$O107,\"\")","v":195},{"$f":"IFERROR(VLOOKUP(AnalýzaDat!$Q$8:$Q$301,AnalýzaDat!$K$8:$N$301,3,FALSE),\"\")","v":""},{"$f":"IFERROR(VLOOKUP(AnalýzaDat!$Q$8:$Q$301,AnalýzaDat!$K$8:$N$301,4,FALSE),\"\")","v":""},{"$f":"IF(S107=S106,T106,\"\")&REPT(AnalýzaDat!$R107&\", \",AnalýzaDat!$R107<>\"\")","v":""},{"$f":"IF(COUNTIF(S$8:S107,S107)=1,S107,\"\")","v":""},{"$f":"IFERROR(IF(LEN(AnalýzaDat!$S$8:$S$301)=0,\"\",COUNTIF(AnalýzaDat!$S$8:$S$301,S107)),\"\")","v":""},{"$f":"IFERROR(IF(LEN($U107)>0,LEFT(INDIRECT(\"AnalýzaDat!T\"&ROW(AnalýzaDat!$U107)+AnalýzaDat!$V107-1),LEN(INDIRECT(\"AnalýzaDat!T\"&ROW(AnalýzaDat!$U107)+AnalýzaDat!$V107-1))-2),\"\"),\"\")","v":""}]
[{"$nulls":7},{"$f":"IFERROR(INDEX('Hlavní seznam měrných jednotek'!$B$4:$K$30,1+INT((ROW(A101)-1)/COLUMNS('Hlavní seznam měrných jednotek'!$B$4:$K$30)),MOD(ROW(A101)-1+COLUMNS('Hlavní seznam měrných jednotek'!$B$4:$K$30),COLUMNS('Hlavní seznam měrných jednotek'!$B$4:$K$30))+1),\"\")","v":"1 šálek"},"nakrájený sýr mozzarella",null,{"$f":"IFERROR(RANK(L108,AnalýzaDat!$L$8:$L$301)+SUMPRODUCT(--(L108=AnalýzaDat!$L$8:$L$301),--(O108<AnalýzaDat!$O$8:$O$301)),\"\")","v":8},{"$f":"IFERROR(IF(COUNTIF(AnalýzaDat!$I$8:$I$299,\"<=\"&AnalýzaDat!$I$8:$I$299)=0,\"\",COUNTIF(AnalýzaDat!$I$8:$I$299,\"<=\"&AnalýzaDat!$I$8:$I$299)),\"\")","v":285},{"$f":"IFERROR(IF(AND(poslední_položka-počáteční_řádek=0,LEN(INDEX(AnalýzaDat!$H$8:$I$299,1,1)=0)),\"\",IF(poslední_položka-počáteční_řádek=0,INDEX(AnalýzaDat!$H$8:$I$299,1,1),INDEX(AnalýzaDat!$H$8:$H$299,ROW(A101),1))),\"\")","v":"1 šálek"},{"$f":"IFERROR(IF(AND(poslední_položka-počáteční_řádek=0,ISBLANK(INDEX(AnalýzaDat!$I$8:$I$299,1,1))),\"\",IF(poslední_položka-počáteční_řádek=0,INDEX(AnalýzaDat!$I$8:$I$299,1,1),INDEX(AnalýzaDat!$I$8:$I$299,ROW(A101),1))),\"\")","v":"nakrájený sýr mozzarella"},194,null,{"$f":"IFERROR(AnalýzaDat!$O108,\"\")","v":194},{"$f":"IFERROR(VLOOKUP(AnalýzaDat!$Q$8:$Q$301,AnalýzaDat!$K$8:$N$301,3,FALSE),\"\")","v":""},{"$f":"IFERROR(VLOOKUP(AnalýzaDat!$Q$8:$Q$301,AnalýzaDat!$K$8:$N$301,4,FALSE),\"\")","v":""},{"$f":"IF(S108=S107,T107,\"\")&REPT(AnalýzaDat!$R108&\", \",AnalýzaDat!$R108<>\"\")","v":""},{"$f":"IF(COUNTIF(S$8:S108,S108)=1,S108,\"\")","v":""},{"$f":"IFERROR(IF(LEN(AnalýzaDat!$S$8:$S$301)=0,\"\",COUNTIF(AnalýzaDat!$S$8:$S$301,S108)),\"\")","v":""},{"$f":"IFERROR(IF(LEN($U108)>0,LEFT(INDIRECT(\"AnalýzaDat!T\"&ROW(AnalýzaDat!$U108)+AnalýzaDat!$V108-1),LEN(INDIRECT(\"AnalýzaDat!T\"&ROW(AnalýzaDat!$U108)+AnalýzaDat!$V108-1))-2),\"\"),\"\")","v":""}]
[{"$nulls":7},{"$f":"IFERROR(INDEX('Hlavní seznam měrných jednotek'!$B$4:$K$30,1+INT((ROW(A102)-1)/COLUMNS('Hlavní seznam měrných jednotek'!$B$4:$K$30)),MOD(ROW(A102)-1+COLUMNS('Hlavní seznam měrných jednotek'!$B$4:$K$30),COLUMNS('Hlavní seznam měrných jednotek'!$B$4:$K$30))+1),\"\")","v":" "},"",null,{"$f":"IFERROR(RANK(L109,AnalýzaDat!$L$8:$L$301)+SUMPRODUCT(--(L109=AnalýzaDat!$L$8:$L$301),--(O109<AnalýzaDat!$O$8:$O$301)),\"\")","v":""},{"$f":"IFERROR(IF(COUNTIF(AnalýzaDat!$I$8:$I$299,\"<=\"&AnalýzaDat!$I$8:$I$299)=0,\"\",COUNTIF(AnalýzaDat!$I$8:$I$299,\"<=\"&AnalýzaDat!$I$8:$I$299)),\"\")","v":""},{"$f":"IFERROR(IF(AND(poslední_položka-počáteční_řádek=0,LEN(INDEX(AnalýzaDat!$H$8:$I$299,1,1)=0)),\"\",IF(poslední_položka-počáteční_řádek=0,INDEX(AnalýzaDat!$H$8:$I$299,1,1),INDEX(AnalýzaDat!$H$8:$H$299,ROW(A102),1))),\"\")","v":" "},{"$f":"IFERROR(IF(AND(poslední_položka-počáteční_řádek=0,ISBLANK(INDEX(AnalýzaDat!$I$8:$I$299,1,1))),\"\",IF(poslední_položka-počáteční_řádek=0,INDEX(AnalýzaDat!$I$8:$I$299,1,1),INDEX(AnalýzaDat!$I$8:$I$299,ROW(A102),1))),\"\")","v":""},193,null,{"$f":"IFERROR(AnalýzaDat!$O109,\"\")","v":193},{"$f":"IFERROR(VLOOKUP(AnalýzaDat!$Q$8:$Q$301,AnalýzaDat!$K$8:$N$301,3,FALSE),\"\")","v":""},{"$f":"IFERROR(VLOOKUP(AnalýzaDat!$Q$8:$Q$301,AnalýzaDat!$K$8:$N$301,4,FALSE),\"\")","v":""},{"$f":"IF(S109=S108,T108,\"\")&REPT(AnalýzaDat!$R109&\", \",AnalýzaDat!$R109<>\"\")","v":""},{"$f":"IF(COUNTIF(S$8:S109,S109)=1,S109,\"\")","v":""},{"$f":"IFERROR(IF(LEN(AnalýzaDat!$S$8:$S$301)=0,\"\",COUNTIF(AnalýzaDat!$S$8:$S$301,S109)),\"\")","v":""},{"$f":"IFERROR(IF(LEN($U109)>0,LEFT(INDIRECT(\"AnalýzaDat!T\"&ROW(AnalýzaDat!$U109)+AnalýzaDat!$V109-1),LEN(INDIRECT(\"AnalýzaDat!T\"&ROW(AnalýzaDat!$U109)+AnalýzaDat!$V109-1))-2),\"\"),\"\")","v":""}]
[{"$nulls":7},{"$f":"IFERROR(INDEX('Hlavní seznam měrných jednotek'!$B$4:$K$30,1+INT((ROW(A103)-1)/COLUMNS('Hlavní seznam měrných jednotek'!$B$4:$K$30)),MOD(ROW(A103)-1+COLUMNS('Hlavní seznam měrných jednotek'!$B$4:$K$30),COLUMNS('Hlavní seznam měrných jednotek'!$B$4:$K$30))+1),\"\")","v":""},"",null,{"$f":"IFERROR(RANK(L110,AnalýzaDat!$L$8:$L$301)+SUMPRODUCT(--(L110=AnalýzaDat!$L$8:$L$301),--(O110<AnalýzaDat!$O$8:$O$301)),\"\")","v":""},{"$f":"IFERROR(IF(COUNTIF(AnalýzaDat!$I$8:$I$299,\"<=\"&AnalýzaDat!$I$8:$I$299)=0,\"\",COUNTIF(AnalýzaDat!$I$8:$I$299,\"<=\"&AnalýzaDat!$I$8:$I$299)),\"\")","v":""},{"$f":"IFERROR(IF(AND(poslední_položka-počáteční_řádek=0,LEN(INDEX(AnalýzaDat!$H$8:$I$299,1,1)=0)),\"\",IF(poslední_položka-počáteční_řádek=0,INDEX(AnalýzaDat!$H$8:$I$299,1,1),INDEX(AnalýzaDat!$H$8:$H$299,ROW(A103),1))),\"\")","v":""},{"$f":"IFERROR(IF(AND(poslední_položka-počáteční_řádek=0,ISBLANK(INDEX(AnalýzaDat!$I$8:$I$299,1,1))),\"\",IF(poslední_položka-počáteční_řádek=0,INDEX(AnalýzaDat!$I$8:$I$299,1,1),INDEX(AnalýzaDat!$I$8:$I$299,ROW(A103),1))),\"\")","v":""},192,null,{"$f":"IFERROR(AnalýzaDat!$O110,\"\")","v":192},{"$f":"IFERROR(VLOOKUP(AnalýzaDat!$Q$8:$Q$301,AnalýzaDat!$K$8:$N$301,3,FALSE),\"\")","v":""},{"$f":"IFERROR(VLOOKUP(AnalýzaDat!$Q$8:$Q$301,AnalýzaDat!$K$8:$N$301,4,FALSE),\"\")","v":""},{"$f":"IF(S110=S109,T109,\"\")&REPT(AnalýzaDat!$R110&\", \",AnalýzaDat!$R110<>\"\")","v":""},{"$f":"IF(COUNTIF(S$8:S110,S110)=1,S110,\"\")","v":""},{"$f":"IFERROR(IF(LEN(AnalýzaDat!$S$8:$S$301)=0,\"\",COUNTIF(AnalýzaDat!$S$8:$S$301,S110)),\"\")","v":""},{"$f":"IFERROR(IF(LEN($U110)>0,LEFT(INDIRECT(\"AnalýzaDat!T\"&ROW(AnalýzaDat!$U110)+AnalýzaDat!$V110-1),LEN(INDIRECT(\"AnalýzaDat!T\"&ROW(AnalýzaDat!$U110)+AnalýzaDat!$V110-1))-2),\"\"),\"\")","v":""}]
[{"$nulls":7},{"$f":"IFERROR(INDEX('Hlavní seznam měrných jednotek'!$B$4:$K$30,1+INT((ROW(A104)-1)/COLUMNS('Hlavní seznam měrných jednotek'!$B$4:$K$30)),MOD(ROW(A104)-1+COLUMNS('Hlavní seznam měrných jednotek'!$B$4:$K$30),COLUMNS('Hlavní seznam měrných jednotek'!$B$4:$K$30))+1),\"\")","v":""},"",null,{"$f":"IFERROR(RANK(L111,AnalýzaDat!$L$8:$L$301)+SUMPRODUCT(--(L111=AnalýzaDat!$L$8:$L$301),--(O111<AnalýzaDat!$O$8:$O$301)),\"\")","v":""},{"$f":"IFERROR(IF(COUNTIF(AnalýzaDat!$I$8:$I$299,\"<=\"&AnalýzaDat!$I$8:$I$299)=0,\"\",COUNTIF(AnalýzaDat!$I$8:$I$299,\"<=\"&AnalýzaDat!$I$8:$I$299)),\"\")","v":""},{"$f":"IFERROR(IF(AND(poslední_položka-počáteční_řádek=0,LEN(INDEX(AnalýzaDat!$H$8:$I$299,1,1)=0)),\"\",IF(poslední_položka-počáteční_řádek=0,INDEX(AnalýzaDat!$H$8:$I$299,1,1),INDEX(AnalýzaDat!$H$8:$H$299,ROW(A104),1))),\"\")","v":""},{"$f":"IFERROR(IF(AND(poslední_položka-počáteční_řádek=0,ISBLANK(INDEX(AnalýzaDat!$I$8:$I$299,1,1))),\"\",IF(poslední_položka-počáteční_řádek=0,INDEX(AnalýzaDat!$I$8:$I$299,1,1),INDEX(AnalýzaDat!$I$8:$I$299,ROW(A104),1))),\"\")","v":""},191,null,{"$f":"IFERROR(AnalýzaDat!$O111,\"\")","v":191},{"$f":"IFERROR(VLOOKUP(AnalýzaDat!$Q$8:$Q$301,AnalýzaDat!$K$8:$N$301,3,FALSE),\"\")","v":""},{"$f":"IFERROR(VLOOKUP(AnalýzaDat!$Q$8:$Q$301,AnalýzaDat!$K$8:$N$301,4,FALSE),\"\")","v":""},{"$f":"IF(S111=S110,T110,\"\")&REPT(AnalýzaDat!$R111&\", \",AnalýzaDat!$R111<>\"\")","v":""},{"$f":"IF(COUNTIF(S$8:S111,S111)=1,S111,\"\")","v":""},{"$f":"IFERROR(IF(LEN(AnalýzaDat!$S$8:$S$301)=0,\"\",COUNTIF(AnalýzaDat!$S$8:$S$301,S111)),\"\")","v":""},{"$f":"IFERROR(IF(LEN($U111)>0,LEFT(INDIRECT(\"AnalýzaDat!T\"&ROW(AnalýzaDat!$U111)+AnalýzaDat!$V111-1),LEN(INDIRECT(\"AnalýzaDat!T\"&ROW(AnalýzaDat!$U111)+AnalýzaDat!$V111-1))-2),\"\"),\"\")","v":""}]
[{"$nulls":7},{"$f":"IFERROR(INDEX('Hlavní seznam měrných jednotek'!$B$4:$K$30,1+INT((ROW(A105)-1)/COLUMNS('Hlavní seznam měrných jednotek'!$B$4:$K$30)),MOD(ROW(A105)-1+COLUMNS('Hlavní seznam měrných jednotek'!$B$4:$K$30),COLUMNS('Hlavní seznam měrných jednotek'!$B$4:$K$30))+1),\"\")","v":""},"",null,{"$f":"IFERROR(RANK(L112,AnalýzaDat!$L$8:$L$301)+SUMPRODUCT(--(L112=AnalýzaDat!$L$8:$L$301),--(O112<AnalýzaDat!$O$8:$O$301)),\"\")","v":""},{"$f":"IFERROR(IF(COUNTIF(AnalýzaDat!$I$8:$I$299,\"<=\"&AnalýzaDat!$I$8:$I$299)=0,\"\",COUNTIF(AnalýzaDat!$I$8:$I$299,\"<=\"&AnalýzaDat!$I$8:$I$299)),\"\")","v":""},{"$f":"IFERROR(IF(AND(poslední_položka-počáteční_řádek=0,LEN(INDEX(AnalýzaDat!$H$8:$I$299,1,1)=0)),\"\",IF(poslední_položka-počáteční_řádek=0,INDEX(AnalýzaDat!$H$8:$I$299,1,1),INDEX(AnalýzaDat!$H$8:$H$299,ROW(A105),1))),\"\")","v":""},{"$f":"IFERROR(IF(AND(poslední_položka-počáteční_řádek=0,ISBLANK(INDEX(AnalýzaDat!$I$8:$I$299,1,1))),\"\",IF(poslední_položka-počáteční_řádek=0,INDEX(AnalýzaDat!$I$8:$I$299,1,1),INDEX(AnalýzaDat!$I$8:$I$299,ROW(A105),1))),\"\")","v":""},190,null,{"$f":"IFERROR(AnalýzaDat!$O112,\"\")","v":190},{"$f":"IFERROR(VLOOKUP(AnalýzaDat!$Q$8:$Q$301,AnalýzaDat!$K$8:$N$301,3,FALSE),\"\")","v":""},{"$f":"IFERROR(VLOOKUP(AnalýzaDat!$Q$8:$Q$301,AnalýzaDat!$K$8:$N$301,4,FALSE),\"\")","v":""},{"$f":"IF(S112=S111,T111,\"\")&REPT(AnalýzaDat!$R112&\", \",AnalýzaDat!$R112<>\"\")","v":""},{"$f":"IF(COUNTIF(S$8:S112,S112)=1,S112,\"\")","v":""},{"$f":"IFERROR(IF(LEN(AnalýzaDat!$S$8:$S$301)=0,\"\",COUNTIF(AnalýzaDat!$S$8:$S$301,S112)),\"\")","v":""},{"$f":"IFERROR(IF(LEN($U112)>0,LEFT(INDIRECT(\"AnalýzaDat!T\"&ROW(AnalýzaDat!$U112)+AnalýzaDat!$V112-1),LEN(INDIRECT(\"AnalýzaDat!T\"&ROW(AnalýzaDat!$U112)+AnalýzaDat!$V112-1))-2),\"\"),\"\")","v":""}]
[{"$nulls":7},{"$f":"IFERROR(INDEX('Hlavní seznam měrných jednotek'!$B$4:$K$30,1+INT((ROW(A106)-1)/COLUMNS('Hlavní seznam měrných jednotek'!$B$4:$K$30)),MOD(ROW(A106)-1+COLUMNS('Hlavní seznam měrných jednotek'!$B$4:$K$30),COLUMNS('Hlavní seznam měrných jednotek'!$B$4:$K$30))+1),\"\")","v":""},"",null,{"$f":"IFERROR(RANK(L113,AnalýzaDat!$L$8:$L$301)+SUMPRODUCT(--(L113=AnalýzaDat!$L$8:$L$301),--(O113<AnalýzaDat!$O$8:$O$301)),\"\")","v":""},{"$f":"IFERROR(IF(COUNTIF(AnalýzaDat!$I$8:$I$299,\"<=\"&AnalýzaDat!$I$8:$I$299)=0,\"\",COUNTIF(AnalýzaDat!$I$8:$I$299,\"<=\"&AnalýzaDat!$I$8:$I$299)),\"\")","v":""},{"$f":"IFERROR(IF(AND(poslední_položka-počáteční_řádek=0,LEN(INDEX(AnalýzaDat!$H$8:$I$299,1,1)=0)),\"\",IF(poslední_položka-počáteční_řádek=0,INDEX(AnalýzaDat!$H$8:$I$299,1,1),INDEX(AnalýzaDat!$H$8:$H$299,ROW(A106),1))),\"\")","v":""},{"$f":"IFERROR(IF(AND(poslední_položka-počáteční_řádek=0,ISBLANK(INDEX(AnalýzaDat!$I$8:$I$299,1,1))),\"\",IF(poslední_položka-počáteční_řádek=0,INDEX(AnalýzaDat!$I$8:$I$299,1,1),INDEX(AnalýzaDat!$I$8:$I$299,ROW(A106),1))),\"\")","v":""},189,null,{"$f":"IFERROR(AnalýzaDat!$O113,\"\")","v":189},{"$f":"IFERROR(VLOOKUP(AnalýzaDat!$Q$8:$Q$301,AnalýzaDat!$K$8:$N$301,3,FALSE),\"\")","v":""},{"$f":"IFERROR(VLOOKUP(AnalýzaDat!$Q$8:$Q$301,AnalýzaDat!$K$8:$N$301,4,FALSE),\"\")","v":""},{"$f":"IF(S113=S112,T112,\"\")&REPT(AnalýzaDat!$R113&\", \",AnalýzaDat!$R113<>\"\")","v":""},{"$f":"IF(COUNTIF(S$8:S113,S113)=1,S113,\"\")","v":""},{"$f":"IFERROR(IF(LEN(AnalýzaDat!$S$8:$S$301)=0,\"\",COUNTIF(AnalýzaDat!$S$8:$S$301,S113)),\"\")","v":""},{"$f":"IFERROR(IF(LEN($U113)>0,LEFT(INDIRECT(\"AnalýzaDat!T\"&ROW(AnalýzaDat!$U113)+AnalýzaDat!$V113-1),LEN(INDIRECT(\"AnalýzaDat!T\"&ROW(AnalýzaDat!$U113)+AnalýzaDat!$V113-1))-2),\"\"),\"\")","v":""}]
[{"$nulls":7},{"$f":"IFERROR(INDEX('Hlavní seznam měrných jednotek'!$B$4:$K$30,1+INT((ROW(A107)-1)/COLUMNS('Hlavní seznam měrných jednotek'!$B$4:$K$30)),MOD(ROW(A107)-1+COLUMNS('Hlavní seznam měrných jednotek'!$B$4:$K$30),COLUMNS('Hlavní seznam měrných jednotek'!$B$4:$K$30))+1),\"\")","v":""},"",null,{"$f":"IFERROR(RANK(L114,AnalýzaDat!$L$8:$L$301)+SUMPRODUCT(--(L114=AnalýzaDat!$L$8:$L$301),--(O114<AnalýzaDat!$O$8:$O$301)),\"\")","v":""},{"$f":"IFERROR(IF(COUNTIF(AnalýzaDat!$I$8:$I$299,\"<=\"&AnalýzaDat!$I$8:$I$299)=0,\"\",COUNTIF(AnalýzaDat!$I$8:$I$299,\"<=\"&AnalýzaDat!$I$8:$I$299)),\"\")","v":""},{"$f":"IFERROR(IF(AND(poslední_položka-počáteční_řádek=0,LEN(INDEX(AnalýzaDat!$H$8:$I$299,1,1)=0)),\"\",IF(poslední_položka-počáteční_řádek=0,INDEX(AnalýzaDat!$H$8:$I$299,1,1),INDEX(AnalýzaDat!$H$8:$H$299,ROW(A107),1))),\"\")","v":""},{"$f":"IFERROR(IF(AND(poslední_položka-počáteční_řádek=0,ISBLANK(INDEX(AnalýzaDat!$I$8:$I$299,1,1))),\"\",IF(poslední_položka-počáteční_řádek=0,INDEX(AnalýzaDat!$I$8:$I$299,1,1),INDEX(AnalýzaDat!$I$8:$I$299,ROW(A107),1))),\"\")","v":""},188,null,{"$f":"IFERROR(AnalýzaDat!$O114,\"\")","v":188},{"$f":"IFERROR(VLOOKUP(AnalýzaDat!$Q$8:$Q$301,AnalýzaDat!$K$8:$N$301,3,FALSE),\"\")","v":""},{"$f":"IFERROR(VLOOKUP(AnalýzaDat!$Q$8:$Q$301,AnalýzaDat!$K$8:$N$301,4,FALSE),\"\")","v":""},{"$f":"IF(S114=S113,T113,\"\")&REPT(AnalýzaDat!$R114&\", \",AnalýzaDat!$R114<>\"\")","v":""},{"$f":"IF(COUNTIF(S$8:S114,S114)=1,S114,\"\")","v":""},{"$f":"IFERROR(IF(LEN(AnalýzaDat!$S$8:$S$301)=0,\"\",COUNTIF(AnalýzaDat!$S$8:$S$301,S114)),\"\")","v":""},{"$f":"IFERROR(IF(LEN($U114)>0,LEFT(INDIRECT(\"AnalýzaDat!T\"&ROW(AnalýzaDat!$U114)+AnalýzaDat!$V114-1),LEN(INDIRECT(\"AnalýzaDat!T\"&ROW(AnalýzaDat!$U114)+AnalýzaDat!$V114-1))-2),\"\"),\"\")","v":""}]
[{"$nulls":7},{"$f":"IFERROR(INDEX('Hlavní seznam měrných jednotek'!$B$4:$K$30,1+INT((ROW(A108)-1)/COLUMNS('Hlavní seznam měrných jednotek'!$B$4:$K$30)),MOD(ROW(A108)-1+COLUMNS('Hlavní seznam měrných jednotek'!$B$4:$K$30),COLUMNS('Hlavní seznam měrných jednotek'!$B$4:$K$30))+1),\"\")","v":""},"",null,{"$f":"IFERROR(RANK(L115,AnalýzaDat!$L$8:$L$301)+SUMPRODUCT(--(L115=AnalýzaDat!$L$8:$L$301),--(O115<AnalýzaDat!$O$8:$O$301)),\"\")","v":""},{"$f":"IFERROR(IF(COUNTIF(AnalýzaDat!$I$8:$I$299,\"<=\"&AnalýzaDat!$I$8:$I$299)=0,\"\",COUNTIF(AnalýzaDat!$I$8:$I$299,\"<=\"&AnalýzaDat!$I$8:$I$299)),\"\")","v":""},{"$f":"IFERROR(IF(AND(poslední_položka-počáteční_řádek=0,LEN(INDEX(AnalýzaDat!$H$8:$I$299,1,1)=0)),\"\",IF(poslední_položka-počáteční_řádek=0,INDEX(AnalýzaDat!$H$8:$I$299,1,1),INDEX(AnalýzaDat!$H$8:$H$299,ROW(A108),1))),\"\")","v":""},{"$f":"IFERROR(IF(AND(poslední_položka-počáteční_řádek=0,ISBLANK(INDEX(AnalýzaDat!$I$8:$I$299,1,1))),\"\",IF(poslední_položka-počáteční_řádek=0,INDEX(AnalýzaDat!$I$8:$I$299,1,1),INDEX(AnalýzaDat!$I$8:$I$299,ROW(A108),1))),\"\")","v":""},187,null,{"$f":"IFERROR(AnalýzaDat!$O115,\"\")","v":187},{"$f":"IFERROR(VLOOKUP(AnalýzaDat!$Q$8:$Q$301,AnalýzaDat!$K$8:$N$301,3,FALSE),\"\")","v":""},{"$f":"IFERROR(VLOOKUP(AnalýzaDat!$Q$8:$Q$301,AnalýzaDat!$K$8:$N$301,4,FALSE),\"\")","v":""},{"$f":"IF(S115=S114,T114,\"\")&REPT(AnalýzaDat!$R115&\", \",AnalýzaDat!$R115<>\"\")","v":""},{"$f":"IF(COUNTIF(S$8:S115,S115)=1,S115,\"\")","v":""},{"$f":"IFERROR(IF(LEN(AnalýzaDat!$S$8:$S$301)=0,\"\",COUNTIF(AnalýzaDat!$S$8:$S$301,S115)),\"\")","v":""},{"$f":"IFERROR(IF(LEN($U115)>0,LEFT(INDIRECT(\"AnalýzaDat!T\"&ROW(AnalýzaDat!$U115)+AnalýzaDat!$V115-1),LEN(INDIRECT(\"AnalýzaDat!T\"&ROW(AnalýzaDat!$U115)+AnalýzaDat!$V115-1))-2),\"\"),\"\")","v":""}]
[{"$nulls":7},{"$f":"IFERROR(INDEX('Hlavní seznam měrných jednotek'!$B$4:$K$30,1+INT((ROW(A109)-1)/COLUMNS('Hlavní seznam měrných jednotek'!$B$4:$K$30)),MOD(ROW(A109)-1+COLUMNS('Hlavní seznam měrných jednotek'!$B$4:$K$30),COLUMNS('Hlavní seznam měrných jednotek'!$B$4:$K$30))+1),\"\")","v":""},"",null,{"$f":"IFERROR(RANK(L116,AnalýzaDat!$L$8:$L$301)+SUMPRODUCT(--(L116=AnalýzaDat!$L$8:$L$301),--(O116<AnalýzaDat!$O$8:$O$301)),\"\")","v":""},{"$f":"IFERROR(IF(COUNTIF(AnalýzaDat!$I$8:$I$299,\"<=\"&AnalýzaDat!$I$8:$I$299)=0,\"\",COUNTIF(AnalýzaDat!$I$8:$I$299,\"<=\"&AnalýzaDat!$I$8:$I$299)),\"\")","v":""},{"$f":"IFERROR(IF(AND(poslední_položka-počáteční_řádek=0,LEN(INDEX(AnalýzaDat!$H$8:$I$299,1,1)=0)),\"\",IF(poslední_položka-počáteční_řádek=0,INDEX(AnalýzaDat!$H$8:$I$299,1,1),INDEX(AnalýzaDat!$H$8:$H$299,ROW(A109),1))),\"\")","v":""},{"$f":"IFERROR(IF(AND(poslední_položka-počáteční_řádek=0,ISBLANK(INDEX(AnalýzaDat!$I$8:$I$299,1,1))),\"\",IF(poslední_položka-počáteční_řádek=0,INDEX(AnalýzaDat!$I$8:$I$299,1,1),INDEX(AnalýzaDat!$I$8:$I$299,ROW(A109),1))),\"\")","v":""},186,null,{"$f":"IFERROR(AnalýzaDat!$O116,\"\")","v":186},{"$f":"IFERROR(VLOOKUP(AnalýzaDat!$Q$8:$Q$301,AnalýzaDat!$K$8:$N$301,3,FALSE),\"\")","v":""},{"$f":"IFERROR(VLOOKUP(AnalýzaDat!$Q$8:$Q$301,AnalýzaDat!$K$8:$N$301,4,FALSE),\"\")","v":""},{"$f":"IF(S116=S115,T115,\"\")&REPT(AnalýzaDat!$R116&\", \",AnalýzaDat!$R116<>\"\")","v":""},{"$f":"IF(COUNTIF(S$8:S116,S116)=1,S116,\"\")","v":""},{"$f":"IFERROR(IF(LEN(AnalýzaDat!$S$8:$S$301)=0,\"\",COUNTIF(AnalýzaDat!$S$8:$S$301,S116)),\"\")","v":""},{"$f":"IFERROR(IF(LEN($U116)>0,LEFT(INDIRECT(\"AnalýzaDat!T\"&ROW(AnalýzaDat!$U116)+AnalýzaDat!$V116-1),LEN(INDIRECT(\"AnalýzaDat!T\"&ROW(AnalýzaDat!$U116)+AnalýzaDat!$V116-1))-2),\"\"),\"\")","v":""}]
[{"$nulls":7},{"$f":"IFERROR(INDEX('Hlavní seznam měrných jednotek'!$B$4:$K$30,1+INT((ROW(A110)-1)/COLUMNS('Hlavní seznam měrných jednotek'!$B$4:$K$30)),MOD(ROW(A110)-1+COLUMNS('Hlavní seznam měrných jednotek'!$B$4:$K$30),COLUMNS('Hlavní seznam měrných jednotek'!$B$4:$K$30))+1),\"\")","v":""},"",null,{"$f":"IFERROR(RANK(L117,AnalýzaDat!$L$8:$L$301)+SUMPRODUCT(--(L117=AnalýzaDat!$L$8:$L$301),--(O117<AnalýzaDat!$O$8:$O$301)),\"\")","v":""},{"$f":"IFERROR(IF(COUNTIF(AnalýzaDat!$I$8:$I$299,\"<=\"&AnalýzaDat!$I$8:$I$299)=0,\"\",COUNTIF(AnalýzaDat!$I$8:$I$299,\"<=\"&AnalýzaDat!$I$8:$I$299)),\"\")","v":""},{"$f":"IFERROR(IF(AND(poslední_položka-počáteční_řádek=0,LEN(INDEX(AnalýzaDat!$H$8:$I$299,1,1)=0)),\"\",IF(poslední_položka-počáteční_řádek=0,INDEX(AnalýzaDat!$H$8:$I$299,1,1),INDEX(AnalýzaDat!$H$8:$H$299,ROW(A110),1))),\"\")","v":""},{"$f":"IFERROR(IF(AND(poslední_položka-počáteční_řádek=0,ISBLANK(INDEX(AnalýzaDat!$I$8:$I$299,1,1))),\"\",IF(poslední_položka-počáteční_řádek=0,INDEX(AnalýzaDat!$I$8:$I$299,1,1),INDEX(AnalýzaDat!$I$8:$I$299,ROW(A110),1))),\"\")","v":""},185,null,{"$f":"IFERROR(AnalýzaDat!$O117,\"\")","v":185},{"$f":"IFERROR(VLOOKUP(AnalýzaDat!$Q$8:$Q$301,AnalýzaDat!$K$8:$N$301,3,FALSE),\"\")","v":""},{"$f":"IFERROR(VLOOKUP(AnalýzaDat!$Q$8:$Q$301,AnalýzaDat!$K$8:$N$301,4,FALSE),\"\")","v":""},{"$f":"IF(S117=S116,T116,\"\")&REPT(AnalýzaDat!$R117&\", \",AnalýzaDat!$R117<>\"\")","v":""},{"$f":"IF(COUNTIF(S$8:S117,S117)=1,S117,\"\")","v":""},{"$f":"IFERROR(IF(LEN(AnalýzaDat!$S$8:$S$301)=0,\"\",COUNTIF(AnalýzaDat!$S$8:$S$301,S117)),\"\")","v":""},{"$f":"IFERROR(IF(LEN($U117)>0,LEFT(INDIRECT(\"AnalýzaDat!T\"&ROW(AnalýzaDat!$U117)+AnalýzaDat!$V117-1),LEN(INDIRECT(\"AnalýzaDat!T\"&ROW(AnalýzaDat!$U117)+AnalýzaDat!$V117-1))-2),\"\"),\"\")","v":""}]
[{"$nulls":7},{"$f":"IFERROR(INDEX('Hlavní seznam měrných jednotek'!$B$4:$K$30,1+INT((ROW(A111)-1)/COLUMNS('Hlavní seznam měrných jednotek'!$B$4:$K$30)),MOD(ROW(A111)-1+COLUMNS('Hlavní seznam měrných jednotek'!$B$4:$K$30),COLUMNS('Hlavní seznam měrných jednotek'!$B$4:$K$30))+1),\"\")","v":"1/4 šálek"},"nadrobený sýr feta",null,{"$f":"IFERROR(RANK(L118,AnalýzaDat!$L$8:$L$301)+SUMPRODUCT(--(L118=AnalýzaDat!$L$8:$L$301),--(O118<AnalýzaDat!$O$8:$O$301)),\"\")","v":10},{"$f":"IFERROR(IF(COUNTIF(AnalýzaDat!$I$8:$I$299,\"<=\"&AnalýzaDat!$I$8:$I$299)=0,\"\",COUNTIF(AnalýzaDat!$I$8:$I$299,\"<=\"&AnalýzaDat!$I$8:$I$299)),\"\")","v":283},{"$f":"IFERROR(IF(AND(poslední_položka-počáteční_řádek=0,LEN(INDEX(AnalýzaDat!$H$8:$I$299,1,1)=0)),\"\",IF(poslední_položka-počáteční_řádek=0,INDEX(AnalýzaDat!$H$8:$I$299,1,1),INDEX(AnalýzaDat!$H$8:$H$299,ROW(A111),1))),\"\")","v":"1/4 šálek"},{"$f":"IFERROR(IF(AND(poslední_položka-počáteční_řádek=0,ISBLANK(INDEX(AnalýzaDat!$I$8:$I$299,1,1))),\"\",IF(poslední_položka-počáteční_řádek=0,INDEX(AnalýzaDat!$I$8:$I$299,1,1),INDEX(AnalýzaDat!$I$8:$I$299,ROW(A111),1))),\"\")","v":"nadrobený sýr feta"},184,null,{"$f":"IFERROR(AnalýzaDat!$O118,\"\")","v":184},{"$f":"IFERROR(VLOOKUP(AnalýzaDat!$Q$8:$Q$301,AnalýzaDat!$K$8:$N$301,3,FALSE),\"\")","v":""},{"$f":"IFERROR(VLOOKUP(AnalýzaDat!$Q$8:$Q$301,AnalýzaDat!$K$8:$N$301,4,FALSE),\"\")","v":""},{"$f":"IF(S118=S117,T117,\"\")&REPT(AnalýzaDat!$R118&\", \",AnalýzaDat!$R118<>\"\")","v":""},{"$f":"IF(COUNTIF(S$8:S118,S118)=1,S118,\"\")","v":""},{"$f":"IFERROR(IF(LEN(AnalýzaDat!$S$8:$S$301)=0,\"\",COUNTIF(AnalýzaDat!$S$8:$S$301,S118)),\"\")","v":""},{"$f":"IFERROR(IF(LEN($U118)>0,LEFT(INDIRECT(\"AnalýzaDat!T\"&ROW(AnalýzaDat!$U118)+AnalýzaDat!$V118-1),LEN(INDIRECT(\"AnalýzaDat!T\"&ROW(AnalýzaDat!$U118)+AnalýzaDat!$V118-1))-2),\"\"),\"\")","v":""}]
[{"$nulls":7},{"$f":"IFERROR(INDEX('Hlavní seznam měrných jednotek'!$B$4:$K$30,1+INT((ROW(A112)-1)/COLUMNS('Hlavní seznam měrných jednotek'!$B$4:$K$30)),MOD(ROW(A112)-1+COLUMNS('Hlavní seznam měrných jednotek'!$B$4:$K$30),COLUMNS('Hlavní seznam měrných jednotek'!$B$4:$K$30))+1),\"\")","v":" "},"",null,{"$f":"IFERROR(RANK(L119,AnalýzaDat!$L$8:$L$301)+SUMPRODUCT(--(L119=AnalýzaDat!$L$8:$L$301),--(O119<AnalýzaDat!$O$8:$O$301)),\"\")","v":""},{"$f":"IFERROR(IF(COUNTIF(AnalýzaDat!$I$8:$I$299,\"<=\"&AnalýzaDat!$I$8:$I$299)=0,\"\",COUNTIF(AnalýzaDat!$I$8:$I$299,\"<=\"&AnalýzaDat!$I$8:$I$299)),\"\")","v":""},{"$f":"IFERROR(IF(AND(poslední_položka-počáteční_řádek=0,LEN(INDEX(AnalýzaDat!$H$8:$I$299,1,1)=0)),\"\",IF(poslední_položka-počáteční_řádek=0,INDEX(AnalýzaDat!$H$8:$I$299,1,1),INDEX(AnalýzaDat!$H$8:$H$299,ROW(A112),1))),\"\")","v":" "},{"$f":"IFERROR(IF(AND(poslední_položka-počáteční_řádek=0,ISBLANK(INDEX(AnalýzaDat!$I$8:$I$299,1,1))),\"\",IF(poslední_položka-počáteční_řádek=0,INDEX(AnalýzaDat!$I$8:$I$299,1,1),INDEX(AnalýzaDat!$I$8:$I$299,ROW(A112),1))),\"\")","v":""},183,null,{"$f":"IFERROR(AnalýzaDat!$O119,\"\")","v":183},{"$f":"IFERROR(VLOOKUP(AnalýzaDat!$Q$8:$Q$301,AnalýzaDat!$K$8:$N$301,3,FALSE),\"\")","v":""},{"$f":"IFERROR(VLOOKUP(AnalýzaDat!$Q$8:$Q$301,AnalýzaDat!$K$8:$N$301,4,FALSE),\"\")","v":""},{"$f":"IF(S119=S118,T118,\"\")&REPT(AnalýzaDat!$R119&\", \",AnalýzaDat!$R119<>\"\")","v":""},{"$f":"IF(COUNTIF(S$8:S119,S119)=1,S119,\"\")","v":""},{"$f":"IFERROR(IF(LEN(AnalýzaDat!$S$8:$S$301)=0,\"\",COUNTIF(AnalýzaDat!$S$8:$S$301,S119)),\"\")","v":""},{"$f":"IFERROR(IF(LEN($U119)>0,LEFT(INDIRECT(\"AnalýzaDat!T\"&ROW(AnalýzaDat!$U119)+AnalýzaDat!$V119-1),LEN(INDIRECT(\"AnalýzaDat!T\"&ROW(AnalýzaDat!$U119)+AnalýzaDat!$V119-1))-2),\"\"),\"\")","v":""}]
[{"$nulls":7},{"$f":"IFERROR(INDEX('Hlavní seznam měrných jednotek'!$B$4:$K$30,1+INT((ROW(A113)-1)/COLUMNS('Hlavní seznam měrných jednotek'!$B$4:$K$30)),MOD(ROW(A113)-1+COLUMNS('Hlavní seznam měrných jednotek'!$B$4:$K$30),COLUMNS('Hlavní seznam měrných jednotek'!$B$4:$K$30))+1),\"\")","v":""},"",null,{"$f":"IFERROR(RANK(L120,AnalýzaDat!$L$8:$L$301)+SUMPRODUCT(--(L120=AnalýzaDat!$L$8:$L$301),--(O120<AnalýzaDat!$O$8:$O$301)),\"\")","v":""},{"$f":"IFERROR(IF(COUNTIF(AnalýzaDat!$I$8:$I$299,\"<=\"&AnalýzaDat!$I$8:$I$299)=0,\"\",COUNTIF(AnalýzaDat!$I$8:$I$299,\"<=\"&AnalýzaDat!$I$8:$I$299)),\"\")","v":""},{"$f":"IFERROR(IF(AND(poslední_položka-počáteční_řádek=0,LEN(INDEX(AnalýzaDat!$H$8:$I$299,1,1)=0)),\"\",IF(poslední_položka-počáteční_řádek=0,INDEX(AnalýzaDat!$H$8:$I$299,1,1),INDEX(AnalýzaDat!$H$8:$H$299,ROW(A113),1))),\"\")","v":""},{"$f":"IFERROR(IF(AND(poslední_položka-počáteční_řádek=0,ISBLANK(INDEX(AnalýzaDat!$I$8:$I$299,1,1))),\"\",IF(poslední_položka-počáteční_řádek=0,INDEX(AnalýzaDat!$I$8:$I$299,1,1),INDEX(AnalýzaDat!$I$8:$I$299,ROW(A113),1))),\"\")","v":""},182,null,{"$f":"IFERROR(AnalýzaDat!$O120,\"\")","v":182},{"$f":"IFERROR(VLOOKUP(AnalýzaDat!$Q$8:$Q$301,AnalýzaDat!$K$8:$N$301,3,FALSE),\"\")","v":""},{"$f":"IFERROR(VLOOKUP(AnalýzaDat!$Q$8:$Q$301,AnalýzaDat!$K$8:$N$301,4,FALSE),\"\")","v":""},{"$f":"IF(S120=S119,T119,\"\")&REPT(AnalýzaDat!$R120&\", \",AnalýzaDat!$R120<>\"\")","v":""},{"$f":"IF(COUNTIF(S$8:S120,S120)=1,S120,\"\")","v":""},{"$f":"IFERROR(IF(LEN(AnalýzaDat!$S$8:$S$301)=0,\"\",COUNTIF(AnalýzaDat!$S$8:$S$301,S120)),\"\")","v":""},{"$f":"IFERROR(IF(LEN($U120)>0,LEFT(INDIRECT(\"AnalýzaDat!T\"&ROW(AnalýzaDat!$U120)+AnalýzaDat!$V120-1),LEN(INDIRECT(\"AnalýzaDat!T\"&ROW(AnalýzaDat!$U120)+AnalýzaDat!$V120-1))-2),\"\"),\"\")","v":""}]
[{"$nulls":7},{"$f":"IFERROR(INDEX('Hlavní seznam měrných jednotek'!$B$4:$K$30,1+INT((ROW(A114)-1)/COLUMNS('Hlavní seznam měrných jednotek'!$B$4:$K$30)),MOD(ROW(A114)-1+COLUMNS('Hlavní seznam měrných jednotek'!$B$4:$K$30),COLUMNS('Hlavní seznam měrných jednotek'!$B$4:$K$30))+1),\"\")","v":""},"",null,{"$f":"IFERROR(RANK(L121,AnalýzaDat!$L$8:$L$301)+SUMPRODUCT(--(L121=AnalýzaDat!$L$8:$L$301),--(O121<AnalýzaDat!$O$8:$O$301)),\"\")","v":""},{"$f":"IFERROR(IF(COUNTIF(AnalýzaDat!$I$8:$I$299,\"<=\"&AnalýzaDat!$I$8:$I$299)=0,\"\",COUNTIF(AnalýzaDat!$I$8:$I$299,\"<=\"&AnalýzaDat!$I$8:$I$299)),\"\")","v":""},{"$f":"IFERROR(IF(AND(poslední_položka-počáteční_řádek=0,LEN(INDEX(AnalýzaDat!$H$8:$I$299,1,1)=0)),\"\",IF(poslední_položka-počáteční_řádek=0,INDEX(AnalýzaDat!$H$8:$I$299,1,1),INDEX(AnalýzaDat!$H$8:$H$299,ROW(A114),1))),\"\")","v":""},{"$f":"IFERROR(IF(AND(poslední_položka-počáteční_řádek=0,ISBLANK(INDEX(AnalýzaDat!$I$8:$I$299,1,1))),\"\",IF(poslední_položka-počáteční_řádek=0,INDEX(AnalýzaDat!$I$8:$I$299,1,1),INDEX(AnalýzaDat!$I$8:$I$299,ROW(A114),1))),\"\")","v":""},181,null,{"$f":"IFERROR(AnalýzaDat!$O121,\"\")","v":181},{"$f":"IFERROR(VLOOKUP(AnalýzaDat!$Q$8:$Q$301,AnalýzaDat!$K$8:$N$301,3,FALSE),\"\")","v":""},{"$f":"IFERROR(VLOOKUP(AnalýzaDat!$Q$8:$Q$301,AnalýzaDat!$K$8:$N$301,4,FALSE),\"\")","v":""},{"$f":"IF(S121=S120,T120,\"\")&REPT(AnalýzaDat!$R121&\", \",AnalýzaDat!$R121<>\"\")","v":""},{"$f":"IF(COUNTIF(S$8:S121,S121)=1,S121,\"\")","v":""},{"$f":"IFERROR(IF(LEN(AnalýzaDat!$S$8:$S$301)=0,\"\",COUNTIF(AnalýzaDat!$S$8:$S$301,S121)),\"\")","v":""},{"$f":"IFERROR(IF(LEN($U121)>0,LEFT(INDIRECT(\"AnalýzaDat!T\"&ROW(AnalýzaDat!$U121)+AnalýzaDat!$V121-1),LEN(INDIRECT(\"AnalýzaDat!T\"&ROW(AnalýzaDat!$U121)+AnalýzaDat!$V121-1))-2),\"\"),\"\")","v":""}]
[{"$nulls":7},{"$f":"IFERROR(INDEX('Hlavní seznam měrných jednotek'!$B$4:$K$30,1+INT((ROW(A115)-1)/COLUMNS('Hlavní seznam měrných jednotek'!$B$4:$K$30)),MOD(ROW(A115)-1+COLUMNS('Hlavní seznam měrných jednotek'!$B$4:$K$30),COLUMNS('Hlavní seznam měrných jednotek'!$B$4:$K$30))+1),\"\")","v":""},"",null,{"$f":"IFERROR(RANK(L122,AnalýzaDat!$L$8:$L$301)+SUMPRODUCT(--(L122=AnalýzaDat!$L$8:$L$301),--(O122<AnalýzaDat!$O$8:$O$301)),\"\")","v":""},{"$f":"IFERROR(IF(COUNTIF(AnalýzaDat!$I$8:$I$299,\"<=\"&AnalýzaDat!$I$8:$I$299)=0,\"\",COUNTIF(AnalýzaDat!$I$8:$I$299,\"<=\"&AnalýzaDat!$I$8:$I$299)),\"\")","v":""},{"$f":"IFERROR(IF(AND(poslední_položka-počáteční_řádek=0,LEN(INDEX(AnalýzaDat!$H$8:$I$299,1,1)=0)),\"\",IF(poslední_položka-počáteční_řádek=0,INDEX(AnalýzaDat!$H$8:$I$299,1,1),INDEX(AnalýzaDat!$H$8:$H$299,ROW(A115),1))),\"\")","v":""},{"$f":"IFERROR(IF(AND(poslední_položka-počáteční_řádek=0,ISBLANK(INDEX(AnalýzaDat!$I$8:$I$299,1,1))),\"\",IF(poslední_položka-počáteční_řádek=0,INDEX(AnalýzaDat!$I$8:$I$299,1,1),INDEX(AnalýzaDat!$I$8:$I$299,ROW(A115),1))),\"\")","v":""},180,null,{"$f":"IFERROR(AnalýzaDat!$O122,\"\")","v":180},{"$f":"IFERROR(VLOOKUP(AnalýzaDat!$Q$8:$Q$301,AnalýzaDat!$K$8:$N$301,3,FALSE),\"\")","v":""},{"$f":"IFERROR(VLOOKUP(AnalýzaDat!$Q$8:$Q$301,AnalýzaDat!$K$8:$N$301,4,FALSE),\"\")","v":""},{"$f":"IF(S122=S121,T121,\"\")&REPT(AnalýzaDat!$R122&\", \",AnalýzaDat!$R122<>\"\")","v":""},{"$f":"IF(COUNTIF(S$8:S122,S122)=1,S122,\"\")","v":""},{"$f":"IFERROR(IF(LEN(AnalýzaDat!$S$8:$S$301)=0,\"\",COUNTIF(AnalýzaDat!$S$8:$S$301,S122)),\"\")","v":""},{"$f":"IFERROR(IF(LEN($U122)>0,LEFT(INDIRECT(\"AnalýzaDat!T\"&ROW(AnalýzaDat!$U122)+AnalýzaDat!$V122-1),LEN(INDIRECT(\"AnalýzaDat!T\"&ROW(AnalýzaDat!$U122)+AnalýzaDat!$V122-1))-2),\"\"),\"\")","v":""}]
[{"$nulls":7},{"$f":"IFERROR(INDEX('Hlavní seznam měrných jednotek'!$B$4:$K$30,1+INT((ROW(A116)-1)/COLUMNS('Hlavní seznam měrných jednotek'!$B$4:$K$30)),MOD(ROW(A116)-1+COLUMNS('Hlavní seznam měrných jednotek'!$B$4:$K$30),COLUMNS('Hlavní seznam měrných jednotek'!$B$4:$K$30))+1),\"\")","v":""},"",null,{"$f":"IFERROR(RANK(L123,AnalýzaDat!$L$8:$L$301)+SUMPRODUCT(--(L123=AnalýzaDat!$L$8:$L$301),--(O123<AnalýzaDat!$O$8:$O$301)),\"\")","v":""},{"$f":"IFERROR(IF(COUNTIF(AnalýzaDat!$I$8:$I$299,\"<=\"&AnalýzaDat!$I$8:$I$299)=0,\"\",COUNTIF(AnalýzaDat!$I$8:$I$299,\"<=\"&AnalýzaDat!$I$8:$I$299)),\"\")","v":""},{"$f":"IFERROR(IF(AND(poslední_položka-počáteční_řádek=0,LEN(INDEX(AnalýzaDat!$H$8:$I$299,1,1)=0)),\"\",IF(poslední_položka-počáteční_řádek=0,INDEX(AnalýzaDat!$H$8:$I$299,1,1),INDEX(AnalýzaDat!$H$8:$H$299,ROW(A116),1))),\"\")","v":""},{"$f":"IFERROR(IF(AND(poslední_položka-počáteční_řádek=0,ISBLANK(INDEX(AnalýzaDat!$I$8:$I$299,1,1))),\"\",IF(poslední_položka-počáteční_řádek=0,INDEX(AnalýzaDat!$I$8:$I$299,1,1),INDEX(AnalýzaDat!$I$8:$I$299,ROW(A116),1))),\"\")","v":""},179,null,{"$f":"IFERROR(AnalýzaDat!$O123,\"\")","v":179},{"$f":"IFERROR(VLOOKUP(AnalýzaDat!$Q$8:$Q$301,AnalýzaDat!$K$8:$N$301,3,FALSE),\"\")","v":""},{"$f":"IFERROR(VLOOKUP(AnalýzaDat!$Q$8:$Q$301,AnalýzaDat!$K$8:$N$301,4,FALSE),\"\")","v":""},{"$f":"IF(S123=S122,T122,\"\")&REPT(AnalýzaDat!$R123&\", \",AnalýzaDat!$R123<>\"\")","v":""},{"$f":"IF(COUNTIF(S$8:S123,S123)=1,S123,\"\")","v":""},{"$f":"IFERROR(IF(LEN(AnalýzaDat!$S$8:$S$301)=0,\"\",COUNTIF(AnalýzaDat!$S$8:$S$301,S123)),\"\")","v":""},{"$f":"IFERROR(IF(LEN($U123)>0,LEFT(INDIRECT(\"AnalýzaDat!T\"&ROW(AnalýzaDat!$U123)+AnalýzaDat!$V123-1),LEN(INDIRECT(\"AnalýzaDat!T\"&ROW(AnalýzaDat!$U123)+AnalýzaDat!$V123-1))-2),\"\"),\"\")","v":""}]
[{"$nulls":7},{"$f":"IFERROR(INDEX('Hlavní seznam měrných jednotek'!$B$4:$K$30,1+INT((ROW(A117)-1)/COLUMNS('Hlavní seznam měrných jednotek'!$B$4:$K$30)),MOD(ROW(A117)-1+COLUMNS('Hlavní seznam měrných jednotek'!$B$4:$K$30),COLUMNS('Hlavní seznam měrných jednotek'!$B$4:$K$30))+1),\"\")","v":""},"",null,{"$f":"IFERROR(RANK(L124,AnalýzaDat!$L$8:$L$301)+SUMPRODUCT(--(L124=AnalýzaDat!$L$8:$L$301),--(O124<AnalýzaDat!$O$8:$O$301)),\"\")","v":""},{"$f":"IFERROR(IF(COUNTIF(AnalýzaDat!$I$8:$I$299,\"<=\"&AnalýzaDat!$I$8:$I$299)=0,\"\",COUNTIF(AnalýzaDat!$I$8:$I$299,\"<=\"&AnalýzaDat!$I$8:$I$299)),\"\")","v":""},{"$f":"IFERROR(IF(AND(poslední_položka-počáteční_řádek=0,LEN(INDEX(AnalýzaDat!$H$8:$I$299,1,1)=0)),\"\",IF(poslední_položka-počáteční_řádek=0,INDEX(AnalýzaDat!$H$8:$I$299,1,1),INDEX(AnalýzaDat!$H$8:$H$299,ROW(A117),1))),\"\")","v":""},{"$f":"IFERROR(IF(AND(poslední_položka-počáteční_řádek=0,ISBLANK(INDEX(AnalýzaDat!$I$8:$I$299,1,1))),\"\",IF(poslední_položka-počáteční_řádek=0,INDEX(AnalýzaDat!$I$8:$I$299,1,1),INDEX(AnalýzaDat!$I$8:$I$299,ROW(A117),1))),\"\")","v":""},178,null,{"$f":"IFERROR(AnalýzaDat!$O124,\"\")","v":178},{"$f":"IFERROR(VLOOKUP(AnalýzaDat!$Q$8:$Q$301,AnalýzaDat!$K$8:$N$301,3,FALSE),\"\")","v":""},{"$f":"IFERROR(VLOOKUP(AnalýzaDat!$Q$8:$Q$301,AnalýzaDat!$K$8:$N$301,4,FALSE),\"\")","v":""},{"$f":"IF(S124=S123,T123,\"\")&REPT(AnalýzaDat!$R124&\", \",AnalýzaDat!$R124<>\"\")","v":""},{"$f":"IF(COUNTIF(S$8:S124,S124)=1,S124,\"\")","v":""},{"$f":"IFERROR(IF(LEN(AnalýzaDat!$S$8:$S$301)=0,\"\",COUNTIF(AnalýzaDat!$S$8:$S$301,S124)),\"\")","v":""},{"$f":"IFERROR(IF(LEN($U124)>0,LEFT(INDIRECT(\"AnalýzaDat!T\"&ROW(AnalýzaDat!$U124)+AnalýzaDat!$V124-1),LEN(INDIRECT(\"AnalýzaDat!T\"&ROW(AnalýzaDat!$U124)+AnalýzaDat!$V124-1))-2),\"\"),\"\")","v":""}]
[{"$nulls":7},{"$f":"IFERROR(INDEX('Hlavní seznam měrných jednotek'!$B$4:$K$30,1+INT((ROW(A118)-1)/COLUMNS('Hlavní seznam měrných jednotek'!$B$4:$K$30)),MOD(ROW(A118)-1+COLUMNS('Hlavní seznam měrných jednotek'!$B$4:$K$30),COLUMNS('Hlavní seznam měrných jednotek'!$B$4:$K$30))+1),\"\")","v":""},"",null,{"$f":"IFERROR(RANK(L125,AnalýzaDat!$L$8:$L$301)+SUMPRODUCT(--(L125=AnalýzaDat!$L$8:$L$301),--(O125<AnalýzaDat!$O$8:$O$301)),\"\")","v":""},{"$f":"IFERROR(IF(COUNTIF(AnalýzaDat!$I$8:$I$299,\"<=\"&AnalýzaDat!$I$8:$I$299)=0,\"\",COUNTIF(AnalýzaDat!$I$8:$I$299,\"<=\"&AnalýzaDat!$I$8:$I$299)),\"\")","v":""},{"$f":"IFERROR(IF(AND(poslední_položka-počáteční_řádek=0,LEN(INDEX(AnalýzaDat!$H$8:$I$299,1,1)=0)),\"\",IF(poslední_položka-počáteční_řádek=0,INDEX(AnalýzaDat!$H$8:$I$299,1,1),INDEX(AnalýzaDat!$H$8:$H$299,ROW(A118),1))),\"\")","v":""},{"$f":"IFERROR(IF(AND(poslední_položka-počáteční_řádek=0,ISBLANK(INDEX(AnalýzaDat!$I$8:$I$299,1,1))),\"\",IF(poslední_položka-počáteční_řádek=0,INDEX(AnalýzaDat!$I$8:$I$299,1,1),INDEX(AnalýzaDat!$I$8:$I$299,ROW(A118),1))),\"\")","v":""},177,null,{"$f":"IFERROR(AnalýzaDat!$O125,\"\")","v":177},{"$f":"IFERROR(VLOOKUP(AnalýzaDat!$Q$8:$Q$301,AnalýzaDat!$K$8:$N$301,3,FALSE),\"\")","v":""},{"$f":"IFERROR(VLOOKUP(AnalýzaDat!$Q$8:$Q$301,AnalýzaDat!$K$8:$N$301,4,FALSE),\"\")","v":""},{"$f":"IF(S125=S124,T124,\"\")&REPT(AnalýzaDat!$R125&\", \",AnalýzaDat!$R125<>\"\")","v":""},{"$f":"IF(COUNTIF(S$8:S125,S125)=1,S125,\"\")","v":""},{"$f":"IFERROR(IF(LEN(AnalýzaDat!$S$8:$S$301)=0,\"\",COUNTIF(AnalýzaDat!$S$8:$S$301,S125)),\"\")","v":""},{"$f":"IFERROR(IF(LEN($U125)>0,LEFT(INDIRECT(\"AnalýzaDat!T\"&ROW(AnalýzaDat!$U125)+AnalýzaDat!$V125-1),LEN(INDIRECT(\"AnalýzaDat!T\"&ROW(AnalýzaDat!$U125)+AnalýzaDat!$V125-1))-2),\"\"),\"\")","v":""}]
[{"$nulls":7},{"$f":"IFERROR(INDEX('Hlavní seznam měrných jednotek'!$B$4:$K$30,1+INT((ROW(A119)-1)/COLUMNS('Hlavní seznam měrných jednotek'!$B$4:$K$30)),MOD(ROW(A119)-1+COLUMNS('Hlavní seznam měrných jednotek'!$B$4:$K$30),COLUMNS('Hlavní seznam měrných jednotek'!$B$4:$K$30))+1),\"\")","v":""},"",null,{"$f":"IFERROR(RANK(L126,AnalýzaDat!$L$8:$L$301)+SUMPRODUCT(--(L126=AnalýzaDat!$L$8:$L$301),--(O126<AnalýzaDat!$O$8:$O$301)),\"\")","v":""},{"$f":"IFERROR(IF(COUNTIF(AnalýzaDat!$I$8:$I$299,\"<=\"&AnalýzaDat!$I$8:$I$299)=0,\"\",COUNTIF(AnalýzaDat!$I$8:$I$299,\"<=\"&AnalýzaDat!$I$8:$I$299)),\"\")","v":""},{"$f":"IFERROR(IF(AND(poslední_položka-počáteční_řádek=0,LEN(INDEX(AnalýzaDat!$H$8:$I$299,1,1)=0)),\"\",IF(poslední_položka-počáteční_řádek=0,INDEX(AnalýzaDat!$H$8:$I$299,1,1),INDEX(AnalýzaDat!$H$8:$H$299,ROW(A119),1))),\"\")","v":""},{"$f":"IFERROR(IF(AND(poslední_položka-počáteční_řádek=0,ISBLANK(INDEX(AnalýzaDat!$I$8:$I$299,1,1))),\"\",IF(poslední_položka-počáteční_řádek=0,INDEX(AnalýzaDat!$I$8:$I$299,1,1),INDEX(AnalýzaDat!$I$8:$I$299,ROW(A119),1))),\"\")","v":""},176,null,{"$f":"IFERROR(AnalýzaDat!$O126,\"\")","v":176},{"$f":"IFERROR(VLOOKUP(AnalýzaDat!$Q$8:$Q$301,AnalýzaDat!$K$8:$N$301,3,FALSE),\"\")","v":""},{"$f":"IFERROR(VLOOKUP(AnalýzaDat!$Q$8:$Q$301,AnalýzaDat!$K$8:$N$301,4,FALSE),\"\")","v":""},{"$f":"IF(S126=S125,T125,\"\")&REPT(AnalýzaDat!$R126&\", \",AnalýzaDat!$R126<>\"\")","v":""},{"$f":"IF(COUNTIF(S$8:S126,S126)=1,S126,\"\")","v":""},{"$f":"IFERROR(IF(LEN(AnalýzaDat!$S$8:$S$301)=0,\"\",COUNTIF(AnalýzaDat!$S$8:$S$301,S126)),\"\")","v":""},{"$f":"IFERROR(IF(LEN($U126)>0,LEFT(INDIRECT(\"AnalýzaDat!T\"&ROW(AnalýzaDat!$U126)+AnalýzaDat!$V126-1),LEN(INDIRECT(\"AnalýzaDat!T\"&ROW(AnalýzaDat!$U126)+AnalýzaDat!$V126-1))-2),\"\"),\"\")","v":""}]
[{"$nulls":7},{"$f":"IFERROR(INDEX('Hlavní seznam měrných jednotek'!$B$4:$K$30,1+INT((ROW(A120)-1)/COLUMNS('Hlavní seznam měrných jednotek'!$B$4:$K$30)),MOD(ROW(A120)-1+COLUMNS('Hlavní seznam měrných jednotek'!$B$4:$K$30),COLUMNS('Hlavní seznam měrných jednotek'!$B$4:$K$30))+1),\"\")","v":""},"",null,{"$f":"IFERROR(RANK(L127,AnalýzaDat!$L$8:$L$301)+SUMPRODUCT(--(L127=AnalýzaDat!$L$8:$L$301),--(O127<AnalýzaDat!$O$8:$O$301)),\"\")","v":""},{"$f":"IFERROR(IF(COUNTIF(AnalýzaDat!$I$8:$I$299,\"<=\"&AnalýzaDat!$I$8:$I$299)=0,\"\",COUNTIF(AnalýzaDat!$I$8:$I$299,\"<=\"&AnalýzaDat!$I$8:$I$299)),\"\")","v":""},{"$f":"IFERROR(IF(AND(poslední_položka-počáteční_řádek=0,LEN(INDEX(AnalýzaDat!$H$8:$I$299,1,1)=0)),\"\",IF(poslední_položka-počáteční_řádek=0,INDEX(AnalýzaDat!$H$8:$I$299,1,1),INDEX(AnalýzaDat!$H$8:$H$299,ROW(A120),1))),\"\")","v":""},{"$f":"IFERROR(IF(AND(poslední_položka-počáteční_řádek=0,ISBLANK(INDEX(AnalýzaDat!$I$8:$I$299,1,1))),\"\",IF(poslední_položka-počáteční_řádek=0,INDEX(AnalýzaDat!$I$8:$I$299,1,1),INDEX(AnalýzaDat!$I$8:$I$299,ROW(A120),1))),\"\")","v":""},175,null,{"$f":"IFERROR(AnalýzaDat!$O127,\"\")","v":175},{"$f":"IFERROR(VLOOKUP(AnalýzaDat!$Q$8:$Q$301,AnalýzaDat!$K$8:$N$301,3,FALSE),\"\")","v":""},{"$f":"IFERROR(VLOOKUP(AnalýzaDat!$Q$8:$Q$301,AnalýzaDat!$K$8:$N$301,4,FALSE),\"\")","v":""},{"$f":"IF(S127=S126,T126,\"\")&REPT(AnalýzaDat!$R127&\", \",AnalýzaDat!$R127<>\"\")","v":""},{"$f":"IF(COUNTIF(S$8:S127,S127)=1,S127,\"\")","v":""},{"$f":"IFERROR(IF(LEN(AnalýzaDat!$S$8:$S$301)=0,\"\",COUNTIF(AnalýzaDat!$S$8:$S$301,S127)),\"\")","v":""},{"$f":"IFERROR(IF(LEN($U127)>0,LEFT(INDIRECT(\"AnalýzaDat!T\"&ROW(AnalýzaDat!$U127)+AnalýzaDat!$V127-1),LEN(INDIRECT(\"AnalýzaDat!T\"&ROW(AnalýzaDat!$U127)+AnalýzaDat!$V127-1))-2),\"\"),\"\")","v":""}]
[{"$nulls":7},{"$f":"IFERROR(INDEX('Hlavní seznam měrných jednotek'!$B$4:$K$30,1+INT((ROW(A121)-1)/COLUMNS('Hlavní seznam měrných jednotek'!$B$4:$K$30)),MOD(ROW(A121)-1+COLUMNS('Hlavní seznam měrných jednotek'!$B$4:$K$30),COLUMNS('Hlavní seznam měrných jednotek'!$B$4:$K$30))+1),\"\")","v":"1/2 čajová lžička"},"sušená bazalka",null,{"$f":"IFERROR(RANK(L128,AnalýzaDat!$L$8:$L$301)+SUMPRODUCT(--(L128=AnalýzaDat!$L$8:$L$301),--(O128<AnalýzaDat!$O$8:$O$301)),\"\")","v":3},{"$f":"IFERROR(IF(COUNTIF(AnalýzaDat!$I$8:$I$299,\"<=\"&AnalýzaDat!$I$8:$I$299)=0,\"\",COUNTIF(AnalýzaDat!$I$8:$I$299,\"<=\"&AnalýzaDat!$I$8:$I$299)),\"\")","v":290},{"$f":"IFERROR(IF(AND(poslední_položka-počáteční_řádek=0,LEN(INDEX(AnalýzaDat!$H$8:$I$299,1,1)=0)),\"\",IF(poslední_položka-počáteční_řádek=0,INDEX(AnalýzaDat!$H$8:$I$299,1,1),INDEX(AnalýzaDat!$H$8:$H$299,ROW(A121),1))),\"\")","v":"1/2 čajová lžička"},{"$f":"IFERROR(IF(AND(poslední_položka-počáteční_řádek=0,ISBLANK(INDEX(AnalýzaDat!$I$8:$I$299,1,1))),\"\",IF(poslední_položka-počáteční_řádek=0,INDEX(AnalýzaDat!$I$8:$I$299,1,1),INDEX(AnalýzaDat!$I$8:$I$299,ROW(A121),1))),\"\")","v":"sušená bazalka"},174,null,{"$f":"IFERROR(AnalýzaDat!$O128,\"\")","v":174},{"$f":"IFERROR(VLOOKUP(AnalýzaDat!$Q$8:$Q$301,AnalýzaDat!$K$8:$N$301,3,FALSE),\"\")","v":""},{"$f":"IFERROR(VLOOKUP(AnalýzaDat!$Q$8:$Q$301,AnalýzaDat!$K$8:$N$301,4,FALSE),\"\")","v":""},{"$f":"IF(S128=S127,T127,\"\")&REPT(AnalýzaDat!$R128&\", \",AnalýzaDat!$R128<>\"\")","v":""},{"$f":"IF(COUNTIF(S$8:S128,S128)=1,S128,\"\")","v":""},{"$f":"IFERROR(IF(LEN(AnalýzaDat!$S$8:$S$301)=0,\"\",COUNTIF(AnalýzaDat!$S$8:$S$301,S128)),\"\")","v":""},{"$f":"IFERROR(IF(LEN($U128)>0,LEFT(INDIRECT(\"AnalýzaDat!T\"&ROW(AnalýzaDat!$U128)+AnalýzaDat!$V128-1),LEN(INDIRECT(\"AnalýzaDat!T\"&ROW(AnalýzaDat!$U128)+AnalýzaDat!$V128-1))-2),\"\"),\"\")","v":""}]
[{"$nulls":7},{"$f":"IFERROR(INDEX('Hlavní seznam měrných jednotek'!$B$4:$K$30,1+INT((ROW(A122)-1)/COLUMNS('Hlavní seznam měrných jednotek'!$B$4:$K$30)),MOD(ROW(A122)-1+COLUMNS('Hlavní seznam měrných jednotek'!$B$4:$K$30),COLUMNS('Hlavní seznam měrných jednotek'!$B$4:$K$30))+1),\"\")","v":" "},"",null,{"$f":"IFERROR(RANK(L129,AnalýzaDat!$L$8:$L$301)+SUMPRODUCT(--(L129=AnalýzaDat!$L$8:$L$301),--(O129<AnalýzaDat!$O$8:$O$301)),\"\")","v":""},{"$f":"IFERROR(IF(COUNTIF(AnalýzaDat!$I$8:$I$299,\"<=\"&AnalýzaDat!$I$8:$I$299)=0,\"\",COUNTIF(AnalýzaDat!$I$8:$I$299,\"<=\"&AnalýzaDat!$I$8:$I$299)),\"\")","v":""},{"$f":"IFERROR(IF(AND(poslední_položka-počáteční_řádek=0,LEN(INDEX(AnalýzaDat!$H$8:$I$299,1,1)=0)),\"\",IF(poslední_položka-počáteční_řádek=0,INDEX(AnalýzaDat!$H$8:$I$299,1,1),INDEX(AnalýzaDat!$H$8:$H$299,ROW(A122),1))),\"\")","v":" "},{"$f":"IFERROR(IF(AND(poslední_položka-počáteční_řádek=0,ISBLANK(INDEX(AnalýzaDat!$I$8:$I$299,1,1))),\"\",IF(poslední_položka-počáteční_řádek=0,INDEX(AnalýzaDat!$I$8:$I$299,1,1),INDEX(AnalýzaDat!$I$8:$I$299,ROW(A122),1))),\"\")","v":""},173,null,{"$f":"IFERROR(AnalýzaDat!$O129,\"\")","v":173},{"$f":"IFERROR(VLOOKUP(AnalýzaDat!$Q$8:$Q$301,AnalýzaDat!$K$8:$N$301,3,FALSE),\"\")","v":""},{"$f":"IFERROR(VLOOKUP(AnalýzaDat!$Q$8:$Q$301,AnalýzaDat!$K$8:$N$301,4,FALSE),\"\")","v":""},{"$f":"IF(S129=S128,T128,\"\")&REPT(AnalýzaDat!$R129&\", \",AnalýzaDat!$R129<>\"\")","v":""},{"$f":"IF(COUNTIF(S$8:S129,S129)=1,S129,\"\")","v":""},{"$f":"IFERROR(IF(LEN(AnalýzaDat!$S$8:$S$301)=0,\"\",COUNTIF(AnalýzaDat!$S$8:$S$301,S129)),\"\")","v":""},{"$f":"IFERROR(IF(LEN($U129)>0,LEFT(INDIRECT(\"AnalýzaDat!T\"&ROW(AnalýzaDat!$U129)+AnalýzaDat!$V129-1),LEN(INDIRECT(\"AnalýzaDat!T\"&ROW(AnalýzaDat!$U129)+AnalýzaDat!$V129-1))-2),\"\"),\"\")","v":""}]
[{"$nulls":7},{"$f":"IFERROR(INDEX('Hlavní seznam měrných jednotek'!$B$4:$K$30,1+INT((ROW(A123)-1)/COLUMNS('Hlavní seznam měrných jednotek'!$B$4:$K$30)),MOD(ROW(A123)-1+COLUMNS('Hlavní seznam měrných jednotek'!$B$4:$K$30),COLUMNS('Hlavní seznam měrných jednotek'!$B$4:$K$30))+1),\"\")","v":""},"",null,{"$f":"IFERROR(RANK(L130,AnalýzaDat!$L$8:$L$301)+SUMPRODUCT(--(L130=AnalýzaDat!$L$8:$L$301),--(O130<AnalýzaDat!$O$8:$O$301)),\"\")","v":""},{"$f":"IFERROR(IF(COUNTIF(AnalýzaDat!$I$8:$I$299,\"<=\"&AnalýzaDat!$I$8:$I$299)=0,\"\",COUNTIF(AnalýzaDat!$I$8:$I$299,\"<=\"&AnalýzaDat!$I$8:$I$299)),\"\")","v":""},{"$f":"IFERROR(IF(AND(poslední_položka-počáteční_řádek=0,LEN(INDEX(AnalýzaDat!$H$8:$I$299,1,1)=0)),\"\",IF(poslední_položka-počáteční_řádek=0,INDEX(AnalýzaDat!$H$8:$I$299,1,1),INDEX(AnalýzaDat!$H$8:$H$299,ROW(A123),1))),\"\")","v":""},{"$f":"IFERROR(IF(AND(poslední_položka-počáteční_řádek=0,ISBLANK(INDEX(AnalýzaDat!$I$8:$I$299,1,1))),\"\",IF(poslední_položka-počáteční_řádek=0,INDEX(AnalýzaDat!$I$8:$I$299,1,1),INDEX(AnalýzaDat!$I$8:$I$299,ROW(A123),1))),\"\")","v":""},172,null,{"$f":"IFERROR(AnalýzaDat!$O130,\"\")","v":172},{"$f":"IFERROR(VLOOKUP(AnalýzaDat!$Q$8:$Q$301,AnalýzaDat!$K$8:$N$301,3,FALSE),\"\")","v":""},{"$f":"IFERROR(VLOOKUP(AnalýzaDat!$Q$8:$Q$301,AnalýzaDat!$K$8:$N$301,4,FALSE),\"\")","v":""},{"$f":"IF(S130=S129,T129,\"\")&REPT(AnalýzaDat!$R130&\", \",AnalýzaDat!$R130<>\"\")","v":""},{"$f":"IF(COUNTIF(S$8:S130,S130)=1,S130,\"\")","v":""},{"$f":"IFERROR(IF(LEN(AnalýzaDat!$S$8:$S$301)=0,\"\",COUNTIF(AnalýzaDat!$S$8:$S$301,S130)),\"\")","v":""},{"$f":"IFERROR(IF(LEN($U130)>0,LEFT(INDIRECT(\"AnalýzaDat!T\"&ROW(AnalýzaDat!$U130)+AnalýzaDat!$V130-1),LEN(INDIRECT(\"AnalýzaDat!T\"&ROW(AnalýzaDat!$U130)+AnalýzaDat!$V130-1))-2),\"\"),\"\")","v":""}]
[{"$nulls":7},{"$f":"IFERROR(INDEX('Hlavní seznam měrných jednotek'!$B$4:$K$30,1+INT((ROW(A124)-1)/COLUMNS('Hlavní seznam měrných jednotek'!$B$4:$K$30)),MOD(ROW(A124)-1+COLUMNS('Hlavní seznam měrných jednotek'!$B$4:$K$30),COLUMNS('Hlavní seznam měrných jednotek'!$B$4:$K$30))+1),\"\")","v":""},"",null,{"$f":"IFERROR(RANK(L131,AnalýzaDat!$L$8:$L$301)+SUMPRODUCT(--(L131=AnalýzaDat!$L$8:$L$301),--(O131<AnalýzaDat!$O$8:$O$301)),\"\")","v":""},{"$f":"IFERROR(IF(COUNTIF(AnalýzaDat!$I$8:$I$299,\"<=\"&AnalýzaDat!$I$8:$I$299)=0,\"\",COUNTIF(AnalýzaDat!$I$8:$I$299,\"<=\"&AnalýzaDat!$I$8:$I$299)),\"\")","v":""},{"$f":"IFERROR(IF(AND(poslední_položka-počáteční_řádek=0,LEN(INDEX(AnalýzaDat!$H$8:$I$299,1,1)=0)),\"\",IF(poslední_položka-počáteční_řádek=0,INDEX(AnalýzaDat!$H$8:$I$299,1,1),INDEX(AnalýzaDat!$H$8:$H$299,ROW(A124),1))),\"\")","v":""},{"$f":"IFERROR(IF(AND(poslední_položka-počáteční_řádek=0,ISBLANK(INDEX(AnalýzaDat!$I$8:$I$299,1,1))),\"\",IF(poslední_položka-počáteční_řádek=0,INDEX(AnalýzaDat!$I$8:$I$299,1,1),INDEX(AnalýzaDat!$I$8:$I$299,ROW(A124),1))),\"\")","v":""},171,null,{"$f":"IFERROR(AnalýzaDat!$O131,\"\")","v":171},{"$f":"IFERROR(VLOOKUP(AnalýzaDat!$Q$8:$Q$301,AnalýzaDat!$K$8:$N$301,3,FALSE),\"\")","v":""},{"$f":"IFERROR(VLOOKUP(AnalýzaDat!$Q$8:$Q$301,AnalýzaDat!$K$8:$N$301,4,FALSE),\"\")","v":""},{"$f":"IF(S131=S130,T130,\"\")&REPT(AnalýzaDat!$R131&\", \",AnalýzaDat!$R131<>\"\")","v":""},{"$f":"IF(COUNTIF(S$8:S131,S131)=1,S131,\"\")","v":""},{"$f":"IFERROR(IF(LEN(AnalýzaDat!$S$8:$S$301)=0,\"\",COUNTIF(AnalýzaDat!$S$8:$S$301,S131)),\"\")","v":""},{"$f":"IFERROR(IF(LEN($U131)>0,LEFT(INDIRECT(\"AnalýzaDat!T\"&ROW(AnalýzaDat!$U131)+AnalýzaDat!$V131-1),LEN(INDIRECT(\"AnalýzaDat!T\"&ROW(AnalýzaDat!$U131)+AnalýzaDat!$V131-1))-2),\"\"),\"\")","v":""}]
[{"$nulls":7},{"$f":"IFERROR(INDEX('Hlavní seznam měrných jednotek'!$B$4:$K$30,1+INT((ROW(A125)-1)/COLUMNS('Hlavní seznam měrných jednotek'!$B$4:$K$30)),MOD(ROW(A125)-1+COLUMNS('Hlavní seznam měrných jednotek'!$B$4:$K$30),COLUMNS('Hlavní seznam měrných jednotek'!$B$4:$K$30))+1),\"\")","v":""},"",null,{"$f":"IFERROR(RANK(L132,AnalýzaDat!$L$8:$L$301)+SUMPRODUCT(--(L132=AnalýzaDat!$L$8:$L$301),--(O132<AnalýzaDat!$O$8:$O$301)),\"\")","v":""},{"$f":"IFERROR(IF(COUNTIF(AnalýzaDat!$I$8:$I$299,\"<=\"&AnalýzaDat!$I$8:$I$299)=0,\"\",COUNTIF(AnalýzaDat!$I$8:$I$299,\"<=\"&AnalýzaDat!$I$8:$I$299)),\"\")","v":""},{"$f":"IFERROR(IF(AND(poslední_položka-počáteční_řádek=0,LEN(INDEX(AnalýzaDat!$H$8:$I$299,1,1)=0)),\"\",IF(poslední_položka-počáteční_řádek=0,INDEX(AnalýzaDat!$H$8:$I$299,1,1),INDEX(AnalýzaDat!$H$8:$H$299,ROW(A125),1))),\"\")","v":""},{"$f":"IFERROR(IF(AND(poslední_položka-počáteční_řádek=0,ISBLANK(INDEX(AnalýzaDat!$I$8:$I$299,1,1))),\"\",IF(poslední_položka-počáteční_řádek=0,INDEX(AnalýzaDat!$I$8:$I$299,1,1),INDEX(AnalýzaDat!$I$8:$I$299,ROW(A125),1))),\"\")","v":""},170,null,{"$f":"IFERROR(AnalýzaDat!$O132,\"\")","v":170},{"$f":"IFERROR(VLOOKUP(AnalýzaDat!$Q$8:$Q$301,AnalýzaDat!$K$8:$N$301,3,FALSE),\"\")","v":""},{"$f":"IFERROR(VLOOKUP(AnalýzaDat!$Q$8:$Q$301,AnalýzaDat!$K$8:$N$301,4,FALSE),\"\")","v":""},{"$f":"IF(S132=S131,T131,\"\")&REPT(AnalýzaDat!$R132&\", \",AnalýzaDat!$R132<>\"\")","v":""},{"$f":"IF(COUNTIF(S$8:S132,S132)=1,S132,\"\")","v":""},{"$f":"IFERROR(IF(LEN(AnalýzaDat!$S$8:$S$301)=0,\"\",COUNTIF(AnalýzaDat!$S$8:$S$301,S132)),\"\")","v":""},{"$f":"IFERROR(IF(LEN($U132)>0,LEFT(INDIRECT(\"AnalýzaDat!T\"&ROW(AnalýzaDat!$U132)+AnalýzaDat!$V132-1),LEN(INDIRECT(\"AnalýzaDat!T\"&ROW(AnalýzaDat!$U132)+AnalýzaDat!$V132-1))-2),\"\"),\"\")","v":""}]
[{"$nulls":7},{"$f":"IFERROR(INDEX('Hlavní seznam měrných jednotek'!$B$4:$K$30,1+INT((ROW(A126)-1)/COLUMNS('Hlavní seznam měrných jednotek'!$B$4:$K$30)),MOD(ROW(A126)-1+COLUMNS('Hlavní seznam měrných jednotek'!$B$4:$K$30),COLUMNS('Hlavní seznam měrných jednotek'!$B$4:$K$30))+1),\"\")","v":""},"",null,{"$f":"IFERROR(RANK(L133,AnalýzaDat!$L$8:$L$301)+SUMPRODUCT(--(L133=AnalýzaDat!$L$8:$L$301),--(O133<AnalýzaDat!$O$8:$O$301)),\"\")","v":""},{"$f":"IFERROR(IF(COUNTIF(AnalýzaDat!$I$8:$I$299,\"<=\"&AnalýzaDat!$I$8:$I$299)=0,\"\",COUNTIF(AnalýzaDat!$I$8:$I$299,\"<=\"&AnalýzaDat!$I$8:$I$299)),\"\")","v":""},{"$f":"IFERROR(IF(AND(poslední_položka-počáteční_řádek=0,LEN(INDEX(AnalýzaDat!$H$8:$I$299,1,1)=0)),\"\",IF(poslední_položka-počáteční_řádek=0,INDEX(AnalýzaDat!$H$8:$I$299,1,1),INDEX(AnalýzaDat!$H$8:$H$299,ROW(A126),1))),\"\")","v":""},{"$f":"IFERROR(IF(AND(poslední_položka-počáteční_řádek=0,ISBLANK(INDEX(AnalýzaDat!$I$8:$I$299,1,1))),\"\",IF(poslední_položka-počáteční_řádek=0,INDEX(AnalýzaDat!$I$8:$I$299,1,1),INDEX(AnalýzaDat!$I$8:$I$299,ROW(A126),1))),\"\")","v":""},169,null,{"$f":"IFERROR(AnalýzaDat!$O133,\"\")","v":169},{"$f":"IFERROR(VLOOKUP(AnalýzaDat!$Q$8:$Q$301,AnalýzaDat!$K$8:$N$301,3,FALSE),\"\")","v":""},{"$f":"IFERROR(VLOOKUP(AnalýzaDat!$Q$8:$Q$301,AnalýzaDat!$K$8:$N$301,4,FALSE),\"\")","v":""},{"$f":"IF(S133=S132,T132,\"\")&REPT(AnalýzaDat!$R133&\", \",AnalýzaDat!$R133<>\"\")","v":""},{"$f":"IF(COUNTIF(S$8:S133,S133)=1,S133,\"\")","v":""},{"$f":"IFERROR(IF(LEN(AnalýzaDat!$S$8:$S$301)=0,\"\",COUNTIF(AnalýzaDat!$S$8:$S$301,S133)),\"\")","v":""},{"$f":"IFERROR(IF(LEN($U133)>0,LEFT(INDIRECT(\"AnalýzaDat!T\"&ROW(AnalýzaDat!$U133)+AnalýzaDat!$V133-1),LEN(INDIRECT(\"AnalýzaDat!T\"&ROW(AnalýzaDat!$U133)+AnalýzaDat!$V133-1))-2),\"\"),\"\")","v":""}]
[{"$nulls":7},{"$f":"IFERROR(INDEX('Hlavní seznam měrných jednotek'!$B$4:$K$30,1+INT((ROW(A127)-1)/COLUMNS('Hlavní seznam měrných jednotek'!$B$4:$K$30)),MOD(ROW(A127)-1+COLUMNS('Hlavní seznam měrných jednotek'!$B$4:$K$30),COLUMNS('Hlavní seznam měrných jednotek'!$B$4:$K$30))+1),\"\")","v":""},"",null,{"$f":"IFERROR(RANK(L134,AnalýzaDat!$L$8:$L$301)+SUMPRODUCT(--(L134=AnalýzaDat!$L$8:$L$301),--(O134<AnalýzaDat!$O$8:$O$301)),\"\")","v":""},{"$f":"IFERROR(IF(COUNTIF(AnalýzaDat!$I$8:$I$299,\"<=\"&AnalýzaDat!$I$8:$I$299)=0,\"\",COUNTIF(AnalýzaDat!$I$8:$I$299,\"<=\"&AnalýzaDat!$I$8:$I$299)),\"\")","v":""},{"$f":"IFERROR(IF(AND(poslední_položka-počáteční_řádek=0,LEN(INDEX(AnalýzaDat!$H$8:$I$299,1,1)=0)),\"\",IF(poslední_položka-počáteční_řádek=0,INDEX(AnalýzaDat!$H$8:$I$299,1,1),INDEX(AnalýzaDat!$H$8:$H$299,ROW(A127),1))),\"\")","v":""},{"$f":"IFERROR(IF(AND(poslední_položka-počáteční_řádek=0,ISBLANK(INDEX(AnalýzaDat!$I$8:$I$299,1,1))),\"\",IF(poslední_položka-počáteční_řádek=0,INDEX(AnalýzaDat!$I$8:$I$299,1,1),INDEX(AnalýzaDat!$I$8:$I$299,ROW(A127),1))),\"\")","v":""},168,null,{"$f":"IFERROR(AnalýzaDat!$O134,\"\")","v":168},{"$f":"IFERROR(VLOOKUP(AnalýzaDat!$Q$8:$Q$301,AnalýzaDat!$K$8:$N$301,3,FALSE),\"\")","v":""},{"$f":"IFERROR(VLOOKUP(AnalýzaDat!$Q$8:$Q$301,AnalýzaDat!$K$8:$N$301,4,FALSE),\"\")","v":""},{"$f":"IF(S134=S133,T133,\"\")&REPT(AnalýzaDat!$R134&\", \",AnalýzaDat!$R134<>\"\")","v":""},{"$f":"IF(COUNTIF(S$8:S134,S134)=1,S134,\"\")","v":""},{"$f":"IFERROR(IF(LEN(AnalýzaDat!$S$8:$S$301)=0,\"\",COUNTIF(AnalýzaDat!$S$8:$S$301,S134)),\"\")","v":""},{"$f":"IFERROR(IF(LEN($U134)>0,LEFT(INDIRECT(\"AnalýzaDat!T\"&ROW(AnalýzaDat!$U134)+AnalýzaDat!$V134-1),LEN(INDIRECT(\"AnalýzaDat!T\"&ROW(AnalýzaDat!$U134)+AnalýzaDat!$V134-1))-2),\"\"),\"\")","v":""}]
[{"$nulls":7},{"$f":"IFERROR(INDEX('Hlavní seznam měrných jednotek'!$B$4:$K$30,1+INT((ROW(A128)-1)/COLUMNS('Hlavní seznam měrných jednotek'!$B$4:$K$30)),MOD(ROW(A128)-1+COLUMNS('Hlavní seznam měrných jednotek'!$B$4:$K$30),COLUMNS('Hlavní seznam měrných jednotek'!$B$4:$K$30))+1),\"\")","v":""},"",null,{"$f":"IFERROR(RANK(L135,AnalýzaDat!$L$8:$L$301)+SUMPRODUCT(--(L135=AnalýzaDat!$L$8:$L$301),--(O135<AnalýzaDat!$O$8:$O$301)),\"\")","v":""},{"$f":"IFERROR(IF(COUNTIF(AnalýzaDat!$I$8:$I$299,\"<=\"&AnalýzaDat!$I$8:$I$299)=0,\"\",COUNTIF(AnalýzaDat!$I$8:$I$299,\"<=\"&AnalýzaDat!$I$8:$I$299)),\"\")","v":""},{"$f":"IFERROR(IF(AND(poslední_položka-počáteční_řádek=0,LEN(INDEX(AnalýzaDat!$H$8:$I$299,1,1)=0)),\"\",IF(poslední_položka-počáteční_řádek=0,INDEX(AnalýzaDat!$H$8:$I$299,1,1),INDEX(AnalýzaDat!$H$8:$H$299,ROW(A128),1))),\"\")","v":""},{"$f":"IFERROR(IF(AND(poslední_položka-počáteční_řádek=0,ISBLANK(INDEX(AnalýzaDat!$I$8:$I$299,1,1))),\"\",IF(poslední_položka-počáteční_řádek=0,INDEX(AnalýzaDat!$I$8:$I$299,1,1),INDEX(AnalýzaDat!$I$8:$I$299,ROW(A128),1))),\"\")","v":""},167,null,{"$f":"IFERROR(AnalýzaDat!$O135,\"\")","v":167},{"$f":"IFERROR(VLOOKUP(AnalýzaDat!$Q$8:$Q$301,AnalýzaDat!$K$8:$N$301,3,FALSE),\"\")","v":""},{"$f":"IFERROR(VLOOKUP(AnalýzaDat!$Q$8:$Q$301,AnalýzaDat!$K$8:$N$301,4,FALSE),\"\")","v":""},{"$f":"IF(S135=S134,T134,\"\")&REPT(AnalýzaDat!$R135&\", \",AnalýzaDat!$R135<>\"\")","v":""},{"$f":"IF(COUNTIF(S$8:S135,S135)=1,S135,\"\")","v":""},{"$f":"IFERROR(IF(LEN(AnalýzaDat!$S$8:$S$301)=0,\"\",COUNTIF(AnalýzaDat!$S$8:$S$301,S135)),\"\")","v":""},{"$f":"IFERROR(IF(LEN($U135)>0,LEFT(INDIRECT(\"AnalýzaDat!T\"&ROW(AnalýzaDat!$U135)+AnalýzaDat!$V135-1),LEN(INDIRECT(\"AnalýzaDat!T\"&ROW(AnalýzaDat!$U135)+AnalýzaDat!$V135-1))-2),\"\"),\"\")","v":""}]
[{"$nulls":7},{"$f":"IFERROR(INDEX('Hlavní seznam měrných jednotek'!$B$4:$K$30,1+INT((ROW(A129)-1)/COLUMNS('Hlavní seznam měrných jednotek'!$B$4:$K$30)),MOD(ROW(A129)-1+COLUMNS('Hlavní seznam měrných jednotek'!$B$4:$K$30),COLUMNS('Hlavní seznam měrných jednotek'!$B$4:$K$30))+1),\"\")","v":""},{"$f":"IFERROR(INDEX(HlavníSeznamIngrediencí,1+INT((ROW(A129)-1)/COLUMNS(HlavníSeznamIngrediencí)),MOD(ROW(A129)-1+COLUMNS(HlavníSeznamIngrediencí),COLUMNS(HlavníSeznamIngrediencí))+1),\"\")","v":""},null,{"$f":"IFERROR(RANK(L136,AnalýzaDat!$L$8:$L$301)+SUMPRODUCT(--(L136=AnalýzaDat!$L$8:$L$301),--(O136<AnalýzaDat!$O$8:$O$301)),\"\")","v":""},{"$f":"IFERROR(IF(COUNTIF(AnalýzaDat!$I$8:$I$299,\"<=\"&AnalýzaDat!$I$8:$I$299)=0,\"\",COUNTIF(AnalýzaDat!$I$8:$I$299,\"<=\"&AnalýzaDat!$I$8:$I$299)),\"\")","v":""},{"$f":"IFERROR(IF(AND(poslední_položka-počáteční_řádek=0,LEN(INDEX(AnalýzaDat!$H$8:$I$299,1,1)=0)),\"\",IF(poslední_položka-počáteční_řádek=0,INDEX(AnalýzaDat!$H$8:$I$299,1,1),INDEX(AnalýzaDat!$H$8:$H$299,ROW(A129),1))),\"\")","v":""},{"$f":"IFERROR(IF(AND(poslední_položka-počáteční_řádek=0,ISBLANK(INDEX(AnalýzaDat!$I$8:$I$299,1,1))),\"\",IF(poslední_položka-počáteční_řádek=0,INDEX(AnalýzaDat!$I$8:$I$299,1,1),INDEX(AnalýzaDat!$I$8:$I$299,ROW(A129),1))),\"\")","v":""},166,null,{"$f":"IFERROR(AnalýzaDat!$O136,\"\")","v":166},{"$f":"IFERROR(VLOOKUP(AnalýzaDat!$Q$8:$Q$301,AnalýzaDat!$K$8:$N$301,3,FALSE),\"\")","v":""},{"$f":"IFERROR(VLOOKUP(AnalýzaDat!$Q$8:$Q$301,AnalýzaDat!$K$8:$N$301,4,FALSE),\"\")","v":""},{"$f":"IF(S136=S135,T135,\"\")&REPT(AnalýzaDat!$R136&\", \",AnalýzaDat!$R136<>\"\")","v":""},{"$f":"IF(COUNTIF(S$8:S136,S136)=1,S136,\"\")","v":""},{"$f":"IFERROR(IF(LEN(AnalýzaDat!$S$8:$S$301)=0,\"\",COUNTIF(AnalýzaDat!$S$8:$S$301,S136)),\"\")","v":""},{"$f":"IFERROR(IF(LEN($U136)>0,LEFT(INDIRECT(\"AnalýzaDat!T\"&ROW(AnalýzaDat!$U136)+AnalýzaDat!$V136-1),LEN(INDIRECT(\"AnalýzaDat!T\"&ROW(AnalýzaDat!$U136)+AnalýzaDat!$V136-1))-2),\"\"),\"\")","v":""}]
[{"$nulls":7},{"$f":"IFERROR(INDEX('Hlavní seznam měrných jednotek'!$B$4:$K$30,1+INT((ROW(A130)-1)/COLUMNS('Hlavní seznam měrných jednotek'!$B$4:$K$30)),MOD(ROW(A130)-1+COLUMNS('Hlavní seznam měrných jednotek'!$B$4:$K$30),COLUMNS('Hlavní seznam měrných jednotek'!$B$4:$K$30))+1),\"\")","v":""},"",null,{"$f":"IFERROR(RANK(L137,AnalýzaDat!$L$8:$L$301)+SUMPRODUCT(--(L137=AnalýzaDat!$L$8:$L$301),--(O137<AnalýzaDat!$O$8:$O$301)),\"\")","v":""},{"$f":"IFERROR(IF(COUNTIF(AnalýzaDat!$I$8:$I$299,\"<=\"&AnalýzaDat!$I$8:$I$299)=0,\"\",COUNTIF(AnalýzaDat!$I$8:$I$299,\"<=\"&AnalýzaDat!$I$8:$I$299)),\"\")","v":""},{"$f":"IFERROR(IF(AND(poslední_položka-počáteční_řádek=0,LEN(INDEX(AnalýzaDat!$H$8:$I$299,1,1)=0)),\"\",IF(poslední_položka-počáteční_řádek=0,INDEX(AnalýzaDat!$H$8:$I$299,1,1),INDEX(AnalýzaDat!$H$8:$H$299,ROW(A130),1))),\"\")","v":""},{"$f":"IFERROR(IF(AND(poslední_položka-počáteční_řádek=0,ISBLANK(INDEX(AnalýzaDat!$I$8:$I$299,1,1))),\"\",IF(poslední_položka-počáteční_řádek=0,INDEX(AnalýzaDat!$I$8:$I$299,1,1),INDEX(AnalýzaDat!$I$8:$I$299,ROW(A130),1))),\"\")","v":""},165,null,{"$f":"IFERROR(AnalýzaDat!$O137,\"\")","v":165},{"$f":"IFERROR(VLOOKUP(AnalýzaDat!$Q$8:$Q$301,AnalýzaDat!$K$8:$N$301,3,FALSE),\"\")","v":""},{"$f":"IFERROR(VLOOKUP(AnalýzaDat!$Q$8:$Q$301,AnalýzaDat!$K$8:$N$301,4,FALSE),\"\")","v":""},{"$f":"IF(S137=S136,T136,\"\")&REPT(AnalýzaDat!$R137&\", \",AnalýzaDat!$R137<>\"\")","v":""},{"$f":"IF(COUNTIF(S$8:S137,S137)=1,S137,\"\")","v":""},{"$f":"IFERROR(IF(LEN(AnalýzaDat!$S$8:$S$301)=0,\"\",COUNTIF(AnalýzaDat!$S$8:$S$301,S137)),\"\")","v":""},{"$f":"IFERROR(IF(LEN($U137)>0,LEFT(INDIRECT(\"AnalýzaDat!T\"&ROW(AnalýzaDat!$U137)+AnalýzaDat!$V137-1),LEN(INDIRECT(\"AnalýzaDat!T\"&ROW(AnalýzaDat!$U137)+AnalýzaDat!$V137-1))-2),\"\"),\"\")","v":""}]
[{"$nulls":7},{"$f":"IFERROR(INDEX('Hlavní seznam měrných jednotek'!$B$4:$K$30,1+INT((ROW(A131)-1)/COLUMNS('Hlavní seznam měrných jednotek'!$B$4:$K$30)),MOD(ROW(A131)-1+COLUMNS('Hlavní seznam měrných jednotek'!$B$4:$K$30),COLUMNS('Hlavní seznam měrných jednotek'!$B$4:$K$30))+1),\"\")","v":" "},"",null,{"$f":"IFERROR(RANK(L138,AnalýzaDat!$L$8:$L$301)+SUMPRODUCT(--(L138=AnalýzaDat!$L$8:$L$301),--(O138<AnalýzaDat!$O$8:$O$301)),\"\")","v":""},{"$f":"IFERROR(IF(COUNTIF(AnalýzaDat!$I$8:$I$299,\"<=\"&AnalýzaDat!$I$8:$I$299)=0,\"\",COUNTIF(AnalýzaDat!$I$8:$I$299,\"<=\"&AnalýzaDat!$I$8:$I$299)),\"\")","v":""},{"$f":"IFERROR(IF(AND(poslední_položka-počáteční_řádek=0,LEN(INDEX(AnalýzaDat!$H$8:$I$299,1,1)=0)),\"\",IF(poslední_položka-počáteční_řádek=0,INDEX(AnalýzaDat!$H$8:$I$299,1,1),INDEX(AnalýzaDat!$H$8:$H$299,ROW(A131),1))),\"\")","v":" "},{"$f":"IFERROR(IF(AND(poslední_položka-počáteční_řádek=0,ISBLANK(INDEX(AnalýzaDat!$I$8:$I$299,1,1))),\"\",IF(poslední_položka-počáteční_řádek=0,INDEX(AnalýzaDat!$I$8:$I$299,1,1),INDEX(AnalýzaDat!$I$8:$I$299,ROW(A131),1))),\"\")","v":""},{"$f":"O137-1","v":164},null,{"$f":"IFERROR(AnalýzaDat!$O138,\"\")","v":164},{"$f":"IFERROR(VLOOKUP(AnalýzaDat!$Q$8:$Q$301,AnalýzaDat!$K$8:$N$301,3,FALSE),\"\")","v":""},{"$f":"IFERROR(VLOOKUP(AnalýzaDat!$Q$8:$Q$301,AnalýzaDat!$K$8:$N$301,4,FALSE),\"\")","v":""},{"$f":"IF(S138=S137,T137,\"\")&REPT(AnalýzaDat!$R138&\", \",AnalýzaDat!$R138<>\"\")","v":""},{"$f":"IF(COUNTIF(S$8:S138,S138)=1,S138,\"\")","v":""},{"$f":"IFERROR(IF(LEN(AnalýzaDat!$S$8:$S$301)=0,\"\",COUNTIF(AnalýzaDat!$S$8:$S$301,S138)),\"\")","v":""},{"$f":"IFERROR(IF(LEN($U138)>0,LEFT(INDIRECT(\"AnalýzaDat!T\"&ROW(AnalýzaDat!$U138)+AnalýzaDat!$V138-1),LEN(INDIRECT(\"AnalýzaDat!T\"&ROW(AnalýzaDat!$U138)+AnalýzaDat!$V138-1))-2),\"\"),\"\")","v":""}]
[{"$nulls":7},{"$f":"IFERROR(INDEX('Hlavní seznam měrných jednotek'!$B$4:$K$30,1+INT((ROW(A132)-1)/COLUMNS('Hlavní seznam měrných jednotek'!$B$4:$K$30)),MOD(ROW(A132)-1+COLUMNS('Hlavní seznam měrných jednotek'!$B$4:$K$30),COLUMNS('Hlavní seznam měrných jednotek'!$B$4:$K$30))+1),\"\")","v":" "},"",null,{"$f":"IFERROR(RANK(L139,AnalýzaDat!$L$8:$L$301)+SUMPRODUCT(--(L139=AnalýzaDat!$L$8:$L$301),--(O139<AnalýzaDat!$O$8:$O$301)),\"\")","v":""},{"$f":"IFERROR(IF(COUNTIF(AnalýzaDat!$I$8:$I$299,\"<=\"&AnalýzaDat!$I$8:$I$299)=0,\"\",COUNTIF(AnalýzaDat!$I$8:$I$299,\"<=\"&AnalýzaDat!$I$8:$I$299)),\"\")","v":""},{"$f":"IFERROR(IF(AND(poslední_položka-počáteční_řádek=0,LEN(INDEX(AnalýzaDat!$H$8:$I$299,1,1)=0)),\"\",IF(poslední_položka-počáteční_řádek=0,INDEX(AnalýzaDat!$H$8:$I$299,1,1),INDEX(AnalýzaDat!$H$8:$H$299,ROW(A132),1))),\"\")","v":" "},{"$f":"IFERROR(IF(AND(poslední_položka-počáteční_řádek=0,ISBLANK(INDEX(AnalýzaDat!$I$8:$I$299,1,1))),\"\",IF(poslední_položka-počáteční_řádek=0,INDEX(AnalýzaDat!$I$8:$I$299,1,1),INDEX(AnalýzaDat!$I$8:$I$299,ROW(A132),1))),\"\")","v":""},163,null,{"$f":"IFERROR(AnalýzaDat!$O139,\"\")","v":163},{"$f":"IFERROR(VLOOKUP(AnalýzaDat!$Q$8:$Q$301,AnalýzaDat!$K$8:$N$301,3,FALSE),\"\")","v":""},{"$f":"IFERROR(VLOOKUP(AnalýzaDat!$Q$8:$Q$301,AnalýzaDat!$K$8:$N$301,4,FALSE),\"\")","v":""},{"$f":"IF(S139=S138,T138,\"\")&REPT(AnalýzaDat!$R139&\", \",AnalýzaDat!$R139<>\"\")","v":""},{"$f":"IF(COUNTIF(S$8:S139,S139)=1,S139,\"\")","v":""},{"$f":"IFERROR(IF(LEN(AnalýzaDat!$S$8:$S$301)=0,\"\",COUNTIF(AnalýzaDat!$S$8:$S$301,S139)),\"\")","v":""},{"$f":"IFERROR(IF(LEN($U139)>0,LEFT(INDIRECT(\"AnalýzaDat!T\"&ROW(AnalýzaDat!$U139)+AnalýzaDat!$V139-1),LEN(INDIRECT(\"AnalýzaDat!T\"&ROW(AnalýzaDat!$U139)+AnalýzaDat!$V139-1))-2),\"\"),\"\")","v":""}]
[{"$nulls":7},{"$f":"IFERROR(INDEX('Hlavní seznam měrných jednotek'!$B$4:$K$30,1+INT((ROW(A133)-1)/COLUMNS('Hlavní seznam měrných jednotek'!$B$4:$K$30)),MOD(ROW(A133)-1+COLUMNS('Hlavní seznam měrných jednotek'!$B$4:$K$30),COLUMNS('Hlavní seznam měrných jednotek'!$B$4:$K$30))+1),\"\")","v":""},"",null,{"$f":"IFERROR(RANK(L140,AnalýzaDat!$L$8:$L$301)+SUMPRODUCT(--(L140=AnalýzaDat!$L$8:$L$301),--(O140<AnalýzaDat!$O$8:$O$301)),\"\")","v":""},{"$f":"IFERROR(IF(COUNTIF(AnalýzaDat!$I$8:$I$299,\"<=\"&AnalýzaDat!$I$8:$I$299)=0,\"\",COUNTIF(AnalýzaDat!$I$8:$I$299,\"<=\"&AnalýzaDat!$I$8:$I$299)),\"\")","v":""},{"$f":"IFERROR(IF(AND(poslední_položka-počáteční_řádek=0,LEN(INDEX(AnalýzaDat!$H$8:$I$299,1,1)=0)),\"\",IF(poslední_položka-počáteční_řádek=0,INDEX(AnalýzaDat!$H$8:$I$299,1,1),INDEX(AnalýzaDat!$H$8:$H$299,ROW(A133),1))),\"\")","v":""},{"$f":"IFERROR(IF(AND(poslední_položka-počáteční_řádek=0,ISBLANK(INDEX(AnalýzaDat!$I$8:$I$299,1,1))),\"\",IF(poslední_položka-počáteční_řádek=0,INDEX(AnalýzaDat!$I$8:$I$299,1,1),INDEX(AnalýzaDat!$I$8:$I$299,ROW(A133),1))),\"\")","v":""},162,null,{"$f":"IFERROR(AnalýzaDat!$O140,\"\")","v":162},{"$f":"IFERROR(VLOOKUP(AnalýzaDat!$Q$8:$Q$301,AnalýzaDat!$K$8:$N$301,3,FALSE),\"\")","v":""},{"$f":"IFERROR(VLOOKUP(AnalýzaDat!$Q$8:$Q$301,AnalýzaDat!$K$8:$N$301,4,FALSE),\"\")","v":""},{"$f":"IF(S140=S139,T139,\"\")&REPT(AnalýzaDat!$R140&\", \",AnalýzaDat!$R140<>\"\")","v":""},{"$f":"IF(COUNTIF(S$8:S140,S140)=1,S140,\"\")","v":""},{"$f":"IFERROR(IF(LEN(AnalýzaDat!$S$8:$S$301)=0,\"\",COUNTIF(AnalýzaDat!$S$8:$S$301,S140)),\"\")","v":""},{"$f":"IFERROR(IF(LEN($U140)>0,LEFT(INDIRECT(\"AnalýzaDat!T\"&ROW(AnalýzaDat!$U140)+AnalýzaDat!$V140-1),LEN(INDIRECT(\"AnalýzaDat!T\"&ROW(AnalýzaDat!$U140)+AnalýzaDat!$V140-1))-2),\"\"),\"\")","v":""}]
[{"$nulls":7},{"$f":"IFERROR(INDEX('Hlavní seznam měrných jednotek'!$B$4:$K$30,1+INT((ROW(A134)-1)/COLUMNS('Hlavní seznam měrných jednotek'!$B$4:$K$30)),MOD(ROW(A134)-1+COLUMNS('Hlavní seznam měrných jednotek'!$B$4:$K$30),COLUMNS('Hlavní seznam měrných jednotek'!$B$4:$K$30))+1),\"\")","v":""},"",null,{"$f":"IFERROR(RANK(L141,AnalýzaDat!$L$8:$L$301)+SUMPRODUCT(--(L141=AnalýzaDat!$L$8:$L$301),--(O141<AnalýzaDat!$O$8:$O$301)),\"\")","v":""},{"$f":"IFERROR(IF(COUNTIF(AnalýzaDat!$I$8:$I$299,\"<=\"&AnalýzaDat!$I$8:$I$299)=0,\"\",COUNTIF(AnalýzaDat!$I$8:$I$299,\"<=\"&AnalýzaDat!$I$8:$I$299)),\"\")","v":""},{"$f":"IFERROR(IF(AND(poslední_položka-počáteční_řádek=0,LEN(INDEX(AnalýzaDat!$H$8:$I$299,1,1)=0)),\"\",IF(poslední_položka-počáteční_řádek=0,INDEX(AnalýzaDat!$H$8:$I$299,1,1),INDEX(AnalýzaDat!$H$8:$H$299,ROW(A134),1))),\"\")","v":""},{"$f":"IFERROR(IF(AND(poslední_položka-počáteční_řádek=0,ISBLANK(INDEX(AnalýzaDat!$I$8:$I$299,1,1))),\"\",IF(poslední_položka-počáteční_řádek=0,INDEX(AnalýzaDat!$I$8:$I$299,1,1),INDEX(AnalýzaDat!$I$8:$I$299,ROW(A134),1))),\"\")","v":""},161,null,{"$f":"IFERROR(AnalýzaDat!$O141,\"\")","v":161},{"$f":"IFERROR(VLOOKUP(AnalýzaDat!$Q$8:$Q$301,AnalýzaDat!$K$8:$N$301,3,FALSE),\"\")","v":""},{"$f":"IFERROR(VLOOKUP(AnalýzaDat!$Q$8:$Q$301,AnalýzaDat!$K$8:$N$301,4,FALSE),\"\")","v":""},{"$f":"IF(S141=S140,T140,\"\")&REPT(AnalýzaDat!$R141&\", \",AnalýzaDat!$R141<>\"\")","v":""},{"$f":"IF(COUNTIF(S$8:S141,S141)=1,S141,\"\")","v":""},{"$f":"IFERROR(IF(LEN(AnalýzaDat!$S$8:$S$301)=0,\"\",COUNTIF(AnalýzaDat!$S$8:$S$301,S141)),\"\")","v":""},{"$f":"IFERROR(IF(LEN($U141)>0,LEFT(INDIRECT(\"AnalýzaDat!T\"&ROW(AnalýzaDat!$U141)+AnalýzaDat!$V141-1),LEN(INDIRECT(\"AnalýzaDat!T\"&ROW(AnalýzaDat!$U141)+AnalýzaDat!$V141-1))-2),\"\"),\"\")","v":""}]
[{"$nulls":7},{"$f":"IFERROR(INDEX('Hlavní seznam měrných jednotek'!$B$4:$K$30,1+INT((ROW(A135)-1)/COLUMNS('Hlavní seznam měrných jednotek'!$B$4:$K$30)),MOD(ROW(A135)-1+COLUMNS('Hlavní seznam měrných jednotek'!$B$4:$K$30),COLUMNS('Hlavní seznam měrných jednotek'!$B$4:$K$30))+1),\"\")","v":""},"",null,{"$f":"IFERROR(RANK(L142,AnalýzaDat!$L$8:$L$301)+SUMPRODUCT(--(L142=AnalýzaDat!$L$8:$L$301),--(O142<AnalýzaDat!$O$8:$O$301)),\"\")","v":""},{"$f":"IFERROR(IF(COUNTIF(AnalýzaDat!$I$8:$I$299,\"<=\"&AnalýzaDat!$I$8:$I$299)=0,\"\",COUNTIF(AnalýzaDat!$I$8:$I$299,\"<=\"&AnalýzaDat!$I$8:$I$299)),\"\")","v":""},{"$f":"IFERROR(IF(AND(poslední_položka-počáteční_řádek=0,LEN(INDEX(AnalýzaDat!$H$8:$I$299,1,1)=0)),\"\",IF(poslední_položka-počáteční_řádek=0,INDEX(AnalýzaDat!$H$8:$I$299,1,1),INDEX(AnalýzaDat!$H$8:$H$299,ROW(A135),1))),\"\")","v":""},{"$f":"IFERROR(IF(AND(poslední_položka-počáteční_řádek=0,ISBLANK(INDEX(AnalýzaDat!$I$8:$I$299,1,1))),\"\",IF(poslední_položka-počáteční_řádek=0,INDEX(AnalýzaDat!$I$8:$I$299,1,1),INDEX(AnalýzaDat!$I$8:$I$299,ROW(A135),1))),\"\")","v":""},160,null,{"$f":"IFERROR(AnalýzaDat!$O142,\"\")","v":160},{"$f":"IFERROR(VLOOKUP(AnalýzaDat!$Q$8:$Q$301,AnalýzaDat!$K$8:$N$301,3,FALSE),\"\")","v":""},{"$f":"IFERROR(VLOOKUP(AnalýzaDat!$Q$8:$Q$301,AnalýzaDat!$K$8:$N$301,4,FALSE),\"\")","v":""},{"$f":"IF(S142=S141,T141,\"\")&REPT(AnalýzaDat!$R142&\", \",AnalýzaDat!$R142<>\"\")","v":""},{"$f":"IF(COUNTIF(S$8:S142,S142)=1,S142,\"\")","v":""},{"$f":"IFERROR(IF(LEN(AnalýzaDat!$S$8:$S$301)=0,\"\",COUNTIF(AnalýzaDat!$S$8:$S$301,S142)),\"\")","v":""},{"$f":"IFERROR(IF(LEN($U142)>0,LEFT(INDIRECT(\"AnalýzaDat!T\"&ROW(AnalýzaDat!$U142)+AnalýzaDat!$V142-1),LEN(INDIRECT(\"AnalýzaDat!T\"&ROW(AnalýzaDat!$U142)+AnalýzaDat!$V142-1))-2),\"\"),\"\")","v":""}]
[{"$nulls":7},{"$f":"IFERROR(INDEX('Hlavní seznam měrných jednotek'!$B$4:$K$30,1+INT((ROW(A136)-1)/COLUMNS('Hlavní seznam měrných jednotek'!$B$4:$K$30)),MOD(ROW(A136)-1+COLUMNS('Hlavní seznam měrných jednotek'!$B$4:$K$30),COLUMNS('Hlavní seznam měrných jednotek'!$B$4:$K$30))+1),\"\")","v":""},"",null,{"$f":"IFERROR(RANK(L143,AnalýzaDat!$L$8:$L$301)+SUMPRODUCT(--(L143=AnalýzaDat!$L$8:$L$301),--(O143<AnalýzaDat!$O$8:$O$301)),\"\")","v":""},{"$f":"IFERROR(IF(COUNTIF(AnalýzaDat!$I$8:$I$299,\"<=\"&AnalýzaDat!$I$8:$I$299)=0,\"\",COUNTIF(AnalýzaDat!$I$8:$I$299,\"<=\"&AnalýzaDat!$I$8:$I$299)),\"\")","v":""},{"$f":"IFERROR(IF(AND(poslední_položka-počáteční_řádek=0,LEN(INDEX(AnalýzaDat!$H$8:$I$299,1,1)=0)),\"\",IF(poslední_položka-počáteční_řádek=0,INDEX(AnalýzaDat!$H$8:$I$299,1,1),INDEX(AnalýzaDat!$H$8:$H$299,ROW(A136),1))),\"\")","v":""},{"$f":"IFERROR(IF(AND(poslední_položka-počáteční_řádek=0,ISBLANK(INDEX(AnalýzaDat!$I$8:$I$299,1,1))),\"\",IF(poslední_položka-počáteční_řádek=0,INDEX(AnalýzaDat!$I$8:$I$299,1,1),INDEX(AnalýzaDat!$I$8:$I$299,ROW(A136),1))),\"\")","v":""},159,null,{"$f":"IFERROR(AnalýzaDat!$O143,\"\")","v":159},{"$f":"IFERROR(VLOOKUP(AnalýzaDat!$Q$8:$Q$301,AnalýzaDat!$K$8:$N$301,3,FALSE),\"\")","v":""},{"$f":"IFERROR(VLOOKUP(AnalýzaDat!$Q$8:$Q$301,AnalýzaDat!$K$8:$N$301,4,FALSE),\"\")","v":""},{"$f":"IF(S143=S142,T142,\"\")&REPT(AnalýzaDat!$R143&\", \",AnalýzaDat!$R143<>\"\")","v":""},{"$f":"IF(COUNTIF(S$8:S143,S143)=1,S143,\"\")","v":""},{"$f":"IFERROR(IF(LEN(AnalýzaDat!$S$8:$S$301)=0,\"\",COUNTIF(AnalýzaDat!$S$8:$S$301,S143)),\"\")","v":""},{"$f":"IFERROR(IF(LEN($U143)>0,LEFT(INDIRECT(\"AnalýzaDat!T\"&ROW(AnalýzaDat!$U143)+AnalýzaDat!$V143-1),LEN(INDIRECT(\"AnalýzaDat!T\"&ROW(AnalýzaDat!$U143)+AnalýzaDat!$V143-1))-2),\"\"),\"\")","v":""}]
[{"$nulls":7},{"$f":"IFERROR(INDEX('Hlavní seznam měrných jednotek'!$B$4:$K$30,1+INT((ROW(A137)-1)/COLUMNS('Hlavní seznam měrných jednotek'!$B$4:$K$30)),MOD(ROW(A137)-1+COLUMNS('Hlavní seznam měrných jednotek'!$B$4:$K$30),COLUMNS('Hlavní seznam měrných jednotek'!$B$4:$K$30))+1),\"\")","v":""},"",null,{"$f":"IFERROR(RANK(L144,AnalýzaDat!$L$8:$L$301)+SUMPRODUCT(--(L144=AnalýzaDat!$L$8:$L$301),--(O144<AnalýzaDat!$O$8:$O$301)),\"\")","v":""},{"$f":"IFERROR(IF(COUNTIF(AnalýzaDat!$I$8:$I$299,\"<=\"&AnalýzaDat!$I$8:$I$299)=0,\"\",COUNTIF(AnalýzaDat!$I$8:$I$299,\"<=\"&AnalýzaDat!$I$8:$I$299)),\"\")","v":""},{"$f":"IFERROR(IF(AND(poslední_položka-počáteční_řádek=0,LEN(INDEX(AnalýzaDat!$H$8:$I$299,1,1)=0)),\"\",IF(poslední_položka-počáteční_řádek=0,INDEX(AnalýzaDat!$H$8:$I$299,1,1),INDEX(AnalýzaDat!$H$8:$H$299,ROW(A137),1))),\"\")","v":""},{"$f":"IFERROR(IF(AND(poslední_položka-počáteční_řádek=0,ISBLANK(INDEX(AnalýzaDat!$I$8:$I$299,1,1))),\"\",IF(poslední_položka-počáteční_řádek=0,INDEX(AnalýzaDat!$I$8:$I$299,1,1),INDEX(AnalýzaDat!$I$8:$I$299,ROW(A137),1))),\"\")","v":""},158,null,{"$f":"IFERROR(AnalýzaDat!$O144,\"\")","v":158},{"$f":"IFERROR(VLOOKUP(AnalýzaDat!$Q$8:$Q$301,AnalýzaDat!$K$8:$N$301,3,FALSE),\"\")","v":""},{"$f":"IFERROR(VLOOKUP(AnalýzaDat!$Q$8:$Q$301,AnalýzaDat!$K$8:$N$301,4,FALSE),\"\")","v":""},{"$f":"IF(S144=S143,T143,\"\")&REPT(AnalýzaDat!$R144&\", \",AnalýzaDat!$R144<>\"\")","v":""},{"$f":"IF(COUNTIF(S$8:S144,S144)=1,S144,\"\")","v":""},{"$f":"IFERROR(IF(LEN(AnalýzaDat!$S$8:$S$301)=0,\"\",COUNTIF(AnalýzaDat!$S$8:$S$301,S144)),\"\")","v":""},{"$f":"IFERROR(IF(LEN($U144)>0,LEFT(INDIRECT(\"AnalýzaDat!T\"&ROW(AnalýzaDat!$U144)+AnalýzaDat!$V144-1),LEN(INDIRECT(\"AnalýzaDat!T\"&ROW(AnalýzaDat!$U144)+AnalýzaDat!$V144-1))-2),\"\"),\"\")","v":""}]
[{"$nulls":7},{"$f":"IFERROR(INDEX('Hlavní seznam měrných jednotek'!$B$4:$K$30,1+INT((ROW(A138)-1)/COLUMNS('Hlavní seznam měrných jednotek'!$B$4:$K$30)),MOD(ROW(A138)-1+COLUMNS('Hlavní seznam měrných jednotek'!$B$4:$K$30),COLUMNS('Hlavní seznam měrných jednotek'!$B$4:$K$30))+1),\"\")","v":""},"",null,{"$f":"IFERROR(RANK(L145,AnalýzaDat!$L$8:$L$301)+SUMPRODUCT(--(L145=AnalýzaDat!$L$8:$L$301),--(O145<AnalýzaDat!$O$8:$O$301)),\"\")","v":""},{"$f":"IFERROR(IF(COUNTIF(AnalýzaDat!$I$8:$I$299,\"<=\"&AnalýzaDat!$I$8:$I$299)=0,\"\",COUNTIF(AnalýzaDat!$I$8:$I$299,\"<=\"&AnalýzaDat!$I$8:$I$299)),\"\")","v":""},{"$f":"IFERROR(IF(AND(poslední_položka-počáteční_řádek=0,LEN(INDEX(AnalýzaDat!$H$8:$I$299,1,1)=0)),\"\",IF(poslední_položka-počáteční_řádek=0,INDEX(AnalýzaDat!$H$8:$I$299,1,1),INDEX(AnalýzaDat!$H$8:$H$299,ROW(A138),1))),\"\")","v":""},{"$f":"IFERROR(IF(AND(poslední_položka-počáteční_řádek=0,ISBLANK(INDEX(AnalýzaDat!$I$8:$I$299,1,1))),\"\",IF(poslední_položka-počáteční_řádek=0,INDEX(AnalýzaDat!$I$8:$I$299,1,1),INDEX(AnalýzaDat!$I$8:$I$299,ROW(A138),1))),\"\")","v":""},157,null,{"$f":"IFERROR(AnalýzaDat!$O145,\"\")","v":157},{"$f":"IFERROR(VLOOKUP(AnalýzaDat!$Q$8:$Q$301,AnalýzaDat!$K$8:$N$301,3,FALSE),\"\")","v":""},{"$f":"IFERROR(VLOOKUP(AnalýzaDat!$Q$8:$Q$301,AnalýzaDat!$K$8:$N$301,4,FALSE),\"\")","v":""},{"$f":"IF(S145=S144,T144,\"\")&REPT(AnalýzaDat!$R145&\", \",AnalýzaDat!$R145<>\"\")","v":""},{"$f":"IF(COUNTIF(S$8:S145,S145)=1,S145,\"\")","v":""},{"$f":"IFERROR(IF(LEN(AnalýzaDat!$S$8:$S$301)=0,\"\",COUNTIF(AnalýzaDat!$S$8:$S$301,S145)),\"\")","v":""},{"$f":"IFERROR(IF(LEN($U145)>0,LEFT(INDIRECT(\"AnalýzaDat!T\"&ROW(AnalýzaDat!$U145)+AnalýzaDat!$V145-1),LEN(INDIRECT(\"AnalýzaDat!T\"&ROW(AnalýzaDat!$U145)+AnalýzaDat!$V145-1))-2),\"\"),\"\")","v":""}]
[{"$nulls":7},{"$f":"IFERROR(INDEX('Hlavní seznam měrných jednotek'!$B$4:$K$30,1+INT((ROW(A139)-1)/COLUMNS('Hlavní seznam měrných jednotek'!$B$4:$K$30)),MOD(ROW(A139)-1+COLUMNS('Hlavní seznam měrných jednotek'!$B$4:$K$30),COLUMNS('Hlavní seznam měrných jednotek'!$B$4:$K$30))+1),\"\")","v":""},"",null,{"$f":"IFERROR(RANK(L146,AnalýzaDat!$L$8:$L$301)+SUMPRODUCT(--(L146=AnalýzaDat!$L$8:$L$301),--(O146<AnalýzaDat!$O$8:$O$301)),\"\")","v":""},{"$f":"IFERROR(IF(COUNTIF(AnalýzaDat!$I$8:$I$299,\"<=\"&AnalýzaDat!$I$8:$I$299)=0,\"\",COUNTIF(AnalýzaDat!$I$8:$I$299,\"<=\"&AnalýzaDat!$I$8:$I$299)),\"\")","v":""},{"$f":"IFERROR(IF(AND(poslední_položka-počáteční_řádek=0,LEN(INDEX(AnalýzaDat!$H$8:$I$299,1,1)=0)),\"\",IF(poslední_položka-počáteční_řádek=0,INDEX(AnalýzaDat!$H$8:$I$299,1,1),INDEX(AnalýzaDat!$H$8:$H$299,ROW(A139),1))),\"\")","v":""},{"$f":"IFERROR(IF(AND(poslední_položka-počáteční_řádek=0,ISBLANK(INDEX(AnalýzaDat!$I$8:$I$299,1,1))),\"\",IF(poslední_položka-počáteční_řádek=0,INDEX(AnalýzaDat!$I$8:$I$299,1,1),INDEX(AnalýzaDat!$I$8:$I$299,ROW(A139),1))),\"\")","v":""},156,null,{"$f":"IFERROR(AnalýzaDat!$O146,\"\")","v":156},{"$f":"IFERROR(VLOOKUP(AnalýzaDat!$Q$8:$Q$301,AnalýzaDat!$K$8:$N$301,3,FALSE),\"\")","v":""},{"$f":"IFERROR(VLOOKUP(AnalýzaDat!$Q$8:$Q$301,AnalýzaDat!$K$8:$N$301,4,FALSE),\"\")","v":""},{"$f":"IF(S146=S145,T145,\"\")&REPT(AnalýzaDat!$R146&\", \",AnalýzaDat!$R146<>\"\")","v":""},{"$f":"IF(COUNTIF(S$8:S146,S146)=1,S146,\"\")","v":""},{"$f":"IFERROR(IF(LEN(AnalýzaDat!$S$8:$S$301)=0,\"\",COUNTIF(AnalýzaDat!$S$8:$S$301,S146)),\"\")","v":""},{"$f":"IFERROR(IF(LEN($U146)>0,LEFT(INDIRECT(\"AnalýzaDat!T\"&ROW(AnalýzaDat!$U146)+AnalýzaDat!$V146-1),LEN(INDIRECT(\"AnalýzaDat!T\"&ROW(AnalýzaDat!$U146)+AnalýzaDat!$V146-1))-2),\"\"),\"\")","v":""}]
[{"$nulls":7},{"$f":"IFERROR(INDEX('Hlavní seznam měrných jednotek'!$B$4:$K$30,1+INT((ROW(A140)-1)/COLUMNS('Hlavní seznam měrných jednotek'!$B$4:$K$30)),MOD(ROW(A140)-1+COLUMNS('Hlavní seznam měrných jednotek'!$B$4:$K$30),COLUMNS('Hlavní seznam měrných jednotek'!$B$4:$K$30))+1),\"\")","v":""},"",null,{"$f":"IFERROR(RANK(L147,AnalýzaDat!$L$8:$L$301)+SUMPRODUCT(--(L147=AnalýzaDat!$L$8:$L$301),--(O147<AnalýzaDat!$O$8:$O$301)),\"\")","v":""},{"$f":"IFERROR(IF(COUNTIF(AnalýzaDat!$I$8:$I$299,\"<=\"&AnalýzaDat!$I$8:$I$299)=0,\"\",COUNTIF(AnalýzaDat!$I$8:$I$299,\"<=\"&AnalýzaDat!$I$8:$I$299)),\"\")","v":""},{"$f":"IFERROR(IF(AND(poslední_položka-počáteční_řádek=0,LEN(INDEX(AnalýzaDat!$H$8:$I$299,1,1)=0)),\"\",IF(poslední_položka-počáteční_řádek=0,INDEX(AnalýzaDat!$H$8:$I$299,1,1),INDEX(AnalýzaDat!$H$8:$H$299,ROW(A140),1))),\"\")","v":""},{"$f":"IFERROR(IF(AND(poslední_položka-počáteční_řádek=0,ISBLANK(INDEX(AnalýzaDat!$I$8:$I$299,1,1))),\"\",IF(poslední_položka-počáteční_řádek=0,INDEX(AnalýzaDat!$I$8:$I$299,1,1),INDEX(AnalýzaDat!$I$8:$I$299,ROW(A140),1))),\"\")","v":""},155,null,{"$f":"IFERROR(AnalýzaDat!$O147,\"\")","v":155},{"$f":"IFERROR(VLOOKUP(AnalýzaDat!$Q$8:$Q$301,AnalýzaDat!$K$8:$N$301,3,FALSE),\"\")","v":""},{"$f":"IFERROR(VLOOKUP(AnalýzaDat!$Q$8:$Q$301,AnalýzaDat!$K$8:$N$301,4,FALSE),\"\")","v":""},{"$f":"IF(S147=S146,T146,\"\")&REPT(AnalýzaDat!$R147&\", \",AnalýzaDat!$R147<>\"\")","v":""},{"$f":"IF(COUNTIF(S$8:S147,S147)=1,S147,\"\")","v":""},{"$f":"IFERROR(IF(LEN(AnalýzaDat!$S$8:$S$301)=0,\"\",COUNTIF(AnalýzaDat!$S$8:$S$301,S147)),\"\")","v":""},{"$f":"IFERROR(IF(LEN($U147)>0,LEFT(INDIRECT(\"AnalýzaDat!T\"&ROW(AnalýzaDat!$U147)+AnalýzaDat!$V147-1),LEN(INDIRECT(\"AnalýzaDat!T\"&ROW(AnalýzaDat!$U147)+AnalýzaDat!$V147-1))-2),\"\"),\"\")","v":""}]
[{"$nulls":7},{"$f":"IFERROR(INDEX('Hlavní seznam měrných jednotek'!$B$4:$K$30,1+INT((ROW(A141)-1)/COLUMNS('Hlavní seznam měrných jednotek'!$B$4:$K$30)),MOD(ROW(A141)-1+COLUMNS('Hlavní seznam měrných jednotek'!$B$4:$K$30),COLUMNS('Hlavní seznam měrných jednotek'!$B$4:$K$30))+1),\"\")","v":" "},"",null,{"$f":"IFERROR(RANK(L148,AnalýzaDat!$L$8:$L$301)+SUMPRODUCT(--(L148=AnalýzaDat!$L$8:$L$301),--(O148<AnalýzaDat!$O$8:$O$301)),\"\")","v":""},{"$f":"IFERROR(IF(COUNTIF(AnalýzaDat!$I$8:$I$299,\"<=\"&AnalýzaDat!$I$8:$I$299)=0,\"\",COUNTIF(AnalýzaDat!$I$8:$I$299,\"<=\"&AnalýzaDat!$I$8:$I$299)),\"\")","v":""},{"$f":"IFERROR(IF(AND(poslední_položka-počáteční_řádek=0,LEN(INDEX(AnalýzaDat!$H$8:$I$299,1,1)=0)),\"\",IF(poslední_položka-počáteční_řádek=0,INDEX(AnalýzaDat!$H$8:$I$299,1,1),INDEX(AnalýzaDat!$H$8:$H$299,ROW(A141),1))),\"\")","v":" "},{"$f":"IFERROR(IF(AND(poslední_položka-počáteční_řádek=0,ISBLANK(INDEX(AnalýzaDat!$I$8:$I$299,1,1))),\"\",IF(poslední_položka-počáteční_řádek=0,INDEX(AnalýzaDat!$I$8:$I$299,1,1),INDEX(AnalýzaDat!$I$8:$I$299,ROW(A141),1))),\"\")","v":""},154,null,{"$f":"IFERROR(AnalýzaDat!$O148,\"\")","v":154},{"$f":"IFERROR(VLOOKUP(AnalýzaDat!$Q$8:$Q$301,AnalýzaDat!$K$8:$N$301,3,FALSE),\"\")","v":""},{"$f":"IFERROR(VLOOKUP(AnalýzaDat!$Q$8:$Q$301,AnalýzaDat!$K$8:$N$301,4,FALSE),\"\")","v":""},{"$f":"IF(S148=S147,T147,\"\")&REPT(AnalýzaDat!$R148&\", \",AnalýzaDat!$R148<>\"\")","v":""},{"$f":"IF(COUNTIF(S$8:S148,S148)=1,S148,\"\")","v":""},{"$f":"IFERROR(IF(LEN(AnalýzaDat!$S$8:$S$301)=0,\"\",COUNTIF(AnalýzaDat!$S$8:$S$301,S148)),\"\")","v":""},{"$f":"IFERROR(IF(LEN($U148)>0,LEFT(INDIRECT(\"AnalýzaDat!T\"&ROW(AnalýzaDat!$U148)+AnalýzaDat!$V148-1),LEN(INDIRECT(\"AnalýzaDat!T\"&ROW(AnalýzaDat!$U148)+AnalýzaDat!$V148-1))-2),\"\"),\"\")","v":""}]
[{"$nulls":7},{"$f":"IFERROR(INDEX('Hlavní seznam měrných jednotek'!$B$4:$K$30,1+INT((ROW(A142)-1)/COLUMNS('Hlavní seznam měrných jednotek'!$B$4:$K$30)),MOD(ROW(A142)-1+COLUMNS('Hlavní seznam měrných jednotek'!$B$4:$K$30),COLUMNS('Hlavní seznam měrných jednotek'!$B$4:$K$30))+1),\"\")","v":" "},"",null,{"$f":"IFERROR(RANK(L149,AnalýzaDat!$L$8:$L$301)+SUMPRODUCT(--(L149=AnalýzaDat!$L$8:$L$301),--(O149<AnalýzaDat!$O$8:$O$301)),\"\")","v":""},{"$f":"IFERROR(IF(COUNTIF(AnalýzaDat!$I$8:$I$299,\"<=\"&AnalýzaDat!$I$8:$I$299)=0,\"\",COUNTIF(AnalýzaDat!$I$8:$I$299,\"<=\"&AnalýzaDat!$I$8:$I$299)),\"\")","v":""},{"$f":"IFERROR(IF(AND(poslední_položka-počáteční_řádek=0,LEN(INDEX(AnalýzaDat!$H$8:$I$299,1,1)=0)),\"\",IF(poslední_položka-počáteční_řádek=0,INDEX(AnalýzaDat!$H$8:$I$299,1,1),INDEX(AnalýzaDat!$H$8:$H$299,ROW(A142),1))),\"\")","v":" "},{"$f":"IFERROR(IF(AND(poslední_položka-počáteční_řádek=0,ISBLANK(INDEX(AnalýzaDat!$I$8:$I$299,1,1))),\"\",IF(poslední_položka-počáteční_řádek=0,INDEX(AnalýzaDat!$I$8:$I$299,1,1),INDEX(AnalýzaDat!$I$8:$I$299,ROW(A142),1))),\"\")","v":""},153,null,{"$f":"IFERROR(AnalýzaDat!$O149,\"\")","v":153},{"$f":"IFERROR(VLOOKUP(AnalýzaDat!$Q$8:$Q$301,AnalýzaDat!$K$8:$N$301,3,FALSE),\"\")","v":""},{"$f":"IFERROR(VLOOKUP(AnalýzaDat!$Q$8:$Q$301,AnalýzaDat!$K$8:$N$301,4,FALSE),\"\")","v":""},{"$f":"IF(S149=S148,T148,\"\")&REPT(AnalýzaDat!$R149&\", \",AnalýzaDat!$R149<>\"\")","v":""},{"$f":"IF(COUNTIF(S$8:S149,S149)=1,S149,\"\")","v":""},{"$f":"IFERROR(IF(LEN(AnalýzaDat!$S$8:$S$301)=0,\"\",COUNTIF(AnalýzaDat!$S$8:$S$301,S149)),\"\")","v":""},{"$f":"IFERROR(IF(LEN($U149)>0,LEFT(INDIRECT(\"AnalýzaDat!T\"&ROW(AnalýzaDat!$U149)+AnalýzaDat!$V149-1),LEN(INDIRECT(\"AnalýzaDat!T\"&ROW(AnalýzaDat!$U149)+AnalýzaDat!$V149-1))-2),\"\"),\"\")","v":""}]
[{"$nulls":7},{"$f":"IFERROR(INDEX('Hlavní seznam měrných jednotek'!$B$4:$K$30,1+INT((ROW(A143)-1)/COLUMNS('Hlavní seznam měrných jednotek'!$B$4:$K$30)),MOD(ROW(A143)-1+COLUMNS('Hlavní seznam měrných jednotek'!$B$4:$K$30),COLUMNS('Hlavní seznam měrných jednotek'!$B$4:$K$30))+1),\"\")","v":""},"",null,{"$f":"IFERROR(RANK(L150,AnalýzaDat!$L$8:$L$301)+SUMPRODUCT(--(L150=AnalýzaDat!$L$8:$L$301),--(O150<AnalýzaDat!$O$8:$O$301)),\"\")","v":""},{"$f":"IFERROR(IF(COUNTIF(AnalýzaDat!$I$8:$I$299,\"<=\"&AnalýzaDat!$I$8:$I$299)=0,\"\",COUNTIF(AnalýzaDat!$I$8:$I$299,\"<=\"&AnalýzaDat!$I$8:$I$299)),\"\")","v":""},{"$f":"IFERROR(IF(AND(poslední_položka-počáteční_řádek=0,LEN(INDEX(AnalýzaDat!$H$8:$I$299,1,1)=0)),\"\",IF(poslední_položka-počáteční_řádek=0,INDEX(AnalýzaDat!$H$8:$I$299,1,1),INDEX(AnalýzaDat!$H$8:$H$299,ROW(A143),1))),\"\")","v":""},{"$f":"IFERROR(IF(AND(poslední_položka-počáteční_řádek=0,ISBLANK(INDEX(AnalýzaDat!$I$8:$I$299,1,1))),\"\",IF(poslední_položka-počáteční_řádek=0,INDEX(AnalýzaDat!$I$8:$I$299,1,1),INDEX(AnalýzaDat!$I$8:$I$299,ROW(A143),1))),\"\")","v":""},152,null,{"$f":"IFERROR(AnalýzaDat!$O150,\"\")","v":152},{"$f":"IFERROR(VLOOKUP(AnalýzaDat!$Q$8:$Q$301,AnalýzaDat!$K$8:$N$301,3,FALSE),\"\")","v":""},{"$f":"IFERROR(VLOOKUP(AnalýzaDat!$Q$8:$Q$301,AnalýzaDat!$K$8:$N$301,4,FALSE),\"\")","v":""},{"$f":"IF(S150=S149,T149,\"\")&REPT(AnalýzaDat!$R150&\", \",AnalýzaDat!$R150<>\"\")","v":""},{"$f":"IF(COUNTIF(S$8:S150,S150)=1,S150,\"\")","v":""},{"$f":"IFERROR(IF(LEN(AnalýzaDat!$S$8:$S$301)=0,\"\",COUNTIF(AnalýzaDat!$S$8:$S$301,S150)),\"\")","v":""},{"$f":"IFERROR(IF(LEN($U150)>0,LEFT(INDIRECT(\"AnalýzaDat!T\"&ROW(AnalýzaDat!$U150)+AnalýzaDat!$V150-1),LEN(INDIRECT(\"AnalýzaDat!T\"&ROW(AnalýzaDat!$U150)+AnalýzaDat!$V150-1))-2),\"\"),\"\")","v":""}]
[{"$nulls":7},{"$f":"IFERROR(INDEX('Hlavní seznam měrných jednotek'!$B$4:$K$30,1+INT((ROW(A144)-1)/COLUMNS('Hlavní seznam měrných jednotek'!$B$4:$K$30)),MOD(ROW(A144)-1+COLUMNS('Hlavní seznam měrných jednotek'!$B$4:$K$30),COLUMNS('Hlavní seznam měrných jednotek'!$B$4:$K$30))+1),\"\")","v":""},"",null,{"$f":"IFERROR(RANK(L151,AnalýzaDat!$L$8:$L$301)+SUMPRODUCT(--(L151=AnalýzaDat!$L$8:$L$301),--(O151<AnalýzaDat!$O$8:$O$301)),\"\")","v":""},{"$f":"IFERROR(IF(COUNTIF(AnalýzaDat!$I$8:$I$299,\"<=\"&AnalýzaDat!$I$8:$I$299)=0,\"\",COUNTIF(AnalýzaDat!$I$8:$I$299,\"<=\"&AnalýzaDat!$I$8:$I$299)),\"\")","v":""},{"$f":"IFERROR(IF(AND(poslední_položka-počáteční_řádek=0,LEN(INDEX(AnalýzaDat!$H$8:$I$299,1,1)=0)),\"\",IF(poslední_položka-počáteční_řádek=0,INDEX(AnalýzaDat!$H$8:$I$299,1,1),INDEX(AnalýzaDat!$H$8:$H$299,ROW(A144),1))),\"\")","v":""},{"$f":"IFERROR(IF(AND(poslední_položka-počáteční_řádek=0,ISBLANK(INDEX(AnalýzaDat!$I$8:$I$299,1,1))),\"\",IF(poslední_položka-počáteční_řádek=0,INDEX(AnalýzaDat!$I$8:$I$299,1,1),INDEX(AnalýzaDat!$I$8:$I$299,ROW(A144),1))),\"\")","v":""},151,null,{"$f":"IFERROR(AnalýzaDat!$O151,\"\")","v":151},{"$f":"IFERROR(VLOOKUP(AnalýzaDat!$Q$8:$Q$301,AnalýzaDat!$K$8:$N$301,3,FALSE),\"\")","v":""},{"$f":"IFERROR(VLOOKUP(AnalýzaDat!$Q$8:$Q$301,AnalýzaDat!$K$8:$N$301,4,FALSE),\"\")","v":""},{"$f":"IF(S151=S150,T150,\"\")&REPT(AnalýzaDat!$R151&\", \",AnalýzaDat!$R151<>\"\")","v":""},{"$f":"IF(COUNTIF(S$8:S151,S151)=1,S151,\"\")","v":""},{"$f":"IFERROR(IF(LEN(AnalýzaDat!$S$8:$S$301)=0,\"\",COUNTIF(AnalýzaDat!$S$8:$S$301,S151)),\"\")","v":""},{"$f":"IFERROR(IF(LEN($U151)>0,LEFT(INDIRECT(\"AnalýzaDat!T\"&ROW(AnalýzaDat!$U151)+AnalýzaDat!$V151-1),LEN(INDIRECT(\"AnalýzaDat!T\"&ROW(AnalýzaDat!$U151)+AnalýzaDat!$V151-1))-2),\"\"),\"\")","v":""}]
[{"$nulls":7},{"$f":"IFERROR(INDEX('Hlavní seznam měrných jednotek'!$B$4:$K$30,1+INT((ROW(A145)-1)/COLUMNS('Hlavní seznam měrných jednotek'!$B$4:$K$30)),MOD(ROW(A145)-1+COLUMNS('Hlavní seznam měrných jednotek'!$B$4:$K$30),COLUMNS('Hlavní seznam měrných jednotek'!$B$4:$K$30))+1),\"\")","v":""},"",null,{"$f":"IFERROR(RANK(L152,AnalýzaDat!$L$8:$L$301)+SUMPRODUCT(--(L152=AnalýzaDat!$L$8:$L$301),--(O152<AnalýzaDat!$O$8:$O$301)),\"\")","v":""},{"$f":"IFERROR(IF(COUNTIF(AnalýzaDat!$I$8:$I$299,\"<=\"&AnalýzaDat!$I$8:$I$299)=0,\"\",COUNTIF(AnalýzaDat!$I$8:$I$299,\"<=\"&AnalýzaDat!$I$8:$I$299)),\"\")","v":""},{"$f":"IFERROR(IF(AND(poslední_položka-počáteční_řádek=0,LEN(INDEX(AnalýzaDat!$H$8:$I$299,1,1)=0)),\"\",IF(poslední_položka-počáteční_řádek=0,INDEX(AnalýzaDat!$H$8:$I$299,1,1),INDEX(AnalýzaDat!$H$8:$H$299,ROW(A145),1))),\"\")","v":""},{"$f":"IFERROR(IF(AND(poslední_položka-počáteční_řádek=0,ISBLANK(INDEX(AnalýzaDat!$I$8:$I$299,1,1))),\"\",IF(poslední_položka-počáteční_řádek=0,INDEX(AnalýzaDat!$I$8:$I$299,1,1),INDEX(AnalýzaDat!$I$8:$I$299,ROW(A145),1))),\"\")","v":""},150,null,{"$f":"IFERROR(AnalýzaDat!$O152,\"\")","v":150},{"$f":"IFERROR(VLOOKUP(AnalýzaDat!$Q$8:$Q$301,AnalýzaDat!$K$8:$N$301,3,FALSE),\"\")","v":""},{"$f":"IFERROR(VLOOKUP(AnalýzaDat!$Q$8:$Q$301,AnalýzaDat!$K$8:$N$301,4,FALSE),\"\")","v":""},{"$f":"IF(S152=S151,T151,\"\")&REPT(AnalýzaDat!$R152&\", \",AnalýzaDat!$R152<>\"\")","v":""},{"$f":"IF(COUNTIF(S$8:S152,S152)=1,S152,\"\")","v":""},{"$f":"IFERROR(IF(LEN(AnalýzaDat!$S$8:$S$301)=0,\"\",COUNTIF(AnalýzaDat!$S$8:$S$301,S152)),\"\")","v":""},{"$f":"IFERROR(IF(LEN($U152)>0,LEFT(INDIRECT(\"AnalýzaDat!T\"&ROW(AnalýzaDat!$U152)+AnalýzaDat!$V152-1),LEN(INDIRECT(\"AnalýzaDat!T\"&ROW(AnalýzaDat!$U152)+AnalýzaDat!$V152-1))-2),\"\"),\"\")","v":""}]
[{"$nulls":7},{"$f":"IFERROR(INDEX('Hlavní seznam měrných jednotek'!$B$4:$K$30,1+INT((ROW(A146)-1)/COLUMNS('Hlavní seznam měrných jednotek'!$B$4:$K$30)),MOD(ROW(A146)-1+COLUMNS('Hlavní seznam měrných jednotek'!$B$4:$K$30),COLUMNS('Hlavní seznam měrných jednotek'!$B$4:$K$30))+1),\"\")","v":""},"",null,{"$f":"IFERROR(RANK(L153,AnalýzaDat!$L$8:$L$301)+SUMPRODUCT(--(L153=AnalýzaDat!$L$8:$L$301),--(O153<AnalýzaDat!$O$8:$O$301)),\"\")","v":""},{"$f":"IFERROR(IF(COUNTIF(AnalýzaDat!$I$8:$I$299,\"<=\"&AnalýzaDat!$I$8:$I$299)=0,\"\",COUNTIF(AnalýzaDat!$I$8:$I$299,\"<=\"&AnalýzaDat!$I$8:$I$299)),\"\")","v":""},{"$f":"IFERROR(IF(AND(poslední_položka-počáteční_řádek=0,LEN(INDEX(AnalýzaDat!$H$8:$I$299,1,1)=0)),\"\",IF(poslední_položka-počáteční_řádek=0,INDEX(AnalýzaDat!$H$8:$I$299,1,1),INDEX(AnalýzaDat!$H$8:$H$299,ROW(A146),1))),\"\")","v":""},{"$f":"IFERROR(IF(AND(poslední_položka-počáteční_řádek=0,ISBLANK(INDEX(AnalýzaDat!$I$8:$I$299,1,1))),\"\",IF(poslední_položka-počáteční_řádek=0,INDEX(AnalýzaDat!$I$8:$I$299,1,1),INDEX(AnalýzaDat!$I$8:$I$299,ROW(A146),1))),\"\")","v":""},149,null,{"$f":"IFERROR(AnalýzaDat!$O153,\"\")","v":149},{"$f":"IFERROR(VLOOKUP(AnalýzaDat!$Q$8:$Q$301,AnalýzaDat!$K$8:$N$301,3,FALSE),\"\")","v":""},{"$f":"IFERROR(VLOOKUP(AnalýzaDat!$Q$8:$Q$301,AnalýzaDat!$K$8:$N$301,4,FALSE),\"\")","v":""},{"$f":"IF(S153=S152,T152,\"\")&REPT(AnalýzaDat!$R153&\", \",AnalýzaDat!$R153<>\"\")","v":""},{"$f":"IF(COUNTIF(S$8:S153,S153)=1,S153,\"\")","v":""},{"$f":"IFERROR(IF(LEN(AnalýzaDat!$S$8:$S$301)=0,\"\",COUNTIF(AnalýzaDat!$S$8:$S$301,S153)),\"\")","v":""},{"$f":"IFERROR(IF(LEN($U153)>0,LEFT(INDIRECT(\"AnalýzaDat!T\"&ROW(AnalýzaDat!$U153)+AnalýzaDat!$V153-1),LEN(INDIRECT(\"AnalýzaDat!T\"&ROW(AnalýzaDat!$U153)+AnalýzaDat!$V153-1))-2),\"\"),\"\")","v":""}]
[{"$nulls":7},{"$f":"IFERROR(INDEX('Hlavní seznam měrných jednotek'!$B$4:$K$30,1+INT((ROW(A147)-1)/COLUMNS('Hlavní seznam měrných jednotek'!$B$4:$K$30)),MOD(ROW(A147)-1+COLUMNS('Hlavní seznam měrných jednotek'!$B$4:$K$30),COLUMNS('Hlavní seznam měrných jednotek'!$B$4:$K$30))+1),\"\")","v":""},"",null,{"$f":"IFERROR(RANK(L154,AnalýzaDat!$L$8:$L$301)+SUMPRODUCT(--(L154=AnalýzaDat!$L$8:$L$301),--(O154<AnalýzaDat!$O$8:$O$301)),\"\")","v":""},{"$f":"IFERROR(IF(COUNTIF(AnalýzaDat!$I$8:$I$299,\"<=\"&AnalýzaDat!$I$8:$I$299)=0,\"\",COUNTIF(AnalýzaDat!$I$8:$I$299,\"<=\"&AnalýzaDat!$I$8:$I$299)),\"\")","v":""},{"$f":"IFERROR(IF(AND(poslední_položka-počáteční_řádek=0,LEN(INDEX(AnalýzaDat!$H$8:$I$299,1,1)=0)),\"\",IF(poslední_položka-počáteční_řádek=0,INDEX(AnalýzaDat!$H$8:$I$299,1,1),INDEX(AnalýzaDat!$H$8:$H$299,ROW(A147),1))),\"\")","v":""},{"$f":"IFERROR(IF(AND(poslední_položka-počáteční_řádek=0,ISBLANK(INDEX(AnalýzaDat!$I$8:$I$299,1,1))),\"\",IF(poslední_položka-počáteční_řádek=0,INDEX(AnalýzaDat!$I$8:$I$299,1,1),INDEX(AnalýzaDat!$I$8:$I$299,ROW(A147),1))),\"\")","v":""},148,null,{"$f":"IFERROR(AnalýzaDat!$O154,\"\")","v":148},{"$f":"IFERROR(VLOOKUP(AnalýzaDat!$Q$8:$Q$301,AnalýzaDat!$K$8:$N$301,3,FALSE),\"\")","v":""},{"$f":"IFERROR(VLOOKUP(AnalýzaDat!$Q$8:$Q$301,AnalýzaDat!$K$8:$N$301,4,FALSE),\"\")","v":""},{"$f":"IF(S154=S153,T153,\"\")&REPT(AnalýzaDat!$R154&\", \",AnalýzaDat!$R154<>\"\")","v":""},{"$f":"IF(COUNTIF(S$8:S154,S154)=1,S154,\"\")","v":""},{"$f":"IFERROR(IF(LEN(AnalýzaDat!$S$8:$S$301)=0,\"\",COUNTIF(AnalýzaDat!$S$8:$S$301,S154)),\"\")","v":""},{"$f":"IFERROR(IF(LEN($U154)>0,LEFT(INDIRECT(\"AnalýzaDat!T\"&ROW(AnalýzaDat!$U154)+AnalýzaDat!$V154-1),LEN(INDIRECT(\"AnalýzaDat!T\"&ROW(AnalýzaDat!$U154)+AnalýzaDat!$V154-1))-2),\"\"),\"\")","v":""}]
[{"$nulls":7},{"$f":"IFERROR(INDEX('Hlavní seznam měrných jednotek'!$B$4:$K$30,1+INT((ROW(A148)-1)/COLUMNS('Hlavní seznam měrných jednotek'!$B$4:$K$30)),MOD(ROW(A148)-1+COLUMNS('Hlavní seznam měrných jednotek'!$B$4:$K$30),COLUMNS('Hlavní seznam měrných jednotek'!$B$4:$K$30))+1),\"\")","v":""},"",null,{"$f":"IFERROR(RANK(L155,AnalýzaDat!$L$8:$L$301)+SUMPRODUCT(--(L155=AnalýzaDat!$L$8:$L$301),--(O155<AnalýzaDat!$O$8:$O$301)),\"\")","v":""},{"$f":"IFERROR(IF(COUNTIF(AnalýzaDat!$I$8:$I$299,\"<=\"&AnalýzaDat!$I$8:$I$299)=0,\"\",COUNTIF(AnalýzaDat!$I$8:$I$299,\"<=\"&AnalýzaDat!$I$8:$I$299)),\"\")","v":""},{"$f":"IFERROR(IF(AND(poslední_položka-počáteční_řádek=0,LEN(INDEX(AnalýzaDat!$H$8:$I$299,1,1)=0)),\"\",IF(poslední_položka-počáteční_řádek=0,INDEX(AnalýzaDat!$H$8:$I$299,1,1),INDEX(AnalýzaDat!$H$8:$H$299,ROW(A148),1))),\"\")","v":""},{"$f":"IFERROR(IF(AND(poslední_položka-počáteční_řádek=0,ISBLANK(INDEX(AnalýzaDat!$I$8:$I$299,1,1))),\"\",IF(poslední_položka-počáteční_řádek=0,INDEX(AnalýzaDat!$I$8:$I$299,1,1),INDEX(AnalýzaDat!$I$8:$I$299,ROW(A148),1))),\"\")","v":""},147,null,{"$f":"IFERROR(AnalýzaDat!$O155,\"\")","v":147},{"$f":"IFERROR(VLOOKUP(AnalýzaDat!$Q$8:$Q$301,AnalýzaDat!$K$8:$N$301,3,FALSE),\"\")","v":""},{"$f":"IFERROR(VLOOKUP(AnalýzaDat!$Q$8:$Q$301,AnalýzaDat!$K$8:$N$301,4,FALSE),\"\")","v":""},{"$f":"IF(S155=S154,T154,\"\")&REPT(AnalýzaDat!$R155&\", \",AnalýzaDat!$R155<>\"\")","v":""},{"$f":"IF(COUNTIF(S$8:S155,S155)=1,S155,\"\")","v":""},{"$f":"IFERROR(IF(LEN(AnalýzaDat!$S$8:$S$301)=0,\"\",COUNTIF(AnalýzaDat!$S$8:$S$301,S155)),\"\")","v":""},{"$f":"IFERROR(IF(LEN($U155)>0,LEFT(INDIRECT(\"AnalýzaDat!T\"&ROW(AnalýzaDat!$U155)+AnalýzaDat!$V155-1),LEN(INDIRECT(\"AnalýzaDat!T\"&ROW(AnalýzaDat!$U155)+AnalýzaDat!$V155-1))-2),\"\"),\"\")","v":""}]
[{"$nulls":7},{"$f":"IFERROR(INDEX('Hlavní seznam měrných jednotek'!$B$4:$K$30,1+INT((ROW(A149)-1)/COLUMNS('Hlavní seznam měrných jednotek'!$B$4:$K$30)),MOD(ROW(A149)-1+COLUMNS('Hlavní seznam měrných jednotek'!$B$4:$K$30),COLUMNS('Hlavní seznam měrných jednotek'!$B$4:$K$30))+1),\"\")","v":""},"",null,{"$f":"IFERROR(RANK(L156,AnalýzaDat!$L$8:$L$301)+SUMPRODUCT(--(L156=AnalýzaDat!$L$8:$L$301),--(O156<AnalýzaDat!$O$8:$O$301)),\"\")","v":""},{"$f":"IFERROR(IF(COUNTIF(AnalýzaDat!$I$8:$I$299,\"<=\"&AnalýzaDat!$I$8:$I$299)=0,\"\",COUNTIF(AnalýzaDat!$I$8:$I$299,\"<=\"&AnalýzaDat!$I$8:$I$299)),\"\")","v":""},{"$f":"IFERROR(IF(AND(poslední_položka-počáteční_řádek=0,LEN(INDEX(AnalýzaDat!$H$8:$I$299,1,1)=0)),\"\",IF(poslední_položka-počáteční_řádek=0,INDEX(AnalýzaDat!$H$8:$I$299,1,1),INDEX(AnalýzaDat!$H$8:$H$299,ROW(A149),1))),\"\")","v":""},{"$f":"IFERROR(IF(AND(poslední_položka-počáteční_řádek=0,ISBLANK(INDEX(AnalýzaDat!$I$8:$I$299,1,1))),\"\",IF(poslední_položka-počáteční_řádek=0,INDEX(AnalýzaDat!$I$8:$I$299,1,1),INDEX(AnalýzaDat!$I$8:$I$299,ROW(A149),1))),\"\")","v":""},146,null,{"$f":"IFERROR(AnalýzaDat!$O156,\"\")","v":146},{"$f":"IFERROR(VLOOKUP(AnalýzaDat!$Q$8:$Q$301,AnalýzaDat!$K$8:$N$301,3,FALSE),\"\")","v":""},{"$f":"IFERROR(VLOOKUP(AnalýzaDat!$Q$8:$Q$301,AnalýzaDat!$K$8:$N$301,4,FALSE),\"\")","v":""},{"$f":"IF(S156=S155,T155,\"\")&REPT(AnalýzaDat!$R156&\", \",AnalýzaDat!$R156<>\"\")","v":""},{"$f":"IF(COUNTIF(S$8:S156,S156)=1,S156,\"\")","v":""},{"$f":"IFERROR(IF(LEN(AnalýzaDat!$S$8:$S$301)=0,\"\",COUNTIF(AnalýzaDat!$S$8:$S$301,S156)),\"\")","v":""},{"$f":"IFERROR(IF(LEN($U156)>0,LEFT(INDIRECT(\"AnalýzaDat!T\"&ROW(AnalýzaDat!$U156)+AnalýzaDat!$V156-1),LEN(INDIRECT(\"AnalýzaDat!T\"&ROW(AnalýzaDat!$U156)+AnalýzaDat!$V156-1))-2),\"\"),\"\")","v":""}]
[{"$nulls":7},{"$f":"IFERROR(INDEX('Hlavní seznam měrných jednotek'!$B$4:$K$30,1+INT((ROW(A150)-1)/COLUMNS('Hlavní seznam měrných jednotek'!$B$4:$K$30)),MOD(ROW(A150)-1+COLUMNS('Hlavní seznam měrných jednotek'!$B$4:$K$30),COLUMNS('Hlavní seznam měrných jednotek'!$B$4:$K$30))+1),\"\")","v":""},"",null,{"$f":"IFERROR(RANK(L157,AnalýzaDat!$L$8:$L$301)+SUMPRODUCT(--(L157=AnalýzaDat!$L$8:$L$301),--(O157<AnalýzaDat!$O$8:$O$301)),\"\")","v":""},{"$f":"IFERROR(IF(COUNTIF(AnalýzaDat!$I$8:$I$299,\"<=\"&AnalýzaDat!$I$8:$I$299)=0,\"\",COUNTIF(AnalýzaDat!$I$8:$I$299,\"<=\"&AnalýzaDat!$I$8:$I$299)),\"\")","v":""},{"$f":"IFERROR(IF(AND(poslední_položka-počáteční_řádek=0,LEN(INDEX(AnalýzaDat!$H$8:$I$299,1,1)=0)),\"\",IF(poslední_položka-počáteční_řádek=0,INDEX(AnalýzaDat!$H$8:$I$299,1,1),INDEX(AnalýzaDat!$H$8:$H$299,ROW(A150),1))),\"\")","v":""},{"$f":"IFERROR(IF(AND(poslední_položka-počáteční_řádek=0,ISBLANK(INDEX(AnalýzaDat!$I$8:$I$299,1,1))),\"\",IF(poslední_položka-počáteční_řádek=0,INDEX(AnalýzaDat!$I$8:$I$299,1,1),INDEX(AnalýzaDat!$I$8:$I$299,ROW(A150),1))),\"\")","v":""},145,null,{"$f":"IFERROR(AnalýzaDat!$O157,\"\")","v":145},{"$f":"IFERROR(VLOOKUP(AnalýzaDat!$Q$8:$Q$301,AnalýzaDat!$K$8:$N$301,3,FALSE),\"\")","v":""},{"$f":"IFERROR(VLOOKUP(AnalýzaDat!$Q$8:$Q$301,AnalýzaDat!$K$8:$N$301,4,FALSE),\"\")","v":""},{"$f":"IF(S157=S156,T156,\"\")&REPT(AnalýzaDat!$R157&\", \",AnalýzaDat!$R157<>\"\")","v":""},{"$f":"IF(COUNTIF(S$8:S157,S157)=1,S157,\"\")","v":""},{"$f":"IFERROR(IF(LEN(AnalýzaDat!$S$8:$S$301)=0,\"\",COUNTIF(AnalýzaDat!$S$8:$S$301,S157)),\"\")","v":""},{"$f":"IFERROR(IF(LEN($U157)>0,LEFT(INDIRECT(\"AnalýzaDat!T\"&ROW(AnalýzaDat!$U157)+AnalýzaDat!$V157-1),LEN(INDIRECT(\"AnalýzaDat!T\"&ROW(AnalýzaDat!$U157)+AnalýzaDat!$V157-1))-2),\"\"),\"\")","v":""}]
[{"$nulls":7},{"$f":"IFERROR(INDEX('Hlavní seznam měrných jednotek'!$B$4:$K$30,1+INT((ROW(A151)-1)/COLUMNS('Hlavní seznam měrných jednotek'!$B$4:$K$30)),MOD(ROW(A151)-1+COLUMNS('Hlavní seznam měrných jednotek'!$B$4:$K$30),COLUMNS('Hlavní seznam měrných jednotek'!$B$4:$K$30))+1),\"\")","v":" "},"",null,{"$f":"IFERROR(RANK(L158,AnalýzaDat!$L$8:$L$301)+SUMPRODUCT(--(L158=AnalýzaDat!$L$8:$L$301),--(O158<AnalýzaDat!$O$8:$O$301)),\"\")","v":""},{"$f":"IFERROR(IF(COUNTIF(AnalýzaDat!$I$8:$I$299,\"<=\"&AnalýzaDat!$I$8:$I$299)=0,\"\",COUNTIF(AnalýzaDat!$I$8:$I$299,\"<=\"&AnalýzaDat!$I$8:$I$299)),\"\")","v":""},{"$f":"IFERROR(IF(AND(poslední_položka-počáteční_řádek=0,LEN(INDEX(AnalýzaDat!$H$8:$I$299,1,1)=0)),\"\",IF(poslední_položka-počáteční_řádek=0,INDEX(AnalýzaDat!$H$8:$I$299,1,1),INDEX(AnalýzaDat!$H$8:$H$299,ROW(A151),1))),\"\")","v":" "},{"$f":"IFERROR(IF(AND(poslední_položka-počáteční_řádek=0,ISBLANK(INDEX(AnalýzaDat!$I$8:$I$299,1,1))),\"\",IF(poslední_položka-počáteční_řádek=0,INDEX(AnalýzaDat!$I$8:$I$299,1,1),INDEX(AnalýzaDat!$I$8:$I$299,ROW(A151),1))),\"\")","v":""},144,null,{"$f":"IFERROR(AnalýzaDat!$O158,\"\")","v":144},{"$f":"IFERROR(VLOOKUP(AnalýzaDat!$Q$8:$Q$301,AnalýzaDat!$K$8:$N$301,3,FALSE),\"\")","v":""},{"$f":"IFERROR(VLOOKUP(AnalýzaDat!$Q$8:$Q$301,AnalýzaDat!$K$8:$N$301,4,FALSE),\"\")","v":""},{"$f":"IF(S158=S157,T157,\"\")&REPT(AnalýzaDat!$R158&\", \",AnalýzaDat!$R158<>\"\")","v":""},{"$f":"IF(COUNTIF(S$8:S158,S158)=1,S158,\"\")","v":""},{"$f":"IFERROR(IF(LEN(AnalýzaDat!$S$8:$S$301)=0,\"\",COUNTIF(AnalýzaDat!$S$8:$S$301,S158)),\"\")","v":""},{"$f":"IFERROR(IF(LEN($U158)>0,LEFT(INDIRECT(\"AnalýzaDat!T\"&ROW(AnalýzaDat!$U158)+AnalýzaDat!$V158-1),LEN(INDIRECT(\"AnalýzaDat!T\"&ROW(AnalýzaDat!$U158)+AnalýzaDat!$V158-1))-2),\"\"),\"\")","v":""}]
[{"$nulls":7},{"$f":"IFERROR(INDEX('Hlavní seznam měrných jednotek'!$B$4:$K$30,1+INT((ROW(A152)-1)/COLUMNS('Hlavní seznam měrných jednotek'!$B$4:$K$30)),MOD(ROW(A152)-1+COLUMNS('Hlavní seznam měrných jednotek'!$B$4:$K$30),COLUMNS('Hlavní seznam měrných jednotek'!$B$4:$K$30))+1),\"\")","v":" "},"",null,{"$f":"IFERROR(RANK(L159,AnalýzaDat!$L$8:$L$301)+SUMPRODUCT(--(L159=AnalýzaDat!$L$8:$L$301),--(O159<AnalýzaDat!$O$8:$O$301)),\"\")","v":""},{"$f":"IFERROR(IF(COUNTIF(AnalýzaDat!$I$8:$I$299,\"<=\"&AnalýzaDat!$I$8:$I$299)=0,\"\",COUNTIF(AnalýzaDat!$I$8:$I$299,\"<=\"&AnalýzaDat!$I$8:$I$299)),\"\")","v":""},{"$f":"IFERROR(IF(AND(poslední_položka-počáteční_řádek=0,LEN(INDEX(AnalýzaDat!$H$8:$I$299,1,1)=0)),\"\",IF(poslední_položka-počáteční_řádek=0,INDEX(AnalýzaDat!$H$8:$I$299,1,1),INDEX(AnalýzaDat!$H$8:$H$299,ROW(A152),1))),\"\")","v":" "},{"$f":"IFERROR(IF(AND(poslední_položka-počáteční_řádek=0,ISBLANK(INDEX(AnalýzaDat!$I$8:$I$299,1,1))),\"\",IF(poslední_položka-počáteční_řádek=0,INDEX(AnalýzaDat!$I$8:$I$299,1,1),INDEX(AnalýzaDat!$I$8:$I$299,ROW(A152),1))),\"\")","v":""},143,null,{"$f":"IFERROR(AnalýzaDat!$O159,\"\")","v":143},{"$f":"IFERROR(VLOOKUP(AnalýzaDat!$Q$8:$Q$301,AnalýzaDat!$K$8:$N$301,3,FALSE),\"\")","v":""},{"$f":"IFERROR(VLOOKUP(AnalýzaDat!$Q$8:$Q$301,AnalýzaDat!$K$8:$N$301,4,FALSE),\"\")","v":""},{"$f":"IF(S159=S158,T158,\"\")&REPT(AnalýzaDat!$R159&\", \",AnalýzaDat!$R159<>\"\")","v":""},{"$f":"IF(COUNTIF(S$8:S159,S159)=1,S159,\"\")","v":""},{"$f":"IFERROR(IF(LEN(AnalýzaDat!$S$8:$S$301)=0,\"\",COUNTIF(AnalýzaDat!$S$8:$S$301,S159)),\"\")","v":""},{"$f":"IFERROR(IF(LEN($U159)>0,LEFT(INDIRECT(\"AnalýzaDat!T\"&ROW(AnalýzaDat!$U159)+AnalýzaDat!$V159-1),LEN(INDIRECT(\"AnalýzaDat!T\"&ROW(AnalýzaDat!$U159)+AnalýzaDat!$V159-1))-2),\"\"),\"\")","v":""}]
[{"$nulls":7},{"$f":"IFERROR(INDEX('Hlavní seznam měrných jednotek'!$B$4:$K$30,1+INT((ROW(A153)-1)/COLUMNS('Hlavní seznam měrných jednotek'!$B$4:$K$30)),MOD(ROW(A153)-1+COLUMNS('Hlavní seznam měrných jednotek'!$B$4:$K$30),COLUMNS('Hlavní seznam měrných jednotek'!$B$4:$K$30))+1),\"\")","v":""},"",null,{"$f":"IFERROR(RANK(L160,AnalýzaDat!$L$8:$L$301)+SUMPRODUCT(--(L160=AnalýzaDat!$L$8:$L$301),--(O160<AnalýzaDat!$O$8:$O$301)),\"\")","v":""},{"$f":"IFERROR(IF(COUNTIF(AnalýzaDat!$I$8:$I$299,\"<=\"&AnalýzaDat!$I$8:$I$299)=0,\"\",COUNTIF(AnalýzaDat!$I$8:$I$299,\"<=\"&AnalýzaDat!$I$8:$I$299)),\"\")","v":""},{"$f":"IFERROR(IF(AND(poslední_položka-počáteční_řádek=0,LEN(INDEX(AnalýzaDat!$H$8:$I$299,1,1)=0)),\"\",IF(poslední_položka-počáteční_řádek=0,INDEX(AnalýzaDat!$H$8:$I$299,1,1),INDEX(AnalýzaDat!$H$8:$H$299,ROW(A153),1))),\"\")","v":""},{"$f":"IFERROR(IF(AND(poslední_položka-počáteční_řádek=0,ISBLANK(INDEX(AnalýzaDat!$I$8:$I$299,1,1))),\"\",IF(poslední_položka-počáteční_řádek=0,INDEX(AnalýzaDat!$I$8:$I$299,1,1),INDEX(AnalýzaDat!$I$8:$I$299,ROW(A153),1))),\"\")","v":""},142,null,{"$f":"IFERROR(AnalýzaDat!$O160,\"\")","v":142},{"$f":"IFERROR(VLOOKUP(AnalýzaDat!$Q$8:$Q$301,AnalýzaDat!$K$8:$N$301,3,FALSE),\"\")","v":""},{"$f":"IFERROR(VLOOKUP(AnalýzaDat!$Q$8:$Q$301,AnalýzaDat!$K$8:$N$301,4,FALSE),\"\")","v":""},{"$f":"IF(S160=S159,T159,\"\")&REPT(AnalýzaDat!$R160&\", \",AnalýzaDat!$R160<>\"\")","v":""},{"$f":"IF(COUNTIF(S$8:S160,S160)=1,S160,\"\")","v":""},{"$f":"IFERROR(IF(LEN(AnalýzaDat!$S$8:$S$301)=0,\"\",COUNTIF(AnalýzaDat!$S$8:$S$301,S160)),\"\")","v":""},{"$f":"IFERROR(IF(LEN($U160)>0,LEFT(INDIRECT(\"AnalýzaDat!T\"&ROW(AnalýzaDat!$U160)+AnalýzaDat!$V160-1),LEN(INDIRECT(\"AnalýzaDat!T\"&ROW(AnalýzaDat!$U160)+AnalýzaDat!$V160-1))-2),\"\"),\"\")","v":""}]
[{"$nulls":7},{"$f":"IFERROR(INDEX('Hlavní seznam měrných jednotek'!$B$4:$K$30,1+INT((ROW(A154)-1)/COLUMNS('Hlavní seznam měrných jednotek'!$B$4:$K$30)),MOD(ROW(A154)-1+COLUMNS('Hlavní seznam měrných jednotek'!$B$4:$K$30),COLUMNS('Hlavní seznam měrných jednotek'!$B$4:$K$30))+1),\"\")","v":""},"",null,{"$f":"IFERROR(RANK(L161,AnalýzaDat!$L$8:$L$301)+SUMPRODUCT(--(L161=AnalýzaDat!$L$8:$L$301),--(O161<AnalýzaDat!$O$8:$O$301)),\"\")","v":""},{"$f":"IFERROR(IF(COUNTIF(AnalýzaDat!$I$8:$I$299,\"<=\"&AnalýzaDat!$I$8:$I$299)=0,\"\",COUNTIF(AnalýzaDat!$I$8:$I$299,\"<=\"&AnalýzaDat!$I$8:$I$299)),\"\")","v":""},{"$f":"IFERROR(IF(AND(poslední_položka-počáteční_řádek=0,LEN(INDEX(AnalýzaDat!$H$8:$I$299,1,1)=0)),\"\",IF(poslední_položka-počáteční_řádek=0,INDEX(AnalýzaDat!$H$8:$I$299,1,1),INDEX(AnalýzaDat!$H$8:$H$299,ROW(A154),1))),\"\")","v":""},{"$f":"IFERROR(IF(AND(poslední_položka-počáteční_řádek=0,ISBLANK(INDEX(AnalýzaDat!$I$8:$I$299,1,1))),\"\",IF(poslední_položka-počáteční_řádek=0,INDEX(AnalýzaDat!$I$8:$I$299,1,1),INDEX(AnalýzaDat!$I$8:$I$299,ROW(A154),1))),\"\")","v":""},141,null,{"$f":"IFERROR(AnalýzaDat!$O161,\"\")","v":141},{"$f":"IFERROR(VLOOKUP(AnalýzaDat!$Q$8:$Q$301,AnalýzaDat!$K$8:$N$301,3,FALSE),\"\")","v":""},{"$f":"IFERROR(VLOOKUP(AnalýzaDat!$Q$8:$Q$301,AnalýzaDat!$K$8:$N$301,4,FALSE),\"\")","v":""},{"$f":"IF(S161=S160,T160,\"\")&REPT(AnalýzaDat!$R161&\", \",AnalýzaDat!$R161<>\"\")","v":""},{"$f":"IF(COUNTIF(S$8:S161,S161)=1,S161,\"\")","v":""},{"$f":"IFERROR(IF(LEN(AnalýzaDat!$S$8:$S$301)=0,\"\",COUNTIF(AnalýzaDat!$S$8:$S$301,S161)),\"\")","v":""},{"$f":"IFERROR(IF(LEN($U161)>0,LEFT(INDIRECT(\"AnalýzaDat!T\"&ROW(AnalýzaDat!$U161)+AnalýzaDat!$V161-1),LEN(INDIRECT(\"AnalýzaDat!T\"&ROW(AnalýzaDat!$U161)+AnalýzaDat!$V161-1))-2),\"\"),\"\")","v":""}]
[{"$nulls":7},{"$f":"IFERROR(INDEX('Hlavní seznam měrných jednotek'!$B$4:$K$30,1+INT((ROW(A155)-1)/COLUMNS('Hlavní seznam měrných jednotek'!$B$4:$K$30)),MOD(ROW(A155)-1+COLUMNS('Hlavní seznam měrných jednotek'!$B$4:$K$30),COLUMNS('Hlavní seznam měrných jednotek'!$B$4:$K$30))+1),\"\")","v":""},"",null,{"$f":"IFERROR(RANK(L162,AnalýzaDat!$L$8:$L$301)+SUMPRODUCT(--(L162=AnalýzaDat!$L$8:$L$301),--(O162<AnalýzaDat!$O$8:$O$301)),\"\")","v":""},{"$f":"IFERROR(IF(COUNTIF(AnalýzaDat!$I$8:$I$299,\"<=\"&AnalýzaDat!$I$8:$I$299)=0,\"\",COUNTIF(AnalýzaDat!$I$8:$I$299,\"<=\"&AnalýzaDat!$I$8:$I$299)),\"\")","v":""},{"$f":"IFERROR(IF(AND(poslední_položka-počáteční_řádek=0,LEN(INDEX(AnalýzaDat!$H$8:$I$299,1,1)=0)),\"\",IF(poslední_položka-počáteční_řádek=0,INDEX(AnalýzaDat!$H$8:$I$299,1,1),INDEX(AnalýzaDat!$H$8:$H$299,ROW(A155),1))),\"\")","v":""},{"$f":"IFERROR(IF(AND(poslední_položka-počáteční_řádek=0,ISBLANK(INDEX(AnalýzaDat!$I$8:$I$299,1,1))),\"\",IF(poslední_položka-počáteční_řádek=0,INDEX(AnalýzaDat!$I$8:$I$299,1,1),INDEX(AnalýzaDat!$I$8:$I$299,ROW(A155),1))),\"\")","v":""},140,null,{"$f":"IFERROR(AnalýzaDat!$O162,\"\")","v":140},{"$f":"IFERROR(VLOOKUP(AnalýzaDat!$Q$8:$Q$301,AnalýzaDat!$K$8:$N$301,3,FALSE),\"\")","v":""},{"$f":"IFERROR(VLOOKUP(AnalýzaDat!$Q$8:$Q$301,AnalýzaDat!$K$8:$N$301,4,FALSE),\"\")","v":""},{"$f":"IF(S162=S161,T161,\"\")&REPT(AnalýzaDat!$R162&\", \",AnalýzaDat!$R162<>\"\")","v":""},{"$f":"IF(COUNTIF(S$8:S162,S162)=1,S162,\"\")","v":""},{"$f":"IFERROR(IF(LEN(AnalýzaDat!$S$8:$S$301)=0,\"\",COUNTIF(AnalýzaDat!$S$8:$S$301,S162)),\"\")","v":""},{"$f":"IFERROR(IF(LEN($U162)>0,LEFT(INDIRECT(\"AnalýzaDat!T\"&ROW(AnalýzaDat!$U162)+AnalýzaDat!$V162-1),LEN(INDIRECT(\"AnalýzaDat!T\"&ROW(AnalýzaDat!$U162)+AnalýzaDat!$V162-1))-2),\"\"),\"\")","v":""}]
[{"$nulls":7},{"$f":"IFERROR(INDEX('Hlavní seznam měrných jednotek'!$B$4:$K$30,1+INT((ROW(A156)-1)/COLUMNS('Hlavní seznam měrných jednotek'!$B$4:$K$30)),MOD(ROW(A156)-1+COLUMNS('Hlavní seznam měrných jednotek'!$B$4:$K$30),COLUMNS('Hlavní seznam měrných jednotek'!$B$4:$K$30))+1),\"\")","v":""},"",null,{"$f":"IFERROR(RANK(L163,AnalýzaDat!$L$8:$L$301)+SUMPRODUCT(--(L163=AnalýzaDat!$L$8:$L$301),--(O163<AnalýzaDat!$O$8:$O$301)),\"\")","v":""},{"$f":"IFERROR(IF(COUNTIF(AnalýzaDat!$I$8:$I$299,\"<=\"&AnalýzaDat!$I$8:$I$299)=0,\"\",COUNTIF(AnalýzaDat!$I$8:$I$299,\"<=\"&AnalýzaDat!$I$8:$I$299)),\"\")","v":""},{"$f":"IFERROR(IF(AND(poslední_položka-počáteční_řádek=0,LEN(INDEX(AnalýzaDat!$H$8:$I$299,1,1)=0)),\"\",IF(poslední_položka-počáteční_řádek=0,INDEX(AnalýzaDat!$H$8:$I$299,1,1),INDEX(AnalýzaDat!$H$8:$H$299,ROW(A156),1))),\"\")","v":""},{"$f":"IFERROR(IF(AND(poslední_položka-počáteční_řádek=0,ISBLANK(INDEX(AnalýzaDat!$I$8:$I$299,1,1))),\"\",IF(poslední_položka-počáteční_řádek=0,INDEX(AnalýzaDat!$I$8:$I$299,1,1),INDEX(AnalýzaDat!$I$8:$I$299,ROW(A156),1))),\"\")","v":""},139,null,{"$f":"IFERROR(AnalýzaDat!$O163,\"\")","v":139},{"$f":"IFERROR(VLOOKUP(AnalýzaDat!$Q$8:$Q$301,AnalýzaDat!$K$8:$N$301,3,FALSE),\"\")","v":""},{"$f":"IFERROR(VLOOKUP(AnalýzaDat!$Q$8:$Q$301,AnalýzaDat!$K$8:$N$301,4,FALSE),\"\")","v":""},{"$f":"IF(S163=S162,T162,\"\")&REPT(AnalýzaDat!$R163&\", \",AnalýzaDat!$R163<>\"\")","v":""},{"$f":"IF(COUNTIF(S$8:S163,S163)=1,S163,\"\")","v":""},{"$f":"IFERROR(IF(LEN(AnalýzaDat!$S$8:$S$301)=0,\"\",COUNTIF(AnalýzaDat!$S$8:$S$301,S163)),\"\")","v":""},{"$f":"IFERROR(IF(LEN($U163)>0,LEFT(INDIRECT(\"AnalýzaDat!T\"&ROW(AnalýzaDat!$U163)+AnalýzaDat!$V163-1),LEN(INDIRECT(\"AnalýzaDat!T\"&ROW(AnalýzaDat!$U163)+AnalýzaDat!$V163-1))-2),\"\"),\"\")","v":""}]
[{"$nulls":7},{"$f":"IFERROR(INDEX('Hlavní seznam měrných jednotek'!$B$4:$K$30,1+INT((ROW(A157)-1)/COLUMNS('Hlavní seznam měrných jednotek'!$B$4:$K$30)),MOD(ROW(A157)-1+COLUMNS('Hlavní seznam měrných jednotek'!$B$4:$K$30),COLUMNS('Hlavní seznam měrných jednotek'!$B$4:$K$30))+1),\"\")","v":""},"",null,{"$f":"IFERROR(RANK(L164,AnalýzaDat!$L$8:$L$301)+SUMPRODUCT(--(L164=AnalýzaDat!$L$8:$L$301),--(O164<AnalýzaDat!$O$8:$O$301)),\"\")","v":""},{"$f":"IFERROR(IF(COUNTIF(AnalýzaDat!$I$8:$I$299,\"<=\"&AnalýzaDat!$I$8:$I$299)=0,\"\",COUNTIF(AnalýzaDat!$I$8:$I$299,\"<=\"&AnalýzaDat!$I$8:$I$299)),\"\")","v":""},{"$f":"IFERROR(IF(AND(poslední_položka-počáteční_řádek=0,LEN(INDEX(AnalýzaDat!$H$8:$I$299,1,1)=0)),\"\",IF(poslední_položka-počáteční_řádek=0,INDEX(AnalýzaDat!$H$8:$I$299,1,1),INDEX(AnalýzaDat!$H$8:$H$299,ROW(A157),1))),\"\")","v":""},{"$f":"IFERROR(IF(AND(poslední_položka-počáteční_řádek=0,ISBLANK(INDEX(AnalýzaDat!$I$8:$I$299,1,1))),\"\",IF(poslední_položka-počáteční_řádek=0,INDEX(AnalýzaDat!$I$8:$I$299,1,1),INDEX(AnalýzaDat!$I$8:$I$299,ROW(A157),1))),\"\")","v":""},138,null,{"$f":"IFERROR(AnalýzaDat!$O164,\"\")","v":138},{"$f":"IFERROR(VLOOKUP(AnalýzaDat!$Q$8:$Q$301,AnalýzaDat!$K$8:$N$301,3,FALSE),\"\")","v":""},{"$f":"IFERROR(VLOOKUP(AnalýzaDat!$Q$8:$Q$301,AnalýzaDat!$K$8:$N$301,4,FALSE),\"\")","v":""},{"$f":"IF(S164=S163,T163,\"\")&REPT(AnalýzaDat!$R164&\", \",AnalýzaDat!$R164<>\"\")","v":""},{"$f":"IF(COUNTIF(S$8:S164,S164)=1,S164,\"\")","v":""},{"$f":"IFERROR(IF(LEN(AnalýzaDat!$S$8:$S$301)=0,\"\",COUNTIF(AnalýzaDat!$S$8:$S$301,S164)),\"\")","v":""},{"$f":"IFERROR(IF(LEN($U164)>0,LEFT(INDIRECT(\"AnalýzaDat!T\"&ROW(AnalýzaDat!$U164)+AnalýzaDat!$V164-1),LEN(INDIRECT(\"AnalýzaDat!T\"&ROW(AnalýzaDat!$U164)+AnalýzaDat!$V164-1))-2),\"\"),\"\")","v":""}]
[{"$nulls":7},{"$f":"IFERROR(INDEX('Hlavní seznam měrných jednotek'!$B$4:$K$30,1+INT((ROW(A158)-1)/COLUMNS('Hlavní seznam měrných jednotek'!$B$4:$K$30)),MOD(ROW(A158)-1+COLUMNS('Hlavní seznam měrných jednotek'!$B$4:$K$30),COLUMNS('Hlavní seznam měrných jednotek'!$B$4:$K$30))+1),\"\")","v":""},"",null,{"$f":"IFERROR(RANK(L165,AnalýzaDat!$L$8:$L$301)+SUMPRODUCT(--(L165=AnalýzaDat!$L$8:$L$301),--(O165<AnalýzaDat!$O$8:$O$301)),\"\")","v":""},{"$f":"IFERROR(IF(COUNTIF(AnalýzaDat!$I$8:$I$299,\"<=\"&AnalýzaDat!$I$8:$I$299)=0,\"\",COUNTIF(AnalýzaDat!$I$8:$I$299,\"<=\"&AnalýzaDat!$I$8:$I$299)),\"\")","v":""},{"$f":"IFERROR(IF(AND(poslední_položka-počáteční_řádek=0,LEN(INDEX(AnalýzaDat!$H$8:$I$299,1,1)=0)),\"\",IF(poslední_položka-počáteční_řádek=0,INDEX(AnalýzaDat!$H$8:$I$299,1,1),INDEX(AnalýzaDat!$H$8:$H$299,ROW(A158),1))),\"\")","v":""},{"$f":"IFERROR(IF(AND(poslední_položka-počáteční_řádek=0,ISBLANK(INDEX(AnalýzaDat!$I$8:$I$299,1,1))),\"\",IF(poslední_položka-počáteční_řádek=0,INDEX(AnalýzaDat!$I$8:$I$299,1,1),INDEX(AnalýzaDat!$I$8:$I$299,ROW(A158),1))),\"\")","v":""},137,null,{"$f":"IFERROR(AnalýzaDat!$O165,\"\")","v":137},{"$f":"IFERROR(VLOOKUP(AnalýzaDat!$Q$8:$Q$301,AnalýzaDat!$K$8:$N$301,3,FALSE),\"\")","v":""},{"$f":"IFERROR(VLOOKUP(AnalýzaDat!$Q$8:$Q$301,AnalýzaDat!$K$8:$N$301,4,FALSE),\"\")","v":""},{"$f":"IF(S165=S164,T164,\"\")&REPT(AnalýzaDat!$R165&\", \",AnalýzaDat!$R165<>\"\")","v":""},{"$f":"IF(COUNTIF(S$8:S165,S165)=1,S165,\"\")","v":""},{"$f":"IFERROR(IF(LEN(AnalýzaDat!$S$8:$S$301)=0,\"\",COUNTIF(AnalýzaDat!$S$8:$S$301,S165)),\"\")","v":""},{"$f":"IFERROR(IF(LEN($U165)>0,LEFT(INDIRECT(\"AnalýzaDat!T\"&ROW(AnalýzaDat!$U165)+AnalýzaDat!$V165-1),LEN(INDIRECT(\"AnalýzaDat!T\"&ROW(AnalýzaDat!$U165)+AnalýzaDat!$V165-1))-2),\"\"),\"\")","v":""}]
[{"$nulls":7},{"$f":"IFERROR(INDEX('Hlavní seznam měrných jednotek'!$B$4:$K$30,1+INT((ROW(A159)-1)/COLUMNS('Hlavní seznam měrných jednotek'!$B$4:$K$30)),MOD(ROW(A159)-1+COLUMNS('Hlavní seznam měrných jednotek'!$B$4:$K$30),COLUMNS('Hlavní seznam měrných jednotek'!$B$4:$K$30))+1),\"\")","v":""},"",null,{"$f":"IFERROR(RANK(L166,AnalýzaDat!$L$8:$L$301)+SUMPRODUCT(--(L166=AnalýzaDat!$L$8:$L$301),--(O166<AnalýzaDat!$O$8:$O$301)),\"\")","v":""},{"$f":"IFERROR(IF(COUNTIF(AnalýzaDat!$I$8:$I$299,\"<=\"&AnalýzaDat!$I$8:$I$299)=0,\"\",COUNTIF(AnalýzaDat!$I$8:$I$299,\"<=\"&AnalýzaDat!$I$8:$I$299)),\"\")","v":""},{"$f":"IFERROR(IF(AND(poslední_položka-počáteční_řádek=0,LEN(INDEX(AnalýzaDat!$H$8:$I$299,1,1)=0)),\"\",IF(poslední_položka-počáteční_řádek=0,INDEX(AnalýzaDat!$H$8:$I$299,1,1),INDEX(AnalýzaDat!$H$8:$H$299,ROW(A159),1))),\"\")","v":""},{"$f":"IFERROR(IF(AND(poslední_položka-počáteční_řádek=0,ISBLANK(INDEX(AnalýzaDat!$I$8:$I$299,1,1))),\"\",IF(poslední_položka-počáteční_řádek=0,INDEX(AnalýzaDat!$I$8:$I$299,1,1),INDEX(AnalýzaDat!$I$8:$I$299,ROW(A159),1))),\"\")","v":""},136,null,{"$f":"IFERROR(AnalýzaDat!$O166,\"\")","v":136},{"$f":"IFERROR(VLOOKUP(AnalýzaDat!$Q$8:$Q$301,AnalýzaDat!$K$8:$N$301,3,FALSE),\"\")","v":""},{"$f":"IFERROR(VLOOKUP(AnalýzaDat!$Q$8:$Q$301,AnalýzaDat!$K$8:$N$301,4,FALSE),\"\")","v":""},{"$f":"IF(S166=S165,T165,\"\")&REPT(AnalýzaDat!$R166&\", \",AnalýzaDat!$R166<>\"\")","v":""},{"$f":"IF(COUNTIF(S$8:S166,S166)=1,S166,\"\")","v":""},{"$f":"IFERROR(IF(LEN(AnalýzaDat!$S$8:$S$301)=0,\"\",COUNTIF(AnalýzaDat!$S$8:$S$301,S166)),\"\")","v":""},{"$f":"IFERROR(IF(LEN($U166)>0,LEFT(INDIRECT(\"AnalýzaDat!T\"&ROW(AnalýzaDat!$U166)+AnalýzaDat!$V166-1),LEN(INDIRECT(\"AnalýzaDat!T\"&ROW(AnalýzaDat!$U166)+AnalýzaDat!$V166-1))-2),\"\"),\"\")","v":""}]
[{"$nulls":7},{"$f":"IFERROR(INDEX('Hlavní seznam měrných jednotek'!$B$4:$K$30,1+INT((ROW(A160)-1)/COLUMNS('Hlavní seznam měrných jednotek'!$B$4:$K$30)),MOD(ROW(A160)-1+COLUMNS('Hlavní seznam měrných jednotek'!$B$4:$K$30),COLUMNS('Hlavní seznam měrných jednotek'!$B$4:$K$30))+1),\"\")","v":""},"",null,{"$f":"IFERROR(RANK(L167,AnalýzaDat!$L$8:$L$301)+SUMPRODUCT(--(L167=AnalýzaDat!$L$8:$L$301),--(O167<AnalýzaDat!$O$8:$O$301)),\"\")","v":""},{"$f":"IFERROR(IF(COUNTIF(AnalýzaDat!$I$8:$I$299,\"<=\"&AnalýzaDat!$I$8:$I$299)=0,\"\",COUNTIF(AnalýzaDat!$I$8:$I$299,\"<=\"&AnalýzaDat!$I$8:$I$299)),\"\")","v":""},{"$f":"IFERROR(IF(AND(poslední_položka-počáteční_řádek=0,LEN(INDEX(AnalýzaDat!$H$8:$I$299,1,1)=0)),\"\",IF(poslední_položka-počáteční_řádek=0,INDEX(AnalýzaDat!$H$8:$I$299,1,1),INDEX(AnalýzaDat!$H$8:$H$299,ROW(A160),1))),\"\")","v":""},{"$f":"IFERROR(IF(AND(poslední_položka-počáteční_řádek=0,ISBLANK(INDEX(AnalýzaDat!$I$8:$I$299,1,1))),\"\",IF(poslední_položka-počáteční_řádek=0,INDEX(AnalýzaDat!$I$8:$I$299,1,1),INDEX(AnalýzaDat!$I$8:$I$299,ROW(A160),1))),\"\")","v":""},135,null,{"$f":"IFERROR(AnalýzaDat!$O167,\"\")","v":135},{"$f":"IFERROR(VLOOKUP(AnalýzaDat!$Q$8:$Q$301,AnalýzaDat!$K$8:$N$301,3,FALSE),\"\")","v":""},{"$f":"IFERROR(VLOOKUP(AnalýzaDat!$Q$8:$Q$301,AnalýzaDat!$K$8:$N$301,4,FALSE),\"\")","v":""},{"$f":"IF(S167=S166,T166,\"\")&REPT(AnalýzaDat!$R167&\", \",AnalýzaDat!$R167<>\"\")","v":""},{"$f":"IF(COUNTIF(S$8:S167,S167)=1,S167,\"\")","v":""},{"$f":"IFERROR(IF(LEN(AnalýzaDat!$S$8:$S$301)=0,\"\",COUNTIF(AnalýzaDat!$S$8:$S$301,S167)),\"\")","v":""},{"$f":"IFERROR(IF(LEN($U167)>0,LEFT(INDIRECT(\"AnalýzaDat!T\"&ROW(AnalýzaDat!$U167)+AnalýzaDat!$V167-1),LEN(INDIRECT(\"AnalýzaDat!T\"&ROW(AnalýzaDat!$U167)+AnalýzaDat!$V167-1))-2),\"\"),\"\")","v":""}]
[{"$nulls":7},{"$f":"IFERROR(INDEX('Hlavní seznam měrných jednotek'!$B$4:$K$30,1+INT((ROW(A161)-1)/COLUMNS('Hlavní seznam měrných jednotek'!$B$4:$K$30)),MOD(ROW(A161)-1+COLUMNS('Hlavní seznam měrných jednotek'!$B$4:$K$30),COLUMNS('Hlavní seznam měrných jednotek'!$B$4:$K$30))+1),\"\")","v":" "},"",null,{"$f":"IFERROR(RANK(L168,AnalýzaDat!$L$8:$L$301)+SUMPRODUCT(--(L168=AnalýzaDat!$L$8:$L$301),--(O168<AnalýzaDat!$O$8:$O$301)),\"\")","v":""},{"$f":"IFERROR(IF(COUNTIF(AnalýzaDat!$I$8:$I$299,\"<=\"&AnalýzaDat!$I$8:$I$299)=0,\"\",COUNTIF(AnalýzaDat!$I$8:$I$299,\"<=\"&AnalýzaDat!$I$8:$I$299)),\"\")","v":""},{"$f":"IFERROR(IF(AND(poslední_položka-počáteční_řádek=0,LEN(INDEX(AnalýzaDat!$H$8:$I$299,1,1)=0)),\"\",IF(poslední_položka-počáteční_řádek=0,INDEX(AnalýzaDat!$H$8:$I$299,1,1),INDEX(AnalýzaDat!$H$8:$H$299,ROW(A161),1))),\"\")","v":" "},{"$f":"IFERROR(IF(AND(poslední_položka-počáteční_řádek=0,ISBLANK(INDEX(AnalýzaDat!$I$8:$I$299,1,1))),\"\",IF(poslední_položka-počáteční_řádek=0,INDEX(AnalýzaDat!$I$8:$I$299,1,1),INDEX(AnalýzaDat!$I$8:$I$299,ROW(A161),1))),\"\")","v":""},134,null,{"$f":"IFERROR(AnalýzaDat!$O168,\"\")","v":134},{"$f":"IFERROR(VLOOKUP(AnalýzaDat!$Q$8:$Q$301,AnalýzaDat!$K$8:$N$301,3,FALSE),\"\")","v":""},{"$f":"IFERROR(VLOOKUP(AnalýzaDat!$Q$8:$Q$301,AnalýzaDat!$K$8:$N$301,4,FALSE),\"\")","v":""},{"$f":"IF(S168=S167,T167,\"\")&REPT(AnalýzaDat!$R168&\", \",AnalýzaDat!$R168<>\"\")","v":""},{"$f":"IF(COUNTIF(S$8:S168,S168)=1,S168,\"\")","v":""},{"$f":"IFERROR(IF(LEN(AnalýzaDat!$S$8:$S$301)=0,\"\",COUNTIF(AnalýzaDat!$S$8:$S$301,S168)),\"\")","v":""},{"$f":"IFERROR(IF(LEN($U168)>0,LEFT(INDIRECT(\"AnalýzaDat!T\"&ROW(AnalýzaDat!$U168)+AnalýzaDat!$V168-1),LEN(INDIRECT(\"AnalýzaDat!T\"&ROW(AnalýzaDat!$U168)+AnalýzaDat!$V168-1))-2),\"\"),\"\")","v":""}]
[{"$nulls":7},{"$f":"IFERROR(INDEX('Hlavní seznam měrných jednotek'!$B$4:$K$30,1+INT((ROW(A162)-1)/COLUMNS('Hlavní seznam měrných jednotek'!$B$4:$K$30)),MOD(ROW(A162)-1+COLUMNS('Hlavní seznam měrných jednotek'!$B$4:$K$30),COLUMNS('Hlavní seznam měrných jednotek'!$B$4:$K$30))+1),\"\")","v":" "},"",null,{"$f":"IFERROR(RANK(L169,AnalýzaDat!$L$8:$L$301)+SUMPRODUCT(--(L169=AnalýzaDat!$L$8:$L$301),--(O169<AnalýzaDat!$O$8:$O$301)),\"\")","v":""},{"$f":"IFERROR(IF(COUNTIF(AnalýzaDat!$I$8:$I$299,\"<=\"&AnalýzaDat!$I$8:$I$299)=0,\"\",COUNTIF(AnalýzaDat!$I$8:$I$299,\"<=\"&AnalýzaDat!$I$8:$I$299)),\"\")","v":""},{"$f":"IFERROR(IF(AND(poslední_položka-počáteční_řádek=0,LEN(INDEX(AnalýzaDat!$H$8:$I$299,1,1)=0)),\"\",IF(poslední_položka-počáteční_řádek=0,INDEX(AnalýzaDat!$H$8:$I$299,1,1),INDEX(AnalýzaDat!$H$8:$H$299,ROW(A162),1))),\"\")","v":" "},{"$f":"IFERROR(IF(AND(poslední_položka-počáteční_řádek=0,ISBLANK(INDEX(AnalýzaDat!$I$8:$I$299,1,1))),\"\",IF(poslední_položka-počáteční_řádek=0,INDEX(AnalýzaDat!$I$8:$I$299,1,1),INDEX(AnalýzaDat!$I$8:$I$299,ROW(A162),1))),\"\")","v":""},133,null,{"$f":"IFERROR(AnalýzaDat!$O169,\"\")","v":133},{"$f":"IFERROR(VLOOKUP(AnalýzaDat!$Q$8:$Q$301,AnalýzaDat!$K$8:$N$301,3,FALSE),\"\")","v":""},{"$f":"IFERROR(VLOOKUP(AnalýzaDat!$Q$8:$Q$301,AnalýzaDat!$K$8:$N$301,4,FALSE),\"\")","v":""},{"$f":"IF(S169=S168,T168,\"\")&REPT(AnalýzaDat!$R169&\", \",AnalýzaDat!$R169<>\"\")","v":""},{"$f":"IF(COUNTIF(S$8:S169,S169)=1,S169,\"\")","v":""},{"$f":"IFERROR(IF(LEN(AnalýzaDat!$S$8:$S$301)=0,\"\",COUNTIF(AnalýzaDat!$S$8:$S$301,S169)),\"\")","v":""},{"$f":"IFERROR(IF(LEN($U169)>0,LEFT(INDIRECT(\"AnalýzaDat!T\"&ROW(AnalýzaDat!$U169)+AnalýzaDat!$V169-1),LEN(INDIRECT(\"AnalýzaDat!T\"&ROW(AnalýzaDat!$U169)+AnalýzaDat!$V169-1))-2),\"\"),\"\")","v":""}]
[{"$nulls":7},{"$f":"IFERROR(INDEX('Hlavní seznam měrných jednotek'!$B$4:$K$30,1+INT((ROW(A163)-1)/COLUMNS('Hlavní seznam měrných jednotek'!$B$4:$K$30)),MOD(ROW(A163)-1+COLUMNS('Hlavní seznam měrných jednotek'!$B$4:$K$30),COLUMNS('Hlavní seznam měrných jednotek'!$B$4:$K$30))+1),\"\")","v":""},"",null,{"$f":"IFERROR(RANK(L170,AnalýzaDat!$L$8:$L$301)+SUMPRODUCT(--(L170=AnalýzaDat!$L$8:$L$301),--(O170<AnalýzaDat!$O$8:$O$301)),\"\")","v":""},{"$f":"IFERROR(IF(COUNTIF(AnalýzaDat!$I$8:$I$299,\"<=\"&AnalýzaDat!$I$8:$I$299)=0,\"\",COUNTIF(AnalýzaDat!$I$8:$I$299,\"<=\"&AnalýzaDat!$I$8:$I$299)),\"\")","v":""},{"$f":"IFERROR(IF(AND(poslední_položka-počáteční_řádek=0,LEN(INDEX(AnalýzaDat!$H$8:$I$299,1,1)=0)),\"\",IF(poslední_položka-počáteční_řádek=0,INDEX(AnalýzaDat!$H$8:$I$299,1,1),INDEX(AnalýzaDat!$H$8:$H$299,ROW(A163),1))),\"\")","v":""},{"$f":"IFERROR(IF(AND(poslední_položka-počáteční_řádek=0,ISBLANK(INDEX(AnalýzaDat!$I$8:$I$299,1,1))),\"\",IF(poslední_položka-počáteční_řádek=0,INDEX(AnalýzaDat!$I$8:$I$299,1,1),INDEX(AnalýzaDat!$I$8:$I$299,ROW(A163),1))),\"\")","v":""},132,null,{"$f":"IFERROR(AnalýzaDat!$O170,\"\")","v":132},{"$f":"IFERROR(VLOOKUP(AnalýzaDat!$Q$8:$Q$301,AnalýzaDat!$K$8:$N$301,3,FALSE),\"\")","v":""},{"$f":"IFERROR(VLOOKUP(AnalýzaDat!$Q$8:$Q$301,AnalýzaDat!$K$8:$N$301,4,FALSE),\"\")","v":""},{"$f":"IF(S170=S169,T169,\"\")&REPT(AnalýzaDat!$R170&\", \",AnalýzaDat!$R170<>\"\")","v":""},{"$f":"IF(COUNTIF(S$8:S170,S170)=1,S170,\"\")","v":""},{"$f":"IFERROR(IF(LEN(AnalýzaDat!$S$8:$S$301)=0,\"\",COUNTIF(AnalýzaDat!$S$8:$S$301,S170)),\"\")","v":""},{"$f":"IFERROR(IF(LEN($U170)>0,LEFT(INDIRECT(\"AnalýzaDat!T\"&ROW(AnalýzaDat!$U170)+AnalýzaDat!$V170-1),LEN(INDIRECT(\"AnalýzaDat!T\"&ROW(AnalýzaDat!$U170)+AnalýzaDat!$V170-1))-2),\"\"),\"\")","v":""}]
[{"$nulls":7},{"$f":"IFERROR(INDEX('Hlavní seznam měrných jednotek'!$B$4:$K$30,1+INT((ROW(A164)-1)/COLUMNS('Hlavní seznam měrných jednotek'!$B$4:$K$30)),MOD(ROW(A164)-1+COLUMNS('Hlavní seznam měrných jednotek'!$B$4:$K$30),COLUMNS('Hlavní seznam měrných jednotek'!$B$4:$K$30))+1),\"\")","v":""},"",null,{"$f":"IFERROR(RANK(L171,AnalýzaDat!$L$8:$L$301)+SUMPRODUCT(--(L171=AnalýzaDat!$L$8:$L$301),--(O171<AnalýzaDat!$O$8:$O$301)),\"\")","v":""},{"$f":"IFERROR(IF(COUNTIF(AnalýzaDat!$I$8:$I$299,\"<=\"&AnalýzaDat!$I$8:$I$299)=0,\"\",COUNTIF(AnalýzaDat!$I$8:$I$299,\"<=\"&AnalýzaDat!$I$8:$I$299)),\"\")","v":""},{"$f":"IFERROR(IF(AND(poslední_položka-počáteční_řádek=0,LEN(INDEX(AnalýzaDat!$H$8:$I$299,1,1)=0)),\"\",IF(poslední_položka-počáteční_řádek=0,INDEX(AnalýzaDat!$H$8:$I$299,1,1),INDEX(AnalýzaDat!$H$8:$H$299,ROW(A164),1))),\"\")","v":""},{"$f":"IFERROR(IF(AND(poslední_položka-počáteční_řádek=0,ISBLANK(INDEX(AnalýzaDat!$I$8:$I$299,1,1))),\"\",IF(poslední_položka-počáteční_řádek=0,INDEX(AnalýzaDat!$I$8:$I$299,1,1),INDEX(AnalýzaDat!$I$8:$I$299,ROW(A164),1))),\"\")","v":""},131,null,{"$f":"IFERROR(AnalýzaDat!$O171,\"\")","v":131},{"$f":"IFERROR(VLOOKUP(AnalýzaDat!$Q$8:$Q$301,AnalýzaDat!$K$8:$N$301,3,FALSE),\"\")","v":""},{"$f":"IFERROR(VLOOKUP(AnalýzaDat!$Q$8:$Q$301,AnalýzaDat!$K$8:$N$301,4,FALSE),\"\")","v":""},{"$f":"IF(S171=S170,T170,\"\")&REPT(AnalýzaDat!$R171&\", \",AnalýzaDat!$R171<>\"\")","v":""},{"$f":"IF(COUNTIF(S$8:S171,S171)=1,S171,\"\")","v":""},{"$f":"IFERROR(IF(LEN(AnalýzaDat!$S$8:$S$301)=0,\"\",COUNTIF(AnalýzaDat!$S$8:$S$301,S171)),\"\")","v":""},{"$f":"IFERROR(IF(LEN($U171)>0,LEFT(INDIRECT(\"AnalýzaDat!T\"&ROW(AnalýzaDat!$U171)+AnalýzaDat!$V171-1),LEN(INDIRECT(\"AnalýzaDat!T\"&ROW(AnalýzaDat!$U171)+AnalýzaDat!$V171-1))-2),\"\"),\"\")","v":""}]
[{"$nulls":7},{"$f":"IFERROR(INDEX('Hlavní seznam měrných jednotek'!$B$4:$K$30,1+INT((ROW(A165)-1)/COLUMNS('Hlavní seznam měrných jednotek'!$B$4:$K$30)),MOD(ROW(A165)-1+COLUMNS('Hlavní seznam měrných jednotek'!$B$4:$K$30),COLUMNS('Hlavní seznam měrných jednotek'!$B$4:$K$30))+1),\"\")","v":""},"",null,{"$f":"IFERROR(RANK(L172,AnalýzaDat!$L$8:$L$301)+SUMPRODUCT(--(L172=AnalýzaDat!$L$8:$L$301),--(O172<AnalýzaDat!$O$8:$O$301)),\"\")","v":""},{"$f":"IFERROR(IF(COUNTIF(AnalýzaDat!$I$8:$I$299,\"<=\"&AnalýzaDat!$I$8:$I$299)=0,\"\",COUNTIF(AnalýzaDat!$I$8:$I$299,\"<=\"&AnalýzaDat!$I$8:$I$299)),\"\")","v":""},{"$f":"IFERROR(IF(AND(poslední_položka-počáteční_řádek=0,LEN(INDEX(AnalýzaDat!$H$8:$I$299,1,1)=0)),\"\",IF(poslední_položka-počáteční_řádek=0,INDEX(AnalýzaDat!$H$8:$I$299,1,1),INDEX(AnalýzaDat!$H$8:$H$299,ROW(A165),1))),\"\")","v":""},{"$f":"IFERROR(IF(AND(poslední_položka-počáteční_řádek=0,ISBLANK(INDEX(AnalýzaDat!$I$8:$I$299,1,1))),\"\",IF(poslední_položka-počáteční_řádek=0,INDEX(AnalýzaDat!$I$8:$I$299,1,1),INDEX(AnalýzaDat!$I$8:$I$299,ROW(A165),1))),\"\")","v":""},130,null,{"$f":"IFERROR(AnalýzaDat!$O172,\"\")","v":130},{"$f":"IFERROR(VLOOKUP(AnalýzaDat!$Q$8:$Q$301,AnalýzaDat!$K$8:$N$301,3,FALSE),\"\")","v":""},{"$f":"IFERROR(VLOOKUP(AnalýzaDat!$Q$8:$Q$301,AnalýzaDat!$K$8:$N$301,4,FALSE),\"\")","v":""},{"$f":"IF(S172=S171,T171,\"\")&REPT(AnalýzaDat!$R172&\", \",AnalýzaDat!$R172<>\"\")","v":""},{"$f":"IF(COUNTIF(S$8:S172,S172)=1,S172,\"\")","v":""},{"$f":"IFERROR(IF(LEN(AnalýzaDat!$S$8:$S$301)=0,\"\",COUNTIF(AnalýzaDat!$S$8:$S$301,S172)),\"\")","v":""},{"$f":"IFERROR(IF(LEN($U172)>0,LEFT(INDIRECT(\"AnalýzaDat!T\"&ROW(AnalýzaDat!$U172)+AnalýzaDat!$V172-1),LEN(INDIRECT(\"AnalýzaDat!T\"&ROW(AnalýzaDat!$U172)+AnalýzaDat!$V172-1))-2),\"\"),\"\")","v":""}]
[{"$nulls":7},{"$f":"IFERROR(INDEX('Hlavní seznam měrných jednotek'!$B$4:$K$30,1+INT((ROW(A166)-1)/COLUMNS('Hlavní seznam měrných jednotek'!$B$4:$K$30)),MOD(ROW(A166)-1+COLUMNS('Hlavní seznam měrných jednotek'!$B$4:$K$30),COLUMNS('Hlavní seznam měrných jednotek'!$B$4:$K$30))+1),\"\")","v":""},"",null,{"$f":"IFERROR(RANK(L173,AnalýzaDat!$L$8:$L$301)+SUMPRODUCT(--(L173=AnalýzaDat!$L$8:$L$301),--(O173<AnalýzaDat!$O$8:$O$301)),\"\")","v":""},{"$f":"IFERROR(IF(COUNTIF(AnalýzaDat!$I$8:$I$299,\"<=\"&AnalýzaDat!$I$8:$I$299)=0,\"\",COUNTIF(AnalýzaDat!$I$8:$I$299,\"<=\"&AnalýzaDat!$I$8:$I$299)),\"\")","v":""},{"$f":"IFERROR(IF(AND(poslední_položka-počáteční_řádek=0,LEN(INDEX(AnalýzaDat!$H$8:$I$299,1,1)=0)),\"\",IF(poslední_položka-počáteční_řádek=0,INDEX(AnalýzaDat!$H$8:$I$299,1,1),INDEX(AnalýzaDat!$H$8:$H$299,ROW(A166),1))),\"\")","v":""},{"$f":"IFERROR(IF(AND(poslední_položka-počáteční_řádek=0,ISBLANK(INDEX(AnalýzaDat!$I$8:$I$299,1,1))),\"\",IF(poslední_položka-počáteční_řádek=0,INDEX(AnalýzaDat!$I$8:$I$299,1,1),INDEX(AnalýzaDat!$I$8:$I$299,ROW(A166),1))),\"\")","v":""},129,null,{"$f":"IFERROR(AnalýzaDat!$O173,\"\")","v":129},{"$f":"IFERROR(VLOOKUP(AnalýzaDat!$Q$8:$Q$301,AnalýzaDat!$K$8:$N$301,3,FALSE),\"\")","v":""},{"$f":"IFERROR(VLOOKUP(AnalýzaDat!$Q$8:$Q$301,AnalýzaDat!$K$8:$N$301,4,FALSE),\"\")","v":""},{"$f":"IF(S173=S172,T172,\"\")&REPT(AnalýzaDat!$R173&\", \",AnalýzaDat!$R173<>\"\")","v":""},{"$f":"IF(COUNTIF(S$8:S173,S173)=1,S173,\"\")","v":""},{"$f":"IFERROR(IF(LEN(AnalýzaDat!$S$8:$S$301)=0,\"\",COUNTIF(AnalýzaDat!$S$8:$S$301,S173)),\"\")","v":""},{"$f":"IFERROR(IF(LEN($U173)>0,LEFT(INDIRECT(\"AnalýzaDat!T\"&ROW(AnalýzaDat!$U173)+AnalýzaDat!$V173-1),LEN(INDIRECT(\"AnalýzaDat!T\"&ROW(AnalýzaDat!$U173)+AnalýzaDat!$V173-1))-2),\"\"),\"\")","v":""}]
[{"$nulls":7},{"$f":"IFERROR(INDEX('Hlavní seznam měrných jednotek'!$B$4:$K$30,1+INT((ROW(A167)-1)/COLUMNS('Hlavní seznam měrných jednotek'!$B$4:$K$30)),MOD(ROW(A167)-1+COLUMNS('Hlavní seznam měrných jednotek'!$B$4:$K$30),COLUMNS('Hlavní seznam měrných jednotek'!$B$4:$K$30))+1),\"\")","v":""},"",null,{"$f":"IFERROR(RANK(L174,AnalýzaDat!$L$8:$L$301)+SUMPRODUCT(--(L174=AnalýzaDat!$L$8:$L$301),--(O174<AnalýzaDat!$O$8:$O$301)),\"\")","v":""},{"$f":"IFERROR(IF(COUNTIF(AnalýzaDat!$I$8:$I$299,\"<=\"&AnalýzaDat!$I$8:$I$299)=0,\"\",COUNTIF(AnalýzaDat!$I$8:$I$299,\"<=\"&AnalýzaDat!$I$8:$I$299)),\"\")","v":""},{"$f":"IFERROR(IF(AND(poslední_položka-počáteční_řádek=0,LEN(INDEX(AnalýzaDat!$H$8:$I$299,1,1)=0)),\"\",IF(poslední_položka-počáteční_řádek=0,INDEX(AnalýzaDat!$H$8:$I$299,1,1),INDEX(AnalýzaDat!$H$8:$H$299,ROW(A167),1))),\"\")","v":""},{"$f":"IFERROR(IF(AND(poslední_položka-počáteční_řádek=0,ISBLANK(INDEX(AnalýzaDat!$I$8:$I$299,1,1))),\"\",IF(poslední_položka-počáteční_řádek=0,INDEX(AnalýzaDat!$I$8:$I$299,1,1),INDEX(AnalýzaDat!$I$8:$I$299,ROW(A167),1))),\"\")","v":""},128,null,{"$f":"IFERROR(AnalýzaDat!$O174,\"\")","v":128},{"$f":"IFERROR(VLOOKUP(AnalýzaDat!$Q$8:$Q$301,AnalýzaDat!$K$8:$N$301,3,FALSE),\"\")","v":""},{"$f":"IFERROR(VLOOKUP(AnalýzaDat!$Q$8:$Q$301,AnalýzaDat!$K$8:$N$301,4,FALSE),\"\")","v":""},{"$f":"IF(S174=S173,T173,\"\")&REPT(AnalýzaDat!$R174&\", \",AnalýzaDat!$R174<>\"\")","v":""},{"$f":"IF(COUNTIF(S$8:S174,S174)=1,S174,\"\")","v":""},{"$f":"IFERROR(IF(LEN(AnalýzaDat!$S$8:$S$301)=0,\"\",COUNTIF(AnalýzaDat!$S$8:$S$301,S174)),\"\")","v":""},{"$f":"IFERROR(IF(LEN($U174)>0,LEFT(INDIRECT(\"AnalýzaDat!T\"&ROW(AnalýzaDat!$U174)+AnalýzaDat!$V174-1),LEN(INDIRECT(\"AnalýzaDat!T\"&ROW(AnalýzaDat!$U174)+AnalýzaDat!$V174-1))-2),\"\"),\"\")","v":""}]
[{"$nulls":7},{"$f":"IFERROR(INDEX('Hlavní seznam měrných jednotek'!$B$4:$K$30,1+INT((ROW(A168)-1)/COLUMNS('Hlavní seznam měrných jednotek'!$B$4:$K$30)),MOD(ROW(A168)-1+COLUMNS('Hlavní seznam měrných jednotek'!$B$4:$K$30),COLUMNS('Hlavní seznam měrných jednotek'!$B$4:$K$30))+1),\"\")","v":""},"",null,{"$f":"IFERROR(RANK(L175,AnalýzaDat!$L$8:$L$301)+SUMPRODUCT(--(L175=AnalýzaDat!$L$8:$L$301),--(O175<AnalýzaDat!$O$8:$O$301)),\"\")","v":""},{"$f":"IFERROR(IF(COUNTIF(AnalýzaDat!$I$8:$I$299,\"<=\"&AnalýzaDat!$I$8:$I$299)=0,\"\",COUNTIF(AnalýzaDat!$I$8:$I$299,\"<=\"&AnalýzaDat!$I$8:$I$299)),\"\")","v":""},{"$f":"IFERROR(IF(AND(poslední_položka-počáteční_řádek=0,LEN(INDEX(AnalýzaDat!$H$8:$I$299,1,1)=0)),\"\",IF(poslední_položka-počáteční_řádek=0,INDEX(AnalýzaDat!$H$8:$I$299,1,1),INDEX(AnalýzaDat!$H$8:$H$299,ROW(A168),1))),\"\")","v":""},{"$f":"IFERROR(IF(AND(poslední_položka-počáteční_řádek=0,ISBLANK(INDEX(AnalýzaDat!$I$8:$I$299,1,1))),\"\",IF(poslední_položka-počáteční_řádek=0,INDEX(AnalýzaDat!$I$8:$I$299,1,1),INDEX(AnalýzaDat!$I$8:$I$299,ROW(A168),1))),\"\")","v":""},127,null,{"$f":"IFERROR(AnalýzaDat!$O175,\"\")","v":127},{"$f":"IFERROR(VLOOKUP(AnalýzaDat!$Q$8:$Q$301,AnalýzaDat!$K$8:$N$301,3,FALSE),\"\")","v":""},{"$f":"IFERROR(VLOOKUP(AnalýzaDat!$Q$8:$Q$301,AnalýzaDat!$K$8:$N$301,4,FALSE),\"\")","v":""},{"$f":"IF(S175=S174,T174,\"\")&REPT(AnalýzaDat!$R175&\", \",AnalýzaDat!$R175<>\"\")","v":""},{"$f":"IF(COUNTIF(S$8:S175,S175)=1,S175,\"\")","v":""},{"$f":"IFERROR(IF(LEN(AnalýzaDat!$S$8:$S$301)=0,\"\",COUNTIF(AnalýzaDat!$S$8:$S$301,S175)),\"\")","v":""},{"$f":"IFERROR(IF(LEN($U175)>0,LEFT(INDIRECT(\"AnalýzaDat!T\"&ROW(AnalýzaDat!$U175)+AnalýzaDat!$V175-1),LEN(INDIRECT(\"AnalýzaDat!T\"&ROW(AnalýzaDat!$U175)+AnalýzaDat!$V175-1))-2),\"\"),\"\")","v":""}]
[{"$nulls":7},{"$f":"IFERROR(INDEX('Hlavní seznam měrných jednotek'!$B$4:$K$30,1+INT((ROW(A169)-1)/COLUMNS('Hlavní seznam měrných jednotek'!$B$4:$K$30)),MOD(ROW(A169)-1+COLUMNS('Hlavní seznam měrných jednotek'!$B$4:$K$30),COLUMNS('Hlavní seznam měrných jednotek'!$B$4:$K$30))+1),\"\")","v":""},"",null,{"$f":"IFERROR(RANK(L176,AnalýzaDat!$L$8:$L$301)+SUMPRODUCT(--(L176=AnalýzaDat!$L$8:$L$301),--(O176<AnalýzaDat!$O$8:$O$301)),\"\")","v":""},{"$f":"IFERROR(IF(COUNTIF(AnalýzaDat!$I$8:$I$299,\"<=\"&AnalýzaDat!$I$8:$I$299)=0,\"\",COUNTIF(AnalýzaDat!$I$8:$I$299,\"<=\"&AnalýzaDat!$I$8:$I$299)),\"\")","v":""},{"$f":"IFERROR(IF(AND(poslední_položka-počáteční_řádek=0,LEN(INDEX(AnalýzaDat!$H$8:$I$299,1,1)=0)),\"\",IF(poslední_položka-počáteční_řádek=0,INDEX(AnalýzaDat!$H$8:$I$299,1,1),INDEX(AnalýzaDat!$H$8:$H$299,ROW(A169),1))),\"\")","v":""},{"$f":"IFERROR(IF(AND(poslední_položka-počáteční_řádek=0,ISBLANK(INDEX(AnalýzaDat!$I$8:$I$299,1,1))),\"\",IF(poslední_položka-počáteční_řádek=0,INDEX(AnalýzaDat!$I$8:$I$299,1,1),INDEX(AnalýzaDat!$I$8:$I$299,ROW(A169),1))),\"\")","v":""},126,null,{"$f":"IFERROR(AnalýzaDat!$O176,\"\")","v":126},{"$f":"IFERROR(VLOOKUP(AnalýzaDat!$Q$8:$Q$301,AnalýzaDat!$K$8:$N$301,3,FALSE),\"\")","v":""},{"$f":"IFERROR(VLOOKUP(AnalýzaDat!$Q$8:$Q$301,AnalýzaDat!$K$8:$N$301,4,FALSE),\"\")","v":""},{"$f":"IF(S176=S175,T175,\"\")&REPT(AnalýzaDat!$R176&\", \",AnalýzaDat!$R176<>\"\")","v":""},{"$f":"IF(COUNTIF(S$8:S176,S176)=1,S176,\"\")","v":""},{"$f":"IFERROR(IF(LEN(AnalýzaDat!$S$8:$S$301)=0,\"\",COUNTIF(AnalýzaDat!$S$8:$S$301,S176)),\"\")","v":""},{"$f":"IFERROR(IF(LEN($U176)>0,LEFT(INDIRECT(\"AnalýzaDat!T\"&ROW(AnalýzaDat!$U176)+AnalýzaDat!$V176-1),LEN(INDIRECT(\"AnalýzaDat!T\"&ROW(AnalýzaDat!$U176)+AnalýzaDat!$V176-1))-2),\"\"),\"\")","v":""}]
[{"$nulls":7},{"$f":"IFERROR(INDEX('Hlavní seznam měrných jednotek'!$B$4:$K$30,1+INT((ROW(A170)-1)/COLUMNS('Hlavní seznam měrných jednotek'!$B$4:$K$30)),MOD(ROW(A170)-1+COLUMNS('Hlavní seznam měrných jednotek'!$B$4:$K$30),COLUMNS('Hlavní seznam měrných jednotek'!$B$4:$K$30))+1),\"\")","v":""},"",null,{"$f":"IFERROR(RANK(L177,AnalýzaDat!$L$8:$L$301)+SUMPRODUCT(--(L177=AnalýzaDat!$L$8:$L$301),--(O177<AnalýzaDat!$O$8:$O$301)),\"\")","v":""},{"$f":"IFERROR(IF(COUNTIF(AnalýzaDat!$I$8:$I$299,\"<=\"&AnalýzaDat!$I$8:$I$299)=0,\"\",COUNTIF(AnalýzaDat!$I$8:$I$299,\"<=\"&AnalýzaDat!$I$8:$I$299)),\"\")","v":""},{"$f":"IFERROR(IF(AND(poslední_položka-počáteční_řádek=0,LEN(INDEX(AnalýzaDat!$H$8:$I$299,1,1)=0)),\"\",IF(poslední_položka-počáteční_řádek=0,INDEX(AnalýzaDat!$H$8:$I$299,1,1),INDEX(AnalýzaDat!$H$8:$H$299,ROW(A170),1))),\"\")","v":""},{"$f":"IFERROR(IF(AND(poslední_položka-počáteční_řádek=0,ISBLANK(INDEX(AnalýzaDat!$I$8:$I$299,1,1))),\"\",IF(poslední_položka-počáteční_řádek=0,INDEX(AnalýzaDat!$I$8:$I$299,1,1),INDEX(AnalýzaDat!$I$8:$I$299,ROW(A170),1))),\"\")","v":""},125,null,{"$f":"IFERROR(AnalýzaDat!$O177,\"\")","v":125},{"$f":"IFERROR(VLOOKUP(AnalýzaDat!$Q$8:$Q$301,AnalýzaDat!$K$8:$N$301,3,FALSE),\"\")","v":""},{"$f":"IFERROR(VLOOKUP(AnalýzaDat!$Q$8:$Q$301,AnalýzaDat!$K$8:$N$301,4,FALSE),\"\")","v":""},{"$f":"IF(S177=S176,T176,\"\")&REPT(AnalýzaDat!$R177&\", \",AnalýzaDat!$R177<>\"\")","v":""},{"$f":"IF(COUNTIF(S$8:S177,S177)=1,S177,\"\")","v":""},{"$f":"IFERROR(IF(LEN(AnalýzaDat!$S$8:$S$301)=0,\"\",COUNTIF(AnalýzaDat!$S$8:$S$301,S177)),\"\")","v":""},{"$f":"IFERROR(IF(LEN($U177)>0,LEFT(INDIRECT(\"AnalýzaDat!T\"&ROW(AnalýzaDat!$U177)+AnalýzaDat!$V177-1),LEN(INDIRECT(\"AnalýzaDat!T\"&ROW(AnalýzaDat!$U177)+AnalýzaDat!$V177-1))-2),\"\"),\"\")","v":""}]
[{"$nulls":7},{"$f":"IFERROR(INDEX('Hlavní seznam měrných jednotek'!$B$4:$K$30,1+INT((ROW(A171)-1)/COLUMNS('Hlavní seznam měrných jednotek'!$B$4:$K$30)),MOD(ROW(A171)-1+COLUMNS('Hlavní seznam měrných jednotek'!$B$4:$K$30),COLUMNS('Hlavní seznam měrných jednotek'!$B$4:$K$30))+1),\"\")","v":" "},"",null,{"$f":"IFERROR(RANK(L178,AnalýzaDat!$L$8:$L$301)+SUMPRODUCT(--(L178=AnalýzaDat!$L$8:$L$301),--(O178<AnalýzaDat!$O$8:$O$301)),\"\")","v":""},{"$f":"IFERROR(IF(COUNTIF(AnalýzaDat!$I$8:$I$299,\"<=\"&AnalýzaDat!$I$8:$I$299)=0,\"\",COUNTIF(AnalýzaDat!$I$8:$I$299,\"<=\"&AnalýzaDat!$I$8:$I$299)),\"\")","v":""},{"$f":"IFERROR(IF(AND(poslední_položka-počáteční_řádek=0,LEN(INDEX(AnalýzaDat!$H$8:$I$299,1,1)=0)),\"\",IF(poslední_položka-počáteční_řádek=0,INDEX(AnalýzaDat!$H$8:$I$299,1,1),INDEX(AnalýzaDat!$H$8:$H$299,ROW(A171),1))),\"\")","v":" "},{"$f":"IFERROR(IF(AND(poslední_položka-počáteční_řádek=0,ISBLANK(INDEX(AnalýzaDat!$I$8:$I$299,1,1))),\"\",IF(poslední_položka-počáteční_řádek=0,INDEX(AnalýzaDat!$I$8:$I$299,1,1),INDEX(AnalýzaDat!$I$8:$I$299,ROW(A171),1))),\"\")","v":""},124,null,{"$f":"IFERROR(AnalýzaDat!$O178,\"\")","v":124},{"$f":"IFERROR(VLOOKUP(AnalýzaDat!$Q$8:$Q$301,AnalýzaDat!$K$8:$N$301,3,FALSE),\"\")","v":""},{"$f":"IFERROR(VLOOKUP(AnalýzaDat!$Q$8:$Q$301,AnalýzaDat!$K$8:$N$301,4,FALSE),\"\")","v":""},{"$f":"IF(S178=S177,T177,\"\")&REPT(AnalýzaDat!$R178&\", \",AnalýzaDat!$R178<>\"\")","v":""},{"$f":"IF(COUNTIF(S$8:S178,S178)=1,S178,\"\")","v":""},{"$f":"IFERROR(IF(LEN(AnalýzaDat!$S$8:$S$301)=0,\"\",COUNTIF(AnalýzaDat!$S$8:$S$301,S178)),\"\")","v":""},{"$f":"IFERROR(IF(LEN($U178)>0,LEFT(INDIRECT(\"AnalýzaDat!T\"&ROW(AnalýzaDat!$U178)+AnalýzaDat!$V178-1),LEN(INDIRECT(\"AnalýzaDat!T\"&ROW(AnalýzaDat!$U178)+AnalýzaDat!$V178-1))-2),\"\"),\"\")","v":""}]
[{"$nulls":7},{"$f":"IFERROR(INDEX('Hlavní seznam měrných jednotek'!$B$4:$K$30,1+INT((ROW(A172)-1)/COLUMNS('Hlavní seznam měrných jednotek'!$B$4:$K$30)),MOD(ROW(A172)-1+COLUMNS('Hlavní seznam měrných jednotek'!$B$4:$K$30),COLUMNS('Hlavní seznam měrných jednotek'!$B$4:$K$30))+1),\"\")","v":" "},"",null,{"$f":"IFERROR(RANK(L179,AnalýzaDat!$L$8:$L$301)+SUMPRODUCT(--(L179=AnalýzaDat!$L$8:$L$301),--(O179<AnalýzaDat!$O$8:$O$301)),\"\")","v":""},{"$f":"IFERROR(IF(COUNTIF(AnalýzaDat!$I$8:$I$299,\"<=\"&AnalýzaDat!$I$8:$I$299)=0,\"\",COUNTIF(AnalýzaDat!$I$8:$I$299,\"<=\"&AnalýzaDat!$I$8:$I$299)),\"\")","v":""},{"$f":"IFERROR(IF(AND(poslední_položka-počáteční_řádek=0,LEN(INDEX(AnalýzaDat!$H$8:$I$299,1,1)=0)),\"\",IF(poslední_položka-počáteční_řádek=0,INDEX(AnalýzaDat!$H$8:$I$299,1,1),INDEX(AnalýzaDat!$H$8:$H$299,ROW(A172),1))),\"\")","v":" "},{"$f":"IFERROR(IF(AND(poslední_položka-počáteční_řádek=0,ISBLANK(INDEX(AnalýzaDat!$I$8:$I$299,1,1))),\"\",IF(poslední_položka-počáteční_řádek=0,INDEX(AnalýzaDat!$I$8:$I$299,1,1),INDEX(AnalýzaDat!$I$8:$I$299,ROW(A172),1))),\"\")","v":""},123,null,{"$f":"IFERROR(AnalýzaDat!$O179,\"\")","v":123},{"$f":"IFERROR(VLOOKUP(AnalýzaDat!$Q$8:$Q$301,AnalýzaDat!$K$8:$N$301,3,FALSE),\"\")","v":""},{"$f":"IFERROR(VLOOKUP(AnalýzaDat!$Q$8:$Q$301,AnalýzaDat!$K$8:$N$301,4,FALSE),\"\")","v":""},{"$f":"IF(S179=S178,T178,\"\")&REPT(AnalýzaDat!$R179&\", \",AnalýzaDat!$R179<>\"\")","v":""},{"$f":"IF(COUNTIF(S$8:S179,S179)=1,S179,\"\")","v":""},{"$f":"IFERROR(IF(LEN(AnalýzaDat!$S$8:$S$301)=0,\"\",COUNTIF(AnalýzaDat!$S$8:$S$301,S179)),\"\")","v":""},{"$f":"IFERROR(IF(LEN($U179)>0,LEFT(INDIRECT(\"AnalýzaDat!T\"&ROW(AnalýzaDat!$U179)+AnalýzaDat!$V179-1),LEN(INDIRECT(\"AnalýzaDat!T\"&ROW(AnalýzaDat!$U179)+AnalýzaDat!$V179-1))-2),\"\"),\"\")","v":""}]
[{"$nulls":7},{"$f":"IFERROR(INDEX('Hlavní seznam měrných jednotek'!$B$4:$K$30,1+INT((ROW(A173)-1)/COLUMNS('Hlavní seznam měrných jednotek'!$B$4:$K$30)),MOD(ROW(A173)-1+COLUMNS('Hlavní seznam měrných jednotek'!$B$4:$K$30),COLUMNS('Hlavní seznam měrných jednotek'!$B$4:$K$30))+1),\"\")","v":""},"",null,{"$f":"IFERROR(RANK(L180,AnalýzaDat!$L$8:$L$301)+SUMPRODUCT(--(L180=AnalýzaDat!$L$8:$L$301),--(O180<AnalýzaDat!$O$8:$O$301)),\"\")","v":""},{"$f":"IFERROR(IF(COUNTIF(AnalýzaDat!$I$8:$I$299,\"<=\"&AnalýzaDat!$I$8:$I$299)=0,\"\",COUNTIF(AnalýzaDat!$I$8:$I$299,\"<=\"&AnalýzaDat!$I$8:$I$299)),\"\")","v":""},{"$f":"IFERROR(IF(AND(poslední_položka-počáteční_řádek=0,LEN(INDEX(AnalýzaDat!$H$8:$I$299,1,1)=0)),\"\",IF(poslední_položka-počáteční_řádek=0,INDEX(AnalýzaDat!$H$8:$I$299,1,1),INDEX(AnalýzaDat!$H$8:$H$299,ROW(A173),1))),\"\")","v":""},{"$f":"IFERROR(IF(AND(poslední_položka-počáteční_řádek=0,ISBLANK(INDEX(AnalýzaDat!$I$8:$I$299,1,1))),\"\",IF(poslední_položka-počáteční_řádek=0,INDEX(AnalýzaDat!$I$8:$I$299,1,1),INDEX(AnalýzaDat!$I$8:$I$299,ROW(A173),1))),\"\")","v":""},122,null,{"$f":"IFERROR(AnalýzaDat!$O180,\"\")","v":122},{"$f":"IFERROR(VLOOKUP(AnalýzaDat!$Q$8:$Q$301,AnalýzaDat!$K$8:$N$301,3,FALSE),\"\")","v":""},{"$f":"IFERROR(VLOOKUP(AnalýzaDat!$Q$8:$Q$301,AnalýzaDat!$K$8:$N$301,4,FALSE),\"\")","v":""},{"$f":"IF(S180=S179,T179,\"\")&REPT(AnalýzaDat!$R180&\", \",AnalýzaDat!$R180<>\"\")","v":""},{"$f":"IF(COUNTIF(S$8:S180,S180)=1,S180,\"\")","v":""},{"$f":"IFERROR(IF(LEN(AnalýzaDat!$S$8:$S$301)=0,\"\",COUNTIF(AnalýzaDat!$S$8:$S$301,S180)),\"\")","v":""},{"$f":"IFERROR(IF(LEN($U180)>0,LEFT(INDIRECT(\"AnalýzaDat!T\"&ROW(AnalýzaDat!$U180)+AnalýzaDat!$V180-1),LEN(INDIRECT(\"AnalýzaDat!T\"&ROW(AnalýzaDat!$U180)+AnalýzaDat!$V180-1))-2),\"\"),\"\")","v":""}]
[{"$nulls":7},{"$f":"IFERROR(INDEX('Hlavní seznam měrných jednotek'!$B$4:$K$30,1+INT((ROW(A174)-1)/COLUMNS('Hlavní seznam měrných jednotek'!$B$4:$K$30)),MOD(ROW(A174)-1+COLUMNS('Hlavní seznam měrných jednotek'!$B$4:$K$30),COLUMNS('Hlavní seznam měrných jednotek'!$B$4:$K$30))+1),\"\")","v":""},"",null,{"$f":"IFERROR(RANK(L181,AnalýzaDat!$L$8:$L$301)+SUMPRODUCT(--(L181=AnalýzaDat!$L$8:$L$301),--(O181<AnalýzaDat!$O$8:$O$301)),\"\")","v":""},{"$f":"IFERROR(IF(COUNTIF(AnalýzaDat!$I$8:$I$299,\"<=\"&AnalýzaDat!$I$8:$I$299)=0,\"\",COUNTIF(AnalýzaDat!$I$8:$I$299,\"<=\"&AnalýzaDat!$I$8:$I$299)),\"\")","v":""},{"$f":"IFERROR(IF(AND(poslední_položka-počáteční_řádek=0,LEN(INDEX(AnalýzaDat!$H$8:$I$299,1,1)=0)),\"\",IF(poslední_položka-počáteční_řádek=0,INDEX(AnalýzaDat!$H$8:$I$299,1,1),INDEX(AnalýzaDat!$H$8:$H$299,ROW(A174),1))),\"\")","v":""},{"$f":"IFERROR(IF(AND(poslední_položka-počáteční_řádek=0,ISBLANK(INDEX(AnalýzaDat!$I$8:$I$299,1,1))),\"\",IF(poslední_položka-počáteční_řádek=0,INDEX(AnalýzaDat!$I$8:$I$299,1,1),INDEX(AnalýzaDat!$I$8:$I$299,ROW(A174),1))),\"\")","v":""},121,null,{"$f":"IFERROR(AnalýzaDat!$O181,\"\")","v":121},{"$f":"IFERROR(VLOOKUP(AnalýzaDat!$Q$8:$Q$301,AnalýzaDat!$K$8:$N$301,3,FALSE),\"\")","v":""},{"$f":"IFERROR(VLOOKUP(AnalýzaDat!$Q$8:$Q$301,AnalýzaDat!$K$8:$N$301,4,FALSE),\"\")","v":""},{"$f":"IF(S181=S180,T180,\"\")&REPT(AnalýzaDat!$R181&\", \",AnalýzaDat!$R181<>\"\")","v":""},{"$f":"IF(COUNTIF(S$8:S181,S181)=1,S181,\"\")","v":""},{"$f":"IFERROR(IF(LEN(AnalýzaDat!$S$8:$S$301)=0,\"\",COUNTIF(AnalýzaDat!$S$8:$S$301,S181)),\"\")","v":""},{"$f":"IFERROR(IF(LEN($U181)>0,LEFT(INDIRECT(\"AnalýzaDat!T\"&ROW(AnalýzaDat!$U181)+AnalýzaDat!$V181-1),LEN(INDIRECT(\"AnalýzaDat!T\"&ROW(AnalýzaDat!$U181)+AnalýzaDat!$V181-1))-2),\"\"),\"\")","v":""}]
[{"$nulls":7},{"$f":"IFERROR(INDEX('Hlavní seznam měrných jednotek'!$B$4:$K$30,1+INT((ROW(A175)-1)/COLUMNS('Hlavní seznam měrných jednotek'!$B$4:$K$30)),MOD(ROW(A175)-1+COLUMNS('Hlavní seznam měrných jednotek'!$B$4:$K$30),COLUMNS('Hlavní seznam měrných jednotek'!$B$4:$K$30))+1),\"\")","v":""},"",null,{"$f":"IFERROR(RANK(L182,AnalýzaDat!$L$8:$L$301)+SUMPRODUCT(--(L182=AnalýzaDat!$L$8:$L$301),--(O182<AnalýzaDat!$O$8:$O$301)),\"\")","v":""},{"$f":"IFERROR(IF(COUNTIF(AnalýzaDat!$I$8:$I$299,\"<=\"&AnalýzaDat!$I$8:$I$299)=0,\"\",COUNTIF(AnalýzaDat!$I$8:$I$299,\"<=\"&AnalýzaDat!$I$8:$I$299)),\"\")","v":""},{"$f":"IFERROR(IF(AND(poslední_položka-počáteční_řádek=0,LEN(INDEX(AnalýzaDat!$H$8:$I$299,1,1)=0)),\"\",IF(poslední_položka-počáteční_řádek=0,INDEX(AnalýzaDat!$H$8:$I$299,1,1),INDEX(AnalýzaDat!$H$8:$H$299,ROW(A175),1))),\"\")","v":""},{"$f":"IFERROR(IF(AND(poslední_položka-počáteční_řádek=0,ISBLANK(INDEX(AnalýzaDat!$I$8:$I$299,1,1))),\"\",IF(poslední_položka-počáteční_řádek=0,INDEX(AnalýzaDat!$I$8:$I$299,1,1),INDEX(AnalýzaDat!$I$8:$I$299,ROW(A175),1))),\"\")","v":""},120,null,{"$f":"IFERROR(AnalýzaDat!$O182,\"\")","v":120},{"$f":"IFERROR(VLOOKUP(AnalýzaDat!$Q$8:$Q$301,AnalýzaDat!$K$8:$N$301,3,FALSE),\"\")","v":""},{"$f":"IFERROR(VLOOKUP(AnalýzaDat!$Q$8:$Q$301,AnalýzaDat!$K$8:$N$301,4,FALSE),\"\")","v":""},{"$f":"IF(S182=S181,T181,\"\")&REPT(AnalýzaDat!$R182&\", \",AnalýzaDat!$R182<>\"\")","v":""},{"$f":"IF(COUNTIF(S$8:S182,S182)=1,S182,\"\")","v":""},{"$f":"IFERROR(IF(LEN(AnalýzaDat!$S$8:$S$301)=0,\"\",COUNTIF(AnalýzaDat!$S$8:$S$301,S182)),\"\")","v":""},{"$f":"IFERROR(IF(LEN($U182)>0,LEFT(INDIRECT(\"AnalýzaDat!T\"&ROW(AnalýzaDat!$U182)+AnalýzaDat!$V182-1),LEN(INDIRECT(\"AnalýzaDat!T\"&ROW(AnalýzaDat!$U182)+AnalýzaDat!$V182-1))-2),\"\"),\"\")","v":""}]
[{"$nulls":7},{"$f":"IFERROR(INDEX('Hlavní seznam měrných jednotek'!$B$4:$K$30,1+INT((ROW(A176)-1)/COLUMNS('Hlavní seznam měrných jednotek'!$B$4:$K$30)),MOD(ROW(A176)-1+COLUMNS('Hlavní seznam měrných jednotek'!$B$4:$K$30),COLUMNS('Hlavní seznam měrných jednotek'!$B$4:$K$30))+1),\"\")","v":""},"",null,{"$f":"IFERROR(RANK(L183,AnalýzaDat!$L$8:$L$301)+SUMPRODUCT(--(L183=AnalýzaDat!$L$8:$L$301),--(O183<AnalýzaDat!$O$8:$O$301)),\"\")","v":""},{"$f":"IFERROR(IF(COUNTIF(AnalýzaDat!$I$8:$I$299,\"<=\"&AnalýzaDat!$I$8:$I$299)=0,\"\",COUNTIF(AnalýzaDat!$I$8:$I$299,\"<=\"&AnalýzaDat!$I$8:$I$299)),\"\")","v":""},{"$f":"IFERROR(IF(AND(poslední_položka-počáteční_řádek=0,LEN(INDEX(AnalýzaDat!$H$8:$I$299,1,1)=0)),\"\",IF(poslední_položka-počáteční_řádek=0,INDEX(AnalýzaDat!$H$8:$I$299,1,1),INDEX(AnalýzaDat!$H$8:$H$299,ROW(A176),1))),\"\")","v":""},{"$f":"IFERROR(IF(AND(poslední_položka-počáteční_řádek=0,ISBLANK(INDEX(AnalýzaDat!$I$8:$I$299,1,1))),\"\",IF(poslední_položka-počáteční_řádek=0,INDEX(AnalýzaDat!$I$8:$I$299,1,1),INDEX(AnalýzaDat!$I$8:$I$299,ROW(A176),1))),\"\")","v":""},119,null,{"$f":"IFERROR(AnalýzaDat!$O183,\"\")","v":119},{"$f":"IFERROR(VLOOKUP(AnalýzaDat!$Q$8:$Q$301,AnalýzaDat!$K$8:$N$301,3,FALSE),\"\")","v":""},{"$f":"IFERROR(VLOOKUP(AnalýzaDat!$Q$8:$Q$301,AnalýzaDat!$K$8:$N$301,4,FALSE),\"\")","v":""},{"$f":"IF(S183=S182,T182,\"\")&REPT(AnalýzaDat!$R183&\", \",AnalýzaDat!$R183<>\"\")","v":""},{"$f":"IF(COUNTIF(S$8:S183,S183)=1,S183,\"\")","v":""},{"$f":"IFERROR(IF(LEN(AnalýzaDat!$S$8:$S$301)=0,\"\",COUNTIF(AnalýzaDat!$S$8:$S$301,S183)),\"\")","v":""},{"$f":"IFERROR(IF(LEN($U183)>0,LEFT(INDIRECT(\"AnalýzaDat!T\"&ROW(AnalýzaDat!$U183)+AnalýzaDat!$V183-1),LEN(INDIRECT(\"AnalýzaDat!T\"&ROW(AnalýzaDat!$U183)+AnalýzaDat!$V183-1))-2),\"\"),\"\")","v":""}]
[{"$nulls":7},{"$f":"IFERROR(INDEX('Hlavní seznam měrných jednotek'!$B$4:$K$30,1+INT((ROW(A177)-1)/COLUMNS('Hlavní seznam měrných jednotek'!$B$4:$K$30)),MOD(ROW(A177)-1+COLUMNS('Hlavní seznam měrných jednotek'!$B$4:$K$30),COLUMNS('Hlavní seznam měrných jednotek'!$B$4:$K$30))+1),\"\")","v":""},"",null,{"$f":"IFERROR(RANK(L184,AnalýzaDat!$L$8:$L$301)+SUMPRODUCT(--(L184=AnalýzaDat!$L$8:$L$301),--(O184<AnalýzaDat!$O$8:$O$301)),\"\")","v":""},{"$f":"IFERROR(IF(COUNTIF(AnalýzaDat!$I$8:$I$299,\"<=\"&AnalýzaDat!$I$8:$I$299)=0,\"\",COUNTIF(AnalýzaDat!$I$8:$I$299,\"<=\"&AnalýzaDat!$I$8:$I$299)),\"\")","v":""},{"$f":"IFERROR(IF(AND(poslední_položka-počáteční_řádek=0,LEN(INDEX(AnalýzaDat!$H$8:$I$299,1,1)=0)),\"\",IF(poslední_položka-počáteční_řádek=0,INDEX(AnalýzaDat!$H$8:$I$299,1,1),INDEX(AnalýzaDat!$H$8:$H$299,ROW(A177),1))),\"\")","v":""},{"$f":"IFERROR(IF(AND(poslední_položka-počáteční_řádek=0,ISBLANK(INDEX(AnalýzaDat!$I$8:$I$299,1,1))),\"\",IF(poslední_položka-počáteční_řádek=0,INDEX(AnalýzaDat!$I$8:$I$299,1,1),INDEX(AnalýzaDat!$I$8:$I$299,ROW(A177),1))),\"\")","v":""},118,null,{"$f":"IFERROR(AnalýzaDat!$O184,\"\")","v":118},{"$f":"IFERROR(VLOOKUP(AnalýzaDat!$Q$8:$Q$301,AnalýzaDat!$K$8:$N$301,3,FALSE),\"\")","v":""},{"$f":"IFERROR(VLOOKUP(AnalýzaDat!$Q$8:$Q$301,AnalýzaDat!$K$8:$N$301,4,FALSE),\"\")","v":""},{"$f":"IF(S184=S183,T183,\"\")&REPT(AnalýzaDat!$R184&\", \",AnalýzaDat!$R184<>\"\")","v":""},{"$f":"IF(COUNTIF(S$8:S184,S184)=1,S184,\"\")","v":""},{"$f":"IFERROR(IF(LEN(AnalýzaDat!$S$8:$S$301)=0,\"\",COUNTIF(AnalýzaDat!$S$8:$S$301,S184)),\"\")","v":""},{"$f":"IFERROR(IF(LEN($U184)>0,LEFT(INDIRECT(\"AnalýzaDat!T\"&ROW(AnalýzaDat!$U184)+AnalýzaDat!$V184-1),LEN(INDIRECT(\"AnalýzaDat!T\"&ROW(AnalýzaDat!$U184)+AnalýzaDat!$V184-1))-2),\"\"),\"\")","v":""}]
[{"$nulls":7},{"$f":"IFERROR(INDEX('Hlavní seznam měrných jednotek'!$B$4:$K$30,1+INT((ROW(A178)-1)/COLUMNS('Hlavní seznam měrných jednotek'!$B$4:$K$30)),MOD(ROW(A178)-1+COLUMNS('Hlavní seznam měrných jednotek'!$B$4:$K$30),COLUMNS('Hlavní seznam měrných jednotek'!$B$4:$K$30))+1),\"\")","v":""},"",null,{"$f":"IFERROR(RANK(L185,AnalýzaDat!$L$8:$L$301)+SUMPRODUCT(--(L185=AnalýzaDat!$L$8:$L$301),--(O185<AnalýzaDat!$O$8:$O$301)),\"\")","v":""},{"$f":"IFERROR(IF(COUNTIF(AnalýzaDat!$I$8:$I$299,\"<=\"&AnalýzaDat!$I$8:$I$299)=0,\"\",COUNTIF(AnalýzaDat!$I$8:$I$299,\"<=\"&AnalýzaDat!$I$8:$I$299)),\"\")","v":""},{"$f":"IFERROR(IF(AND(poslední_položka-počáteční_řádek=0,LEN(INDEX(AnalýzaDat!$H$8:$I$299,1,1)=0)),\"\",IF(poslední_položka-počáteční_řádek=0,INDEX(AnalýzaDat!$H$8:$I$299,1,1),INDEX(AnalýzaDat!$H$8:$H$299,ROW(A178),1))),\"\")","v":""},{"$f":"IFERROR(IF(AND(poslední_položka-počáteční_řádek=0,ISBLANK(INDEX(AnalýzaDat!$I$8:$I$299,1,1))),\"\",IF(poslední_položka-počáteční_řádek=0,INDEX(AnalýzaDat!$I$8:$I$299,1,1),INDEX(AnalýzaDat!$I$8:$I$299,ROW(A178),1))),\"\")","v":""},117,null,{"$f":"IFERROR(AnalýzaDat!$O185,\"\")","v":117},{"$f":"IFERROR(VLOOKUP(AnalýzaDat!$Q$8:$Q$301,AnalýzaDat!$K$8:$N$301,3,FALSE),\"\")","v":""},{"$f":"IFERROR(VLOOKUP(AnalýzaDat!$Q$8:$Q$301,AnalýzaDat!$K$8:$N$301,4,FALSE),\"\")","v":""},{"$f":"IF(S185=S184,T184,\"\")&REPT(AnalýzaDat!$R185&\", \",AnalýzaDat!$R185<>\"\")","v":""},{"$f":"IF(COUNTIF(S$8:S185,S185)=1,S185,\"\")","v":""},{"$f":"IFERROR(IF(LEN(AnalýzaDat!$S$8:$S$301)=0,\"\",COUNTIF(AnalýzaDat!$S$8:$S$301,S185)),\"\")","v":""},{"$f":"IFERROR(IF(LEN($U185)>0,LEFT(INDIRECT(\"AnalýzaDat!T\"&ROW(AnalýzaDat!$U185)+AnalýzaDat!$V185-1),LEN(INDIRECT(\"AnalýzaDat!T\"&ROW(AnalýzaDat!$U185)+AnalýzaDat!$V185-1))-2),\"\"),\"\")","v":""}]
[{"$nulls":7},{"$f":"IFERROR(INDEX('Hlavní seznam měrných jednotek'!$B$4:$K$30,1+INT((ROW(A179)-1)/COLUMNS('Hlavní seznam měrných jednotek'!$B$4:$K$30)),MOD(ROW(A179)-1+COLUMNS('Hlavní seznam měrných jednotek'!$B$4:$K$30),COLUMNS('Hlavní seznam měrných jednotek'!$B$4:$K$30))+1),\"\")","v":""},"",null,{"$f":"IFERROR(RANK(L186,AnalýzaDat!$L$8:$L$301)+SUMPRODUCT(--(L186=AnalýzaDat!$L$8:$L$301),--(O186<AnalýzaDat!$O$8:$O$301)),\"\")","v":""},{"$f":"IFERROR(IF(COUNTIF(AnalýzaDat!$I$8:$I$299,\"<=\"&AnalýzaDat!$I$8:$I$299)=0,\"\",COUNTIF(AnalýzaDat!$I$8:$I$299,\"<=\"&AnalýzaDat!$I$8:$I$299)),\"\")","v":""},{"$f":"IFERROR(IF(AND(poslední_položka-počáteční_řádek=0,LEN(INDEX(AnalýzaDat!$H$8:$I$299,1,1)=0)),\"\",IF(poslední_položka-počáteční_řádek=0,INDEX(AnalýzaDat!$H$8:$I$299,1,1),INDEX(AnalýzaDat!$H$8:$H$299,ROW(A179),1))),\"\")","v":""},{"$f":"IFERROR(IF(AND(poslední_položka-počáteční_řádek=0,ISBLANK(INDEX(AnalýzaDat!$I$8:$I$299,1,1))),\"\",IF(poslední_položka-počáteční_řádek=0,INDEX(AnalýzaDat!$I$8:$I$299,1,1),INDEX(AnalýzaDat!$I$8:$I$299,ROW(A179),1))),\"\")","v":""},116,null,{"$f":"IFERROR(AnalýzaDat!$O186,\"\")","v":116},{"$f":"IFERROR(VLOOKUP(AnalýzaDat!$Q$8:$Q$301,AnalýzaDat!$K$8:$N$301,3,FALSE),\"\")","v":""},{"$f":"IFERROR(VLOOKUP(AnalýzaDat!$Q$8:$Q$301,AnalýzaDat!$K$8:$N$301,4,FALSE),\"\")","v":""},{"$f":"IF(S186=S185,T185,\"\")&REPT(AnalýzaDat!$R186&\", \",AnalýzaDat!$R186<>\"\")","v":""},{"$f":"IF(COUNTIF(S$8:S186,S186)=1,S186,\"\")","v":""},{"$f":"IFERROR(IF(LEN(AnalýzaDat!$S$8:$S$301)=0,\"\",COUNTIF(AnalýzaDat!$S$8:$S$301,S186)),\"\")","v":""},{"$f":"IFERROR(IF(LEN($U186)>0,LEFT(INDIRECT(\"AnalýzaDat!T\"&ROW(AnalýzaDat!$U186)+AnalýzaDat!$V186-1),LEN(INDIRECT(\"AnalýzaDat!T\"&ROW(AnalýzaDat!$U186)+AnalýzaDat!$V186-1))-2),\"\"),\"\")","v":""}]
[{"$nulls":7},{"$f":"IFERROR(INDEX('Hlavní seznam měrných jednotek'!$B$4:$K$30,1+INT((ROW(A180)-1)/COLUMNS('Hlavní seznam měrných jednotek'!$B$4:$K$30)),MOD(ROW(A180)-1+COLUMNS('Hlavní seznam měrných jednotek'!$B$4:$K$30),COLUMNS('Hlavní seznam měrných jednotek'!$B$4:$K$30))+1),\"\")","v":""},"",null,{"$f":"IFERROR(RANK(L187,AnalýzaDat!$L$8:$L$301)+SUMPRODUCT(--(L187=AnalýzaDat!$L$8:$L$301),--(O187<AnalýzaDat!$O$8:$O$301)),\"\")","v":""},{"$f":"IFERROR(IF(COUNTIF(AnalýzaDat!$I$8:$I$299,\"<=\"&AnalýzaDat!$I$8:$I$299)=0,\"\",COUNTIF(AnalýzaDat!$I$8:$I$299,\"<=\"&AnalýzaDat!$I$8:$I$299)),\"\")","v":""},{"$f":"IFERROR(IF(AND(poslední_položka-počáteční_řádek=0,LEN(INDEX(AnalýzaDat!$H$8:$I$299,1,1)=0)),\"\",IF(poslední_položka-počáteční_řádek=0,INDEX(AnalýzaDat!$H$8:$I$299,1,1),INDEX(AnalýzaDat!$H$8:$H$299,ROW(A180),1))),\"\")","v":""},{"$f":"IFERROR(IF(AND(poslední_položka-počáteční_řádek=0,ISBLANK(INDEX(AnalýzaDat!$I$8:$I$299,1,1))),\"\",IF(poslední_položka-počáteční_řádek=0,INDEX(AnalýzaDat!$I$8:$I$299,1,1),INDEX(AnalýzaDat!$I$8:$I$299,ROW(A180),1))),\"\")","v":""},115,null,{"$f":"IFERROR(AnalýzaDat!$O187,\"\")","v":115},{"$f":"IFERROR(VLOOKUP(AnalýzaDat!$Q$8:$Q$301,AnalýzaDat!$K$8:$N$301,3,FALSE),\"\")","v":""},{"$f":"IFERROR(VLOOKUP(AnalýzaDat!$Q$8:$Q$301,AnalýzaDat!$K$8:$N$301,4,FALSE),\"\")","v":""},{"$f":"IF(S187=S186,T186,\"\")&REPT(AnalýzaDat!$R187&\", \",AnalýzaDat!$R187<>\"\")","v":""},{"$f":"IF(COUNTIF(S$8:S187,S187)=1,S187,\"\")","v":""},{"$f":"IFERROR(IF(LEN(AnalýzaDat!$S$8:$S$301)=0,\"\",COUNTIF(AnalýzaDat!$S$8:$S$301,S187)),\"\")","v":""},{"$f":"IFERROR(IF(LEN($U187)>0,LEFT(INDIRECT(\"AnalýzaDat!T\"&ROW(AnalýzaDat!$U187)+AnalýzaDat!$V187-1),LEN(INDIRECT(\"AnalýzaDat!T\"&ROW(AnalýzaDat!$U187)+AnalýzaDat!$V187-1))-2),\"\"),\"\")","v":""}]
[{"$nulls":7},{"$f":"IFERROR(INDEX('Hlavní seznam měrných jednotek'!$B$4:$K$30,1+INT((ROW(A181)-1)/COLUMNS('Hlavní seznam měrných jednotek'!$B$4:$K$30)),MOD(ROW(A181)-1+COLUMNS('Hlavní seznam měrných jednotek'!$B$4:$K$30),COLUMNS('Hlavní seznam měrných jednotek'!$B$4:$K$30))+1),\"\")","v":" "},"",null,{"$f":"IFERROR(RANK(L188,AnalýzaDat!$L$8:$L$301)+SUMPRODUCT(--(L188=AnalýzaDat!$L$8:$L$301),--(O188<AnalýzaDat!$O$8:$O$301)),\"\")","v":""},{"$f":"IFERROR(IF(COUNTIF(AnalýzaDat!$I$8:$I$299,\"<=\"&AnalýzaDat!$I$8:$I$299)=0,\"\",COUNTIF(AnalýzaDat!$I$8:$I$299,\"<=\"&AnalýzaDat!$I$8:$I$299)),\"\")","v":""},{"$f":"IFERROR(IF(AND(poslední_položka-počáteční_řádek=0,LEN(INDEX(AnalýzaDat!$H$8:$I$299,1,1)=0)),\"\",IF(poslední_položka-počáteční_řádek=0,INDEX(AnalýzaDat!$H$8:$I$299,1,1),INDEX(AnalýzaDat!$H$8:$H$299,ROW(A181),1))),\"\")","v":" "},{"$f":"IFERROR(IF(AND(poslední_položka-počáteční_řádek=0,ISBLANK(INDEX(AnalýzaDat!$I$8:$I$299,1,1))),\"\",IF(poslední_položka-počáteční_řádek=0,INDEX(AnalýzaDat!$I$8:$I$299,1,1),INDEX(AnalýzaDat!$I$8:$I$299,ROW(A181),1))),\"\")","v":""},114,null,{"$f":"IFERROR(AnalýzaDat!$O188,\"\")","v":114},{"$f":"IFERROR(VLOOKUP(AnalýzaDat!$Q$8:$Q$301,AnalýzaDat!$K$8:$N$301,3,FALSE),\"\")","v":""},{"$f":"IFERROR(VLOOKUP(AnalýzaDat!$Q$8:$Q$301,AnalýzaDat!$K$8:$N$301,4,FALSE),\"\")","v":""},{"$f":"IF(S188=S187,T187,\"\")&REPT(AnalýzaDat!$R188&\", \",AnalýzaDat!$R188<>\"\")","v":""},{"$f":"IF(COUNTIF(S$8:S188,S188)=1,S188,\"\")","v":""},{"$f":"IFERROR(IF(LEN(AnalýzaDat!$S$8:$S$301)=0,\"\",COUNTIF(AnalýzaDat!$S$8:$S$301,S188)),\"\")","v":""},{"$f":"IFERROR(IF(LEN($U188)>0,LEFT(INDIRECT(\"AnalýzaDat!T\"&ROW(AnalýzaDat!$U188)+AnalýzaDat!$V188-1),LEN(INDIRECT(\"AnalýzaDat!T\"&ROW(AnalýzaDat!$U188)+AnalýzaDat!$V188-1))-2),\"\"),\"\")","v":""}]
[{"$nulls":7},{"$f":"IFERROR(INDEX('Hlavní seznam měrných jednotek'!$B$4:$K$30,1+INT((ROW(A182)-1)/COLUMNS('Hlavní seznam měrných jednotek'!$B$4:$K$30)),MOD(ROW(A182)-1+COLUMNS('Hlavní seznam měrných jednotek'!$B$4:$K$30),COLUMNS('Hlavní seznam měrných jednotek'!$B$4:$K$30))+1),\"\")","v":" "},"",null,{"$f":"IFERROR(RANK(L189,AnalýzaDat!$L$8:$L$301)+SUMPRODUCT(--(L189=AnalýzaDat!$L$8:$L$301),--(O189<AnalýzaDat!$O$8:$O$301)),\"\")","v":""},{"$f":"IFERROR(IF(COUNTIF(AnalýzaDat!$I$8:$I$299,\"<=\"&AnalýzaDat!$I$8:$I$299)=0,\"\",COUNTIF(AnalýzaDat!$I$8:$I$299,\"<=\"&AnalýzaDat!$I$8:$I$299)),\"\")","v":""},{"$f":"IFERROR(IF(AND(poslední_položka-počáteční_řádek=0,LEN(INDEX(AnalýzaDat!$H$8:$I$299,1,1)=0)),\"\",IF(poslední_položka-počáteční_řádek=0,INDEX(AnalýzaDat!$H$8:$I$299,1,1),INDEX(AnalýzaDat!$H$8:$H$299,ROW(A182),1))),\"\")","v":" "},{"$f":"IFERROR(IF(AND(poslední_položka-počáteční_řádek=0,ISBLANK(INDEX(AnalýzaDat!$I$8:$I$299,1,1))),\"\",IF(poslední_položka-počáteční_řádek=0,INDEX(AnalýzaDat!$I$8:$I$299,1,1),INDEX(AnalýzaDat!$I$8:$I$299,ROW(A182),1))),\"\")","v":""},113,null,{"$f":"IFERROR(AnalýzaDat!$O189,\"\")","v":113},{"$f":"IFERROR(VLOOKUP(AnalýzaDat!$Q$8:$Q$301,AnalýzaDat!$K$8:$N$301,3,FALSE),\"\")","v":""},{"$f":"IFERROR(VLOOKUP(AnalýzaDat!$Q$8:$Q$301,AnalýzaDat!$K$8:$N$301,4,FALSE),\"\")","v":""},{"$f":"IF(S189=S188,T188,\"\")&REPT(AnalýzaDat!$R189&\", \",AnalýzaDat!$R189<>\"\")","v":""},{"$f":"IF(COUNTIF(S$8:S189,S189)=1,S189,\"\")","v":""},{"$f":"IFERROR(IF(LEN(AnalýzaDat!$S$8:$S$301)=0,\"\",COUNTIF(AnalýzaDat!$S$8:$S$301,S189)),\"\")","v":""},{"$f":"IFERROR(IF(LEN($U189)>0,LEFT(INDIRECT(\"AnalýzaDat!T\"&ROW(AnalýzaDat!$U189)+AnalýzaDat!$V189-1),LEN(INDIRECT(\"AnalýzaDat!T\"&ROW(AnalýzaDat!$U189)+AnalýzaDat!$V189-1))-2),\"\"),\"\")","v":""}]
[{"$nulls":7},{"$f":"IFERROR(INDEX('Hlavní seznam měrných jednotek'!$B$4:$K$30,1+INT((ROW(A183)-1)/COLUMNS('Hlavní seznam měrných jednotek'!$B$4:$K$30)),MOD(ROW(A183)-1+COLUMNS('Hlavní seznam měrných jednotek'!$B$4:$K$30),COLUMNS('Hlavní seznam měrných jednotek'!$B$4:$K$30))+1),\"\")","v":""},"",null,{"$f":"IFERROR(RANK(L190,AnalýzaDat!$L$8:$L$301)+SUMPRODUCT(--(L190=AnalýzaDat!$L$8:$L$301),--(O190<AnalýzaDat!$O$8:$O$301)),\"\")","v":""},{"$f":"IFERROR(IF(COUNTIF(AnalýzaDat!$I$8:$I$299,\"<=\"&AnalýzaDat!$I$8:$I$299)=0,\"\",COUNTIF(AnalýzaDat!$I$8:$I$299,\"<=\"&AnalýzaDat!$I$8:$I$299)),\"\")","v":""},{"$f":"IFERROR(IF(AND(poslední_položka-počáteční_řádek=0,LEN(INDEX(AnalýzaDat!$H$8:$I$299,1,1)=0)),\"\",IF(poslední_položka-počáteční_řádek=0,INDEX(AnalýzaDat!$H$8:$I$299,1,1),INDEX(AnalýzaDat!$H$8:$H$299,ROW(A183),1))),\"\")","v":""},{"$f":"IFERROR(IF(AND(poslední_položka-počáteční_řádek=0,ISBLANK(INDEX(AnalýzaDat!$I$8:$I$299,1,1))),\"\",IF(poslední_položka-počáteční_řádek=0,INDEX(AnalýzaDat!$I$8:$I$299,1,1),INDEX(AnalýzaDat!$I$8:$I$299,ROW(A183),1))),\"\")","v":""},112,null,{"$f":"IFERROR(AnalýzaDat!$O190,\"\")","v":112},{"$f":"IFERROR(VLOOKUP(AnalýzaDat!$Q$8:$Q$301,AnalýzaDat!$K$8:$N$301,3,FALSE),\"\")","v":""},{"$f":"IFERROR(VLOOKUP(AnalýzaDat!$Q$8:$Q$301,AnalýzaDat!$K$8:$N$301,4,FALSE),\"\")","v":""},{"$f":"IF(S190=S189,T189,\"\")&REPT(AnalýzaDat!$R190&\", \",AnalýzaDat!$R190<>\"\")","v":""},{"$f":"IF(COUNTIF(S$8:S190,S190)=1,S190,\"\")","v":""},{"$f":"IFERROR(IF(LEN(AnalýzaDat!$S$8:$S$301)=0,\"\",COUNTIF(AnalýzaDat!$S$8:$S$301,S190)),\"\")","v":""},{"$f":"IFERROR(IF(LEN($U190)>0,LEFT(INDIRECT(\"AnalýzaDat!T\"&ROW(AnalýzaDat!$U190)+AnalýzaDat!$V190-1),LEN(INDIRECT(\"AnalýzaDat!T\"&ROW(AnalýzaDat!$U190)+AnalýzaDat!$V190-1))-2),\"\"),\"\")","v":""}]
[{"$nulls":7},{"$f":"IFERROR(INDEX('Hlavní seznam měrných jednotek'!$B$4:$K$30,1+INT((ROW(A184)-1)/COLUMNS('Hlavní seznam měrných jednotek'!$B$4:$K$30)),MOD(ROW(A184)-1+COLUMNS('Hlavní seznam měrných jednotek'!$B$4:$K$30),COLUMNS('Hlavní seznam měrných jednotek'!$B$4:$K$30))+1),\"\")","v":""},"",null,{"$f":"IFERROR(RANK(L191,AnalýzaDat!$L$8:$L$301)+SUMPRODUCT(--(L191=AnalýzaDat!$L$8:$L$301),--(O191<AnalýzaDat!$O$8:$O$301)),\"\")","v":""},{"$f":"IFERROR(IF(COUNTIF(AnalýzaDat!$I$8:$I$299,\"<=\"&AnalýzaDat!$I$8:$I$299)=0,\"\",COUNTIF(AnalýzaDat!$I$8:$I$299,\"<=\"&AnalýzaDat!$I$8:$I$299)),\"\")","v":""},{"$f":"IFERROR(IF(AND(poslední_položka-počáteční_řádek=0,LEN(INDEX(AnalýzaDat!$H$8:$I$299,1,1)=0)),\"\",IF(poslední_položka-počáteční_řádek=0,INDEX(AnalýzaDat!$H$8:$I$299,1,1),INDEX(AnalýzaDat!$H$8:$H$299,ROW(A184),1))),\"\")","v":""},{"$f":"IFERROR(IF(AND(poslední_položka-počáteční_řádek=0,ISBLANK(INDEX(AnalýzaDat!$I$8:$I$299,1,1))),\"\",IF(poslední_položka-počáteční_řádek=0,INDEX(AnalýzaDat!$I$8:$I$299,1,1),INDEX(AnalýzaDat!$I$8:$I$299,ROW(A184),1))),\"\")","v":""},111,null,{"$f":"IFERROR(AnalýzaDat!$O191,\"\")","v":111},{"$f":"IFERROR(VLOOKUP(AnalýzaDat!$Q$8:$Q$301,AnalýzaDat!$K$8:$N$301,3,FALSE),\"\")","v":""},{"$f":"IFERROR(VLOOKUP(AnalýzaDat!$Q$8:$Q$301,AnalýzaDat!$K$8:$N$301,4,FALSE),\"\")","v":""},{"$f":"IF(S191=S190,T190,\"\")&REPT(AnalýzaDat!$R191&\", \",AnalýzaDat!$R191<>\"\")","v":""},{"$f":"IF(COUNTIF(S$8:S191,S191)=1,S191,\"\")","v":""},{"$f":"IFERROR(IF(LEN(AnalýzaDat!$S$8:$S$301)=0,\"\",COUNTIF(AnalýzaDat!$S$8:$S$301,S191)),\"\")","v":""},{"$f":"IFERROR(IF(LEN($U191)>0,LEFT(INDIRECT(\"AnalýzaDat!T\"&ROW(AnalýzaDat!$U191)+AnalýzaDat!$V191-1),LEN(INDIRECT(\"AnalýzaDat!T\"&ROW(AnalýzaDat!$U191)+AnalýzaDat!$V191-1))-2),\"\"),\"\")","v":""}]
[{"$nulls":7},{"$f":"IFERROR(INDEX('Hlavní seznam měrných jednotek'!$B$4:$K$30,1+INT((ROW(A185)-1)/COLUMNS('Hlavní seznam měrných jednotek'!$B$4:$K$30)),MOD(ROW(A185)-1+COLUMNS('Hlavní seznam měrných jednotek'!$B$4:$K$30),COLUMNS('Hlavní seznam měrných jednotek'!$B$4:$K$30))+1),\"\")","v":""},"",null,{"$f":"IFERROR(RANK(L192,AnalýzaDat!$L$8:$L$301)+SUMPRODUCT(--(L192=AnalýzaDat!$L$8:$L$301),--(O192<AnalýzaDat!$O$8:$O$301)),\"\")","v":""},{"$f":"IFERROR(IF(COUNTIF(AnalýzaDat!$I$8:$I$299,\"<=\"&AnalýzaDat!$I$8:$I$299)=0,\"\",COUNTIF(AnalýzaDat!$I$8:$I$299,\"<=\"&AnalýzaDat!$I$8:$I$299)),\"\")","v":""},{"$f":"IFERROR(IF(AND(poslední_položka-počáteční_řádek=0,LEN(INDEX(AnalýzaDat!$H$8:$I$299,1,1)=0)),\"\",IF(poslední_položka-počáteční_řádek=0,INDEX(AnalýzaDat!$H$8:$I$299,1,1),INDEX(AnalýzaDat!$H$8:$H$299,ROW(A185),1))),\"\")","v":""},{"$f":"IFERROR(IF(AND(poslední_položka-počáteční_řádek=0,ISBLANK(INDEX(AnalýzaDat!$I$8:$I$299,1,1))),\"\",IF(poslední_položka-počáteční_řádek=0,INDEX(AnalýzaDat!$I$8:$I$299,1,1),INDEX(AnalýzaDat!$I$8:$I$299,ROW(A185),1))),\"\")","v":""},110,null,{"$f":"IFERROR(AnalýzaDat!$O192,\"\")","v":110},{"$f":"IFERROR(VLOOKUP(AnalýzaDat!$Q$8:$Q$301,AnalýzaDat!$K$8:$N$301,3,FALSE),\"\")","v":""},{"$f":"IFERROR(VLOOKUP(AnalýzaDat!$Q$8:$Q$301,AnalýzaDat!$K$8:$N$301,4,FALSE),\"\")","v":""},{"$f":"IF(S192=S191,T191,\"\")&REPT(AnalýzaDat!$R192&\", \",AnalýzaDat!$R192<>\"\")","v":""},{"$f":"IF(COUNTIF(S$8:S192,S192)=1,S192,\"\")","v":""},{"$f":"IFERROR(IF(LEN(AnalýzaDat!$S$8:$S$301)=0,\"\",COUNTIF(AnalýzaDat!$S$8:$S$301,S192)),\"\")","v":""},{"$f":"IFERROR(IF(LEN($U192)>0,LEFT(INDIRECT(\"AnalýzaDat!T\"&ROW(AnalýzaDat!$U192)+AnalýzaDat!$V192-1),LEN(INDIRECT(\"AnalýzaDat!T\"&ROW(AnalýzaDat!$U192)+AnalýzaDat!$V192-1))-2),\"\"),\"\")","v":""}]
[{"$nulls":7},{"$f":"IFERROR(INDEX('Hlavní seznam měrných jednotek'!$B$4:$K$30,1+INT((ROW(A186)-1)/COLUMNS('Hlavní seznam měrných jednotek'!$B$4:$K$30)),MOD(ROW(A186)-1+COLUMNS('Hlavní seznam měrných jednotek'!$B$4:$K$30),COLUMNS('Hlavní seznam měrných jednotek'!$B$4:$K$30))+1),\"\")","v":""},"",null,{"$f":"IFERROR(RANK(L193,AnalýzaDat!$L$8:$L$301)+SUMPRODUCT(--(L193=AnalýzaDat!$L$8:$L$301),--(O193<AnalýzaDat!$O$8:$O$301)),\"\")","v":""},{"$f":"IFERROR(IF(COUNTIF(AnalýzaDat!$I$8:$I$299,\"<=\"&AnalýzaDat!$I$8:$I$299)=0,\"\",COUNTIF(AnalýzaDat!$I$8:$I$299,\"<=\"&AnalýzaDat!$I$8:$I$299)),\"\")","v":""},{"$f":"IFERROR(IF(AND(poslední_položka-počáteční_řádek=0,LEN(INDEX(AnalýzaDat!$H$8:$I$299,1,1)=0)),\"\",IF(poslední_položka-počáteční_řádek=0,INDEX(AnalýzaDat!$H$8:$I$299,1,1),INDEX(AnalýzaDat!$H$8:$H$299,ROW(A186),1))),\"\")","v":""},{"$f":"IFERROR(IF(AND(poslední_položka-počáteční_řádek=0,ISBLANK(INDEX(AnalýzaDat!$I$8:$I$299,1,1))),\"\",IF(poslední_položka-počáteční_řádek=0,INDEX(AnalýzaDat!$I$8:$I$299,1,1),INDEX(AnalýzaDat!$I$8:$I$299,ROW(A186),1))),\"\")","v":""},109,null,{"$f":"IFERROR(AnalýzaDat!$O193,\"\")","v":109},{"$f":"IFERROR(VLOOKUP(AnalýzaDat!$Q$8:$Q$301,AnalýzaDat!$K$8:$N$301,3,FALSE),\"\")","v":""},{"$f":"IFERROR(VLOOKUP(AnalýzaDat!$Q$8:$Q$301,AnalýzaDat!$K$8:$N$301,4,FALSE),\"\")","v":""},{"$f":"IF(S193=S192,T192,\"\")&REPT(AnalýzaDat!$R193&\", \",AnalýzaDat!$R193<>\"\")","v":""},{"$f":"IF(COUNTIF(S$8:S193,S193)=1,S193,\"\")","v":""},{"$f":"IFERROR(IF(LEN(AnalýzaDat!$S$8:$S$301)=0,\"\",COUNTIF(AnalýzaDat!$S$8:$S$301,S193)),\"\")","v":""},{"$f":"IFERROR(IF(LEN($U193)>0,LEFT(INDIRECT(\"AnalýzaDat!T\"&ROW(AnalýzaDat!$U193)+AnalýzaDat!$V193-1),LEN(INDIRECT(\"AnalýzaDat!T\"&ROW(AnalýzaDat!$U193)+AnalýzaDat!$V193-1))-2),\"\"),\"\")","v":""}]
[{"$nulls":7},{"$f":"IFERROR(INDEX('Hlavní seznam měrných jednotek'!$B$4:$K$30,1+INT((ROW(A187)-1)/COLUMNS('Hlavní seznam měrných jednotek'!$B$4:$K$30)),MOD(ROW(A187)-1+COLUMNS('Hlavní seznam měrných jednotek'!$B$4:$K$30),COLUMNS('Hlavní seznam měrných jednotek'!$B$4:$K$30))+1),\"\")","v":""},"",null,{"$f":"IFERROR(RANK(L194,AnalýzaDat!$L$8:$L$301)+SUMPRODUCT(--(L194=AnalýzaDat!$L$8:$L$301),--(O194<AnalýzaDat!$O$8:$O$301)),\"\")","v":""},{"$f":"IFERROR(IF(COUNTIF(AnalýzaDat!$I$8:$I$299,\"<=\"&AnalýzaDat!$I$8:$I$299)=0,\"\",COUNTIF(AnalýzaDat!$I$8:$I$299,\"<=\"&AnalýzaDat!$I$8:$I$299)),\"\")","v":""},{"$f":"IFERROR(IF(AND(poslední_položka-počáteční_řádek=0,LEN(INDEX(AnalýzaDat!$H$8:$I$299,1,1)=0)),\"\",IF(poslední_položka-počáteční_řádek=0,INDEX(AnalýzaDat!$H$8:$I$299,1,1),INDEX(AnalýzaDat!$H$8:$H$299,ROW(A187),1))),\"\")","v":""},{"$f":"IFERROR(IF(AND(poslední_položka-počáteční_řádek=0,ISBLANK(INDEX(AnalýzaDat!$I$8:$I$299,1,1))),\"\",IF(poslední_položka-počáteční_řádek=0,INDEX(AnalýzaDat!$I$8:$I$299,1,1),INDEX(AnalýzaDat!$I$8:$I$299,ROW(A187),1))),\"\")","v":""},108,null,{"$f":"IFERROR(AnalýzaDat!$O194,\"\")","v":108},{"$f":"IFERROR(VLOOKUP(AnalýzaDat!$Q$8:$Q$301,AnalýzaDat!$K$8:$N$301,3,FALSE),\"\")","v":""},{"$f":"IFERROR(VLOOKUP(AnalýzaDat!$Q$8:$Q$301,AnalýzaDat!$K$8:$N$301,4,FALSE),\"\")","v":""},{"$f":"IF(S194=S193,T193,\"\")&REPT(AnalýzaDat!$R194&\", \",AnalýzaDat!$R194<>\"\")","v":""},{"$f":"IF(COUNTIF(S$8:S194,S194)=1,S194,\"\")","v":""},{"$f":"IFERROR(IF(LEN(AnalýzaDat!$S$8:$S$301)=0,\"\",COUNTIF(AnalýzaDat!$S$8:$S$301,S194)),\"\")","v":""},{"$f":"IFERROR(IF(LEN($U194)>0,LEFT(INDIRECT(\"AnalýzaDat!T\"&ROW(AnalýzaDat!$U194)+AnalýzaDat!$V194-1),LEN(INDIRECT(\"AnalýzaDat!T\"&ROW(AnalýzaDat!$U194)+AnalýzaDat!$V194-1))-2),\"\"),\"\")","v":""}]
[{"$nulls":7},{"$f":"IFERROR(INDEX('Hlavní seznam měrných jednotek'!$B$4:$K$30,1+INT((ROW(A188)-1)/COLUMNS('Hlavní seznam měrných jednotek'!$B$4:$K$30)),MOD(ROW(A188)-1+COLUMNS('Hlavní seznam měrných jednotek'!$B$4:$K$30),COLUMNS('Hlavní seznam měrných jednotek'!$B$4:$K$30))+1),\"\")","v":""},"",null,{"$f":"IFERROR(RANK(L195,AnalýzaDat!$L$8:$L$301)+SUMPRODUCT(--(L195=AnalýzaDat!$L$8:$L$301),--(O195<AnalýzaDat!$O$8:$O$301)),\"\")","v":""},{"$f":"IFERROR(IF(COUNTIF(AnalýzaDat!$I$8:$I$299,\"<=\"&AnalýzaDat!$I$8:$I$299)=0,\"\",COUNTIF(AnalýzaDat!$I$8:$I$299,\"<=\"&AnalýzaDat!$I$8:$I$299)),\"\")","v":""},{"$f":"IFERROR(IF(AND(poslední_položka-počáteční_řádek=0,LEN(INDEX(AnalýzaDat!$H$8:$I$299,1,1)=0)),\"\",IF(poslední_položka-počáteční_řádek=0,INDEX(AnalýzaDat!$H$8:$I$299,1,1),INDEX(AnalýzaDat!$H$8:$H$299,ROW(A188),1))),\"\")","v":""},{"$f":"IFERROR(IF(AND(poslední_položka-počáteční_řádek=0,ISBLANK(INDEX(AnalýzaDat!$I$8:$I$299,1,1))),\"\",IF(poslední_položka-počáteční_řádek=0,INDEX(AnalýzaDat!$I$8:$I$299,1,1),INDEX(AnalýzaDat!$I$8:$I$299,ROW(A188),1))),\"\")","v":""},107,null,{"$f":"IFERROR(AnalýzaDat!$O195,\"\")","v":107},{"$f":"IFERROR(VLOOKUP(AnalýzaDat!$Q$8:$Q$301,AnalýzaDat!$K$8:$N$301,3,FALSE),\"\")","v":""},{"$f":"IFERROR(VLOOKUP(AnalýzaDat!$Q$8:$Q$301,AnalýzaDat!$K$8:$N$301,4,FALSE),\"\")","v":""},{"$f":"IF(S195=S194,T194,\"\")&REPT(AnalýzaDat!$R195&\", \",AnalýzaDat!$R195<>\"\")","v":""},{"$f":"IF(COUNTIF(S$8:S195,S195)=1,S195,\"\")","v":""},{"$f":"IFERROR(IF(LEN(AnalýzaDat!$S$8:$S$301)=0,\"\",COUNTIF(AnalýzaDat!$S$8:$S$301,S195)),\"\")","v":""},{"$f":"IFERROR(IF(LEN($U195)>0,LEFT(INDIRECT(\"AnalýzaDat!T\"&ROW(AnalýzaDat!$U195)+AnalýzaDat!$V195-1),LEN(INDIRECT(\"AnalýzaDat!T\"&ROW(AnalýzaDat!$U195)+AnalýzaDat!$V195-1))-2),\"\"),\"\")","v":""}]
[{"$nulls":7},{"$f":"IFERROR(INDEX('Hlavní seznam měrných jednotek'!$B$4:$K$30,1+INT((ROW(A189)-1)/COLUMNS('Hlavní seznam měrných jednotek'!$B$4:$K$30)),MOD(ROW(A189)-1+COLUMNS('Hlavní seznam měrných jednotek'!$B$4:$K$30),COLUMNS('Hlavní seznam měrných jednotek'!$B$4:$K$30))+1),\"\")","v":""},"",null,{"$f":"IFERROR(RANK(L196,AnalýzaDat!$L$8:$L$301)+SUMPRODUCT(--(L196=AnalýzaDat!$L$8:$L$301),--(O196<AnalýzaDat!$O$8:$O$301)),\"\")","v":""},{"$f":"IFERROR(IF(COUNTIF(AnalýzaDat!$I$8:$I$299,\"<=\"&AnalýzaDat!$I$8:$I$299)=0,\"\",COUNTIF(AnalýzaDat!$I$8:$I$299,\"<=\"&AnalýzaDat!$I$8:$I$299)),\"\")","v":""},{"$f":"IFERROR(IF(AND(poslední_položka-počáteční_řádek=0,LEN(INDEX(AnalýzaDat!$H$8:$I$299,1,1)=0)),\"\",IF(poslední_položka-počáteční_řádek=0,INDEX(AnalýzaDat!$H$8:$I$299,1,1),INDEX(AnalýzaDat!$H$8:$H$299,ROW(A189),1))),\"\")","v":""},{"$f":"IFERROR(IF(AND(poslední_položka-počáteční_řádek=0,ISBLANK(INDEX(AnalýzaDat!$I$8:$I$299,1,1))),\"\",IF(poslední_položka-počáteční_řádek=0,INDEX(AnalýzaDat!$I$8:$I$299,1,1),INDEX(AnalýzaDat!$I$8:$I$299,ROW(A189),1))),\"\")","v":""},106,null,{"$f":"IFERROR(AnalýzaDat!$O196,\"\")","v":106},{"$f":"IFERROR(VLOOKUP(AnalýzaDat!$Q$8:$Q$301,AnalýzaDat!$K$8:$N$301,3,FALSE),\"\")","v":""},{"$f":"IFERROR(VLOOKUP(AnalýzaDat!$Q$8:$Q$301,AnalýzaDat!$K$8:$N$301,4,FALSE),\"\")","v":""},{"$f":"IF(S196=S195,T195,\"\")&REPT(AnalýzaDat!$R196&\", \",AnalýzaDat!$R196<>\"\")","v":""},{"$f":"IF(COUNTIF(S$8:S196,S196)=1,S196,\"\")","v":""},{"$f":"IFERROR(IF(LEN(AnalýzaDat!$S$8:$S$301)=0,\"\",COUNTIF(AnalýzaDat!$S$8:$S$301,S196)),\"\")","v":""},{"$f":"IFERROR(IF(LEN($U196)>0,LEFT(INDIRECT(\"AnalýzaDat!T\"&ROW(AnalýzaDat!$U196)+AnalýzaDat!$V196-1),LEN(INDIRECT(\"AnalýzaDat!T\"&ROW(AnalýzaDat!$U196)+AnalýzaDat!$V196-1))-2),\"\"),\"\")","v":""}]
[{"$nulls":7},{"$f":"IFERROR(INDEX('Hlavní seznam měrných jednotek'!$B$4:$K$30,1+INT((ROW(A190)-1)/COLUMNS('Hlavní seznam měrných jednotek'!$B$4:$K$30)),MOD(ROW(A190)-1+COLUMNS('Hlavní seznam měrných jednotek'!$B$4:$K$30),COLUMNS('Hlavní seznam měrných jednotek'!$B$4:$K$30))+1),\"\")","v":""},"",null,{"$f":"IFERROR(RANK(L197,AnalýzaDat!$L$8:$L$301)+SUMPRODUCT(--(L197=AnalýzaDat!$L$8:$L$301),--(O197<AnalýzaDat!$O$8:$O$301)),\"\")","v":""},{"$f":"IFERROR(IF(COUNTIF(AnalýzaDat!$I$8:$I$299,\"<=\"&AnalýzaDat!$I$8:$I$299)=0,\"\",COUNTIF(AnalýzaDat!$I$8:$I$299,\"<=\"&AnalýzaDat!$I$8:$I$299)),\"\")","v":""},{"$f":"IFERROR(IF(AND(poslední_položka-počáteční_řádek=0,LEN(INDEX(AnalýzaDat!$H$8:$I$299,1,1)=0)),\"\",IF(poslední_položka-počáteční_řádek=0,INDEX(AnalýzaDat!$H$8:$I$299,1,1),INDEX(AnalýzaDat!$H$8:$H$299,ROW(A190),1))),\"\")","v":""},{"$f":"IFERROR(IF(AND(poslední_položka-počáteční_řádek=0,ISBLANK(INDEX(AnalýzaDat!$I$8:$I$299,1,1))),\"\",IF(poslední_položka-počáteční_řádek=0,INDEX(AnalýzaDat!$I$8:$I$299,1,1),INDEX(AnalýzaDat!$I$8:$I$299,ROW(A190),1))),\"\")","v":""},105,null,{"$f":"IFERROR(AnalýzaDat!$O197,\"\")","v":105},{"$f":"IFERROR(VLOOKUP(AnalýzaDat!$Q$8:$Q$301,AnalýzaDat!$K$8:$N$301,3,FALSE),\"\")","v":""},{"$f":"IFERROR(VLOOKUP(AnalýzaDat!$Q$8:$Q$301,AnalýzaDat!$K$8:$N$301,4,FALSE),\"\")","v":""},{"$f":"IF(S197=S196,T196,\"\")&REPT(AnalýzaDat!$R197&\", \",AnalýzaDat!$R197<>\"\")","v":""},{"$f":"IF(COUNTIF(S$8:S197,S197)=1,S197,\"\")","v":""},{"$f":"IFERROR(IF(LEN(AnalýzaDat!$S$8:$S$301)=0,\"\",COUNTIF(AnalýzaDat!$S$8:$S$301,S197)),\"\")","v":""},{"$f":"IFERROR(IF(LEN($U197)>0,LEFT(INDIRECT(\"AnalýzaDat!T\"&ROW(AnalýzaDat!$U197)+AnalýzaDat!$V197-1),LEN(INDIRECT(\"AnalýzaDat!T\"&ROW(AnalýzaDat!$U197)+AnalýzaDat!$V197-1))-2),\"\"),\"\")","v":""}]
[{"$nulls":7},{"$f":"IFERROR(INDEX('Hlavní seznam měrných jednotek'!$B$4:$K$30,1+INT((ROW(A191)-1)/COLUMNS('Hlavní seznam měrných jednotek'!$B$4:$K$30)),MOD(ROW(A191)-1+COLUMNS('Hlavní seznam měrných jednotek'!$B$4:$K$30),COLUMNS('Hlavní seznam měrných jednotek'!$B$4:$K$30))+1),\"\")","v":" "},"",null,{"$f":"IFERROR(RANK(L198,AnalýzaDat!$L$8:$L$301)+SUMPRODUCT(--(L198=AnalýzaDat!$L$8:$L$301),--(O198<AnalýzaDat!$O$8:$O$301)),\"\")","v":""},{"$f":"IFERROR(IF(COUNTIF(AnalýzaDat!$I$8:$I$299,\"<=\"&AnalýzaDat!$I$8:$I$299)=0,\"\",COUNTIF(AnalýzaDat!$I$8:$I$299,\"<=\"&AnalýzaDat!$I$8:$I$299)),\"\")","v":""},{"$f":"IFERROR(IF(AND(poslední_položka-počáteční_řádek=0,LEN(INDEX(AnalýzaDat!$H$8:$I$299,1,1)=0)),\"\",IF(poslední_položka-počáteční_řádek=0,INDEX(AnalýzaDat!$H$8:$I$299,1,1),INDEX(AnalýzaDat!$H$8:$H$299,ROW(A191),1))),\"\")","v":" "},{"$f":"IFERROR(IF(AND(poslední_položka-počáteční_řádek=0,ISBLANK(INDEX(AnalýzaDat!$I$8:$I$299,1,1))),\"\",IF(poslední_položka-počáteční_řádek=0,INDEX(AnalýzaDat!$I$8:$I$299,1,1),INDEX(AnalýzaDat!$I$8:$I$299,ROW(A191),1))),\"\")","v":""},104,null,{"$f":"IFERROR(AnalýzaDat!$O198,\"\")","v":104},{"$f":"IFERROR(VLOOKUP(AnalýzaDat!$Q$8:$Q$301,AnalýzaDat!$K$8:$N$301,3,FALSE),\"\")","v":""},{"$f":"IFERROR(VLOOKUP(AnalýzaDat!$Q$8:$Q$301,AnalýzaDat!$K$8:$N$301,4,FALSE),\"\")","v":""},{"$f":"IF(S198=S197,T197,\"\")&REPT(AnalýzaDat!$R198&\", \",AnalýzaDat!$R198<>\"\")","v":""},{"$f":"IF(COUNTIF(S$8:S198,S198)=1,S198,\"\")","v":""},{"$f":"IFERROR(IF(LEN(AnalýzaDat!$S$8:$S$301)=0,\"\",COUNTIF(AnalýzaDat!$S$8:$S$301,S198)),\"\")","v":""},{"$f":"IFERROR(IF(LEN($U198)>0,LEFT(INDIRECT(\"AnalýzaDat!T\"&ROW(AnalýzaDat!$U198)+AnalýzaDat!$V198-1),LEN(INDIRECT(\"AnalýzaDat!T\"&ROW(AnalýzaDat!$U198)+AnalýzaDat!$V198-1))-2),\"\"),\"\")","v":""}]
[{"$nulls":7},{"$f":"IFERROR(INDEX('Hlavní seznam měrných jednotek'!$B$4:$K$30,1+INT((ROW(A192)-1)/COLUMNS('Hlavní seznam měrných jednotek'!$B$4:$K$30)),MOD(ROW(A192)-1+COLUMNS('Hlavní seznam měrných jednotek'!$B$4:$K$30),COLUMNS('Hlavní seznam měrných jednotek'!$B$4:$K$30))+1),\"\")","v":" "},"",null,{"$f":"IFERROR(RANK(L199,AnalýzaDat!$L$8:$L$301)+SUMPRODUCT(--(L199=AnalýzaDat!$L$8:$L$301),--(O199<AnalýzaDat!$O$8:$O$301)),\"\")","v":""},{"$f":"IFERROR(IF(COUNTIF(AnalýzaDat!$I$8:$I$299,\"<=\"&AnalýzaDat!$I$8:$I$299)=0,\"\",COUNTIF(AnalýzaDat!$I$8:$I$299,\"<=\"&AnalýzaDat!$I$8:$I$299)),\"\")","v":""},{"$f":"IFERROR(IF(AND(poslední_položka-počáteční_řádek=0,LEN(INDEX(AnalýzaDat!$H$8:$I$299,1,1)=0)),\"\",IF(poslední_položka-počáteční_řádek=0,INDEX(AnalýzaDat!$H$8:$I$299,1,1),INDEX(AnalýzaDat!$H$8:$H$299,ROW(A192),1))),\"\")","v":" "},{"$f":"IFERROR(IF(AND(poslední_položka-počáteční_řádek=0,ISBLANK(INDEX(AnalýzaDat!$I$8:$I$299,1,1))),\"\",IF(poslední_položka-počáteční_řádek=0,INDEX(AnalýzaDat!$I$8:$I$299,1,1),INDEX(AnalýzaDat!$I$8:$I$299,ROW(A192),1))),\"\")","v":""},103,null,{"$f":"IFERROR(AnalýzaDat!$O199,\"\")","v":103},{"$f":"IFERROR(VLOOKUP(AnalýzaDat!$Q$8:$Q$301,AnalýzaDat!$K$8:$N$301,3,FALSE),\"\")","v":""},{"$f":"IFERROR(VLOOKUP(AnalýzaDat!$Q$8:$Q$301,AnalýzaDat!$K$8:$N$301,4,FALSE),\"\")","v":""},{"$f":"IF(S199=S198,T198,\"\")&REPT(AnalýzaDat!$R199&\", \",AnalýzaDat!$R199<>\"\")","v":""},{"$f":"IF(COUNTIF(S$8:S199,S199)=1,S199,\"\")","v":""},{"$f":"IFERROR(IF(LEN(AnalýzaDat!$S$8:$S$301)=0,\"\",COUNTIF(AnalýzaDat!$S$8:$S$301,S199)),\"\")","v":""},{"$f":"IFERROR(IF(LEN($U199)>0,LEFT(INDIRECT(\"AnalýzaDat!T\"&ROW(AnalýzaDat!$U199)+AnalýzaDat!$V199-1),LEN(INDIRECT(\"AnalýzaDat!T\"&ROW(AnalýzaDat!$U199)+AnalýzaDat!$V199-1))-2),\"\"),\"\")","v":""}]
[{"$nulls":7},{"$f":"IFERROR(INDEX('Hlavní seznam měrných jednotek'!$B$4:$K$30,1+INT((ROW(A193)-1)/COLUMNS('Hlavní seznam měrných jednotek'!$B$4:$K$30)),MOD(ROW(A193)-1+COLUMNS('Hlavní seznam měrných jednotek'!$B$4:$K$30),COLUMNS('Hlavní seznam měrných jednotek'!$B$4:$K$30))+1),\"\")","v":""},{"$f":"IFERROR(INDEX(HlavníSeznamIngrediencí,1+INT((ROW(A193)-1)/COLUMNS(HlavníSeznamIngrediencí)),MOD(ROW(A193)-1+COLUMNS(HlavníSeznamIngrediencí),COLUMNS(HlavníSeznamIngrediencí))+1),\"\")","v":""},null,{"$f":"IFERROR(RANK(L200,AnalýzaDat!$L$8:$L$301)+SUMPRODUCT(--(L200=AnalýzaDat!$L$8:$L$301),--(O200<AnalýzaDat!$O$8:$O$301)),\"\")","v":""},{"$f":"IFERROR(IF(COUNTIF(AnalýzaDat!$I$8:$I$299,\"<=\"&AnalýzaDat!$I$8:$I$299)=0,\"\",COUNTIF(AnalýzaDat!$I$8:$I$299,\"<=\"&AnalýzaDat!$I$8:$I$299)),\"\")","v":""},{"$f":"IFERROR(IF(AND(poslední_položka-počáteční_řádek=0,LEN(INDEX(AnalýzaDat!$H$8:$I$299,1,1)=0)),\"\",IF(poslední_položka-počáteční_řádek=0,INDEX(AnalýzaDat!$H$8:$I$299,1,1),INDEX(AnalýzaDat!$H$8:$H$299,ROW(A193),1))),\"\")","v":""},{"$f":"IFERROR(IF(AND(poslední_položka-počáteční_řádek=0,ISBLANK(INDEX(AnalýzaDat!$I$8:$I$299,1,1))),\"\",IF(poslední_položka-počáteční_řádek=0,INDEX(AnalýzaDat!$I$8:$I$299,1,1),INDEX(AnalýzaDat!$I$8:$I$299,ROW(A193),1))),\"\")","v":""},102,null,{"$f":"IFERROR(AnalýzaDat!$O200,\"\")","v":102},{"$f":"IFERROR(VLOOKUP(AnalýzaDat!$Q$8:$Q$301,AnalýzaDat!$K$8:$N$301,3,FALSE),\"\")","v":""},{"$f":"IFERROR(VLOOKUP(AnalýzaDat!$Q$8:$Q$301,AnalýzaDat!$K$8:$N$301,4,FALSE),\"\")","v":""},{"$f":"IF(S200=S199,T199,\"\")&REPT(AnalýzaDat!$R200&\", \",AnalýzaDat!$R200<>\"\")","v":""},{"$f":"IF(COUNTIF(S$8:S200,S200)=1,S200,\"\")","v":""},{"$f":"IFERROR(IF(LEN(AnalýzaDat!$S$8:$S$301)=0,\"\",COUNTIF(AnalýzaDat!$S$8:$S$301,S200)),\"\")","v":""},{"$f":"IFERROR(IF(LEN($U200)>0,LEFT(INDIRECT(\"AnalýzaDat!T\"&ROW(AnalýzaDat!$U200)+AnalýzaDat!$V200-1),LEN(INDIRECT(\"AnalýzaDat!T\"&ROW(AnalýzaDat!$U200)+AnalýzaDat!$V200-1))-2),\"\"),\"\")","v":""}]
[{"$nulls":7},{"$f":"IFERROR(INDEX('Hlavní seznam měrných jednotek'!$B$4:$K$30,1+INT((ROW(A194)-1)/COLUMNS('Hlavní seznam měrných jednotek'!$B$4:$K$30)),MOD(ROW(A194)-1+COLUMNS('Hlavní seznam měrných jednotek'!$B$4:$K$30),COLUMNS('Hlavní seznam měrných jednotek'!$B$4:$K$30))+1),\"\")","v":""},"",null,{"$f":"IFERROR(RANK(L201,AnalýzaDat!$L$8:$L$301)+SUMPRODUCT(--(L201=AnalýzaDat!$L$8:$L$301),--(O201<AnalýzaDat!$O$8:$O$301)),\"\")","v":""},{"$f":"IFERROR(IF(COUNTIF(AnalýzaDat!$I$8:$I$299,\"<=\"&AnalýzaDat!$I$8:$I$299)=0,\"\",COUNTIF(AnalýzaDat!$I$8:$I$299,\"<=\"&AnalýzaDat!$I$8:$I$299)),\"\")","v":""},{"$f":"IFERROR(IF(AND(poslední_položka-počáteční_řádek=0,LEN(INDEX(AnalýzaDat!$H$8:$I$299,1,1)=0)),\"\",IF(poslední_položka-počáteční_řádek=0,INDEX(AnalýzaDat!$H$8:$I$299,1,1),INDEX(AnalýzaDat!$H$8:$H$299,ROW(A194),1))),\"\")","v":""},{"$f":"IFERROR(IF(AND(poslední_položka-počáteční_řádek=0,ISBLANK(INDEX(AnalýzaDat!$I$8:$I$299,1,1))),\"\",IF(poslední_položka-počáteční_řádek=0,INDEX(AnalýzaDat!$I$8:$I$299,1,1),INDEX(AnalýzaDat!$I$8:$I$299,ROW(A194),1))),\"\")","v":""},101,null,{"$f":"IFERROR(AnalýzaDat!$O201,\"\")","v":101},{"$f":"IFERROR(VLOOKUP(AnalýzaDat!$Q$8:$Q$301,AnalýzaDat!$K$8:$N$301,3,FALSE),\"\")","v":""},{"$f":"IFERROR(VLOOKUP(AnalýzaDat!$Q$8:$Q$301,AnalýzaDat!$K$8:$N$301,4,FALSE),\"\")","v":""},{"$f":"IF(S201=S200,T200,\"\")&REPT(AnalýzaDat!$R201&\", \",AnalýzaDat!$R201<>\"\")","v":""},{"$f":"IF(COUNTIF(S$8:S201,S201)=1,S201,\"\")","v":""},{"$f":"IFERROR(IF(LEN(AnalýzaDat!$S$8:$S$301)=0,\"\",COUNTIF(AnalýzaDat!$S$8:$S$301,S201)),\"\")","v":""},{"$f":"IFERROR(IF(LEN($U201)>0,LEFT(INDIRECT(\"AnalýzaDat!T\"&ROW(AnalýzaDat!$U201)+AnalýzaDat!$V201-1),LEN(INDIRECT(\"AnalýzaDat!T\"&ROW(AnalýzaDat!$U201)+AnalýzaDat!$V201-1))-2),\"\"),\"\")","v":""}]
[{"$nulls":7},{"$f":"IFERROR(INDEX('Hlavní seznam měrných jednotek'!$B$4:$K$30,1+INT((ROW(A195)-1)/COLUMNS('Hlavní seznam měrných jednotek'!$B$4:$K$30)),MOD(ROW(A195)-1+COLUMNS('Hlavní seznam měrných jednotek'!$B$4:$K$30),COLUMNS('Hlavní seznam měrných jednotek'!$B$4:$K$30))+1),\"\")","v":""},"",null,{"$f":"IFERROR(RANK(L202,AnalýzaDat!$L$8:$L$301)+SUMPRODUCT(--(L202=AnalýzaDat!$L$8:$L$301),--(O202<AnalýzaDat!$O$8:$O$301)),\"\")","v":""},{"$f":"IFERROR(IF(COUNTIF(AnalýzaDat!$I$8:$I$299,\"<=\"&AnalýzaDat!$I$8:$I$299)=0,\"\",COUNTIF(AnalýzaDat!$I$8:$I$299,\"<=\"&AnalýzaDat!$I$8:$I$299)),\"\")","v":""},{"$f":"IFERROR(IF(AND(poslední_položka-počáteční_řádek=0,LEN(INDEX(AnalýzaDat!$H$8:$I$299,1,1)=0)),\"\",IF(poslední_položka-počáteční_řádek=0,INDEX(AnalýzaDat!$H$8:$I$299,1,1),INDEX(AnalýzaDat!$H$8:$H$299,ROW(A195),1))),\"\")","v":""},{"$f":"IFERROR(IF(AND(poslední_položka-počáteční_řádek=0,ISBLANK(INDEX(AnalýzaDat!$I$8:$I$299,1,1))),\"\",IF(poslední_položka-počáteční_řádek=0,INDEX(AnalýzaDat!$I$8:$I$299,1,1),INDEX(AnalýzaDat!$I$8:$I$299,ROW(A195),1))),\"\")","v":""},{"$f":"O201-1","v":100},null,{"$f":"IFERROR(AnalýzaDat!$O202,\"\")","v":100},{"$f":"IFERROR(VLOOKUP(AnalýzaDat!$Q$8:$Q$301,AnalýzaDat!$K$8:$N$301,3,FALSE),\"\")","v":""},{"$f":"IFERROR(VLOOKUP(AnalýzaDat!$Q$8:$Q$301,AnalýzaDat!$K$8:$N$301,4,FALSE),\"\")","v":""},{"$f":"IF(S202=S201,T201,\"\")&REPT(AnalýzaDat!$R202&\", \",AnalýzaDat!$R202<>\"\")","v":""},{"$f":"IF(COUNTIF(S$8:S202,S202)=1,S202,\"\")","v":""},{"$f":"IFERROR(IF(LEN(AnalýzaDat!$S$8:$S$301)=0,\"\",COUNTIF(AnalýzaDat!$S$8:$S$301,S202)),\"\")","v":""},{"$f":"IFERROR(IF(LEN($U202)>0,LEFT(INDIRECT(\"AnalýzaDat!T\"&ROW(AnalýzaDat!$U202)+AnalýzaDat!$V202-1),LEN(INDIRECT(\"AnalýzaDat!T\"&ROW(AnalýzaDat!$U202)+AnalýzaDat!$V202-1))-2),\"\"),\"\")","v":""}]
[{"$nulls":7},{"$f":"IFERROR(INDEX('Hlavní seznam měrných jednotek'!$B$4:$K$30,1+INT((ROW(A196)-1)/COLUMNS('Hlavní seznam měrných jednotek'!$B$4:$K$30)),MOD(ROW(A196)-1+COLUMNS('Hlavní seznam měrných jednotek'!$B$4:$K$30),COLUMNS('Hlavní seznam měrných jednotek'!$B$4:$K$30))+1),\"\")","v":""},"",null,{"$f":"IFERROR(RANK(L203,AnalýzaDat!$L$8:$L$301)+SUMPRODUCT(--(L203=AnalýzaDat!$L$8:$L$301),--(O203<AnalýzaDat!$O$8:$O$301)),\"\")","v":""},{"$f":"IFERROR(IF(COUNTIF(AnalýzaDat!$I$8:$I$299,\"<=\"&AnalýzaDat!$I$8:$I$299)=0,\"\",COUNTIF(AnalýzaDat!$I$8:$I$299,\"<=\"&AnalýzaDat!$I$8:$I$299)),\"\")","v":""},{"$f":"IFERROR(IF(AND(poslední_položka-počáteční_řádek=0,LEN(INDEX(AnalýzaDat!$H$8:$I$299,1,1)=0)),\"\",IF(poslední_položka-počáteční_řádek=0,INDEX(AnalýzaDat!$H$8:$I$299,1,1),INDEX(AnalýzaDat!$H$8:$H$299,ROW(A196),1))),\"\")","v":""},{"$f":"IFERROR(IF(AND(poslední_položka-počáteční_řádek=0,ISBLANK(INDEX(AnalýzaDat!$I$8:$I$299,1,1))),\"\",IF(poslední_položka-počáteční_řádek=0,INDEX(AnalýzaDat!$I$8:$I$299,1,1),INDEX(AnalýzaDat!$I$8:$I$299,ROW(A196),1))),\"\")","v":""},99,null,{"$f":"IFERROR(AnalýzaDat!$O203,\"\")","v":99},{"$f":"IFERROR(VLOOKUP(AnalýzaDat!$Q$8:$Q$301,AnalýzaDat!$K$8:$N$301,3,FALSE),\"\")","v":""},{"$f":"IFERROR(VLOOKUP(AnalýzaDat!$Q$8:$Q$301,AnalýzaDat!$K$8:$N$301,4,FALSE),\"\")","v":""},{"$f":"IF(S203=S202,T202,\"\")&REPT(AnalýzaDat!$R203&\", \",AnalýzaDat!$R203<>\"\")","v":""},{"$f":"IF(COUNTIF(S$8:S203,S203)=1,S203,\"\")","v":""},{"$f":"IFERROR(IF(LEN(AnalýzaDat!$S$8:$S$301)=0,\"\",COUNTIF(AnalýzaDat!$S$8:$S$301,S203)),\"\")","v":""},{"$f":"IFERROR(IF(LEN($U203)>0,LEFT(INDIRECT(\"AnalýzaDat!T\"&ROW(AnalýzaDat!$U203)+AnalýzaDat!$V203-1),LEN(INDIRECT(\"AnalýzaDat!T\"&ROW(AnalýzaDat!$U203)+AnalýzaDat!$V203-1))-2),\"\"),\"\")","v":""}]
[{"$nulls":7},{"$f":"IFERROR(INDEX('Hlavní seznam měrných jednotek'!$B$4:$K$30,1+INT((ROW(A197)-1)/COLUMNS('Hlavní seznam měrných jednotek'!$B$4:$K$30)),MOD(ROW(A197)-1+COLUMNS('Hlavní seznam měrných jednotek'!$B$4:$K$30),COLUMNS('Hlavní seznam měrných jednotek'!$B$4:$K$30))+1),\"\")","v":""},"",null,{"$f":"IFERROR(RANK(L204,AnalýzaDat!$L$8:$L$301)+SUMPRODUCT(--(L204=AnalýzaDat!$L$8:$L$301),--(O204<AnalýzaDat!$O$8:$O$301)),\"\")","v":""},{"$f":"IFERROR(IF(COUNTIF(AnalýzaDat!$I$8:$I$299,\"<=\"&AnalýzaDat!$I$8:$I$299)=0,\"\",COUNTIF(AnalýzaDat!$I$8:$I$299,\"<=\"&AnalýzaDat!$I$8:$I$299)),\"\")","v":""},{"$f":"IFERROR(IF(AND(poslední_položka-počáteční_řádek=0,LEN(INDEX(AnalýzaDat!$H$8:$I$299,1,1)=0)),\"\",IF(poslední_položka-počáteční_řádek=0,INDEX(AnalýzaDat!$H$8:$I$299,1,1),INDEX(AnalýzaDat!$H$8:$H$299,ROW(A197),1))),\"\")","v":""},{"$f":"IFERROR(IF(AND(poslední_položka-počáteční_řádek=0,ISBLANK(INDEX(AnalýzaDat!$I$8:$I$299,1,1))),\"\",IF(poslední_položka-počáteční_řádek=0,INDEX(AnalýzaDat!$I$8:$I$299,1,1),INDEX(AnalýzaDat!$I$8:$I$299,ROW(A197),1))),\"\")","v":""},98,null,{"$f":"IFERROR(AnalýzaDat!$O204,\"\")","v":98},{"$f":"IFERROR(VLOOKUP(AnalýzaDat!$Q$8:$Q$301,AnalýzaDat!$K$8:$N$301,3,FALSE),\"\")","v":""},{"$f":"IFERROR(VLOOKUP(AnalýzaDat!$Q$8:$Q$301,AnalýzaDat!$K$8:$N$301,4,FALSE),\"\")","v":""},{"$f":"IF(S204=S203,T203,\"\")&REPT(AnalýzaDat!$R204&\", \",AnalýzaDat!$R204<>\"\")","v":""},{"$f":"IF(COUNTIF(S$8:S204,S204)=1,S204,\"\")","v":""},{"$f":"IFERROR(IF(LEN(AnalýzaDat!$S$8:$S$301)=0,\"\",COUNTIF(AnalýzaDat!$S$8:$S$301,S204)),\"\")","v":""},{"$f":"IFERROR(IF(LEN($U204)>0,LEFT(INDIRECT(\"AnalýzaDat!T\"&ROW(AnalýzaDat!$U204)+AnalýzaDat!$V204-1),LEN(INDIRECT(\"AnalýzaDat!T\"&ROW(AnalýzaDat!$U204)+AnalýzaDat!$V204-1))-2),\"\"),\"\")","v":""}]
[{"$nulls":7},{"$f":"IFERROR(INDEX('Hlavní seznam měrných jednotek'!$B$4:$K$30,1+INT((ROW(A198)-1)/COLUMNS('Hlavní seznam měrných jednotek'!$B$4:$K$30)),MOD(ROW(A198)-1+COLUMNS('Hlavní seznam měrných jednotek'!$B$4:$K$30),COLUMNS('Hlavní seznam měrných jednotek'!$B$4:$K$30))+1),\"\")","v":""},"",null,{"$f":"IFERROR(RANK(L205,AnalýzaDat!$L$8:$L$301)+SUMPRODUCT(--(L205=AnalýzaDat!$L$8:$L$301),--(O205<AnalýzaDat!$O$8:$O$301)),\"\")","v":""},{"$f":"IFERROR(IF(COUNTIF(AnalýzaDat!$I$8:$I$299,\"<=\"&AnalýzaDat!$I$8:$I$299)=0,\"\",COUNTIF(AnalýzaDat!$I$8:$I$299,\"<=\"&AnalýzaDat!$I$8:$I$299)),\"\")","v":""},{"$f":"IFERROR(IF(AND(poslední_položka-počáteční_řádek=0,LEN(INDEX(AnalýzaDat!$H$8:$I$299,1,1)=0)),\"\",IF(poslední_položka-počáteční_řádek=0,INDEX(AnalýzaDat!$H$8:$I$299,1,1),INDEX(AnalýzaDat!$H$8:$H$299,ROW(A198),1))),\"\")","v":""},{"$f":"IFERROR(IF(AND(poslední_položka-počáteční_řádek=0,ISBLANK(INDEX(AnalýzaDat!$I$8:$I$299,1,1))),\"\",IF(poslední_položka-počáteční_řádek=0,INDEX(AnalýzaDat!$I$8:$I$299,1,1),INDEX(AnalýzaDat!$I$8:$I$299,ROW(A198),1))),\"\")","v":""},97,null,{"$f":"IFERROR(AnalýzaDat!$O205,\"\")","v":97},{"$f":"IFERROR(VLOOKUP(AnalýzaDat!$Q$8:$Q$301,AnalýzaDat!$K$8:$N$301,3,FALSE),\"\")","v":""},{"$f":"IFERROR(VLOOKUP(AnalýzaDat!$Q$8:$Q$301,AnalýzaDat!$K$8:$N$301,4,FALSE),\"\")","v":""},{"$f":"IF(S205=S204,T204,\"\")&REPT(AnalýzaDat!$R205&\", \",AnalýzaDat!$R205<>\"\")","v":""},{"$f":"IF(COUNTIF(S$8:S205,S205)=1,S205,\"\")","v":""},{"$f":"IFERROR(IF(LEN(AnalýzaDat!$S$8:$S$301)=0,\"\",COUNTIF(AnalýzaDat!$S$8:$S$301,S205)),\"\")","v":""},{"$f":"IFERROR(IF(LEN($U205)>0,LEFT(INDIRECT(\"AnalýzaDat!T\"&ROW(AnalýzaDat!$U205)+AnalýzaDat!$V205-1),LEN(INDIRECT(\"AnalýzaDat!T\"&ROW(AnalýzaDat!$U205)+AnalýzaDat!$V205-1))-2),\"\"),\"\")","v":""}]
[{"$nulls":7},{"$f":"IFERROR(INDEX('Hlavní seznam měrných jednotek'!$B$4:$K$30,1+INT((ROW(A199)-1)/COLUMNS('Hlavní seznam měrných jednotek'!$B$4:$K$30)),MOD(ROW(A199)-1+COLUMNS('Hlavní seznam měrných jednotek'!$B$4:$K$30),COLUMNS('Hlavní seznam měrných jednotek'!$B$4:$K$30))+1),\"\")","v":""},"",null,{"$f":"IFERROR(RANK(L206,AnalýzaDat!$L$8:$L$301)+SUMPRODUCT(--(L206=AnalýzaDat!$L$8:$L$301),--(O206<AnalýzaDat!$O$8:$O$301)),\"\")","v":""},{"$f":"IFERROR(IF(COUNTIF(AnalýzaDat!$I$8:$I$299,\"<=\"&AnalýzaDat!$I$8:$I$299)=0,\"\",COUNTIF(AnalýzaDat!$I$8:$I$299,\"<=\"&AnalýzaDat!$I$8:$I$299)),\"\")","v":""},{"$f":"IFERROR(IF(AND(poslední_položka-počáteční_řádek=0,LEN(INDEX(AnalýzaDat!$H$8:$I$299,1,1)=0)),\"\",IF(poslední_položka-počáteční_řádek=0,INDEX(AnalýzaDat!$H$8:$I$299,1,1),INDEX(AnalýzaDat!$H$8:$H$299,ROW(A199),1))),\"\")","v":""},{"$f":"IFERROR(IF(AND(poslední_položka-počáteční_řádek=0,ISBLANK(INDEX(AnalýzaDat!$I$8:$I$299,1,1))),\"\",IF(poslední_položka-počáteční_řádek=0,INDEX(AnalýzaDat!$I$8:$I$299,1,1),INDEX(AnalýzaDat!$I$8:$I$299,ROW(A199),1))),\"\")","v":""},96,null,{"$f":"IFERROR(AnalýzaDat!$O206,\"\")","v":96},{"$f":"IFERROR(VLOOKUP(AnalýzaDat!$Q$8:$Q$301,AnalýzaDat!$K$8:$N$301,3,FALSE),\"\")","v":""},{"$f":"IFERROR(VLOOKUP(AnalýzaDat!$Q$8:$Q$301,AnalýzaDat!$K$8:$N$301,4,FALSE),\"\")","v":""},{"$f":"IF(S206=S205,T205,\"\")&REPT(AnalýzaDat!$R206&\", \",AnalýzaDat!$R206<>\"\")","v":""},{"$f":"IF(COUNTIF(S$8:S206,S206)=1,S206,\"\")","v":""},{"$f":"IFERROR(IF(LEN(AnalýzaDat!$S$8:$S$301)=0,\"\",COUNTIF(AnalýzaDat!$S$8:$S$301,S206)),\"\")","v":""},{"$f":"IFERROR(IF(LEN($U206)>0,LEFT(INDIRECT(\"AnalýzaDat!T\"&ROW(AnalýzaDat!$U206)+AnalýzaDat!$V206-1),LEN(INDIRECT(\"AnalýzaDat!T\"&ROW(AnalýzaDat!$U206)+AnalýzaDat!$V206-1))-2),\"\"),\"\")","v":""}]
[{"$nulls":7},{"$f":"IFERROR(INDEX('Hlavní seznam měrných jednotek'!$B$4:$K$30,1+INT((ROW(A200)-1)/COLUMNS('Hlavní seznam měrných jednotek'!$B$4:$K$30)),MOD(ROW(A200)-1+COLUMNS('Hlavní seznam měrných jednotek'!$B$4:$K$30),COLUMNS('Hlavní seznam měrných jednotek'!$B$4:$K$30))+1),\"\")","v":""},"",null,{"$f":"IFERROR(RANK(L207,AnalýzaDat!$L$8:$L$301)+SUMPRODUCT(--(L207=AnalýzaDat!$L$8:$L$301),--(O207<AnalýzaDat!$O$8:$O$301)),\"\")","v":""},{"$f":"IFERROR(IF(COUNTIF(AnalýzaDat!$I$8:$I$299,\"<=\"&AnalýzaDat!$I$8:$I$299)=0,\"\",COUNTIF(AnalýzaDat!$I$8:$I$299,\"<=\"&AnalýzaDat!$I$8:$I$299)),\"\")","v":""},{"$f":"IFERROR(IF(AND(poslední_položka-počáteční_řádek=0,LEN(INDEX(AnalýzaDat!$H$8:$I$299,1,1)=0)),\"\",IF(poslední_položka-počáteční_řádek=0,INDEX(AnalýzaDat!$H$8:$I$299,1,1),INDEX(AnalýzaDat!$H$8:$H$299,ROW(A200),1))),\"\")","v":""},{"$f":"IFERROR(IF(AND(poslední_položka-počáteční_řádek=0,ISBLANK(INDEX(AnalýzaDat!$I$8:$I$299,1,1))),\"\",IF(poslední_položka-počáteční_řádek=0,INDEX(AnalýzaDat!$I$8:$I$299,1,1),INDEX(AnalýzaDat!$I$8:$I$299,ROW(A200),1))),\"\")","v":""},95,null,{"$f":"IFERROR(AnalýzaDat!$O207,\"\")","v":95},{"$f":"IFERROR(VLOOKUP(AnalýzaDat!$Q$8:$Q$301,AnalýzaDat!$K$8:$N$301,3,FALSE),\"\")","v":""},{"$f":"IFERROR(VLOOKUP(AnalýzaDat!$Q$8:$Q$301,AnalýzaDat!$K$8:$N$301,4,FALSE),\"\")","v":""},{"$f":"IF(S207=S206,T206,\"\")&REPT(AnalýzaDat!$R207&\", \",AnalýzaDat!$R207<>\"\")","v":""},{"$f":"IF(COUNTIF(S$8:S207,S207)=1,S207,\"\")","v":""},{"$f":"IFERROR(IF(LEN(AnalýzaDat!$S$8:$S$301)=0,\"\",COUNTIF(AnalýzaDat!$S$8:$S$301,S207)),\"\")","v":""},{"$f":"IFERROR(IF(LEN($U207)>0,LEFT(INDIRECT(\"AnalýzaDat!T\"&ROW(AnalýzaDat!$U207)+AnalýzaDat!$V207-1),LEN(INDIRECT(\"AnalýzaDat!T\"&ROW(AnalýzaDat!$U207)+AnalýzaDat!$V207-1))-2),\"\"),\"\")","v":""}]
[{"$nulls":7},{"$f":"IFERROR(INDEX('Hlavní seznam měrných jednotek'!$B$4:$K$30,1+INT((ROW(A201)-1)/COLUMNS('Hlavní seznam měrných jednotek'!$B$4:$K$30)),MOD(ROW(A201)-1+COLUMNS('Hlavní seznam měrných jednotek'!$B$4:$K$30),COLUMNS('Hlavní seznam měrných jednotek'!$B$4:$K$30))+1),\"\")","v":" "},"",null,{"$f":"IFERROR(RANK(L208,AnalýzaDat!$L$8:$L$301)+SUMPRODUCT(--(L208=AnalýzaDat!$L$8:$L$301),--(O208<AnalýzaDat!$O$8:$O$301)),\"\")","v":""},{"$f":"IFERROR(IF(COUNTIF(AnalýzaDat!$I$8:$I$299,\"<=\"&AnalýzaDat!$I$8:$I$299)=0,\"\",COUNTIF(AnalýzaDat!$I$8:$I$299,\"<=\"&AnalýzaDat!$I$8:$I$299)),\"\")","v":""},{"$f":"IFERROR(IF(AND(poslední_položka-počáteční_řádek=0,LEN(INDEX(AnalýzaDat!$H$8:$I$299,1,1)=0)),\"\",IF(poslední_položka-počáteční_řádek=0,INDEX(AnalýzaDat!$H$8:$I$299,1,1),INDEX(AnalýzaDat!$H$8:$H$299,ROW(A201),1))),\"\")","v":" "},{"$f":"IFERROR(IF(AND(poslední_položka-počáteční_řádek=0,ISBLANK(INDEX(AnalýzaDat!$I$8:$I$299,1,1))),\"\",IF(poslední_položka-počáteční_řádek=0,INDEX(AnalýzaDat!$I$8:$I$299,1,1),INDEX(AnalýzaDat!$I$8:$I$299,ROW(A201),1))),\"\")","v":""},94,null,{"$f":"IFERROR(AnalýzaDat!$O208,\"\")","v":94},{"$f":"IFERROR(VLOOKUP(AnalýzaDat!$Q$8:$Q$301,AnalýzaDat!$K$8:$N$301,3,FALSE),\"\")","v":""},{"$f":"IFERROR(VLOOKUP(AnalýzaDat!$Q$8:$Q$301,AnalýzaDat!$K$8:$N$301,4,FALSE),\"\")","v":""},{"$f":"IF(S208=S207,T207,\"\")&REPT(AnalýzaDat!$R208&\", \",AnalýzaDat!$R208<>\"\")","v":""},{"$f":"IF(COUNTIF(S$8:S208,S208)=1,S208,\"\")","v":""},{"$f":"IFERROR(IF(LEN(AnalýzaDat!$S$8:$S$301)=0,\"\",COUNTIF(AnalýzaDat!$S$8:$S$301,S208)),\"\")","v":""},{"$f":"IFERROR(IF(LEN($U208)>0,LEFT(INDIRECT(\"AnalýzaDat!T\"&ROW(AnalýzaDat!$U208)+AnalýzaDat!$V208-1),LEN(INDIRECT(\"AnalýzaDat!T\"&ROW(AnalýzaDat!$U208)+AnalýzaDat!$V208-1))-2),\"\"),\"\")","v":""}]
[{"$nulls":7},{"$f":"IFERROR(INDEX('Hlavní seznam měrných jednotek'!$B$4:$K$30,1+INT((ROW(A202)-1)/COLUMNS('Hlavní seznam měrných jednotek'!$B$4:$K$30)),MOD(ROW(A202)-1+COLUMNS('Hlavní seznam měrných jednotek'!$B$4:$K$30),COLUMNS('Hlavní seznam měrných jednotek'!$B$4:$K$30))+1),\"\")","v":" "},"",null,{"$f":"IFERROR(RANK(L209,AnalýzaDat!$L$8:$L$301)+SUMPRODUCT(--(L209=AnalýzaDat!$L$8:$L$301),--(O209<AnalýzaDat!$O$8:$O$301)),\"\")","v":""},{"$f":"IFERROR(IF(COUNTIF(AnalýzaDat!$I$8:$I$299,\"<=\"&AnalýzaDat!$I$8:$I$299)=0,\"\",COUNTIF(AnalýzaDat!$I$8:$I$299,\"<=\"&AnalýzaDat!$I$8:$I$299)),\"\")","v":""},{"$f":"IFERROR(IF(AND(poslední_položka-počáteční_řádek=0,LEN(INDEX(AnalýzaDat!$H$8:$I$299,1,1)=0)),\"\",IF(poslední_položka-počáteční_řádek=0,INDEX(AnalýzaDat!$H$8:$I$299,1,1),INDEX(AnalýzaDat!$H$8:$H$299,ROW(A202),1))),\"\")","v":" "},{"$f":"IFERROR(IF(AND(poslední_položka-počáteční_řádek=0,ISBLANK(INDEX(AnalýzaDat!$I$8:$I$299,1,1))),\"\",IF(poslední_položka-počáteční_řádek=0,INDEX(AnalýzaDat!$I$8:$I$299,1,1),INDEX(AnalýzaDat!$I$8:$I$299,ROW(A202),1))),\"\")","v":""},93,null,{"$f":"IFERROR(AnalýzaDat!$O209,\"\")","v":93},{"$f":"IFERROR(VLOOKUP(AnalýzaDat!$Q$8:$Q$301,AnalýzaDat!$K$8:$N$301,3,FALSE),\"\")","v":""},{"$f":"IFERROR(VLOOKUP(AnalýzaDat!$Q$8:$Q$301,AnalýzaDat!$K$8:$N$301,4,FALSE),\"\")","v":""},{"$f":"IF(S209=S208,T208,\"\")&REPT(AnalýzaDat!$R209&\", \",AnalýzaDat!$R209<>\"\")","v":""},{"$f":"IF(COUNTIF(S$8:S209,S209)=1,S209,\"\")","v":""},{"$f":"IFERROR(IF(LEN(AnalýzaDat!$S$8:$S$301)=0,\"\",COUNTIF(AnalýzaDat!$S$8:$S$301,S209)),\"\")","v":""},{"$f":"IFERROR(IF(LEN($U209)>0,LEFT(INDIRECT(\"AnalýzaDat!T\"&ROW(AnalýzaDat!$U209)+AnalýzaDat!$V209-1),LEN(INDIRECT(\"AnalýzaDat!T\"&ROW(AnalýzaDat!$U209)+AnalýzaDat!$V209-1))-2),\"\"),\"\")","v":""}]
[{"$nulls":7},{"$f":"IFERROR(INDEX('Hlavní seznam měrných jednotek'!$B$4:$K$30,1+INT((ROW(A203)-1)/COLUMNS('Hlavní seznam měrných jednotek'!$B$4:$K$30)),MOD(ROW(A203)-1+COLUMNS('Hlavní seznam měrných jednotek'!$B$4:$K$30),COLUMNS('Hlavní seznam měrných jednotek'!$B$4:$K$30))+1),\"\")","v":""},"",null,{"$f":"IFERROR(RANK(L210,AnalýzaDat!$L$8:$L$301)+SUMPRODUCT(--(L210=AnalýzaDat!$L$8:$L$301),--(O210<AnalýzaDat!$O$8:$O$301)),\"\")","v":""},{"$f":"IFERROR(IF(COUNTIF(AnalýzaDat!$I$8:$I$299,\"<=\"&AnalýzaDat!$I$8:$I$299)=0,\"\",COUNTIF(AnalýzaDat!$I$8:$I$299,\"<=\"&AnalýzaDat!$I$8:$I$299)),\"\")","v":""},{"$f":"IFERROR(IF(AND(poslední_položka-počáteční_řádek=0,LEN(INDEX(AnalýzaDat!$H$8:$I$299,1,1)=0)),\"\",IF(poslední_položka-počáteční_řádek=0,INDEX(AnalýzaDat!$H$8:$I$299,1,1),INDEX(AnalýzaDat!$H$8:$H$299,ROW(A203),1))),\"\")","v":""},{"$f":"IFERROR(IF(AND(poslední_položka-počáteční_řádek=0,ISBLANK(INDEX(AnalýzaDat!$I$8:$I$299,1,1))),\"\",IF(poslední_položka-počáteční_řádek=0,INDEX(AnalýzaDat!$I$8:$I$299,1,1),INDEX(AnalýzaDat!$I$8:$I$299,ROW(A203),1))),\"\")","v":""},92,null,{"$f":"IFERROR(AnalýzaDat!$O210,\"\")","v":92},{"$f":"IFERROR(VLOOKUP(AnalýzaDat!$Q$8:$Q$301,AnalýzaDat!$K$8:$N$301,3,FALSE),\"\")","v":""},{"$f":"IFERROR(VLOOKUP(AnalýzaDat!$Q$8:$Q$301,AnalýzaDat!$K$8:$N$301,4,FALSE),\"\")","v":""},{"$f":"IF(S210=S209,T209,\"\")&REPT(AnalýzaDat!$R210&\", \",AnalýzaDat!$R210<>\"\")","v":""},{"$f":"IF(COUNTIF(S$8:S210,S210)=1,S210,\"\")","v":""},{"$f":"IFERROR(IF(LEN(AnalýzaDat!$S$8:$S$301)=0,\"\",COUNTIF(AnalýzaDat!$S$8:$S$301,S210)),\"\")","v":""},{"$f":"IFERROR(IF(LEN($U210)>0,LEFT(INDIRECT(\"AnalýzaDat!T\"&ROW(AnalýzaDat!$U210)+AnalýzaDat!$V210-1),LEN(INDIRECT(\"AnalýzaDat!T\"&ROW(AnalýzaDat!$U210)+AnalýzaDat!$V210-1))-2),\"\"),\"\")","v":""}]
[{"$nulls":7},{"$f":"IFERROR(INDEX('Hlavní seznam měrných jednotek'!$B$4:$K$30,1+INT((ROW(A204)-1)/COLUMNS('Hlavní seznam měrných jednotek'!$B$4:$K$30)),MOD(ROW(A204)-1+COLUMNS('Hlavní seznam měrných jednotek'!$B$4:$K$30),COLUMNS('Hlavní seznam měrných jednotek'!$B$4:$K$30))+1),\"\")","v":""},"",null,{"$f":"IFERROR(RANK(L211,AnalýzaDat!$L$8:$L$301)+SUMPRODUCT(--(L211=AnalýzaDat!$L$8:$L$301),--(O211<AnalýzaDat!$O$8:$O$301)),\"\")","v":""},{"$f":"IFERROR(IF(COUNTIF(AnalýzaDat!$I$8:$I$299,\"<=\"&AnalýzaDat!$I$8:$I$299)=0,\"\",COUNTIF(AnalýzaDat!$I$8:$I$299,\"<=\"&AnalýzaDat!$I$8:$I$299)),\"\")","v":""},{"$f":"IFERROR(IF(AND(poslední_položka-počáteční_řádek=0,LEN(INDEX(AnalýzaDat!$H$8:$I$299,1,1)=0)),\"\",IF(poslední_položka-počáteční_řádek=0,INDEX(AnalýzaDat!$H$8:$I$299,1,1),INDEX(AnalýzaDat!$H$8:$H$299,ROW(A204),1))),\"\")","v":""},{"$f":"IFERROR(IF(AND(poslední_položka-počáteční_řádek=0,ISBLANK(INDEX(AnalýzaDat!$I$8:$I$299,1,1))),\"\",IF(poslední_položka-počáteční_řádek=0,INDEX(AnalýzaDat!$I$8:$I$299,1,1),INDEX(AnalýzaDat!$I$8:$I$299,ROW(A204),1))),\"\")","v":""},91,null,{"$f":"IFERROR(AnalýzaDat!$O211,\"\")","v":91},{"$f":"IFERROR(VLOOKUP(AnalýzaDat!$Q$8:$Q$301,AnalýzaDat!$K$8:$N$301,3,FALSE),\"\")","v":""},{"$f":"IFERROR(VLOOKUP(AnalýzaDat!$Q$8:$Q$301,AnalýzaDat!$K$8:$N$301,4,FALSE),\"\")","v":""},{"$f":"IF(S211=S210,T210,\"\")&REPT(AnalýzaDat!$R211&\", \",AnalýzaDat!$R211<>\"\")","v":""},{"$f":"IF(COUNTIF(S$8:S211,S211)=1,S211,\"\")","v":""},{"$f":"IFERROR(IF(LEN(AnalýzaDat!$S$8:$S$301)=0,\"\",COUNTIF(AnalýzaDat!$S$8:$S$301,S211)),\"\")","v":""},{"$f":"IFERROR(IF(LEN($U211)>0,LEFT(INDIRECT(\"AnalýzaDat!T\"&ROW(AnalýzaDat!$U211)+AnalýzaDat!$V211-1),LEN(INDIRECT(\"AnalýzaDat!T\"&ROW(AnalýzaDat!$U211)+AnalýzaDat!$V211-1))-2),\"\"),\"\")","v":""}]
[{"$nulls":7},{"$f":"IFERROR(INDEX('Hlavní seznam měrných jednotek'!$B$4:$K$30,1+INT((ROW(A205)-1)/COLUMNS('Hlavní seznam měrných jednotek'!$B$4:$K$30)),MOD(ROW(A205)-1+COLUMNS('Hlavní seznam měrných jednotek'!$B$4:$K$30),COLUMNS('Hlavní seznam měrných jednotek'!$B$4:$K$30))+1),\"\")","v":""},"",null,{"$f":"IFERROR(RANK(L212,AnalýzaDat!$L$8:$L$301)+SUMPRODUCT(--(L212=AnalýzaDat!$L$8:$L$301),--(O212<AnalýzaDat!$O$8:$O$301)),\"\")","v":""},{"$f":"IFERROR(IF(COUNTIF(AnalýzaDat!$I$8:$I$299,\"<=\"&AnalýzaDat!$I$8:$I$299)=0,\"\",COUNTIF(AnalýzaDat!$I$8:$I$299,\"<=\"&AnalýzaDat!$I$8:$I$299)),\"\")","v":""},{"$f":"IFERROR(IF(AND(poslední_položka-počáteční_řádek=0,LEN(INDEX(AnalýzaDat!$H$8:$I$299,1,1)=0)),\"\",IF(poslední_položka-počáteční_řádek=0,INDEX(AnalýzaDat!$H$8:$I$299,1,1),INDEX(AnalýzaDat!$H$8:$H$299,ROW(A205),1))),\"\")","v":""},{"$f":"IFERROR(IF(AND(poslední_položka-počáteční_řádek=0,ISBLANK(INDEX(AnalýzaDat!$I$8:$I$299,1,1))),\"\",IF(poslední_položka-počáteční_řádek=0,INDEX(AnalýzaDat!$I$8:$I$299,1,1),INDEX(AnalýzaDat!$I$8:$I$299,ROW(A205),1))),\"\")","v":""},90,null,{"$f":"IFERROR(AnalýzaDat!$O212,\"\")","v":90},{"$f":"IFERROR(VLOOKUP(AnalýzaDat!$Q$8:$Q$301,AnalýzaDat!$K$8:$N$301,3,FALSE),\"\")","v":""},{"$f":"IFERROR(VLOOKUP(AnalýzaDat!$Q$8:$Q$301,AnalýzaDat!$K$8:$N$301,4,FALSE),\"\")","v":""},{"$f":"IF(S212=S211,T211,\"\")&REPT(AnalýzaDat!$R212&\", \",AnalýzaDat!$R212<>\"\")","v":""},{"$f":"IF(COUNTIF(S$8:S212,S212)=1,S212,\"\")","v":""},{"$f":"IFERROR(IF(LEN(AnalýzaDat!$S$8:$S$301)=0,\"\",COUNTIF(AnalýzaDat!$S$8:$S$301,S212)),\"\")","v":""},{"$f":"IFERROR(IF(LEN($U212)>0,LEFT(INDIRECT(\"AnalýzaDat!T\"&ROW(AnalýzaDat!$U212)+AnalýzaDat!$V212-1),LEN(INDIRECT(\"AnalýzaDat!T\"&ROW(AnalýzaDat!$U212)+AnalýzaDat!$V212-1))-2),\"\"),\"\")","v":""}]
[{"$nulls":7},{"$f":"IFERROR(INDEX('Hlavní seznam měrných jednotek'!$B$4:$K$30,1+INT((ROW(A206)-1)/COLUMNS('Hlavní seznam měrných jednotek'!$B$4:$K$30)),MOD(ROW(A206)-1+COLUMNS('Hlavní seznam měrných jednotek'!$B$4:$K$30),COLUMNS('Hlavní seznam měrných jednotek'!$B$4:$K$30))+1),\"\")","v":""},"",null,{"$f":"IFERROR(RANK(L213,AnalýzaDat!$L$8:$L$301)+SUMPRODUCT(--(L213=AnalýzaDat!$L$8:$L$301),--(O213<AnalýzaDat!$O$8:$O$301)),\"\")","v":""},{"$f":"IFERROR(IF(COUNTIF(AnalýzaDat!$I$8:$I$299,\"<=\"&AnalýzaDat!$I$8:$I$299)=0,\"\",COUNTIF(AnalýzaDat!$I$8:$I$299,\"<=\"&AnalýzaDat!$I$8:$I$299)),\"\")","v":""},{"$f":"IFERROR(IF(AND(poslední_položka-počáteční_řádek=0,LEN(INDEX(AnalýzaDat!$H$8:$I$299,1,1)=0)),\"\",IF(poslední_položka-počáteční_řádek=0,INDEX(AnalýzaDat!$H$8:$I$299,1,1),INDEX(AnalýzaDat!$H$8:$H$299,ROW(A206),1))),\"\")","v":""},{"$f":"IFERROR(IF(AND(poslední_položka-počáteční_řádek=0,ISBLANK(INDEX(AnalýzaDat!$I$8:$I$299,1,1))),\"\",IF(poslední_položka-počáteční_řádek=0,INDEX(AnalýzaDat!$I$8:$I$299,1,1),INDEX(AnalýzaDat!$I$8:$I$299,ROW(A206),1))),\"\")","v":""},89,null,{"$f":"IFERROR(AnalýzaDat!$O213,\"\")","v":89},{"$f":"IFERROR(VLOOKUP(AnalýzaDat!$Q$8:$Q$301,AnalýzaDat!$K$8:$N$301,3,FALSE),\"\")","v":""},{"$f":"IFERROR(VLOOKUP(AnalýzaDat!$Q$8:$Q$301,AnalýzaDat!$K$8:$N$301,4,FALSE),\"\")","v":""},{"$f":"IF(S213=S212,T212,\"\")&REPT(AnalýzaDat!$R213&\", \",AnalýzaDat!$R213<>\"\")","v":""},{"$f":"IF(COUNTIF(S$8:S213,S213)=1,S213,\"\")","v":""},{"$f":"IFERROR(IF(LEN(AnalýzaDat!$S$8:$S$301)=0,\"\",COUNTIF(AnalýzaDat!$S$8:$S$301,S213)),\"\")","v":""},{"$f":"IFERROR(IF(LEN($U213)>0,LEFT(INDIRECT(\"AnalýzaDat!T\"&ROW(AnalýzaDat!$U213)+AnalýzaDat!$V213-1),LEN(INDIRECT(\"AnalýzaDat!T\"&ROW(AnalýzaDat!$U213)+AnalýzaDat!$V213-1))-2),\"\"),\"\")","v":""}]
[{"$nulls":7},{"$f":"IFERROR(INDEX('Hlavní seznam měrných jednotek'!$B$4:$K$30,1+INT((ROW(A207)-1)/COLUMNS('Hlavní seznam měrných jednotek'!$B$4:$K$30)),MOD(ROW(A207)-1+COLUMNS('Hlavní seznam měrných jednotek'!$B$4:$K$30),COLUMNS('Hlavní seznam měrných jednotek'!$B$4:$K$30))+1),\"\")","v":""},"",null,{"$f":"IFERROR(RANK(L214,AnalýzaDat!$L$8:$L$301)+SUMPRODUCT(--(L214=AnalýzaDat!$L$8:$L$301),--(O214<AnalýzaDat!$O$8:$O$301)),\"\")","v":""},{"$f":"IFERROR(IF(COUNTIF(AnalýzaDat!$I$8:$I$299,\"<=\"&AnalýzaDat!$I$8:$I$299)=0,\"\",COUNTIF(AnalýzaDat!$I$8:$I$299,\"<=\"&AnalýzaDat!$I$8:$I$299)),\"\")","v":""},{"$f":"IFERROR(IF(AND(poslední_položka-počáteční_řádek=0,LEN(INDEX(AnalýzaDat!$H$8:$I$299,1,1)=0)),\"\",IF(poslední_položka-počáteční_řádek=0,INDEX(AnalýzaDat!$H$8:$I$299,1,1),INDEX(AnalýzaDat!$H$8:$H$299,ROW(A207),1))),\"\")","v":""},{"$f":"IFERROR(IF(AND(poslední_položka-počáteční_řádek=0,ISBLANK(INDEX(AnalýzaDat!$I$8:$I$299,1,1))),\"\",IF(poslední_položka-počáteční_řádek=0,INDEX(AnalýzaDat!$I$8:$I$299,1,1),INDEX(AnalýzaDat!$I$8:$I$299,ROW(A207),1))),\"\")","v":""},88,null,{"$f":"IFERROR(AnalýzaDat!$O214,\"\")","v":88},{"$f":"IFERROR(VLOOKUP(AnalýzaDat!$Q$8:$Q$301,AnalýzaDat!$K$8:$N$301,3,FALSE),\"\")","v":""},{"$f":"IFERROR(VLOOKUP(AnalýzaDat!$Q$8:$Q$301,AnalýzaDat!$K$8:$N$301,4,FALSE),\"\")","v":""},{"$f":"IF(S214=S213,T213,\"\")&REPT(AnalýzaDat!$R214&\", \",AnalýzaDat!$R214<>\"\")","v":""},{"$f":"IF(COUNTIF(S$8:S214,S214)=1,S214,\"\")","v":""},{"$f":"IFERROR(IF(LEN(AnalýzaDat!$S$8:$S$301)=0,\"\",COUNTIF(AnalýzaDat!$S$8:$S$301,S214)),\"\")","v":""},{"$f":"IFERROR(IF(LEN($U214)>0,LEFT(INDIRECT(\"AnalýzaDat!T\"&ROW(AnalýzaDat!$U214)+AnalýzaDat!$V214-1),LEN(INDIRECT(\"AnalýzaDat!T\"&ROW(AnalýzaDat!$U214)+AnalýzaDat!$V214-1))-2),\"\"),\"\")","v":""}]
[{"$nulls":7},{"$f":"IFERROR(INDEX('Hlavní seznam měrných jednotek'!$B$4:$K$30,1+INT((ROW(A208)-1)/COLUMNS('Hlavní seznam měrných jednotek'!$B$4:$K$30)),MOD(ROW(A208)-1+COLUMNS('Hlavní seznam měrných jednotek'!$B$4:$K$30),COLUMNS('Hlavní seznam měrných jednotek'!$B$4:$K$30))+1),\"\")","v":""},"",null,{"$f":"IFERROR(RANK(L215,AnalýzaDat!$L$8:$L$301)+SUMPRODUCT(--(L215=AnalýzaDat!$L$8:$L$301),--(O215<AnalýzaDat!$O$8:$O$301)),\"\")","v":""},{"$f":"IFERROR(IF(COUNTIF(AnalýzaDat!$I$8:$I$299,\"<=\"&AnalýzaDat!$I$8:$I$299)=0,\"\",COUNTIF(AnalýzaDat!$I$8:$I$299,\"<=\"&AnalýzaDat!$I$8:$I$299)),\"\")","v":""},{"$f":"IFERROR(IF(AND(poslední_položka-počáteční_řádek=0,LEN(INDEX(AnalýzaDat!$H$8:$I$299,1,1)=0)),\"\",IF(poslední_položka-počáteční_řádek=0,INDEX(AnalýzaDat!$H$8:$I$299,1,1),INDEX(AnalýzaDat!$H$8:$H$299,ROW(A208),1))),\"\")","v":""},{"$f":"IFERROR(IF(AND(poslední_položka-počáteční_řádek=0,ISBLANK(INDEX(AnalýzaDat!$I$8:$I$299,1,1))),\"\",IF(poslední_položka-počáteční_řádek=0,INDEX(AnalýzaDat!$I$8:$I$299,1,1),INDEX(AnalýzaDat!$I$8:$I$299,ROW(A208),1))),\"\")","v":""},87,null,{"$f":"IFERROR(AnalýzaDat!$O215,\"\")","v":87},{"$f":"IFERROR(VLOOKUP(AnalýzaDat!$Q$8:$Q$301,AnalýzaDat!$K$8:$N$301,3,FALSE),\"\")","v":""},{"$f":"IFERROR(VLOOKUP(AnalýzaDat!$Q$8:$Q$301,AnalýzaDat!$K$8:$N$301,4,FALSE),\"\")","v":""},{"$f":"IF(S215=S214,T214,\"\")&REPT(AnalýzaDat!$R215&\", \",AnalýzaDat!$R215<>\"\")","v":""},{"$f":"IF(COUNTIF(S$8:S215,S215)=1,S215,\"\")","v":""},{"$f":"IFERROR(IF(LEN(AnalýzaDat!$S$8:$S$301)=0,\"\",COUNTIF(AnalýzaDat!$S$8:$S$301,S215)),\"\")","v":""},{"$f":"IFERROR(IF(LEN($U215)>0,LEFT(INDIRECT(\"AnalýzaDat!T\"&ROW(AnalýzaDat!$U215)+AnalýzaDat!$V215-1),LEN(INDIRECT(\"AnalýzaDat!T\"&ROW(AnalýzaDat!$U215)+AnalýzaDat!$V215-1))-2),\"\"),\"\")","v":""}]
[{"$nulls":7},{"$f":"IFERROR(INDEX('Hlavní seznam měrných jednotek'!$B$4:$K$30,1+INT((ROW(A209)-1)/COLUMNS('Hlavní seznam měrných jednotek'!$B$4:$K$30)),MOD(ROW(A209)-1+COLUMNS('Hlavní seznam měrných jednotek'!$B$4:$K$30),COLUMNS('Hlavní seznam měrných jednotek'!$B$4:$K$30))+1),\"\")","v":""},"",null,{"$f":"IFERROR(RANK(L216,AnalýzaDat!$L$8:$L$301)+SUMPRODUCT(--(L216=AnalýzaDat!$L$8:$L$301),--(O216<AnalýzaDat!$O$8:$O$301)),\"\")","v":""},{"$f":"IFERROR(IF(COUNTIF(AnalýzaDat!$I$8:$I$299,\"<=\"&AnalýzaDat!$I$8:$I$299)=0,\"\",COUNTIF(AnalýzaDat!$I$8:$I$299,\"<=\"&AnalýzaDat!$I$8:$I$299)),\"\")","v":""},{"$f":"IFERROR(IF(AND(poslední_položka-počáteční_řádek=0,LEN(INDEX(AnalýzaDat!$H$8:$I$299,1,1)=0)),\"\",IF(poslední_položka-počáteční_řádek=0,INDEX(AnalýzaDat!$H$8:$I$299,1,1),INDEX(AnalýzaDat!$H$8:$H$299,ROW(A209),1))),\"\")","v":""},{"$f":"IFERROR(IF(AND(poslední_položka-počáteční_řádek=0,ISBLANK(INDEX(AnalýzaDat!$I$8:$I$299,1,1))),\"\",IF(poslední_položka-počáteční_řádek=0,INDEX(AnalýzaDat!$I$8:$I$299,1,1),INDEX(AnalýzaDat!$I$8:$I$299,ROW(A209),1))),\"\")","v":""},86,null,{"$f":"IFERROR(AnalýzaDat!$O216,\"\")","v":86},{"$f":"IFERROR(VLOOKUP(AnalýzaDat!$Q$8:$Q$301,AnalýzaDat!$K$8:$N$301,3,FALSE),\"\")","v":""},{"$f":"IFERROR(VLOOKUP(AnalýzaDat!$Q$8:$Q$301,AnalýzaDat!$K$8:$N$301,4,FALSE),\"\")","v":""},{"$f":"IF(S216=S215,T215,\"\")&REPT(AnalýzaDat!$R216&\", \",AnalýzaDat!$R216<>\"\")","v":""},{"$f":"IF(COUNTIF(S$8:S216,S216)=1,S216,\"\")","v":""},{"$f":"IFERROR(IF(LEN(AnalýzaDat!$S$8:$S$301)=0,\"\",COUNTIF(AnalýzaDat!$S$8:$S$301,S216)),\"\")","v":""},{"$f":"IFERROR(IF(LEN($U216)>0,LEFT(INDIRECT(\"AnalýzaDat!T\"&ROW(AnalýzaDat!$U216)+AnalýzaDat!$V216-1),LEN(INDIRECT(\"AnalýzaDat!T\"&ROW(AnalýzaDat!$U216)+AnalýzaDat!$V216-1))-2),\"\"),\"\")","v":""}]
[{"$nulls":7},{"$f":"IFERROR(INDEX('Hlavní seznam měrných jednotek'!$B$4:$K$30,1+INT((ROW(A210)-1)/COLUMNS('Hlavní seznam měrných jednotek'!$B$4:$K$30)),MOD(ROW(A210)-1+COLUMNS('Hlavní seznam měrných jednotek'!$B$4:$K$30),COLUMNS('Hlavní seznam měrných jednotek'!$B$4:$K$30))+1),\"\")","v":""},"",null,{"$f":"IFERROR(RANK(L217,AnalýzaDat!$L$8:$L$301)+SUMPRODUCT(--(L217=AnalýzaDat!$L$8:$L$301),--(O217<AnalýzaDat!$O$8:$O$301)),\"\")","v":""},{"$f":"IFERROR(IF(COUNTIF(AnalýzaDat!$I$8:$I$299,\"<=\"&AnalýzaDat!$I$8:$I$299)=0,\"\",COUNTIF(AnalýzaDat!$I$8:$I$299,\"<=\"&AnalýzaDat!$I$8:$I$299)),\"\")","v":""},{"$f":"IFERROR(IF(AND(poslední_položka-počáteční_řádek=0,LEN(INDEX(AnalýzaDat!$H$8:$I$299,1,1)=0)),\"\",IF(poslední_položka-počáteční_řádek=0,INDEX(AnalýzaDat!$H$8:$I$299,1,1),INDEX(AnalýzaDat!$H$8:$H$299,ROW(A210),1))),\"\")","v":""},{"$f":"IFERROR(IF(AND(poslední_položka-počáteční_řádek=0,ISBLANK(INDEX(AnalýzaDat!$I$8:$I$299,1,1))),\"\",IF(poslední_položka-počáteční_řádek=0,INDEX(AnalýzaDat!$I$8:$I$299,1,1),INDEX(AnalýzaDat!$I$8:$I$299,ROW(A210),1))),\"\")","v":""},85,null,{"$f":"IFERROR(AnalýzaDat!$O217,\"\")","v":85},{"$f":"IFERROR(VLOOKUP(AnalýzaDat!$Q$8:$Q$301,AnalýzaDat!$K$8:$N$301,3,FALSE),\"\")","v":""},{"$f":"IFERROR(VLOOKUP(AnalýzaDat!$Q$8:$Q$301,AnalýzaDat!$K$8:$N$301,4,FALSE),\"\")","v":""},{"$f":"IF(S217=S216,T216,\"\")&REPT(AnalýzaDat!$R217&\", \",AnalýzaDat!$R217<>\"\")","v":""},{"$f":"IF(COUNTIF(S$8:S217,S217)=1,S217,\"\")","v":""},{"$f":"IFERROR(IF(LEN(AnalýzaDat!$S$8:$S$301)=0,\"\",COUNTIF(AnalýzaDat!$S$8:$S$301,S217)),\"\")","v":""},{"$f":"IFERROR(IF(LEN($U217)>0,LEFT(INDIRECT(\"AnalýzaDat!T\"&ROW(AnalýzaDat!$U217)+AnalýzaDat!$V217-1),LEN(INDIRECT(\"AnalýzaDat!T\"&ROW(AnalýzaDat!$U217)+AnalýzaDat!$V217-1))-2),\"\"),\"\")","v":""}]
[{"$nulls":7},{"$f":"IFERROR(INDEX('Hlavní seznam měrných jednotek'!$B$4:$K$30,1+INT((ROW(A211)-1)/COLUMNS('Hlavní seznam měrných jednotek'!$B$4:$K$30)),MOD(ROW(A211)-1+COLUMNS('Hlavní seznam měrných jednotek'!$B$4:$K$30),COLUMNS('Hlavní seznam měrných jednotek'!$B$4:$K$30))+1),\"\")","v":" "},"",null,{"$f":"IFERROR(RANK(L218,AnalýzaDat!$L$8:$L$301)+SUMPRODUCT(--(L218=AnalýzaDat!$L$8:$L$301),--(O218<AnalýzaDat!$O$8:$O$301)),\"\")","v":""},{"$f":"IFERROR(IF(COUNTIF(AnalýzaDat!$I$8:$I$299,\"<=\"&AnalýzaDat!$I$8:$I$299)=0,\"\",COUNTIF(AnalýzaDat!$I$8:$I$299,\"<=\"&AnalýzaDat!$I$8:$I$299)),\"\")","v":""},{"$f":"IFERROR(IF(AND(poslední_položka-počáteční_řádek=0,LEN(INDEX(AnalýzaDat!$H$8:$I$299,1,1)=0)),\"\",IF(poslední_položka-počáteční_řádek=0,INDEX(AnalýzaDat!$H$8:$I$299,1,1),INDEX(AnalýzaDat!$H$8:$H$299,ROW(A211),1))),\"\")","v":" "},{"$f":"IFERROR(IF(AND(poslední_položka-počáteční_řádek=0,ISBLANK(INDEX(AnalýzaDat!$I$8:$I$299,1,1))),\"\",IF(poslední_položka-počáteční_řádek=0,INDEX(AnalýzaDat!$I$8:$I$299,1,1),INDEX(AnalýzaDat!$I$8:$I$299,ROW(A211),1))),\"\")","v":""},84,null,{"$f":"IFERROR(AnalýzaDat!$O218,\"\")","v":84},{"$f":"IFERROR(VLOOKUP(AnalýzaDat!$Q$8:$Q$301,AnalýzaDat!$K$8:$N$301,3,FALSE),\"\")","v":""},{"$f":"IFERROR(VLOOKUP(AnalýzaDat!$Q$8:$Q$301,AnalýzaDat!$K$8:$N$301,4,FALSE),\"\")","v":""},{"$f":"IF(S218=S217,T217,\"\")&REPT(AnalýzaDat!$R218&\", \",AnalýzaDat!$R218<>\"\")","v":""},{"$f":"IF(COUNTIF(S$8:S218,S218)=1,S218,\"\")","v":""},{"$f":"IFERROR(IF(LEN(AnalýzaDat!$S$8:$S$301)=0,\"\",COUNTIF(AnalýzaDat!$S$8:$S$301,S218)),\"\")","v":""},{"$f":"IFERROR(IF(LEN($U218)>0,LEFT(INDIRECT(\"AnalýzaDat!T\"&ROW(AnalýzaDat!$U218)+AnalýzaDat!$V218-1),LEN(INDIRECT(\"AnalýzaDat!T\"&ROW(AnalýzaDat!$U218)+AnalýzaDat!$V218-1))-2),\"\"),\"\")","v":""}]
[{"$nulls":7},{"$f":"IFERROR(INDEX('Hlavní seznam měrných jednotek'!$B$4:$K$30,1+INT((ROW(A212)-1)/COLUMNS('Hlavní seznam měrných jednotek'!$B$4:$K$30)),MOD(ROW(A212)-1+COLUMNS('Hlavní seznam měrných jednotek'!$B$4:$K$30),COLUMNS('Hlavní seznam měrných jednotek'!$B$4:$K$30))+1),\"\")","v":" "},"",null,{"$f":"IFERROR(RANK(L219,AnalýzaDat!$L$8:$L$301)+SUMPRODUCT(--(L219=AnalýzaDat!$L$8:$L$301),--(O219<AnalýzaDat!$O$8:$O$301)),\"\")","v":""},{"$f":"IFERROR(IF(COUNTIF(AnalýzaDat!$I$8:$I$299,\"<=\"&AnalýzaDat!$I$8:$I$299)=0,\"\",COUNTIF(AnalýzaDat!$I$8:$I$299,\"<=\"&AnalýzaDat!$I$8:$I$299)),\"\")","v":""},{"$f":"IFERROR(IF(AND(poslední_položka-počáteční_řádek=0,LEN(INDEX(AnalýzaDat!$H$8:$I$299,1,1)=0)),\"\",IF(poslední_položka-počáteční_řádek=0,INDEX(AnalýzaDat!$H$8:$I$299,1,1),INDEX(AnalýzaDat!$H$8:$H$299,ROW(A212),1))),\"\")","v":" "},{"$f":"IFERROR(IF(AND(poslední_položka-počáteční_řádek=0,ISBLANK(INDEX(AnalýzaDat!$I$8:$I$299,1,1))),\"\",IF(poslední_položka-počáteční_řádek=0,INDEX(AnalýzaDat!$I$8:$I$299,1,1),INDEX(AnalýzaDat!$I$8:$I$299,ROW(A212),1))),\"\")","v":""},83,null,{"$f":"IFERROR(AnalýzaDat!$O219,\"\")","v":83},{"$f":"IFERROR(VLOOKUP(AnalýzaDat!$Q$8:$Q$301,AnalýzaDat!$K$8:$N$301,3,FALSE),\"\")","v":""},{"$f":"IFERROR(VLOOKUP(AnalýzaDat!$Q$8:$Q$301,AnalýzaDat!$K$8:$N$301,4,FALSE),\"\")","v":""},{"$f":"IF(S219=S218,T218,\"\")&REPT(AnalýzaDat!$R219&\", \",AnalýzaDat!$R219<>\"\")","v":""},{"$f":"IF(COUNTIF(S$8:S219,S219)=1,S219,\"\")","v":""},{"$f":"IFERROR(IF(LEN(AnalýzaDat!$S$8:$S$301)=0,\"\",COUNTIF(AnalýzaDat!$S$8:$S$301,S219)),\"\")","v":""},{"$f":"IFERROR(IF(LEN($U219)>0,LEFT(INDIRECT(\"AnalýzaDat!T\"&ROW(AnalýzaDat!$U219)+AnalýzaDat!$V219-1),LEN(INDIRECT(\"AnalýzaDat!T\"&ROW(AnalýzaDat!$U219)+AnalýzaDat!$V219-1))-2),\"\"),\"\")","v":""}]
[{"$nulls":7},{"$f":"IFERROR(INDEX('Hlavní seznam měrných jednotek'!$B$4:$K$30,1+INT((ROW(A213)-1)/COLUMNS('Hlavní seznam měrných jednotek'!$B$4:$K$30)),MOD(ROW(A213)-1+COLUMNS('Hlavní seznam měrných jednotek'!$B$4:$K$30),COLUMNS('Hlavní seznam měrných jednotek'!$B$4:$K$30))+1),\"\")","v":""},"",null,{"$f":"IFERROR(RANK(L220,AnalýzaDat!$L$8:$L$301)+SUMPRODUCT(--(L220=AnalýzaDat!$L$8:$L$301),--(O220<AnalýzaDat!$O$8:$O$301)),\"\")","v":""},{"$f":"IFERROR(IF(COUNTIF(AnalýzaDat!$I$8:$I$299,\"<=\"&AnalýzaDat!$I$8:$I$299)=0,\"\",COUNTIF(AnalýzaDat!$I$8:$I$299,\"<=\"&AnalýzaDat!$I$8:$I$299)),\"\")","v":""},{"$f":"IFERROR(IF(AND(poslední_položka-počáteční_řádek=0,LEN(INDEX(AnalýzaDat!$H$8:$I$299,1,1)=0)),\"\",IF(poslední_položka-počáteční_řádek=0,INDEX(AnalýzaDat!$H$8:$I$299,1,1),INDEX(AnalýzaDat!$H$8:$H$299,ROW(A213),1))),\"\")","v":""},{"$f":"IFERROR(IF(AND(poslední_položka-počáteční_řádek=0,ISBLANK(INDEX(AnalýzaDat!$I$8:$I$299,1,1))),\"\",IF(poslední_položka-počáteční_řádek=0,INDEX(AnalýzaDat!$I$8:$I$299,1,1),INDEX(AnalýzaDat!$I$8:$I$299,ROW(A213),1))),\"\")","v":""},82,null,{"$f":"IFERROR(AnalýzaDat!$O220,\"\")","v":82},{"$f":"IFERROR(VLOOKUP(AnalýzaDat!$Q$8:$Q$301,AnalýzaDat!$K$8:$N$301,3,FALSE),\"\")","v":""},{"$f":"IFERROR(VLOOKUP(AnalýzaDat!$Q$8:$Q$301,AnalýzaDat!$K$8:$N$301,4,FALSE),\"\")","v":""},{"$f":"IF(S220=S219,T219,\"\")&REPT(AnalýzaDat!$R220&\", \",AnalýzaDat!$R220<>\"\")","v":""},{"$f":"IF(COUNTIF(S$8:S220,S220)=1,S220,\"\")","v":""},{"$f":"IFERROR(IF(LEN(AnalýzaDat!$S$8:$S$301)=0,\"\",COUNTIF(AnalýzaDat!$S$8:$S$301,S220)),\"\")","v":""},{"$f":"IFERROR(IF(LEN($U220)>0,LEFT(INDIRECT(\"AnalýzaDat!T\"&ROW(AnalýzaDat!$U220)+AnalýzaDat!$V220-1),LEN(INDIRECT(\"AnalýzaDat!T\"&ROW(AnalýzaDat!$U220)+AnalýzaDat!$V220-1))-2),\"\"),\"\")","v":""}]
[{"$nulls":7},{"$f":"IFERROR(INDEX('Hlavní seznam měrných jednotek'!$B$4:$K$30,1+INT((ROW(A214)-1)/COLUMNS('Hlavní seznam měrných jednotek'!$B$4:$K$30)),MOD(ROW(A214)-1+COLUMNS('Hlavní seznam měrných jednotek'!$B$4:$K$30),COLUMNS('Hlavní seznam měrných jednotek'!$B$4:$K$30))+1),\"\")","v":""},"",null,{"$f":"IFERROR(RANK(L221,AnalýzaDat!$L$8:$L$301)+SUMPRODUCT(--(L221=AnalýzaDat!$L$8:$L$301),--(O221<AnalýzaDat!$O$8:$O$301)),\"\")","v":""},{"$f":"IFERROR(IF(COUNTIF(AnalýzaDat!$I$8:$I$299,\"<=\"&AnalýzaDat!$I$8:$I$299)=0,\"\",COUNTIF(AnalýzaDat!$I$8:$I$299,\"<=\"&AnalýzaDat!$I$8:$I$299)),\"\")","v":""},{"$f":"IFERROR(IF(AND(poslední_položka-počáteční_řádek=0,LEN(INDEX(AnalýzaDat!$H$8:$I$299,1,1)=0)),\"\",IF(poslední_položka-počáteční_řádek=0,INDEX(AnalýzaDat!$H$8:$I$299,1,1),INDEX(AnalýzaDat!$H$8:$H$299,ROW(A214),1))),\"\")","v":""},{"$f":"IFERROR(IF(AND(poslední_položka-počáteční_řádek=0,ISBLANK(INDEX(AnalýzaDat!$I$8:$I$299,1,1))),\"\",IF(poslední_položka-počáteční_řádek=0,INDEX(AnalýzaDat!$I$8:$I$299,1,1),INDEX(AnalýzaDat!$I$8:$I$299,ROW(A214),1))),\"\")","v":""},81,null,{"$f":"IFERROR(AnalýzaDat!$O221,\"\")","v":81},{"$f":"IFERROR(VLOOKUP(AnalýzaDat!$Q$8:$Q$301,AnalýzaDat!$K$8:$N$301,3,FALSE),\"\")","v":""},{"$f":"IFERROR(VLOOKUP(AnalýzaDat!$Q$8:$Q$301,AnalýzaDat!$K$8:$N$301,4,FALSE),\"\")","v":""},{"$f":"IF(S221=S220,T220,\"\")&REPT(AnalýzaDat!$R221&\", \",AnalýzaDat!$R221<>\"\")","v":""},{"$f":"IF(COUNTIF(S$8:S221,S221)=1,S221,\"\")","v":""},{"$f":"IFERROR(IF(LEN(AnalýzaDat!$S$8:$S$301)=0,\"\",COUNTIF(AnalýzaDat!$S$8:$S$301,S221)),\"\")","v":""},{"$f":"IFERROR(IF(LEN($U221)>0,LEFT(INDIRECT(\"AnalýzaDat!T\"&ROW(AnalýzaDat!$U221)+AnalýzaDat!$V221-1),LEN(INDIRECT(\"AnalýzaDat!T\"&ROW(AnalýzaDat!$U221)+AnalýzaDat!$V221-1))-2),\"\"),\"\")","v":""}]
[{"$nulls":7},{"$f":"IFERROR(INDEX('Hlavní seznam měrných jednotek'!$B$4:$K$30,1+INT((ROW(A215)-1)/COLUMNS('Hlavní seznam měrných jednotek'!$B$4:$K$30)),MOD(ROW(A215)-1+COLUMNS('Hlavní seznam měrných jednotek'!$B$4:$K$30),COLUMNS('Hlavní seznam měrných jednotek'!$B$4:$K$30))+1),\"\")","v":""},"",null,{"$f":"IFERROR(RANK(L222,AnalýzaDat!$L$8:$L$301)+SUMPRODUCT(--(L222=AnalýzaDat!$L$8:$L$301),--(O222<AnalýzaDat!$O$8:$O$301)),\"\")","v":""},{"$f":"IFERROR(IF(COUNTIF(AnalýzaDat!$I$8:$I$299,\"<=\"&AnalýzaDat!$I$8:$I$299)=0,\"\",COUNTIF(AnalýzaDat!$I$8:$I$299,\"<=\"&AnalýzaDat!$I$8:$I$299)),\"\")","v":""},{"$f":"IFERROR(IF(AND(poslední_položka-počáteční_řádek=0,LEN(INDEX(AnalýzaDat!$H$8:$I$299,1,1)=0)),\"\",IF(poslední_položka-počáteční_řádek=0,INDEX(AnalýzaDat!$H$8:$I$299,1,1),INDEX(AnalýzaDat!$H$8:$H$299,ROW(A215),1))),\"\")","v":""},{"$f":"IFERROR(IF(AND(poslední_položka-počáteční_řádek=0,ISBLANK(INDEX(AnalýzaDat!$I$8:$I$299,1,1))),\"\",IF(poslední_položka-počáteční_řádek=0,INDEX(AnalýzaDat!$I$8:$I$299,1,1),INDEX(AnalýzaDat!$I$8:$I$299,ROW(A215),1))),\"\")","v":""},80,null,{"$f":"IFERROR(AnalýzaDat!$O222,\"\")","v":80},{"$f":"IFERROR(VLOOKUP(AnalýzaDat!$Q$8:$Q$301,AnalýzaDat!$K$8:$N$301,3,FALSE),\"\")","v":""},{"$f":"IFERROR(VLOOKUP(AnalýzaDat!$Q$8:$Q$301,AnalýzaDat!$K$8:$N$301,4,FALSE),\"\")","v":""},{"$f":"IF(S222=S221,T221,\"\")&REPT(AnalýzaDat!$R222&\", \",AnalýzaDat!$R222<>\"\")","v":""},{"$f":"IF(COUNTIF(S$8:S222,S222)=1,S222,\"\")","v":""},{"$f":"IFERROR(IF(LEN(AnalýzaDat!$S$8:$S$301)=0,\"\",COUNTIF(AnalýzaDat!$S$8:$S$301,S222)),\"\")","v":""},{"$f":"IFERROR(IF(LEN($U222)>0,LEFT(INDIRECT(\"AnalýzaDat!T\"&ROW(AnalýzaDat!$U222)+AnalýzaDat!$V222-1),LEN(INDIRECT(\"AnalýzaDat!T\"&ROW(AnalýzaDat!$U222)+AnalýzaDat!$V222-1))-2),\"\"),\"\")","v":""}]
[{"$nulls":7},{"$f":"IFERROR(INDEX('Hlavní seznam měrných jednotek'!$B$4:$K$30,1+INT((ROW(A216)-1)/COLUMNS('Hlavní seznam měrných jednotek'!$B$4:$K$30)),MOD(ROW(A216)-1+COLUMNS('Hlavní seznam měrných jednotek'!$B$4:$K$30),COLUMNS('Hlavní seznam měrných jednotek'!$B$4:$K$30))+1),\"\")","v":""},"",null,{"$f":"IFERROR(RANK(L223,AnalýzaDat!$L$8:$L$301)+SUMPRODUCT(--(L223=AnalýzaDat!$L$8:$L$301),--(O223<AnalýzaDat!$O$8:$O$301)),\"\")","v":""},{"$f":"IFERROR(IF(COUNTIF(AnalýzaDat!$I$8:$I$299,\"<=\"&AnalýzaDat!$I$8:$I$299)=0,\"\",COUNTIF(AnalýzaDat!$I$8:$I$299,\"<=\"&AnalýzaDat!$I$8:$I$299)),\"\")","v":""},{"$f":"IFERROR(IF(AND(poslední_položka-počáteční_řádek=0,LEN(INDEX(AnalýzaDat!$H$8:$I$299,1,1)=0)),\"\",IF(poslední_položka-počáteční_řádek=0,INDEX(AnalýzaDat!$H$8:$I$299,1,1),INDEX(AnalýzaDat!$H$8:$H$299,ROW(A216),1))),\"\")","v":""},{"$f":"IFERROR(IF(AND(poslední_položka-počáteční_řádek=0,ISBLANK(INDEX(AnalýzaDat!$I$8:$I$299,1,1))),\"\",IF(poslední_položka-počáteční_řádek=0,INDEX(AnalýzaDat!$I$8:$I$299,1,1),INDEX(AnalýzaDat!$I$8:$I$299,ROW(A216),1))),\"\")","v":""},79,null,{"$f":"IFERROR(AnalýzaDat!$O223,\"\")","v":79},{"$f":"IFERROR(VLOOKUP(AnalýzaDat!$Q$8:$Q$301,AnalýzaDat!$K$8:$N$301,3,FALSE),\"\")","v":""},{"$f":"IFERROR(VLOOKUP(AnalýzaDat!$Q$8:$Q$301,AnalýzaDat!$K$8:$N$301,4,FALSE),\"\")","v":""},{"$f":"IF(S223=S222,T222,\"\")&REPT(AnalýzaDat!$R223&\", \",AnalýzaDat!$R223<>\"\")","v":""},{"$f":"IF(COUNTIF(S$8:S223,S223)=1,S223,\"\")","v":""},{"$f":"IFERROR(IF(LEN(AnalýzaDat!$S$8:$S$301)=0,\"\",COUNTIF(AnalýzaDat!$S$8:$S$301,S223)),\"\")","v":""},{"$f":"IFERROR(IF(LEN($U223)>0,LEFT(INDIRECT(\"AnalýzaDat!T\"&ROW(AnalýzaDat!$U223)+AnalýzaDat!$V223-1),LEN(INDIRECT(\"AnalýzaDat!T\"&ROW(AnalýzaDat!$U223)+AnalýzaDat!$V223-1))-2),\"\"),\"\")","v":""}]
[{"$nulls":7},{"$f":"IFERROR(INDEX('Hlavní seznam měrných jednotek'!$B$4:$K$30,1+INT((ROW(A217)-1)/COLUMNS('Hlavní seznam měrných jednotek'!$B$4:$K$30)),MOD(ROW(A217)-1+COLUMNS('Hlavní seznam měrných jednotek'!$B$4:$K$30),COLUMNS('Hlavní seznam měrných jednotek'!$B$4:$K$30))+1),\"\")","v":""},"",null,{"$f":"IFERROR(RANK(L224,AnalýzaDat!$L$8:$L$301)+SUMPRODUCT(--(L224=AnalýzaDat!$L$8:$L$301),--(O224<AnalýzaDat!$O$8:$O$301)),\"\")","v":""},{"$f":"IFERROR(IF(COUNTIF(AnalýzaDat!$I$8:$I$299,\"<=\"&AnalýzaDat!$I$8:$I$299)=0,\"\",COUNTIF(AnalýzaDat!$I$8:$I$299,\"<=\"&AnalýzaDat!$I$8:$I$299)),\"\")","v":""},{"$f":"IFERROR(IF(AND(poslední_položka-počáteční_řádek=0,LEN(INDEX(AnalýzaDat!$H$8:$I$299,1,1)=0)),\"\",IF(poslední_položka-počáteční_řádek=0,INDEX(AnalýzaDat!$H$8:$I$299,1,1),INDEX(AnalýzaDat!$H$8:$H$299,ROW(A217),1))),\"\")","v":""},{"$f":"IFERROR(IF(AND(poslední_položka-počáteční_řádek=0,ISBLANK(INDEX(AnalýzaDat!$I$8:$I$299,1,1))),\"\",IF(poslední_položka-počáteční_řádek=0,INDEX(AnalýzaDat!$I$8:$I$299,1,1),INDEX(AnalýzaDat!$I$8:$I$299,ROW(A217),1))),\"\")","v":""},78,null,{"$f":"IFERROR(AnalýzaDat!$O224,\"\")","v":78},{"$f":"IFERROR(VLOOKUP(AnalýzaDat!$Q$8:$Q$301,AnalýzaDat!$K$8:$N$301,3,FALSE),\"\")","v":""},{"$f":"IFERROR(VLOOKUP(AnalýzaDat!$Q$8:$Q$301,AnalýzaDat!$K$8:$N$301,4,FALSE),\"\")","v":""},{"$f":"IF(S224=S223,T223,\"\")&REPT(AnalýzaDat!$R224&\", \",AnalýzaDat!$R224<>\"\")","v":""},{"$f":"IF(COUNTIF(S$8:S224,S224)=1,S224,\"\")","v":""},{"$f":"IFERROR(IF(LEN(AnalýzaDat!$S$8:$S$301)=0,\"\",COUNTIF(AnalýzaDat!$S$8:$S$301,S224)),\"\")","v":""},{"$f":"IFERROR(IF(LEN($U224)>0,LEFT(INDIRECT(\"AnalýzaDat!T\"&ROW(AnalýzaDat!$U224)+AnalýzaDat!$V224-1),LEN(INDIRECT(\"AnalýzaDat!T\"&ROW(AnalýzaDat!$U224)+AnalýzaDat!$V224-1))-2),\"\"),\"\")","v":""}]
[{"$nulls":7},{"$f":"IFERROR(INDEX('Hlavní seznam měrných jednotek'!$B$4:$K$30,1+INT((ROW(A218)-1)/COLUMNS('Hlavní seznam měrných jednotek'!$B$4:$K$30)),MOD(ROW(A218)-1+COLUMNS('Hlavní seznam měrných jednotek'!$B$4:$K$30),COLUMNS('Hlavní seznam měrných jednotek'!$B$4:$K$30))+1),\"\")","v":""},"",null,{"$f":"IFERROR(RANK(L225,AnalýzaDat!$L$8:$L$301)+SUMPRODUCT(--(L225=AnalýzaDat!$L$8:$L$301),--(O225<AnalýzaDat!$O$8:$O$301)),\"\")","v":""},{"$f":"IFERROR(IF(COUNTIF(AnalýzaDat!$I$8:$I$299,\"<=\"&AnalýzaDat!$I$8:$I$299)=0,\"\",COUNTIF(AnalýzaDat!$I$8:$I$299,\"<=\"&AnalýzaDat!$I$8:$I$299)),\"\")","v":""},{"$f":"IFERROR(IF(AND(poslední_položka-počáteční_řádek=0,LEN(INDEX(AnalýzaDat!$H$8:$I$299,1,1)=0)),\"\",IF(poslední_položka-počáteční_řádek=0,INDEX(AnalýzaDat!$H$8:$I$299,1,1),INDEX(AnalýzaDat!$H$8:$H$299,ROW(A218),1))),\"\")","v":""},{"$f":"IFERROR(IF(AND(poslední_položka-počáteční_řádek=0,ISBLANK(INDEX(AnalýzaDat!$I$8:$I$299,1,1))),\"\",IF(poslední_položka-počáteční_řádek=0,INDEX(AnalýzaDat!$I$8:$I$299,1,1),INDEX(AnalýzaDat!$I$8:$I$299,ROW(A218),1))),\"\")","v":""},77,null,{"$f":"IFERROR(AnalýzaDat!$O225,\"\")","v":77},{"$f":"IFERROR(VLOOKUP(AnalýzaDat!$Q$8:$Q$301,AnalýzaDat!$K$8:$N$301,3,FALSE),\"\")","v":""},{"$f":"IFERROR(VLOOKUP(AnalýzaDat!$Q$8:$Q$301,AnalýzaDat!$K$8:$N$301,4,FALSE),\"\")","v":""},{"$f":"IF(S225=S224,T224,\"\")&REPT(AnalýzaDat!$R225&\", \",AnalýzaDat!$R225<>\"\")","v":""},{"$f":"IF(COUNTIF(S$8:S225,S225)=1,S225,\"\")","v":""},{"$f":"IFERROR(IF(LEN(AnalýzaDat!$S$8:$S$301)=0,\"\",COUNTIF(AnalýzaDat!$S$8:$S$301,S225)),\"\")","v":""},{"$f":"IFERROR(IF(LEN($U225)>0,LEFT(INDIRECT(\"AnalýzaDat!T\"&ROW(AnalýzaDat!$U225)+AnalýzaDat!$V225-1),LEN(INDIRECT(\"AnalýzaDat!T\"&ROW(AnalýzaDat!$U225)+AnalýzaDat!$V225-1))-2),\"\"),\"\")","v":""}]
[{"$nulls":7},{"$f":"IFERROR(INDEX('Hlavní seznam měrných jednotek'!$B$4:$K$30,1+INT((ROW(A219)-1)/COLUMNS('Hlavní seznam měrných jednotek'!$B$4:$K$30)),MOD(ROW(A219)-1+COLUMNS('Hlavní seznam měrných jednotek'!$B$4:$K$30),COLUMNS('Hlavní seznam měrných jednotek'!$B$4:$K$30))+1),\"\")","v":""},"",null,{"$f":"IFERROR(RANK(L226,AnalýzaDat!$L$8:$L$301)+SUMPRODUCT(--(L226=AnalýzaDat!$L$8:$L$301),--(O226<AnalýzaDat!$O$8:$O$301)),\"\")","v":""},{"$f":"IFERROR(IF(COUNTIF(AnalýzaDat!$I$8:$I$299,\"<=\"&AnalýzaDat!$I$8:$I$299)=0,\"\",COUNTIF(AnalýzaDat!$I$8:$I$299,\"<=\"&AnalýzaDat!$I$8:$I$299)),\"\")","v":""},{"$f":"IFERROR(IF(AND(poslední_položka-počáteční_řádek=0,LEN(INDEX(AnalýzaDat!$H$8:$I$299,1,1)=0)),\"\",IF(poslední_položka-počáteční_řádek=0,INDEX(AnalýzaDat!$H$8:$I$299,1,1),INDEX(AnalýzaDat!$H$8:$H$299,ROW(A219),1))),\"\")","v":""},{"$f":"IFERROR(IF(AND(poslední_položka-počáteční_řádek=0,ISBLANK(INDEX(AnalýzaDat!$I$8:$I$299,1,1))),\"\",IF(poslední_položka-počáteční_řádek=0,INDEX(AnalýzaDat!$I$8:$I$299,1,1),INDEX(AnalýzaDat!$I$8:$I$299,ROW(A219),1))),\"\")","v":""},76,null,{"$f":"IFERROR(AnalýzaDat!$O226,\"\")","v":76},{"$f":"IFERROR(VLOOKUP(AnalýzaDat!$Q$8:$Q$301,AnalýzaDat!$K$8:$N$301,3,FALSE),\"\")","v":""},{"$f":"IFERROR(VLOOKUP(AnalýzaDat!$Q$8:$Q$301,AnalýzaDat!$K$8:$N$301,4,FALSE),\"\")","v":""},{"$f":"IF(S226=S225,T225,\"\")&REPT(AnalýzaDat!$R226&\", \",AnalýzaDat!$R226<>\"\")","v":""},{"$f":"IF(COUNTIF(S$8:S226,S226)=1,S226,\"\")","v":""},{"$f":"IFERROR(IF(LEN(AnalýzaDat!$S$8:$S$301)=0,\"\",COUNTIF(AnalýzaDat!$S$8:$S$301,S226)),\"\")","v":""},{"$f":"IFERROR(IF(LEN($U226)>0,LEFT(INDIRECT(\"AnalýzaDat!T\"&ROW(AnalýzaDat!$U226)+AnalýzaDat!$V226-1),LEN(INDIRECT(\"AnalýzaDat!T\"&ROW(AnalýzaDat!$U226)+AnalýzaDat!$V226-1))-2),\"\"),\"\")","v":""}]
[{"$nulls":7},{"$f":"IFERROR(INDEX('Hlavní seznam měrných jednotek'!$B$4:$K$30,1+INT((ROW(A220)-1)/COLUMNS('Hlavní seznam měrných jednotek'!$B$4:$K$30)),MOD(ROW(A220)-1+COLUMNS('Hlavní seznam měrných jednotek'!$B$4:$K$30),COLUMNS('Hlavní seznam měrných jednotek'!$B$4:$K$30))+1),\"\")","v":""},"",null,{"$f":"IFERROR(RANK(L227,AnalýzaDat!$L$8:$L$301)+SUMPRODUCT(--(L227=AnalýzaDat!$L$8:$L$301),--(O227<AnalýzaDat!$O$8:$O$301)),\"\")","v":""},{"$f":"IFERROR(IF(COUNTIF(AnalýzaDat!$I$8:$I$299,\"<=\"&AnalýzaDat!$I$8:$I$299)=0,\"\",COUNTIF(AnalýzaDat!$I$8:$I$299,\"<=\"&AnalýzaDat!$I$8:$I$299)),\"\")","v":""},{"$f":"IFERROR(IF(AND(poslední_položka-počáteční_řádek=0,LEN(INDEX(AnalýzaDat!$H$8:$I$299,1,1)=0)),\"\",IF(poslední_položka-počáteční_řádek=0,INDEX(AnalýzaDat!$H$8:$I$299,1,1),INDEX(AnalýzaDat!$H$8:$H$299,ROW(A220),1))),\"\")","v":""},{"$f":"IFERROR(IF(AND(poslední_položka-počáteční_řádek=0,ISBLANK(INDEX(AnalýzaDat!$I$8:$I$299,1,1))),\"\",IF(poslední_položka-počáteční_řádek=0,INDEX(AnalýzaDat!$I$8:$I$299,1,1),INDEX(AnalýzaDat!$I$8:$I$299,ROW(A220),1))),\"\")","v":""},75,null,{"$f":"IFERROR(AnalýzaDat!$O227,\"\")","v":75},{"$f":"IFERROR(VLOOKUP(AnalýzaDat!$Q$8:$Q$301,AnalýzaDat!$K$8:$N$301,3,FALSE),\"\")","v":""},{"$f":"IFERROR(VLOOKUP(AnalýzaDat!$Q$8:$Q$301,AnalýzaDat!$K$8:$N$301,4,FALSE),\"\")","v":""},{"$f":"IF(S227=S226,T226,\"\")&REPT(AnalýzaDat!$R227&\", \",AnalýzaDat!$R227<>\"\")","v":""},{"$f":"IF(COUNTIF(S$8:S227,S227)=1,S227,\"\")","v":""},{"$f":"IFERROR(IF(LEN(AnalýzaDat!$S$8:$S$301)=0,\"\",COUNTIF(AnalýzaDat!$S$8:$S$301,S227)),\"\")","v":""},{"$f":"IFERROR(IF(LEN($U227)>0,LEFT(INDIRECT(\"AnalýzaDat!T\"&ROW(AnalýzaDat!$U227)+AnalýzaDat!$V227-1),LEN(INDIRECT(\"AnalýzaDat!T\"&ROW(AnalýzaDat!$U227)+AnalýzaDat!$V227-1))-2),\"\"),\"\")","v":""}]
[{"$nulls":7},{"$f":"IFERROR(INDEX('Hlavní seznam měrných jednotek'!$B$4:$K$30,1+INT((ROW(A221)-1)/COLUMNS('Hlavní seznam měrných jednotek'!$B$4:$K$30)),MOD(ROW(A221)-1+COLUMNS('Hlavní seznam měrných jednotek'!$B$4:$K$30),COLUMNS('Hlavní seznam měrných jednotek'!$B$4:$K$30))+1),\"\")","v":" "},"",null,{"$f":"IFERROR(RANK(L228,AnalýzaDat!$L$8:$L$301)+SUMPRODUCT(--(L228=AnalýzaDat!$L$8:$L$301),--(O228<AnalýzaDat!$O$8:$O$301)),\"\")","v":""},{"$f":"IFERROR(IF(COUNTIF(AnalýzaDat!$I$8:$I$299,\"<=\"&AnalýzaDat!$I$8:$I$299)=0,\"\",COUNTIF(AnalýzaDat!$I$8:$I$299,\"<=\"&AnalýzaDat!$I$8:$I$299)),\"\")","v":""},{"$f":"IFERROR(IF(AND(poslední_položka-počáteční_řádek=0,LEN(INDEX(AnalýzaDat!$H$8:$I$299,1,1)=0)),\"\",IF(poslední_položka-počáteční_řádek=0,INDEX(AnalýzaDat!$H$8:$I$299,1,1),INDEX(AnalýzaDat!$H$8:$H$299,ROW(A221),1))),\"\")","v":" "},{"$f":"IFERROR(IF(AND(poslední_položka-počáteční_řádek=0,ISBLANK(INDEX(AnalýzaDat!$I$8:$I$299,1,1))),\"\",IF(poslední_položka-počáteční_řádek=0,INDEX(AnalýzaDat!$I$8:$I$299,1,1),INDEX(AnalýzaDat!$I$8:$I$299,ROW(A221),1))),\"\")","v":""},74,null,{"$f":"IFERROR(AnalýzaDat!$O228,\"\")","v":74},{"$f":"IFERROR(VLOOKUP(AnalýzaDat!$Q$8:$Q$301,AnalýzaDat!$K$8:$N$301,3,FALSE),\"\")","v":""},{"$f":"IFERROR(VLOOKUP(AnalýzaDat!$Q$8:$Q$301,AnalýzaDat!$K$8:$N$301,4,FALSE),\"\")","v":""},{"$f":"IF(S228=S227,T227,\"\")&REPT(AnalýzaDat!$R228&\", \",AnalýzaDat!$R228<>\"\")","v":""},{"$f":"IF(COUNTIF(S$8:S228,S228)=1,S228,\"\")","v":""},{"$f":"IFERROR(IF(LEN(AnalýzaDat!$S$8:$S$301)=0,\"\",COUNTIF(AnalýzaDat!$S$8:$S$301,S228)),\"\")","v":""},{"$f":"IFERROR(IF(LEN($U228)>0,LEFT(INDIRECT(\"AnalýzaDat!T\"&ROW(AnalýzaDat!$U228)+AnalýzaDat!$V228-1),LEN(INDIRECT(\"AnalýzaDat!T\"&ROW(AnalýzaDat!$U228)+AnalýzaDat!$V228-1))-2),\"\"),\"\")","v":""}]
[{"$nulls":7},{"$f":"IFERROR(INDEX('Hlavní seznam měrných jednotek'!$B$4:$K$30,1+INT((ROW(A222)-1)/COLUMNS('Hlavní seznam měrných jednotek'!$B$4:$K$30)),MOD(ROW(A222)-1+COLUMNS('Hlavní seznam měrných jednotek'!$B$4:$K$30),COLUMNS('Hlavní seznam měrných jednotek'!$B$4:$K$30))+1),\"\")","v":" "},"",null,{"$f":"IFERROR(RANK(L229,AnalýzaDat!$L$8:$L$301)+SUMPRODUCT(--(L229=AnalýzaDat!$L$8:$L$301),--(O229<AnalýzaDat!$O$8:$O$301)),\"\")","v":""},{"$f":"IFERROR(IF(COUNTIF(AnalýzaDat!$I$8:$I$299,\"<=\"&AnalýzaDat!$I$8:$I$299)=0,\"\",COUNTIF(AnalýzaDat!$I$8:$I$299,\"<=\"&AnalýzaDat!$I$8:$I$299)),\"\")","v":""},{"$f":"IFERROR(IF(AND(poslední_položka-počáteční_řádek=0,LEN(INDEX(AnalýzaDat!$H$8:$I$299,1,1)=0)),\"\",IF(poslední_položka-počáteční_řádek=0,INDEX(AnalýzaDat!$H$8:$I$299,1,1),INDEX(AnalýzaDat!$H$8:$H$299,ROW(A222),1))),\"\")","v":" "},{"$f":"IFERROR(IF(AND(poslední_položka-počáteční_řádek=0,ISBLANK(INDEX(AnalýzaDat!$I$8:$I$299,1,1))),\"\",IF(poslední_položka-počáteční_řádek=0,INDEX(AnalýzaDat!$I$8:$I$299,1,1),INDEX(AnalýzaDat!$I$8:$I$299,ROW(A222),1))),\"\")","v":""},73,null,{"$f":"IFERROR(AnalýzaDat!$O229,\"\")","v":73},{"$f":"IFERROR(VLOOKUP(AnalýzaDat!$Q$8:$Q$301,AnalýzaDat!$K$8:$N$301,3,FALSE),\"\")","v":""},{"$f":"IFERROR(VLOOKUP(AnalýzaDat!$Q$8:$Q$301,AnalýzaDat!$K$8:$N$301,4,FALSE),\"\")","v":""},{"$f":"IF(S229=S228,T228,\"\")&REPT(AnalýzaDat!$R229&\", \",AnalýzaDat!$R229<>\"\")","v":""},{"$f":"IF(COUNTIF(S$8:S229,S229)=1,S229,\"\")","v":""},{"$f":"IFERROR(IF(LEN(AnalýzaDat!$S$8:$S$301)=0,\"\",COUNTIF(AnalýzaDat!$S$8:$S$301,S229)),\"\")","v":""},{"$f":"IFERROR(IF(LEN($U229)>0,LEFT(INDIRECT(\"AnalýzaDat!T\"&ROW(AnalýzaDat!$U229)+AnalýzaDat!$V229-1),LEN(INDIRECT(\"AnalýzaDat!T\"&ROW(AnalýzaDat!$U229)+AnalýzaDat!$V229-1))-2),\"\"),\"\")","v":""}]
[{"$nulls":7},{"$f":"IFERROR(INDEX('Hlavní seznam měrných jednotek'!$B$4:$K$30,1+INT((ROW(A223)-1)/COLUMNS('Hlavní seznam měrných jednotek'!$B$4:$K$30)),MOD(ROW(A223)-1+COLUMNS('Hlavní seznam měrných jednotek'!$B$4:$K$30),COLUMNS('Hlavní seznam měrných jednotek'!$B$4:$K$30))+1),\"\")","v":""},"",null,{"$f":"IFERROR(RANK(L230,AnalýzaDat!$L$8:$L$301)+SUMPRODUCT(--(L230=AnalýzaDat!$L$8:$L$301),--(O230<AnalýzaDat!$O$8:$O$301)),\"\")","v":""},{"$f":"IFERROR(IF(COUNTIF(AnalýzaDat!$I$8:$I$299,\"<=\"&AnalýzaDat!$I$8:$I$299)=0,\"\",COUNTIF(AnalýzaDat!$I$8:$I$299,\"<=\"&AnalýzaDat!$I$8:$I$299)),\"\")","v":""},{"$f":"IFERROR(IF(AND(poslední_položka-počáteční_řádek=0,LEN(INDEX(AnalýzaDat!$H$8:$I$299,1,1)=0)),\"\",IF(poslední_položka-počáteční_řádek=0,INDEX(AnalýzaDat!$H$8:$I$299,1,1),INDEX(AnalýzaDat!$H$8:$H$299,ROW(A223),1))),\"\")","v":""},{"$f":"IFERROR(IF(AND(poslední_položka-počáteční_řádek=0,ISBLANK(INDEX(AnalýzaDat!$I$8:$I$299,1,1))),\"\",IF(poslední_položka-počáteční_řádek=0,INDEX(AnalýzaDat!$I$8:$I$299,1,1),INDEX(AnalýzaDat!$I$8:$I$299,ROW(A223),1))),\"\")","v":""},72,null,{"$f":"IFERROR(AnalýzaDat!$O230,\"\")","v":72},{"$f":"IFERROR(VLOOKUP(AnalýzaDat!$Q$8:$Q$301,AnalýzaDat!$K$8:$N$301,3,FALSE),\"\")","v":""},{"$f":"IFERROR(VLOOKUP(AnalýzaDat!$Q$8:$Q$301,AnalýzaDat!$K$8:$N$301,4,FALSE),\"\")","v":""},{"$f":"IF(S230=S229,T229,\"\")&REPT(AnalýzaDat!$R230&\", \",AnalýzaDat!$R230<>\"\")","v":""},{"$f":"IF(COUNTIF(S$8:S230,S230)=1,S230,\"\")","v":""},{"$f":"IFERROR(IF(LEN(AnalýzaDat!$S$8:$S$301)=0,\"\",COUNTIF(AnalýzaDat!$S$8:$S$301,S230)),\"\")","v":""},{"$f":"IFERROR(IF(LEN($U230)>0,LEFT(INDIRECT(\"AnalýzaDat!T\"&ROW(AnalýzaDat!$U230)+AnalýzaDat!$V230-1),LEN(INDIRECT(\"AnalýzaDat!T\"&ROW(AnalýzaDat!$U230)+AnalýzaDat!$V230-1))-2),\"\"),\"\")","v":""}]
[{"$nulls":7},{"$f":"IFERROR(INDEX('Hlavní seznam měrných jednotek'!$B$4:$K$30,1+INT((ROW(A224)-1)/COLUMNS('Hlavní seznam měrných jednotek'!$B$4:$K$30)),MOD(ROW(A224)-1+COLUMNS('Hlavní seznam měrných jednotek'!$B$4:$K$30),COLUMNS('Hlavní seznam měrných jednotek'!$B$4:$K$30))+1),\"\")","v":""},"",null,{"$f":"IFERROR(RANK(L231,AnalýzaDat!$L$8:$L$301)+SUMPRODUCT(--(L231=AnalýzaDat!$L$8:$L$301),--(O231<AnalýzaDat!$O$8:$O$301)),\"\")","v":""},{"$f":"IFERROR(IF(COUNTIF(AnalýzaDat!$I$8:$I$299,\"<=\"&AnalýzaDat!$I$8:$I$299)=0,\"\",COUNTIF(AnalýzaDat!$I$8:$I$299,\"<=\"&AnalýzaDat!$I$8:$I$299)),\"\")","v":""},{"$f":"IFERROR(IF(AND(poslední_položka-počáteční_řádek=0,LEN(INDEX(AnalýzaDat!$H$8:$I$299,1,1)=0)),\"\",IF(poslední_položka-počáteční_řádek=0,INDEX(AnalýzaDat!$H$8:$I$299,1,1),INDEX(AnalýzaDat!$H$8:$H$299,ROW(A224),1))),\"\")","v":""},{"$f":"IFERROR(IF(AND(poslední_položka-počáteční_řádek=0,ISBLANK(INDEX(AnalýzaDat!$I$8:$I$299,1,1))),\"\",IF(poslední_položka-počáteční_řádek=0,INDEX(AnalýzaDat!$I$8:$I$299,1,1),INDEX(AnalýzaDat!$I$8:$I$299,ROW(A224),1))),\"\")","v":""},71,null,{"$f":"IFERROR(AnalýzaDat!$O231,\"\")","v":71},{"$f":"IFERROR(VLOOKUP(AnalýzaDat!$Q$8:$Q$301,AnalýzaDat!$K$8:$N$301,3,FALSE),\"\")","v":""},{"$f":"IFERROR(VLOOKUP(AnalýzaDat!$Q$8:$Q$301,AnalýzaDat!$K$8:$N$301,4,FALSE),\"\")","v":""},{"$f":"IF(S231=S230,T230,\"\")&REPT(AnalýzaDat!$R231&\", \",AnalýzaDat!$R231<>\"\")","v":""},{"$f":"IF(COUNTIF(S$8:S231,S231)=1,S231,\"\")","v":""},{"$f":"IFERROR(IF(LEN(AnalýzaDat!$S$8:$S$301)=0,\"\",COUNTIF(AnalýzaDat!$S$8:$S$301,S231)),\"\")","v":""},{"$f":"IFERROR(IF(LEN($U231)>0,LEFT(INDIRECT(\"AnalýzaDat!T\"&ROW(AnalýzaDat!$U231)+AnalýzaDat!$V231-1),LEN(INDIRECT(\"AnalýzaDat!T\"&ROW(AnalýzaDat!$U231)+AnalýzaDat!$V231-1))-2),\"\"),\"\")","v":""}]
[{"$nulls":7},{"$f":"IFERROR(INDEX('Hlavní seznam měrných jednotek'!$B$4:$K$30,1+INT((ROW(A225)-1)/COLUMNS('Hlavní seznam měrných jednotek'!$B$4:$K$30)),MOD(ROW(A225)-1+COLUMNS('Hlavní seznam měrných jednotek'!$B$4:$K$30),COLUMNS('Hlavní seznam měrných jednotek'!$B$4:$K$30))+1),\"\")","v":""},"",null,{"$f":"IFERROR(RANK(L232,AnalýzaDat!$L$8:$L$301)+SUMPRODUCT(--(L232=AnalýzaDat!$L$8:$L$301),--(O232<AnalýzaDat!$O$8:$O$301)),\"\")","v":""},{"$f":"IFERROR(IF(COUNTIF(AnalýzaDat!$I$8:$I$299,\"<=\"&AnalýzaDat!$I$8:$I$299)=0,\"\",COUNTIF(AnalýzaDat!$I$8:$I$299,\"<=\"&AnalýzaDat!$I$8:$I$299)),\"\")","v":""},{"$f":"IFERROR(IF(AND(poslední_položka-počáteční_řádek=0,LEN(INDEX(AnalýzaDat!$H$8:$I$299,1,1)=0)),\"\",IF(poslední_položka-počáteční_řádek=0,INDEX(AnalýzaDat!$H$8:$I$299,1,1),INDEX(AnalýzaDat!$H$8:$H$299,ROW(A225),1))),\"\")","v":""},{"$f":"IFERROR(IF(AND(poslední_položka-počáteční_řádek=0,ISBLANK(INDEX(AnalýzaDat!$I$8:$I$299,1,1))),\"\",IF(poslední_položka-počáteční_řádek=0,INDEX(AnalýzaDat!$I$8:$I$299,1,1),INDEX(AnalýzaDat!$I$8:$I$299,ROW(A225),1))),\"\")","v":""},70,null,{"$f":"IFERROR(AnalýzaDat!$O232,\"\")","v":70},{"$f":"IFERROR(VLOOKUP(AnalýzaDat!$Q$8:$Q$301,AnalýzaDat!$K$8:$N$301,3,FALSE),\"\")","v":""},{"$f":"IFERROR(VLOOKUP(AnalýzaDat!$Q$8:$Q$301,AnalýzaDat!$K$8:$N$301,4,FALSE),\"\")","v":""},{"$f":"IF(S232=S231,T231,\"\")&REPT(AnalýzaDat!$R232&\", \",AnalýzaDat!$R232<>\"\")","v":""},{"$f":"IF(COUNTIF(S$8:S232,S232)=1,S232,\"\")","v":""},{"$f":"IFERROR(IF(LEN(AnalýzaDat!$S$8:$S$301)=0,\"\",COUNTIF(AnalýzaDat!$S$8:$S$301,S232)),\"\")","v":""},{"$f":"IFERROR(IF(LEN($U232)>0,LEFT(INDIRECT(\"AnalýzaDat!T\"&ROW(AnalýzaDat!$U232)+AnalýzaDat!$V232-1),LEN(INDIRECT(\"AnalýzaDat!T\"&ROW(AnalýzaDat!$U232)+AnalýzaDat!$V232-1))-2),\"\"),\"\")","v":""}]
[{"$nulls":7},{"$f":"IFERROR(INDEX('Hlavní seznam měrných jednotek'!$B$4:$K$30,1+INT((ROW(A226)-1)/COLUMNS('Hlavní seznam měrných jednotek'!$B$4:$K$30)),MOD(ROW(A226)-1+COLUMNS('Hlavní seznam měrných jednotek'!$B$4:$K$30),COLUMNS('Hlavní seznam měrných jednotek'!$B$4:$K$30))+1),\"\")","v":""},"",null,{"$f":"IFERROR(RANK(L233,AnalýzaDat!$L$8:$L$301)+SUMPRODUCT(--(L233=AnalýzaDat!$L$8:$L$301),--(O233<AnalýzaDat!$O$8:$O$301)),\"\")","v":""},{"$f":"IFERROR(IF(COUNTIF(AnalýzaDat!$I$8:$I$299,\"<=\"&AnalýzaDat!$I$8:$I$299)=0,\"\",COUNTIF(AnalýzaDat!$I$8:$I$299,\"<=\"&AnalýzaDat!$I$8:$I$299)),\"\")","v":""},{"$f":"IFERROR(IF(AND(poslední_položka-počáteční_řádek=0,LEN(INDEX(AnalýzaDat!$H$8:$I$299,1,1)=0)),\"\",IF(poslední_položka-počáteční_řádek=0,INDEX(AnalýzaDat!$H$8:$I$299,1,1),INDEX(AnalýzaDat!$H$8:$H$299,ROW(A226),1))),\"\")","v":""},{"$f":"IFERROR(IF(AND(poslední_položka-počáteční_řádek=0,ISBLANK(INDEX(AnalýzaDat!$I$8:$I$299,1,1))),\"\",IF(poslední_položka-počáteční_řádek=0,INDEX(AnalýzaDat!$I$8:$I$299,1,1),INDEX(AnalýzaDat!$I$8:$I$299,ROW(A226),1))),\"\")","v":""},69,null,{"$f":"IFERROR(AnalýzaDat!$O233,\"\")","v":69},{"$f":"IFERROR(VLOOKUP(AnalýzaDat!$Q$8:$Q$301,AnalýzaDat!$K$8:$N$301,3,FALSE),\"\")","v":""},{"$f":"IFERROR(VLOOKUP(AnalýzaDat!$Q$8:$Q$301,AnalýzaDat!$K$8:$N$301,4,FALSE),\"\")","v":""},{"$f":"IF(S233=S232,T232,\"\")&REPT(AnalýzaDat!$R233&\", \",AnalýzaDat!$R233<>\"\")","v":""},{"$f":"IF(COUNTIF(S$8:S233,S233)=1,S233,\"\")","v":""},{"$f":"IFERROR(IF(LEN(AnalýzaDat!$S$8:$S$301)=0,\"\",COUNTIF(AnalýzaDat!$S$8:$S$301,S233)),\"\")","v":""},{"$f":"IFERROR(IF(LEN($U233)>0,LEFT(INDIRECT(\"AnalýzaDat!T\"&ROW(AnalýzaDat!$U233)+AnalýzaDat!$V233-1),LEN(INDIRECT(\"AnalýzaDat!T\"&ROW(AnalýzaDat!$U233)+AnalýzaDat!$V233-1))-2),\"\"),\"\")","v":""}]
[{"$nulls":7},{"$f":"IFERROR(INDEX('Hlavní seznam měrných jednotek'!$B$4:$K$30,1+INT((ROW(A227)-1)/COLUMNS('Hlavní seznam měrných jednotek'!$B$4:$K$30)),MOD(ROW(A227)-1+COLUMNS('Hlavní seznam měrných jednotek'!$B$4:$K$30),COLUMNS('Hlavní seznam měrných jednotek'!$B$4:$K$30))+1),\"\")","v":""},"",null,{"$f":"IFERROR(RANK(L234,AnalýzaDat!$L$8:$L$301)+SUMPRODUCT(--(L234=AnalýzaDat!$L$8:$L$301),--(O234<AnalýzaDat!$O$8:$O$301)),\"\")","v":""},{"$f":"IFERROR(IF(COUNTIF(AnalýzaDat!$I$8:$I$299,\"<=\"&AnalýzaDat!$I$8:$I$299)=0,\"\",COUNTIF(AnalýzaDat!$I$8:$I$299,\"<=\"&AnalýzaDat!$I$8:$I$299)),\"\")","v":""},{"$f":"IFERROR(IF(AND(poslední_položka-počáteční_řádek=0,LEN(INDEX(AnalýzaDat!$H$8:$I$299,1,1)=0)),\"\",IF(poslední_položka-počáteční_řádek=0,INDEX(AnalýzaDat!$H$8:$I$299,1,1),INDEX(AnalýzaDat!$H$8:$H$299,ROW(A227),1))),\"\")","v":""},{"$f":"IFERROR(IF(AND(poslední_položka-počáteční_řádek=0,ISBLANK(INDEX(AnalýzaDat!$I$8:$I$299,1,1))),\"\",IF(poslední_položka-počáteční_řádek=0,INDEX(AnalýzaDat!$I$8:$I$299,1,1),INDEX(AnalýzaDat!$I$8:$I$299,ROW(A227),1))),\"\")","v":""},68,null,{"$f":"IFERROR(AnalýzaDat!$O234,\"\")","v":68},{"$f":"IFERROR(VLOOKUP(AnalýzaDat!$Q$8:$Q$301,AnalýzaDat!$K$8:$N$301,3,FALSE),\"\")","v":""},{"$f":"IFERROR(VLOOKUP(AnalýzaDat!$Q$8:$Q$301,AnalýzaDat!$K$8:$N$301,4,FALSE),\"\")","v":""},{"$f":"IF(S234=S233,T233,\"\")&REPT(AnalýzaDat!$R234&\", \",AnalýzaDat!$R234<>\"\")","v":""},{"$f":"IF(COUNTIF(S$8:S234,S234)=1,S234,\"\")","v":""},{"$f":"IFERROR(IF(LEN(AnalýzaDat!$S$8:$S$301)=0,\"\",COUNTIF(AnalýzaDat!$S$8:$S$301,S234)),\"\")","v":""},{"$f":"IFERROR(IF(LEN($U234)>0,LEFT(INDIRECT(\"AnalýzaDat!T\"&ROW(AnalýzaDat!$U234)+AnalýzaDat!$V234-1),LEN(INDIRECT(\"AnalýzaDat!T\"&ROW(AnalýzaDat!$U234)+AnalýzaDat!$V234-1))-2),\"\"),\"\")","v":""}]
[{"$nulls":7},{"$f":"IFERROR(INDEX('Hlavní seznam měrných jednotek'!$B$4:$K$30,1+INT((ROW(A228)-1)/COLUMNS('Hlavní seznam měrných jednotek'!$B$4:$K$30)),MOD(ROW(A228)-1+COLUMNS('Hlavní seznam měrných jednotek'!$B$4:$K$30),COLUMNS('Hlavní seznam měrných jednotek'!$B$4:$K$30))+1),\"\")","v":""},"",null,{"$f":"IFERROR(RANK(L235,AnalýzaDat!$L$8:$L$301)+SUMPRODUCT(--(L235=AnalýzaDat!$L$8:$L$301),--(O235<AnalýzaDat!$O$8:$O$301)),\"\")","v":""},{"$f":"IFERROR(IF(COUNTIF(AnalýzaDat!$I$8:$I$299,\"<=\"&AnalýzaDat!$I$8:$I$299)=0,\"\",COUNTIF(AnalýzaDat!$I$8:$I$299,\"<=\"&AnalýzaDat!$I$8:$I$299)),\"\")","v":""},{"$f":"IFERROR(IF(AND(poslední_položka-počáteční_řádek=0,LEN(INDEX(AnalýzaDat!$H$8:$I$299,1,1)=0)),\"\",IF(poslední_položka-počáteční_řádek=0,INDEX(AnalýzaDat!$H$8:$I$299,1,1),INDEX(AnalýzaDat!$H$8:$H$299,ROW(A228),1))),\"\")","v":""},{"$f":"IFERROR(IF(AND(poslední_položka-počáteční_řádek=0,ISBLANK(INDEX(AnalýzaDat!$I$8:$I$299,1,1))),\"\",IF(poslední_položka-počáteční_řádek=0,INDEX(AnalýzaDat!$I$8:$I$299,1,1),INDEX(AnalýzaDat!$I$8:$I$299,ROW(A228),1))),\"\")","v":""},67,null,{"$f":"IFERROR(AnalýzaDat!$O235,\"\")","v":67},{"$f":"IFERROR(VLOOKUP(AnalýzaDat!$Q$8:$Q$301,AnalýzaDat!$K$8:$N$301,3,FALSE),\"\")","v":""},{"$f":"IFERROR(VLOOKUP(AnalýzaDat!$Q$8:$Q$301,AnalýzaDat!$K$8:$N$301,4,FALSE),\"\")","v":""},{"$f":"IF(S235=S234,T234,\"\")&REPT(AnalýzaDat!$R235&\", \",AnalýzaDat!$R235<>\"\")","v":""},{"$f":"IF(COUNTIF(S$8:S235,S235)=1,S235,\"\")","v":""},{"$f":"IFERROR(IF(LEN(AnalýzaDat!$S$8:$S$301)=0,\"\",COUNTIF(AnalýzaDat!$S$8:$S$301,S235)),\"\")","v":""},{"$f":"IFERROR(IF(LEN($U235)>0,LEFT(INDIRECT(\"AnalýzaDat!T\"&ROW(AnalýzaDat!$U235)+AnalýzaDat!$V235-1),LEN(INDIRECT(\"AnalýzaDat!T\"&ROW(AnalýzaDat!$U235)+AnalýzaDat!$V235-1))-2),\"\"),\"\")","v":""}]
[{"$nulls":7},{"$f":"IFERROR(INDEX('Hlavní seznam měrných jednotek'!$B$4:$K$30,1+INT((ROW(A229)-1)/COLUMNS('Hlavní seznam měrných jednotek'!$B$4:$K$30)),MOD(ROW(A229)-1+COLUMNS('Hlavní seznam měrných jednotek'!$B$4:$K$30),COLUMNS('Hlavní seznam měrných jednotek'!$B$4:$K$30))+1),\"\")","v":""},"",null,{"$f":"IFERROR(RANK(L236,AnalýzaDat!$L$8:$L$301)+SUMPRODUCT(--(L236=AnalýzaDat!$L$8:$L$301),--(O236<AnalýzaDat!$O$8:$O$301)),\"\")","v":""},{"$f":"IFERROR(IF(COUNTIF(AnalýzaDat!$I$8:$I$299,\"<=\"&AnalýzaDat!$I$8:$I$299)=0,\"\",COUNTIF(AnalýzaDat!$I$8:$I$299,\"<=\"&AnalýzaDat!$I$8:$I$299)),\"\")","v":""},{"$f":"IFERROR(IF(AND(poslední_položka-počáteční_řádek=0,LEN(INDEX(AnalýzaDat!$H$8:$I$299,1,1)=0)),\"\",IF(poslední_položka-počáteční_řádek=0,INDEX(AnalýzaDat!$H$8:$I$299,1,1),INDEX(AnalýzaDat!$H$8:$H$299,ROW(A229),1))),\"\")","v":""},{"$f":"IFERROR(IF(AND(poslední_položka-počáteční_řádek=0,ISBLANK(INDEX(AnalýzaDat!$I$8:$I$299,1,1))),\"\",IF(poslední_položka-počáteční_řádek=0,INDEX(AnalýzaDat!$I$8:$I$299,1,1),INDEX(AnalýzaDat!$I$8:$I$299,ROW(A229),1))),\"\")","v":""},66,null,{"$f":"IFERROR(AnalýzaDat!$O236,\"\")","v":66},{"$f":"IFERROR(VLOOKUP(AnalýzaDat!$Q$8:$Q$301,AnalýzaDat!$K$8:$N$301,3,FALSE),\"\")","v":""},{"$f":"IFERROR(VLOOKUP(AnalýzaDat!$Q$8:$Q$301,AnalýzaDat!$K$8:$N$301,4,FALSE),\"\")","v":""},{"$f":"IF(S236=S235,T235,\"\")&REPT(AnalýzaDat!$R236&\", \",AnalýzaDat!$R236<>\"\")","v":""},{"$f":"IF(COUNTIF(S$8:S236,S236)=1,S236,\"\")","v":""},{"$f":"IFERROR(IF(LEN(AnalýzaDat!$S$8:$S$301)=0,\"\",COUNTIF(AnalýzaDat!$S$8:$S$301,S236)),\"\")","v":""},{"$f":"IFERROR(IF(LEN($U236)>0,LEFT(INDIRECT(\"AnalýzaDat!T\"&ROW(AnalýzaDat!$U236)+AnalýzaDat!$V236-1),LEN(INDIRECT(\"AnalýzaDat!T\"&ROW(AnalýzaDat!$U236)+AnalýzaDat!$V236-1))-2),\"\"),\"\")","v":""}]
[{"$nulls":7},{"$f":"IFERROR(INDEX('Hlavní seznam měrných jednotek'!$B$4:$K$30,1+INT((ROW(A230)-1)/COLUMNS('Hlavní seznam měrných jednotek'!$B$4:$K$30)),MOD(ROW(A230)-1+COLUMNS('Hlavní seznam měrných jednotek'!$B$4:$K$30),COLUMNS('Hlavní seznam měrných jednotek'!$B$4:$K$30))+1),\"\")","v":""},"",null,{"$f":"IFERROR(RANK(L237,AnalýzaDat!$L$8:$L$301)+SUMPRODUCT(--(L237=AnalýzaDat!$L$8:$L$301),--(O237<AnalýzaDat!$O$8:$O$301)),\"\")","v":""},{"$f":"IFERROR(IF(COUNTIF(AnalýzaDat!$I$8:$I$299,\"<=\"&AnalýzaDat!$I$8:$I$299)=0,\"\",COUNTIF(AnalýzaDat!$I$8:$I$299,\"<=\"&AnalýzaDat!$I$8:$I$299)),\"\")","v":""},{"$f":"IFERROR(IF(AND(poslední_položka-počáteční_řádek=0,LEN(INDEX(AnalýzaDat!$H$8:$I$299,1,1)=0)),\"\",IF(poslední_položka-počáteční_řádek=0,INDEX(AnalýzaDat!$H$8:$I$299,1,1),INDEX(AnalýzaDat!$H$8:$H$299,ROW(A230),1))),\"\")","v":""},{"$f":"IFERROR(IF(AND(poslední_položka-počáteční_řádek=0,ISBLANK(INDEX(AnalýzaDat!$I$8:$I$299,1,1))),\"\",IF(poslední_položka-počáteční_řádek=0,INDEX(AnalýzaDat!$I$8:$I$299,1,1),INDEX(AnalýzaDat!$I$8:$I$299,ROW(A230),1))),\"\")","v":""},65,null,{"$f":"IFERROR(AnalýzaDat!$O237,\"\")","v":65},{"$f":"IFERROR(VLOOKUP(AnalýzaDat!$Q$8:$Q$301,AnalýzaDat!$K$8:$N$301,3,FALSE),\"\")","v":""},{"$f":"IFERROR(VLOOKUP(AnalýzaDat!$Q$8:$Q$301,AnalýzaDat!$K$8:$N$301,4,FALSE),\"\")","v":""},{"$f":"IF(S237=S236,T236,\"\")&REPT(AnalýzaDat!$R237&\", \",AnalýzaDat!$R237<>\"\")","v":""},{"$f":"IF(COUNTIF(S$8:S237,S237)=1,S237,\"\")","v":""},{"$f":"IFERROR(IF(LEN(AnalýzaDat!$S$8:$S$301)=0,\"\",COUNTIF(AnalýzaDat!$S$8:$S$301,S237)),\"\")","v":""},{"$f":"IFERROR(IF(LEN($U237)>0,LEFT(INDIRECT(\"AnalýzaDat!T\"&ROW(AnalýzaDat!$U237)+AnalýzaDat!$V237-1),LEN(INDIRECT(\"AnalýzaDat!T\"&ROW(AnalýzaDat!$U237)+AnalýzaDat!$V237-1))-2),\"\"),\"\")","v":""}]
[{"$nulls":7},{"$f":"IFERROR(INDEX('Hlavní seznam měrných jednotek'!$B$4:$K$30,1+INT((ROW(A231)-1)/COLUMNS('Hlavní seznam měrných jednotek'!$B$4:$K$30)),MOD(ROW(A231)-1+COLUMNS('Hlavní seznam měrných jednotek'!$B$4:$K$30),COLUMNS('Hlavní seznam měrných jednotek'!$B$4:$K$30))+1),\"\")","v":" "},"",null,{"$f":"IFERROR(RANK(L238,AnalýzaDat!$L$8:$L$301)+SUMPRODUCT(--(L238=AnalýzaDat!$L$8:$L$301),--(O238<AnalýzaDat!$O$8:$O$301)),\"\")","v":""},{"$f":"IFERROR(IF(COUNTIF(AnalýzaDat!$I$8:$I$299,\"<=\"&AnalýzaDat!$I$8:$I$299)=0,\"\",COUNTIF(AnalýzaDat!$I$8:$I$299,\"<=\"&AnalýzaDat!$I$8:$I$299)),\"\")","v":""},{"$f":"IFERROR(IF(AND(poslední_položka-počáteční_řádek=0,LEN(INDEX(AnalýzaDat!$H$8:$I$299,1,1)=0)),\"\",IF(poslední_položka-počáteční_řádek=0,INDEX(AnalýzaDat!$H$8:$I$299,1,1),INDEX(AnalýzaDat!$H$8:$H$299,ROW(A231),1))),\"\")","v":" "},{"$f":"IFERROR(IF(AND(poslední_položka-počáteční_řádek=0,ISBLANK(INDEX(AnalýzaDat!$I$8:$I$299,1,1))),\"\",IF(poslední_položka-počáteční_řádek=0,INDEX(AnalýzaDat!$I$8:$I$299,1,1),INDEX(AnalýzaDat!$I$8:$I$299,ROW(A231),1))),\"\")","v":""},64,null,{"$f":"IFERROR(AnalýzaDat!$O238,\"\")","v":64},{"$f":"IFERROR(VLOOKUP(AnalýzaDat!$Q$8:$Q$301,AnalýzaDat!$K$8:$N$301,3,FALSE),\"\")","v":""},{"$f":"IFERROR(VLOOKUP(AnalýzaDat!$Q$8:$Q$301,AnalýzaDat!$K$8:$N$301,4,FALSE),\"\")","v":""},{"$f":"IF(S238=S237,T237,\"\")&REPT(AnalýzaDat!$R238&\", \",AnalýzaDat!$R238<>\"\")","v":""},{"$f":"IF(COUNTIF(S$8:S238,S238)=1,S238,\"\")","v":""},{"$f":"IFERROR(IF(LEN(AnalýzaDat!$S$8:$S$301)=0,\"\",COUNTIF(AnalýzaDat!$S$8:$S$301,S238)),\"\")","v":""},{"$f":"IFERROR(IF(LEN($U238)>0,LEFT(INDIRECT(\"AnalýzaDat!T\"&ROW(AnalýzaDat!$U238)+AnalýzaDat!$V238-1),LEN(INDIRECT(\"AnalýzaDat!T\"&ROW(AnalýzaDat!$U238)+AnalýzaDat!$V238-1))-2),\"\"),\"\")","v":""}]
[{"$nulls":7},{"$f":"IFERROR(INDEX('Hlavní seznam měrných jednotek'!$B$4:$K$30,1+INT((ROW(A232)-1)/COLUMNS('Hlavní seznam měrných jednotek'!$B$4:$K$30)),MOD(ROW(A232)-1+COLUMNS('Hlavní seznam měrných jednotek'!$B$4:$K$30),COLUMNS('Hlavní seznam měrných jednotek'!$B$4:$K$30))+1),\"\")","v":" "},"",null,{"$f":"IFERROR(RANK(L239,AnalýzaDat!$L$8:$L$301)+SUMPRODUCT(--(L239=AnalýzaDat!$L$8:$L$301),--(O239<AnalýzaDat!$O$8:$O$301)),\"\")","v":""},{"$f":"IFERROR(IF(COUNTIF(AnalýzaDat!$I$8:$I$299,\"<=\"&AnalýzaDat!$I$8:$I$299)=0,\"\",COUNTIF(AnalýzaDat!$I$8:$I$299,\"<=\"&AnalýzaDat!$I$8:$I$299)),\"\")","v":""},{"$f":"IFERROR(IF(AND(poslední_položka-počáteční_řádek=0,LEN(INDEX(AnalýzaDat!$H$8:$I$299,1,1)=0)),\"\",IF(poslední_položka-počáteční_řádek=0,INDEX(AnalýzaDat!$H$8:$I$299,1,1),INDEX(AnalýzaDat!$H$8:$H$299,ROW(A232),1))),\"\")","v":" "},{"$f":"IFERROR(IF(AND(poslední_položka-počáteční_řádek=0,ISBLANK(INDEX(AnalýzaDat!$I$8:$I$299,1,1))),\"\",IF(poslední_položka-počáteční_řádek=0,INDEX(AnalýzaDat!$I$8:$I$299,1,1),INDEX(AnalýzaDat!$I$8:$I$299,ROW(A232),1))),\"\")","v":""},63,null,{"$f":"IFERROR(AnalýzaDat!$O239,\"\")","v":63},{"$f":"IFERROR(VLOOKUP(AnalýzaDat!$Q$8:$Q$301,AnalýzaDat!$K$8:$N$301,3,FALSE),\"\")","v":""},{"$f":"IFERROR(VLOOKUP(AnalýzaDat!$Q$8:$Q$301,AnalýzaDat!$K$8:$N$301,4,FALSE),\"\")","v":""},{"$f":"IF(S239=S238,T238,\"\")&REPT(AnalýzaDat!$R239&\", \",AnalýzaDat!$R239<>\"\")","v":""},{"$f":"IF(COUNTIF(S$8:S239,S239)=1,S239,\"\")","v":""},{"$f":"IFERROR(IF(LEN(AnalýzaDat!$S$8:$S$301)=0,\"\",COUNTIF(AnalýzaDat!$S$8:$S$301,S239)),\"\")","v":""},{"$f":"IFERROR(IF(LEN($U239)>0,LEFT(INDIRECT(\"AnalýzaDat!T\"&ROW(AnalýzaDat!$U239)+AnalýzaDat!$V239-1),LEN(INDIRECT(\"AnalýzaDat!T\"&ROW(AnalýzaDat!$U239)+AnalýzaDat!$V239-1))-2),\"\"),\"\")","v":""}]
[{"$nulls":7},{"$f":"IFERROR(INDEX('Hlavní seznam měrných jednotek'!$B$4:$K$30,1+INT((ROW(A233)-1)/COLUMNS('Hlavní seznam měrných jednotek'!$B$4:$K$30)),MOD(ROW(A233)-1+COLUMNS('Hlavní seznam měrných jednotek'!$B$4:$K$30),COLUMNS('Hlavní seznam měrných jednotek'!$B$4:$K$30))+1),\"\")","v":""},"",null,{"$f":"IFERROR(RANK(L240,AnalýzaDat!$L$8:$L$301)+SUMPRODUCT(--(L240=AnalýzaDat!$L$8:$L$301),--(O240<AnalýzaDat!$O$8:$O$301)),\"\")","v":""},{"$f":"IFERROR(IF(COUNTIF(AnalýzaDat!$I$8:$I$299,\"<=\"&AnalýzaDat!$I$8:$I$299)=0,\"\",COUNTIF(AnalýzaDat!$I$8:$I$299,\"<=\"&AnalýzaDat!$I$8:$I$299)),\"\")","v":""},{"$f":"IFERROR(IF(AND(poslední_položka-počáteční_řádek=0,LEN(INDEX(AnalýzaDat!$H$8:$I$299,1,1)=0)),\"\",IF(poslední_položka-počáteční_řádek=0,INDEX(AnalýzaDat!$H$8:$I$299,1,1),INDEX(AnalýzaDat!$H$8:$H$299,ROW(A233),1))),\"\")","v":""},{"$f":"IFERROR(IF(AND(poslední_položka-počáteční_řádek=0,ISBLANK(INDEX(AnalýzaDat!$I$8:$I$299,1,1))),\"\",IF(poslední_položka-počáteční_řádek=0,INDEX(AnalýzaDat!$I$8:$I$299,1,1),INDEX(AnalýzaDat!$I$8:$I$299,ROW(A233),1))),\"\")","v":""},62,null,{"$f":"IFERROR(AnalýzaDat!$O240,\"\")","v":62},{"$f":"IFERROR(VLOOKUP(AnalýzaDat!$Q$8:$Q$301,AnalýzaDat!$K$8:$N$301,3,FALSE),\"\")","v":""},{"$f":"IFERROR(VLOOKUP(AnalýzaDat!$Q$8:$Q$301,AnalýzaDat!$K$8:$N$301,4,FALSE),\"\")","v":""},{"$f":"IF(S240=S239,T239,\"\")&REPT(AnalýzaDat!$R240&\", \",AnalýzaDat!$R240<>\"\")","v":""},{"$f":"IF(COUNTIF(S$8:S240,S240)=1,S240,\"\")","v":""},{"$f":"IFERROR(IF(LEN(AnalýzaDat!$S$8:$S$301)=0,\"\",COUNTIF(AnalýzaDat!$S$8:$S$301,S240)),\"\")","v":""},{"$f":"IFERROR(IF(LEN($U240)>0,LEFT(INDIRECT(\"AnalýzaDat!T\"&ROW(AnalýzaDat!$U240)+AnalýzaDat!$V240-1),LEN(INDIRECT(\"AnalýzaDat!T\"&ROW(AnalýzaDat!$U240)+AnalýzaDat!$V240-1))-2),\"\"),\"\")","v":""}]
[{"$nulls":7},{"$f":"IFERROR(INDEX('Hlavní seznam měrných jednotek'!$B$4:$K$30,1+INT((ROW(A234)-1)/COLUMNS('Hlavní seznam měrných jednotek'!$B$4:$K$30)),MOD(ROW(A234)-1+COLUMNS('Hlavní seznam měrných jednotek'!$B$4:$K$30),COLUMNS('Hlavní seznam měrných jednotek'!$B$4:$K$30))+1),\"\")","v":""},"",null,{"$f":"IFERROR(RANK(L241,AnalýzaDat!$L$8:$L$301)+SUMPRODUCT(--(L241=AnalýzaDat!$L$8:$L$301),--(O241<AnalýzaDat!$O$8:$O$301)),\"\")","v":""},{"$f":"IFERROR(IF(COUNTIF(AnalýzaDat!$I$8:$I$299,\"<=\"&AnalýzaDat!$I$8:$I$299)=0,\"\",COUNTIF(AnalýzaDat!$I$8:$I$299,\"<=\"&AnalýzaDat!$I$8:$I$299)),\"\")","v":""},{"$f":"IFERROR(IF(AND(poslední_položka-počáteční_řádek=0,LEN(INDEX(AnalýzaDat!$H$8:$I$299,1,1)=0)),\"\",IF(poslední_položka-počáteční_řádek=0,INDEX(AnalýzaDat!$H$8:$I$299,1,1),INDEX(AnalýzaDat!$H$8:$H$299,ROW(A234),1))),\"\")","v":""},{"$f":"IFERROR(IF(AND(poslední_položka-počáteční_řádek=0,ISBLANK(INDEX(AnalýzaDat!$I$8:$I$299,1,1))),\"\",IF(poslední_položka-počáteční_řádek=0,INDEX(AnalýzaDat!$I$8:$I$299,1,1),INDEX(AnalýzaDat!$I$8:$I$299,ROW(A234),1))),\"\")","v":""},61,null,{"$f":"IFERROR(AnalýzaDat!$O241,\"\")","v":61},{"$f":"IFERROR(VLOOKUP(AnalýzaDat!$Q$8:$Q$301,AnalýzaDat!$K$8:$N$301,3,FALSE),\"\")","v":""},{"$f":"IFERROR(VLOOKUP(AnalýzaDat!$Q$8:$Q$301,AnalýzaDat!$K$8:$N$301,4,FALSE),\"\")","v":""},{"$f":"IF(S241=S240,T240,\"\")&REPT(AnalýzaDat!$R241&\", \",AnalýzaDat!$R241<>\"\")","v":""},{"$f":"IF(COUNTIF(S$8:S241,S241)=1,S241,\"\")","v":""},{"$f":"IFERROR(IF(LEN(AnalýzaDat!$S$8:$S$301)=0,\"\",COUNTIF(AnalýzaDat!$S$8:$S$301,S241)),\"\")","v":""},{"$f":"IFERROR(IF(LEN($U241)>0,LEFT(INDIRECT(\"AnalýzaDat!T\"&ROW(AnalýzaDat!$U241)+AnalýzaDat!$V241-1),LEN(INDIRECT(\"AnalýzaDat!T\"&ROW(AnalýzaDat!$U241)+AnalýzaDat!$V241-1))-2),\"\"),\"\")","v":""}]
[{"$nulls":7},{"$f":"IFERROR(INDEX('Hlavní seznam měrných jednotek'!$B$4:$K$30,1+INT((ROW(A235)-1)/COLUMNS('Hlavní seznam měrných jednotek'!$B$4:$K$30)),MOD(ROW(A235)-1+COLUMNS('Hlavní seznam měrných jednotek'!$B$4:$K$30),COLUMNS('Hlavní seznam měrných jednotek'!$B$4:$K$30))+1),\"\")","v":""},"",null,{"$f":"IFERROR(RANK(L242,AnalýzaDat!$L$8:$L$301)+SUMPRODUCT(--(L242=AnalýzaDat!$L$8:$L$301),--(O242<AnalýzaDat!$O$8:$O$301)),\"\")","v":""},{"$f":"IFERROR(IF(COUNTIF(AnalýzaDat!$I$8:$I$299,\"<=\"&AnalýzaDat!$I$8:$I$299)=0,\"\",COUNTIF(AnalýzaDat!$I$8:$I$299,\"<=\"&AnalýzaDat!$I$8:$I$299)),\"\")","v":""},{"$f":"IFERROR(IF(AND(poslední_položka-počáteční_řádek=0,LEN(INDEX(AnalýzaDat!$H$8:$I$299,1,1)=0)),\"\",IF(poslední_položka-počáteční_řádek=0,INDEX(AnalýzaDat!$H$8:$I$299,1,1),INDEX(AnalýzaDat!$H$8:$H$299,ROW(A235),1))),\"\")","v":""},{"$f":"IFERROR(IF(AND(poslední_položka-počáteční_řádek=0,ISBLANK(INDEX(AnalýzaDat!$I$8:$I$299,1,1))),\"\",IF(poslední_položka-počáteční_řádek=0,INDEX(AnalýzaDat!$I$8:$I$299,1,1),INDEX(AnalýzaDat!$I$8:$I$299,ROW(A235),1))),\"\")","v":""},60,null,{"$f":"IFERROR(AnalýzaDat!$O242,\"\")","v":60},{"$f":"IFERROR(VLOOKUP(AnalýzaDat!$Q$8:$Q$301,AnalýzaDat!$K$8:$N$301,3,FALSE),\"\")","v":""},{"$f":"IFERROR(VLOOKUP(AnalýzaDat!$Q$8:$Q$301,AnalýzaDat!$K$8:$N$301,4,FALSE),\"\")","v":""},{"$f":"IF(S242=S241,T241,\"\")&REPT(AnalýzaDat!$R242&\", \",AnalýzaDat!$R242<>\"\")","v":""},{"$f":"IF(COUNTIF(S$8:S242,S242)=1,S242,\"\")","v":""},{"$f":"IFERROR(IF(LEN(AnalýzaDat!$S$8:$S$301)=0,\"\",COUNTIF(AnalýzaDat!$S$8:$S$301,S242)),\"\")","v":""},{"$f":"IFERROR(IF(LEN($U242)>0,LEFT(INDIRECT(\"AnalýzaDat!T\"&ROW(AnalýzaDat!$U242)+AnalýzaDat!$V242-1),LEN(INDIRECT(\"AnalýzaDat!T\"&ROW(AnalýzaDat!$U242)+AnalýzaDat!$V242-1))-2),\"\"),\"\")","v":""}]
[{"$nulls":7},{"$f":"IFERROR(INDEX('Hlavní seznam měrných jednotek'!$B$4:$K$30,1+INT((ROW(A236)-1)/COLUMNS('Hlavní seznam měrných jednotek'!$B$4:$K$30)),MOD(ROW(A236)-1+COLUMNS('Hlavní seznam měrných jednotek'!$B$4:$K$30),COLUMNS('Hlavní seznam měrných jednotek'!$B$4:$K$30))+1),\"\")","v":""},"",null,{"$f":"IFERROR(RANK(L243,AnalýzaDat!$L$8:$L$301)+SUMPRODUCT(--(L243=AnalýzaDat!$L$8:$L$301),--(O243<AnalýzaDat!$O$8:$O$301)),\"\")","v":""},{"$f":"IFERROR(IF(COUNTIF(AnalýzaDat!$I$8:$I$299,\"<=\"&AnalýzaDat!$I$8:$I$299)=0,\"\",COUNTIF(AnalýzaDat!$I$8:$I$299,\"<=\"&AnalýzaDat!$I$8:$I$299)),\"\")","v":""},{"$f":"IFERROR(IF(AND(poslední_položka-počáteční_řádek=0,LEN(INDEX(AnalýzaDat!$H$8:$I$299,1,1)=0)),\"\",IF(poslední_položka-počáteční_řádek=0,INDEX(AnalýzaDat!$H$8:$I$299,1,1),INDEX(AnalýzaDat!$H$8:$H$299,ROW(A236),1))),\"\")","v":""},{"$f":"IFERROR(IF(AND(poslední_položka-počáteční_řádek=0,ISBLANK(INDEX(AnalýzaDat!$I$8:$I$299,1,1))),\"\",IF(poslední_položka-počáteční_řádek=0,INDEX(AnalýzaDat!$I$8:$I$299,1,1),INDEX(AnalýzaDat!$I$8:$I$299,ROW(A236),1))),\"\")","v":""},59,null,{"$f":"IFERROR(AnalýzaDat!$O243,\"\")","v":59},{"$f":"IFERROR(VLOOKUP(AnalýzaDat!$Q$8:$Q$301,AnalýzaDat!$K$8:$N$301,3,FALSE),\"\")","v":""},{"$f":"IFERROR(VLOOKUP(AnalýzaDat!$Q$8:$Q$301,AnalýzaDat!$K$8:$N$301,4,FALSE),\"\")","v":""},{"$f":"IF(S243=S242,T242,\"\")&REPT(AnalýzaDat!$R243&\", \",AnalýzaDat!$R243<>\"\")","v":""},{"$f":"IF(COUNTIF(S$8:S243,S243)=1,S243,\"\")","v":""},{"$f":"IFERROR(IF(LEN(AnalýzaDat!$S$8:$S$301)=0,\"\",COUNTIF(AnalýzaDat!$S$8:$S$301,S243)),\"\")","v":""},{"$f":"IFERROR(IF(LEN($U243)>0,LEFT(INDIRECT(\"AnalýzaDat!T\"&ROW(AnalýzaDat!$U243)+AnalýzaDat!$V243-1),LEN(INDIRECT(\"AnalýzaDat!T\"&ROW(AnalýzaDat!$U243)+AnalýzaDat!$V243-1))-2),\"\"),\"\")","v":""}]
[{"$nulls":7},{"$f":"IFERROR(INDEX('Hlavní seznam měrných jednotek'!$B$4:$K$30,1+INT((ROW(A237)-1)/COLUMNS('Hlavní seznam měrných jednotek'!$B$4:$K$30)),MOD(ROW(A237)-1+COLUMNS('Hlavní seznam měrných jednotek'!$B$4:$K$30),COLUMNS('Hlavní seznam měrných jednotek'!$B$4:$K$30))+1),\"\")","v":""},"",null,{"$f":"IFERROR(RANK(L244,AnalýzaDat!$L$8:$L$301)+SUMPRODUCT(--(L244=AnalýzaDat!$L$8:$L$301),--(O244<AnalýzaDat!$O$8:$O$301)),\"\")","v":""},{"$f":"IFERROR(IF(COUNTIF(AnalýzaDat!$I$8:$I$299,\"<=\"&AnalýzaDat!$I$8:$I$299)=0,\"\",COUNTIF(AnalýzaDat!$I$8:$I$299,\"<=\"&AnalýzaDat!$I$8:$I$299)),\"\")","v":""},{"$f":"IFERROR(IF(AND(poslední_položka-počáteční_řádek=0,LEN(INDEX(AnalýzaDat!$H$8:$I$299,1,1)=0)),\"\",IF(poslední_položka-počáteční_řádek=0,INDEX(AnalýzaDat!$H$8:$I$299,1,1),INDEX(AnalýzaDat!$H$8:$H$299,ROW(A237),1))),\"\")","v":""},{"$f":"IFERROR(IF(AND(poslední_položka-počáteční_řádek=0,ISBLANK(INDEX(AnalýzaDat!$I$8:$I$299,1,1))),\"\",IF(poslední_položka-počáteční_řádek=0,INDEX(AnalýzaDat!$I$8:$I$299,1,1),INDEX(AnalýzaDat!$I$8:$I$299,ROW(A237),1))),\"\")","v":""},58,null,{"$f":"IFERROR(AnalýzaDat!$O244,\"\")","v":58},{"$f":"IFERROR(VLOOKUP(AnalýzaDat!$Q$8:$Q$301,AnalýzaDat!$K$8:$N$301,3,FALSE),\"\")","v":""},{"$f":"IFERROR(VLOOKUP(AnalýzaDat!$Q$8:$Q$301,AnalýzaDat!$K$8:$N$301,4,FALSE),\"\")","v":""},{"$f":"IF(S244=S243,T243,\"\")&REPT(AnalýzaDat!$R244&\", \",AnalýzaDat!$R244<>\"\")","v":""},{"$f":"IF(COUNTIF(S$8:S244,S244)=1,S244,\"\")","v":""},{"$f":"IFERROR(IF(LEN(AnalýzaDat!$S$8:$S$301)=0,\"\",COUNTIF(AnalýzaDat!$S$8:$S$301,S244)),\"\")","v":""},{"$f":"IFERROR(IF(LEN($U244)>0,LEFT(INDIRECT(\"AnalýzaDat!T\"&ROW(AnalýzaDat!$U244)+AnalýzaDat!$V244-1),LEN(INDIRECT(\"AnalýzaDat!T\"&ROW(AnalýzaDat!$U244)+AnalýzaDat!$V244-1))-2),\"\"),\"\")","v":""}]
[{"$nulls":7},{"$f":"IFERROR(INDEX('Hlavní seznam měrných jednotek'!$B$4:$K$30,1+INT((ROW(A238)-1)/COLUMNS('Hlavní seznam měrných jednotek'!$B$4:$K$30)),MOD(ROW(A238)-1+COLUMNS('Hlavní seznam měrných jednotek'!$B$4:$K$30),COLUMNS('Hlavní seznam měrných jednotek'!$B$4:$K$30))+1),\"\")","v":""},"",null,{"$f":"IFERROR(RANK(L245,AnalýzaDat!$L$8:$L$301)+SUMPRODUCT(--(L245=AnalýzaDat!$L$8:$L$301),--(O245<AnalýzaDat!$O$8:$O$301)),\"\")","v":""},{"$f":"IFERROR(IF(COUNTIF(AnalýzaDat!$I$8:$I$299,\"<=\"&AnalýzaDat!$I$8:$I$299)=0,\"\",COUNTIF(AnalýzaDat!$I$8:$I$299,\"<=\"&AnalýzaDat!$I$8:$I$299)),\"\")","v":""},{"$f":"IFERROR(IF(AND(poslední_položka-počáteční_řádek=0,LEN(INDEX(AnalýzaDat!$H$8:$I$299,1,1)=0)),\"\",IF(poslední_položka-počáteční_řádek=0,INDEX(AnalýzaDat!$H$8:$I$299,1,1),INDEX(AnalýzaDat!$H$8:$H$299,ROW(A238),1))),\"\")","v":""},{"$f":"IFERROR(IF(AND(poslední_položka-počáteční_řádek=0,ISBLANK(INDEX(AnalýzaDat!$I$8:$I$299,1,1))),\"\",IF(poslední_položka-počáteční_řádek=0,INDEX(AnalýzaDat!$I$8:$I$299,1,1),INDEX(AnalýzaDat!$I$8:$I$299,ROW(A238),1))),\"\")","v":""},57,null,{"$f":"IFERROR(AnalýzaDat!$O245,\"\")","v":57},{"$f":"IFERROR(VLOOKUP(AnalýzaDat!$Q$8:$Q$301,AnalýzaDat!$K$8:$N$301,3,FALSE),\"\")","v":""},{"$f":"IFERROR(VLOOKUP(AnalýzaDat!$Q$8:$Q$301,AnalýzaDat!$K$8:$N$301,4,FALSE),\"\")","v":""},{"$f":"IF(S245=S244,T244,\"\")&REPT(AnalýzaDat!$R245&\", \",AnalýzaDat!$R245<>\"\")","v":""},{"$f":"IF(COUNTIF(S$8:S245,S245)=1,S245,\"\")","v":""},{"$f":"IFERROR(IF(LEN(AnalýzaDat!$S$8:$S$301)=0,\"\",COUNTIF(AnalýzaDat!$S$8:$S$301,S245)),\"\")","v":""},{"$f":"IFERROR(IF(LEN($U245)>0,LEFT(INDIRECT(\"AnalýzaDat!T\"&ROW(AnalýzaDat!$U245)+AnalýzaDat!$V245-1),LEN(INDIRECT(\"AnalýzaDat!T\"&ROW(AnalýzaDat!$U245)+AnalýzaDat!$V245-1))-2),\"\"),\"\")","v":""}]
[{"$nulls":7},{"$f":"IFERROR(INDEX('Hlavní seznam měrných jednotek'!$B$4:$K$30,1+INT((ROW(A239)-1)/COLUMNS('Hlavní seznam měrných jednotek'!$B$4:$K$30)),MOD(ROW(A239)-1+COLUMNS('Hlavní seznam měrných jednotek'!$B$4:$K$30),COLUMNS('Hlavní seznam měrných jednotek'!$B$4:$K$30))+1),\"\")","v":""},"",null,{"$f":"IFERROR(RANK(L246,AnalýzaDat!$L$8:$L$301)+SUMPRODUCT(--(L246=AnalýzaDat!$L$8:$L$301),--(O246<AnalýzaDat!$O$8:$O$301)),\"\")","v":""},{"$f":"IFERROR(IF(COUNTIF(AnalýzaDat!$I$8:$I$299,\"<=\"&AnalýzaDat!$I$8:$I$299)=0,\"\",COUNTIF(AnalýzaDat!$I$8:$I$299,\"<=\"&AnalýzaDat!$I$8:$I$299)),\"\")","v":""},{"$f":"IFERROR(IF(AND(poslední_položka-počáteční_řádek=0,LEN(INDEX(AnalýzaDat!$H$8:$I$299,1,1)=0)),\"\",IF(poslední_položka-počáteční_řádek=0,INDEX(AnalýzaDat!$H$8:$I$299,1,1),INDEX(AnalýzaDat!$H$8:$H$299,ROW(A239),1))),\"\")","v":""},{"$f":"IFERROR(IF(AND(poslední_položka-počáteční_řádek=0,ISBLANK(INDEX(AnalýzaDat!$I$8:$I$299,1,1))),\"\",IF(poslední_položka-počáteční_řádek=0,INDEX(AnalýzaDat!$I$8:$I$299,1,1),INDEX(AnalýzaDat!$I$8:$I$299,ROW(A239),1))),\"\")","v":""},56,null,{"$f":"IFERROR(AnalýzaDat!$O246,\"\")","v":56},{"$f":"IFERROR(VLOOKUP(AnalýzaDat!$Q$8:$Q$301,AnalýzaDat!$K$8:$N$301,3,FALSE),\"\")","v":""},{"$f":"IFERROR(VLOOKUP(AnalýzaDat!$Q$8:$Q$301,AnalýzaDat!$K$8:$N$301,4,FALSE),\"\")","v":""},{"$f":"IF(S246=S245,T245,\"\")&REPT(AnalýzaDat!$R246&\", \",AnalýzaDat!$R246<>\"\")","v":""},{"$f":"IF(COUNTIF(S$8:S246,S246)=1,S246,\"\")","v":""},{"$f":"IFERROR(IF(LEN(AnalýzaDat!$S$8:$S$301)=0,\"\",COUNTIF(AnalýzaDat!$S$8:$S$301,S246)),\"\")","v":""},{"$f":"IFERROR(IF(LEN($U246)>0,LEFT(INDIRECT(\"AnalýzaDat!T\"&ROW(AnalýzaDat!$U246)+AnalýzaDat!$V246-1),LEN(INDIRECT(\"AnalýzaDat!T\"&ROW(AnalýzaDat!$U246)+AnalýzaDat!$V246-1))-2),\"\"),\"\")","v":""}]
[{"$nulls":7},{"$f":"IFERROR(INDEX('Hlavní seznam měrných jednotek'!$B$4:$K$30,1+INT((ROW(A240)-1)/COLUMNS('Hlavní seznam měrných jednotek'!$B$4:$K$30)),MOD(ROW(A240)-1+COLUMNS('Hlavní seznam měrných jednotek'!$B$4:$K$30),COLUMNS('Hlavní seznam měrných jednotek'!$B$4:$K$30))+1),\"\")","v":""},"",null,{"$f":"IFERROR(RANK(L247,AnalýzaDat!$L$8:$L$301)+SUMPRODUCT(--(L247=AnalýzaDat!$L$8:$L$301),--(O247<AnalýzaDat!$O$8:$O$301)),\"\")","v":""},{"$f":"IFERROR(IF(COUNTIF(AnalýzaDat!$I$8:$I$299,\"<=\"&AnalýzaDat!$I$8:$I$299)=0,\"\",COUNTIF(AnalýzaDat!$I$8:$I$299,\"<=\"&AnalýzaDat!$I$8:$I$299)),\"\")","v":""},{"$f":"IFERROR(IF(AND(poslední_položka-počáteční_řádek=0,LEN(INDEX(AnalýzaDat!$H$8:$I$299,1,1)=0)),\"\",IF(poslední_položka-počáteční_řádek=0,INDEX(AnalýzaDat!$H$8:$I$299,1,1),INDEX(AnalýzaDat!$H$8:$H$299,ROW(A240),1))),\"\")","v":""},{"$f":"IFERROR(IF(AND(poslední_položka-počáteční_řádek=0,ISBLANK(INDEX(AnalýzaDat!$I$8:$I$299,1,1))),\"\",IF(poslední_položka-počáteční_řádek=0,INDEX(AnalýzaDat!$I$8:$I$299,1,1),INDEX(AnalýzaDat!$I$8:$I$299,ROW(A240),1))),\"\")","v":""},55,null,{"$f":"IFERROR(AnalýzaDat!$O247,\"\")","v":55},{"$f":"IFERROR(VLOOKUP(AnalýzaDat!$Q$8:$Q$301,AnalýzaDat!$K$8:$N$301,3,FALSE),\"\")","v":""},{"$f":"IFERROR(VLOOKUP(AnalýzaDat!$Q$8:$Q$301,AnalýzaDat!$K$8:$N$301,4,FALSE),\"\")","v":""},{"$f":"IF(S247=S246,T246,\"\")&REPT(AnalýzaDat!$R247&\", \",AnalýzaDat!$R247<>\"\")","v":""},{"$f":"IF(COUNTIF(S$8:S247,S247)=1,S247,\"\")","v":""},{"$f":"IFERROR(IF(LEN(AnalýzaDat!$S$8:$S$301)=0,\"\",COUNTIF(AnalýzaDat!$S$8:$S$301,S247)),\"\")","v":""},{"$f":"IFERROR(IF(LEN($U247)>0,LEFT(INDIRECT(\"AnalýzaDat!T\"&ROW(AnalýzaDat!$U247)+AnalýzaDat!$V247-1),LEN(INDIRECT(\"AnalýzaDat!T\"&ROW(AnalýzaDat!$U247)+AnalýzaDat!$V247-1))-2),\"\"),\"\")","v":""}]
[{"$nulls":7},{"$f":"IFERROR(INDEX('Hlavní seznam měrných jednotek'!$B$4:$K$30,1+INT((ROW(A241)-1)/COLUMNS('Hlavní seznam měrných jednotek'!$B$4:$K$30)),MOD(ROW(A241)-1+COLUMNS('Hlavní seznam měrných jednotek'!$B$4:$K$30),COLUMNS('Hlavní seznam měrných jednotek'!$B$4:$K$30))+1),\"\")","v":" "},"",null,{"$f":"IFERROR(RANK(L248,AnalýzaDat!$L$8:$L$301)+SUMPRODUCT(--(L248=AnalýzaDat!$L$8:$L$301),--(O248<AnalýzaDat!$O$8:$O$301)),\"\")","v":""},{"$f":"IFERROR(IF(COUNTIF(AnalýzaDat!$I$8:$I$299,\"<=\"&AnalýzaDat!$I$8:$I$299)=0,\"\",COUNTIF(AnalýzaDat!$I$8:$I$299,\"<=\"&AnalýzaDat!$I$8:$I$299)),\"\")","v":""},{"$f":"IFERROR(IF(AND(poslední_položka-počáteční_řádek=0,LEN(INDEX(AnalýzaDat!$H$8:$I$299,1,1)=0)),\"\",IF(poslední_položka-počáteční_řádek=0,INDEX(AnalýzaDat!$H$8:$I$299,1,1),INDEX(AnalýzaDat!$H$8:$H$299,ROW(A241),1))),\"\")","v":" "},{"$f":"IFERROR(IF(AND(poslední_položka-počáteční_řádek=0,ISBLANK(INDEX(AnalýzaDat!$I$8:$I$299,1,1))),\"\",IF(poslední_položka-počáteční_řádek=0,INDEX(AnalýzaDat!$I$8:$I$299,1,1),INDEX(AnalýzaDat!$I$8:$I$299,ROW(A241),1))),\"\")","v":""},54,null,{"$f":"IFERROR(AnalýzaDat!$O248,\"\")","v":54},{"$f":"IFERROR(VLOOKUP(AnalýzaDat!$Q$8:$Q$301,AnalýzaDat!$K$8:$N$301,3,FALSE),\"\")","v":""},{"$f":"IFERROR(VLOOKUP(AnalýzaDat!$Q$8:$Q$301,AnalýzaDat!$K$8:$N$301,4,FALSE),\"\")","v":""},{"$f":"IF(S248=S247,T247,\"\")&REPT(AnalýzaDat!$R248&\", \",AnalýzaDat!$R248<>\"\")","v":""},{"$f":"IF(COUNTIF(S$8:S248,S248)=1,S248,\"\")","v":""},{"$f":"IFERROR(IF(LEN(AnalýzaDat!$S$8:$S$301)=0,\"\",COUNTIF(AnalýzaDat!$S$8:$S$301,S248)),\"\")","v":""},{"$f":"IFERROR(IF(LEN($U248)>0,LEFT(INDIRECT(\"AnalýzaDat!T\"&ROW(AnalýzaDat!$U248)+AnalýzaDat!$V248-1),LEN(INDIRECT(\"AnalýzaDat!T\"&ROW(AnalýzaDat!$U248)+AnalýzaDat!$V248-1))-2),\"\"),\"\")","v":""}]
[{"$nulls":7},{"$f":"IFERROR(INDEX('Hlavní seznam měrných jednotek'!$B$4:$K$30,1+INT((ROW(A242)-1)/COLUMNS('Hlavní seznam měrných jednotek'!$B$4:$K$30)),MOD(ROW(A242)-1+COLUMNS('Hlavní seznam měrných jednotek'!$B$4:$K$30),COLUMNS('Hlavní seznam měrných jednotek'!$B$4:$K$30))+1),\"\")","v":" "},"",null,{"$f":"IFERROR(RANK(L249,AnalýzaDat!$L$8:$L$301)+SUMPRODUCT(--(L249=AnalýzaDat!$L$8:$L$301),--(O249<AnalýzaDat!$O$8:$O$301)),\"\")","v":""},{"$f":"IFERROR(IF(COUNTIF(AnalýzaDat!$I$8:$I$299,\"<=\"&AnalýzaDat!$I$8:$I$299)=0,\"\",COUNTIF(AnalýzaDat!$I$8:$I$299,\"<=\"&AnalýzaDat!$I$8:$I$299)),\"\")","v":""},{"$f":"IFERROR(IF(AND(poslední_položka-počáteční_řádek=0,LEN(INDEX(AnalýzaDat!$H$8:$I$299,1,1)=0)),\"\",IF(poslední_položka-počáteční_řádek=0,INDEX(AnalýzaDat!$H$8:$I$299,1,1),INDEX(AnalýzaDat!$H$8:$H$299,ROW(A242),1))),\"\")","v":" "},{"$f":"IFERROR(IF(AND(poslední_položka-počáteční_řádek=0,ISBLANK(INDEX(AnalýzaDat!$I$8:$I$299,1,1))),\"\",IF(poslední_položka-počáteční_řádek=0,INDEX(AnalýzaDat!$I$8:$I$299,1,1),INDEX(AnalýzaDat!$I$8:$I$299,ROW(A242),1))),\"\")","v":""},53,null,{"$f":"IFERROR(AnalýzaDat!$O249,\"\")","v":53},{"$f":"IFERROR(VLOOKUP(AnalýzaDat!$Q$8:$Q$301,AnalýzaDat!$K$8:$N$301,3,FALSE),\"\")","v":""},{"$f":"IFERROR(VLOOKUP(AnalýzaDat!$Q$8:$Q$301,AnalýzaDat!$K$8:$N$301,4,FALSE),\"\")","v":""},{"$f":"IF(S249=S248,T248,\"\")&REPT(AnalýzaDat!$R249&\", \",AnalýzaDat!$R249<>\"\")","v":""},{"$f":"IF(COUNTIF(S$8:S249,S249)=1,S249,\"\")","v":""},{"$f":"IFERROR(IF(LEN(AnalýzaDat!$S$8:$S$301)=0,\"\",COUNTIF(AnalýzaDat!$S$8:$S$301,S249)),\"\")","v":""},{"$f":"IFERROR(IF(LEN($U249)>0,LEFT(INDIRECT(\"AnalýzaDat!T\"&ROW(AnalýzaDat!$U249)+AnalýzaDat!$V249-1),LEN(INDIRECT(\"AnalýzaDat!T\"&ROW(AnalýzaDat!$U249)+AnalýzaDat!$V249-1))-2),\"\"),\"\")","v":""}]
[{"$nulls":7},{"$f":"IFERROR(INDEX('Hlavní seznam měrných jednotek'!$B$4:$K$30,1+INT((ROW(A243)-1)/COLUMNS('Hlavní seznam měrných jednotek'!$B$4:$K$30)),MOD(ROW(A243)-1+COLUMNS('Hlavní seznam měrných jednotek'!$B$4:$K$30),COLUMNS('Hlavní seznam měrných jednotek'!$B$4:$K$30))+1),\"\")","v":""},"",null,{"$f":"IFERROR(RANK(L250,AnalýzaDat!$L$8:$L$301)+SUMPRODUCT(--(L250=AnalýzaDat!$L$8:$L$301),--(O250<AnalýzaDat!$O$8:$O$301)),\"\")","v":""},{"$f":"IFERROR(IF(COUNTIF(AnalýzaDat!$I$8:$I$299,\"<=\"&AnalýzaDat!$I$8:$I$299)=0,\"\",COUNTIF(AnalýzaDat!$I$8:$I$299,\"<=\"&AnalýzaDat!$I$8:$I$299)),\"\")","v":""},{"$f":"IFERROR(IF(AND(poslední_položka-počáteční_řádek=0,LEN(INDEX(AnalýzaDat!$H$8:$I$299,1,1)=0)),\"\",IF(poslední_položka-počáteční_řádek=0,INDEX(AnalýzaDat!$H$8:$I$299,1,1),INDEX(AnalýzaDat!$H$8:$H$299,ROW(A243),1))),\"\")","v":""},{"$f":"IFERROR(IF(AND(poslední_položka-počáteční_řádek=0,ISBLANK(INDEX(AnalýzaDat!$I$8:$I$299,1,1))),\"\",IF(poslední_položka-počáteční_řádek=0,INDEX(AnalýzaDat!$I$8:$I$299,1,1),INDEX(AnalýzaDat!$I$8:$I$299,ROW(A243),1))),\"\")","v":""},52,null,{"$f":"IFERROR(AnalýzaDat!$O250,\"\")","v":52},{"$f":"IFERROR(VLOOKUP(AnalýzaDat!$Q$8:$Q$301,AnalýzaDat!$K$8:$N$301,3,FALSE),\"\")","v":""},{"$f":"IFERROR(VLOOKUP(AnalýzaDat!$Q$8:$Q$301,AnalýzaDat!$K$8:$N$301,4,FALSE),\"\")","v":""},{"$f":"IF(S250=S249,T249,\"\")&REPT(AnalýzaDat!$R250&\", \",AnalýzaDat!$R250<>\"\")","v":""},{"$f":"IF(COUNTIF(S$8:S250,S250)=1,S250,\"\")","v":""},{"$f":"IFERROR(IF(LEN(AnalýzaDat!$S$8:$S$301)=0,\"\",COUNTIF(AnalýzaDat!$S$8:$S$301,S250)),\"\")","v":""},{"$f":"IFERROR(IF(LEN($U250)>0,LEFT(INDIRECT(\"AnalýzaDat!T\"&ROW(AnalýzaDat!$U250)+AnalýzaDat!$V250-1),LEN(INDIRECT(\"AnalýzaDat!T\"&ROW(AnalýzaDat!$U250)+AnalýzaDat!$V250-1))-2),\"\"),\"\")","v":""}]
[{"$nulls":7},{"$f":"IFERROR(INDEX('Hlavní seznam měrných jednotek'!$B$4:$K$30,1+INT((ROW(A244)-1)/COLUMNS('Hlavní seznam měrných jednotek'!$B$4:$K$30)),MOD(ROW(A244)-1+COLUMNS('Hlavní seznam měrných jednotek'!$B$4:$K$30),COLUMNS('Hlavní seznam měrných jednotek'!$B$4:$K$30))+1),\"\")","v":""},"",null,{"$f":"IFERROR(RANK(L251,AnalýzaDat!$L$8:$L$301)+SUMPRODUCT(--(L251=AnalýzaDat!$L$8:$L$301),--(O251<AnalýzaDat!$O$8:$O$301)),\"\")","v":""},{"$f":"IFERROR(IF(COUNTIF(AnalýzaDat!$I$8:$I$299,\"<=\"&AnalýzaDat!$I$8:$I$299)=0,\"\",COUNTIF(AnalýzaDat!$I$8:$I$299,\"<=\"&AnalýzaDat!$I$8:$I$299)),\"\")","v":""},{"$f":"IFERROR(IF(AND(poslední_položka-počáteční_řádek=0,LEN(INDEX(AnalýzaDat!$H$8:$I$299,1,1)=0)),\"\",IF(poslední_položka-počáteční_řádek=0,INDEX(AnalýzaDat!$H$8:$I$299,1,1),INDEX(AnalýzaDat!$H$8:$H$299,ROW(A244),1))),\"\")","v":""},{"$f":"IFERROR(IF(AND(poslední_položka-počáteční_řádek=0,ISBLANK(INDEX(AnalýzaDat!$I$8:$I$299,1,1))),\"\",IF(poslední_položka-počáteční_řádek=0,INDEX(AnalýzaDat!$I$8:$I$299,1,1),INDEX(AnalýzaDat!$I$8:$I$299,ROW(A244),1))),\"\")","v":""},51,null,{"$f":"IFERROR(AnalýzaDat!$O251,\"\")","v":51},{"$f":"IFERROR(VLOOKUP(AnalýzaDat!$Q$8:$Q$301,AnalýzaDat!$K$8:$N$301,3,FALSE),\"\")","v":""},{"$f":"IFERROR(VLOOKUP(AnalýzaDat!$Q$8:$Q$301,AnalýzaDat!$K$8:$N$301,4,FALSE),\"\")","v":""},{"$f":"IF(S251=S250,T250,\"\")&REPT(AnalýzaDat!$R251&\", \",AnalýzaDat!$R251<>\"\")","v":""},{"$f":"IF(COUNTIF(S$8:S251,S251)=1,S251,\"\")","v":""},{"$f":"IFERROR(IF(LEN(AnalýzaDat!$S$8:$S$301)=0,\"\",COUNTIF(AnalýzaDat!$S$8:$S$301,S251)),\"\")","v":""},{"$f":"IFERROR(IF(LEN($U251)>0,LEFT(INDIRECT(\"AnalýzaDat!T\"&ROW(AnalýzaDat!$U251)+AnalýzaDat!$V251-1),LEN(INDIRECT(\"AnalýzaDat!T\"&ROW(AnalýzaDat!$U251)+AnalýzaDat!$V251-1))-2),\"\"),\"\")","v":""}]
[{"$nulls":7},{"$f":"IFERROR(INDEX('Hlavní seznam měrných jednotek'!$B$4:$K$30,1+INT((ROW(A245)-1)/COLUMNS('Hlavní seznam měrných jednotek'!$B$4:$K$30)),MOD(ROW(A245)-1+COLUMNS('Hlavní seznam měrných jednotek'!$B$4:$K$30),COLUMNS('Hlavní seznam měrných jednotek'!$B$4:$K$30))+1),\"\")","v":""},"",null,{"$f":"IFERROR(RANK(L252,AnalýzaDat!$L$8:$L$301)+SUMPRODUCT(--(L252=AnalýzaDat!$L$8:$L$301),--(O252<AnalýzaDat!$O$8:$O$301)),\"\")","v":""},{"$f":"IFERROR(IF(COUNTIF(AnalýzaDat!$I$8:$I$299,\"<=\"&AnalýzaDat!$I$8:$I$299)=0,\"\",COUNTIF(AnalýzaDat!$I$8:$I$299,\"<=\"&AnalýzaDat!$I$8:$I$299)),\"\")","v":""},{"$f":"IFERROR(IF(AND(poslední_položka-počáteční_řádek=0,LEN(INDEX(AnalýzaDat!$H$8:$I$299,1,1)=0)),\"\",IF(poslední_položka-počáteční_řádek=0,INDEX(AnalýzaDat!$H$8:$I$299,1,1),INDEX(AnalýzaDat!$H$8:$H$299,ROW(A245),1))),\"\")","v":""},{"$f":"IFERROR(IF(AND(poslední_položka-počáteční_řádek=0,ISBLANK(INDEX(AnalýzaDat!$I$8:$I$299,1,1))),\"\",IF(poslední_položka-počáteční_řádek=0,INDEX(AnalýzaDat!$I$8:$I$299,1,1),INDEX(AnalýzaDat!$I$8:$I$299,ROW(A245),1))),\"\")","v":""},50,null,{"$f":"IFERROR(AnalýzaDat!$O252,\"\")","v":50},{"$f":"IFERROR(VLOOKUP(AnalýzaDat!$Q$8:$Q$301,AnalýzaDat!$K$8:$N$301,3,FALSE),\"\")","v":""},{"$f":"IFERROR(VLOOKUP(AnalýzaDat!$Q$8:$Q$301,AnalýzaDat!$K$8:$N$301,4,FALSE),\"\")","v":""},{"$f":"IF(S252=S251,T251,\"\")&REPT(AnalýzaDat!$R252&\", \",AnalýzaDat!$R252<>\"\")","v":""},{"$f":"IF(COUNTIF(S$8:S252,S252)=1,S252,\"\")","v":""},{"$f":"IFERROR(IF(LEN(AnalýzaDat!$S$8:$S$301)=0,\"\",COUNTIF(AnalýzaDat!$S$8:$S$301,S252)),\"\")","v":""},{"$f":"IFERROR(IF(LEN($U252)>0,LEFT(INDIRECT(\"AnalýzaDat!T\"&ROW(AnalýzaDat!$U252)+AnalýzaDat!$V252-1),LEN(INDIRECT(\"AnalýzaDat!T\"&ROW(AnalýzaDat!$U252)+AnalýzaDat!$V252-1))-2),\"\"),\"\")","v":""}]
[{"$nulls":7},{"$f":"IFERROR(INDEX('Hlavní seznam měrných jednotek'!$B$4:$K$30,1+INT((ROW(A246)-1)/COLUMNS('Hlavní seznam měrných jednotek'!$B$4:$K$30)),MOD(ROW(A246)-1+COLUMNS('Hlavní seznam měrných jednotek'!$B$4:$K$30),COLUMNS('Hlavní seznam měrných jednotek'!$B$4:$K$30))+1),\"\")","v":""},"",null,{"$f":"IFERROR(RANK(L253,AnalýzaDat!$L$8:$L$301)+SUMPRODUCT(--(L253=AnalýzaDat!$L$8:$L$301),--(O253<AnalýzaDat!$O$8:$O$301)),\"\")","v":""},{"$f":"IFERROR(IF(COUNTIF(AnalýzaDat!$I$8:$I$299,\"<=\"&AnalýzaDat!$I$8:$I$299)=0,\"\",COUNTIF(AnalýzaDat!$I$8:$I$299,\"<=\"&AnalýzaDat!$I$8:$I$299)),\"\")","v":""},{"$f":"IFERROR(IF(AND(poslední_položka-počáteční_řádek=0,LEN(INDEX(AnalýzaDat!$H$8:$I$299,1,1)=0)),\"\",IF(poslední_položka-počáteční_řádek=0,INDEX(AnalýzaDat!$H$8:$I$299,1,1),INDEX(AnalýzaDat!$H$8:$H$299,ROW(A246),1))),\"\")","v":""},{"$f":"IFERROR(IF(AND(poslední_položka-počáteční_řádek=0,ISBLANK(INDEX(AnalýzaDat!$I$8:$I$299,1,1))),\"\",IF(poslední_položka-počáteční_řádek=0,INDEX(AnalýzaDat!$I$8:$I$299,1,1),INDEX(AnalýzaDat!$I$8:$I$299,ROW(A246),1))),\"\")","v":""},49,null,{"$f":"IFERROR(AnalýzaDat!$O253,\"\")","v":49},{"$f":"IFERROR(VLOOKUP(AnalýzaDat!$Q$8:$Q$301,AnalýzaDat!$K$8:$N$301,3,FALSE),\"\")","v":""},{"$f":"IFERROR(VLOOKUP(AnalýzaDat!$Q$8:$Q$301,AnalýzaDat!$K$8:$N$301,4,FALSE),\"\")","v":""},{"$f":"IF(S253=S252,T252,\"\")&REPT(AnalýzaDat!$R253&\", \",AnalýzaDat!$R253<>\"\")","v":""},{"$f":"IF(COUNTIF(S$8:S253,S253)=1,S253,\"\")","v":""},{"$f":"IFERROR(IF(LEN(AnalýzaDat!$S$8:$S$301)=0,\"\",COUNTIF(AnalýzaDat!$S$8:$S$301,S253)),\"\")","v":""},{"$f":"IFERROR(IF(LEN($U253)>0,LEFT(INDIRECT(\"AnalýzaDat!T\"&ROW(AnalýzaDat!$U253)+AnalýzaDat!$V253-1),LEN(INDIRECT(\"AnalýzaDat!T\"&ROW(AnalýzaDat!$U253)+AnalýzaDat!$V253-1))-2),\"\"),\"\")","v":""}]
[{"$nulls":7},{"$f":"IFERROR(INDEX('Hlavní seznam měrných jednotek'!$B$4:$K$30,1+INT((ROW(A247)-1)/COLUMNS('Hlavní seznam měrných jednotek'!$B$4:$K$30)),MOD(ROW(A247)-1+COLUMNS('Hlavní seznam měrných jednotek'!$B$4:$K$30),COLUMNS('Hlavní seznam měrných jednotek'!$B$4:$K$30))+1),\"\")","v":""},"",null,{"$f":"IFERROR(RANK(L254,AnalýzaDat!$L$8:$L$301)+SUMPRODUCT(--(L254=AnalýzaDat!$L$8:$L$301),--(O254<AnalýzaDat!$O$8:$O$301)),\"\")","v":""},{"$f":"IFERROR(IF(COUNTIF(AnalýzaDat!$I$8:$I$299,\"<=\"&AnalýzaDat!$I$8:$I$299)=0,\"\",COUNTIF(AnalýzaDat!$I$8:$I$299,\"<=\"&AnalýzaDat!$I$8:$I$299)),\"\")","v":""},{"$f":"IFERROR(IF(AND(poslední_položka-počáteční_řádek=0,LEN(INDEX(AnalýzaDat!$H$8:$I$299,1,1)=0)),\"\",IF(poslední_položka-počáteční_řádek=0,INDEX(AnalýzaDat!$H$8:$I$299,1,1),INDEX(AnalýzaDat!$H$8:$H$299,ROW(A247),1))),\"\")","v":""},{"$f":"IFERROR(IF(AND(poslední_položka-počáteční_řádek=0,ISBLANK(INDEX(AnalýzaDat!$I$8:$I$299,1,1))),\"\",IF(poslední_položka-počáteční_řádek=0,INDEX(AnalýzaDat!$I$8:$I$299,1,1),INDEX(AnalýzaDat!$I$8:$I$299,ROW(A247),1))),\"\")","v":""},48,null,{"$f":"IFERROR(AnalýzaDat!$O254,\"\")","v":48},{"$f":"IFERROR(VLOOKUP(AnalýzaDat!$Q$8:$Q$301,AnalýzaDat!$K$8:$N$301,3,FALSE),\"\")","v":""},{"$f":"IFERROR(VLOOKUP(AnalýzaDat!$Q$8:$Q$301,AnalýzaDat!$K$8:$N$301,4,FALSE),\"\")","v":""},{"$f":"IF(S254=S253,T253,\"\")&REPT(AnalýzaDat!$R254&\", \",AnalýzaDat!$R254<>\"\")","v":""},{"$f":"IF(COUNTIF(S$8:S254,S254)=1,S254,\"\")","v":""},{"$f":"IFERROR(IF(LEN(AnalýzaDat!$S$8:$S$301)=0,\"\",COUNTIF(AnalýzaDat!$S$8:$S$301,S254)),\"\")","v":""},{"$f":"IFERROR(IF(LEN($U254)>0,LEFT(INDIRECT(\"AnalýzaDat!T\"&ROW(AnalýzaDat!$U254)+AnalýzaDat!$V254-1),LEN(INDIRECT(\"AnalýzaDat!T\"&ROW(AnalýzaDat!$U254)+AnalýzaDat!$V254-1))-2),\"\"),\"\")","v":""}]
[{"$nulls":7},{"$f":"IFERROR(INDEX('Hlavní seznam měrných jednotek'!$B$4:$K$30,1+INT((ROW(A248)-1)/COLUMNS('Hlavní seznam měrných jednotek'!$B$4:$K$30)),MOD(ROW(A248)-1+COLUMNS('Hlavní seznam měrných jednotek'!$B$4:$K$30),COLUMNS('Hlavní seznam měrných jednotek'!$B$4:$K$30))+1),\"\")","v":""},"",null,{"$f":"IFERROR(RANK(L255,AnalýzaDat!$L$8:$L$301)+SUMPRODUCT(--(L255=AnalýzaDat!$L$8:$L$301),--(O255<AnalýzaDat!$O$8:$O$301)),\"\")","v":""},{"$f":"IFERROR(IF(COUNTIF(AnalýzaDat!$I$8:$I$299,\"<=\"&AnalýzaDat!$I$8:$I$299)=0,\"\",COUNTIF(AnalýzaDat!$I$8:$I$299,\"<=\"&AnalýzaDat!$I$8:$I$299)),\"\")","v":""},{"$f":"IFERROR(IF(AND(poslední_položka-počáteční_řádek=0,LEN(INDEX(AnalýzaDat!$H$8:$I$299,1,1)=0)),\"\",IF(poslední_položka-počáteční_řádek=0,INDEX(AnalýzaDat!$H$8:$I$299,1,1),INDEX(AnalýzaDat!$H$8:$H$299,ROW(A248),1))),\"\")","v":""},{"$f":"IFERROR(IF(AND(poslední_položka-počáteční_řádek=0,ISBLANK(INDEX(AnalýzaDat!$I$8:$I$299,1,1))),\"\",IF(poslední_položka-počáteční_řádek=0,INDEX(AnalýzaDat!$I$8:$I$299,1,1),INDEX(AnalýzaDat!$I$8:$I$299,ROW(A248),1))),\"\")","v":""},47,null,{"$f":"IFERROR(AnalýzaDat!$O255,\"\")","v":47},{"$f":"IFERROR(VLOOKUP(AnalýzaDat!$Q$8:$Q$301,AnalýzaDat!$K$8:$N$301,3,FALSE),\"\")","v":""},{"$f":"IFERROR(VLOOKUP(AnalýzaDat!$Q$8:$Q$301,AnalýzaDat!$K$8:$N$301,4,FALSE),\"\")","v":""},{"$f":"IF(S255=S254,T254,\"\")&REPT(AnalýzaDat!$R255&\", \",AnalýzaDat!$R255<>\"\")","v":""},{"$f":"IF(COUNTIF(S$8:S255,S255)=1,S255,\"\")","v":""},{"$f":"IFERROR(IF(LEN(AnalýzaDat!$S$8:$S$301)=0,\"\",COUNTIF(AnalýzaDat!$S$8:$S$301,S255)),\"\")","v":""},{"$f":"IFERROR(IF(LEN($U255)>0,LEFT(INDIRECT(\"AnalýzaDat!T\"&ROW(AnalýzaDat!$U255)+AnalýzaDat!$V255-1),LEN(INDIRECT(\"AnalýzaDat!T\"&ROW(AnalýzaDat!$U255)+AnalýzaDat!$V255-1))-2),\"\"),\"\")","v":""}]
[{"$nulls":7},{"$f":"IFERROR(INDEX('Hlavní seznam měrných jednotek'!$B$4:$K$30,1+INT((ROW(A249)-1)/COLUMNS('Hlavní seznam měrných jednotek'!$B$4:$K$30)),MOD(ROW(A249)-1+COLUMNS('Hlavní seznam měrných jednotek'!$B$4:$K$30),COLUMNS('Hlavní seznam měrných jednotek'!$B$4:$K$30))+1),\"\")","v":""},"",null,{"$f":"IFERROR(RANK(L256,AnalýzaDat!$L$8:$L$301)+SUMPRODUCT(--(L256=AnalýzaDat!$L$8:$L$301),--(O256<AnalýzaDat!$O$8:$O$301)),\"\")","v":""},{"$f":"IFERROR(IF(COUNTIF(AnalýzaDat!$I$8:$I$299,\"<=\"&AnalýzaDat!$I$8:$I$299)=0,\"\",COUNTIF(AnalýzaDat!$I$8:$I$299,\"<=\"&AnalýzaDat!$I$8:$I$299)),\"\")","v":""},{"$f":"IFERROR(IF(AND(poslední_položka-počáteční_řádek=0,LEN(INDEX(AnalýzaDat!$H$8:$I$299,1,1)=0)),\"\",IF(poslední_položka-počáteční_řádek=0,INDEX(AnalýzaDat!$H$8:$I$299,1,1),INDEX(AnalýzaDat!$H$8:$H$299,ROW(A249),1))),\"\")","v":""},{"$f":"IFERROR(IF(AND(poslední_položka-počáteční_řádek=0,ISBLANK(INDEX(AnalýzaDat!$I$8:$I$299,1,1))),\"\",IF(poslední_položka-počáteční_řádek=0,INDEX(AnalýzaDat!$I$8:$I$299,1,1),INDEX(AnalýzaDat!$I$8:$I$299,ROW(A249),1))),\"\")","v":""},46,null,{"$f":"IFERROR(AnalýzaDat!$O256,\"\")","v":46},{"$f":"IFERROR(VLOOKUP(AnalýzaDat!$Q$8:$Q$301,AnalýzaDat!$K$8:$N$301,3,FALSE),\"\")","v":""},{"$f":"IFERROR(VLOOKUP(AnalýzaDat!$Q$8:$Q$301,AnalýzaDat!$K$8:$N$301,4,FALSE),\"\")","v":""},{"$f":"IF(S256=S255,T255,\"\")&REPT(AnalýzaDat!$R256&\", \",AnalýzaDat!$R256<>\"\")","v":""},{"$f":"IF(COUNTIF(S$8:S256,S256)=1,S256,\"\")","v":""},{"$f":"IFERROR(IF(LEN(AnalýzaDat!$S$8:$S$301)=0,\"\",COUNTIF(AnalýzaDat!$S$8:$S$301,S256)),\"\")","v":""},{"$f":"IFERROR(IF(LEN($U256)>0,LEFT(INDIRECT(\"AnalýzaDat!T\"&ROW(AnalýzaDat!$U256)+AnalýzaDat!$V256-1),LEN(INDIRECT(\"AnalýzaDat!T\"&ROW(AnalýzaDat!$U256)+AnalýzaDat!$V256-1))-2),\"\"),\"\")","v":""}]
[{"$nulls":7},{"$f":"IFERROR(INDEX('Hlavní seznam měrných jednotek'!$B$4:$K$30,1+INT((ROW(A250)-1)/COLUMNS('Hlavní seznam měrných jednotek'!$B$4:$K$30)),MOD(ROW(A250)-1+COLUMNS('Hlavní seznam měrných jednotek'!$B$4:$K$30),COLUMNS('Hlavní seznam měrných jednotek'!$B$4:$K$30))+1),\"\")","v":""},"",null,{"$f":"IFERROR(RANK(L257,AnalýzaDat!$L$8:$L$301)+SUMPRODUCT(--(L257=AnalýzaDat!$L$8:$L$301),--(O257<AnalýzaDat!$O$8:$O$301)),\"\")","v":""},{"$f":"IFERROR(IF(COUNTIF(AnalýzaDat!$I$8:$I$299,\"<=\"&AnalýzaDat!$I$8:$I$299)=0,\"\",COUNTIF(AnalýzaDat!$I$8:$I$299,\"<=\"&AnalýzaDat!$I$8:$I$299)),\"\")","v":""},{"$f":"IFERROR(IF(AND(poslední_položka-počáteční_řádek=0,LEN(INDEX(AnalýzaDat!$H$8:$I$299,1,1)=0)),\"\",IF(poslední_položka-počáteční_řádek=0,INDEX(AnalýzaDat!$H$8:$I$299,1,1),INDEX(AnalýzaDat!$H$8:$H$299,ROW(A250),1))),\"\")","v":""},{"$f":"IFERROR(IF(AND(poslední_položka-počáteční_řádek=0,ISBLANK(INDEX(AnalýzaDat!$I$8:$I$299,1,1))),\"\",IF(poslední_položka-počáteční_řádek=0,INDEX(AnalýzaDat!$I$8:$I$299,1,1),INDEX(AnalýzaDat!$I$8:$I$299,ROW(A250),1))),\"\")","v":""},45,null,{"$f":"IFERROR(AnalýzaDat!$O257,\"\")","v":45},{"$f":"IFERROR(VLOOKUP(AnalýzaDat!$Q$8:$Q$301,AnalýzaDat!$K$8:$N$301,3,FALSE),\"\")","v":""},{"$f":"IFERROR(VLOOKUP(AnalýzaDat!$Q$8:$Q$301,AnalýzaDat!$K$8:$N$301,4,FALSE),\"\")","v":""},{"$f":"IF(S257=S256,T256,\"\")&REPT(AnalýzaDat!$R257&\", \",AnalýzaDat!$R257<>\"\")","v":""},{"$f":"IF(COUNTIF(S$8:S257,S257)=1,S257,\"\")","v":""},{"$f":"IFERROR(IF(LEN(AnalýzaDat!$S$8:$S$301)=0,\"\",COUNTIF(AnalýzaDat!$S$8:$S$301,S257)),\"\")","v":""},{"$f":"IFERROR(IF(LEN($U257)>0,LEFT(INDIRECT(\"AnalýzaDat!T\"&ROW(AnalýzaDat!$U257)+AnalýzaDat!$V257-1),LEN(INDIRECT(\"AnalýzaDat!T\"&ROW(AnalýzaDat!$U257)+AnalýzaDat!$V257-1))-2),\"\"),\"\")","v":""}]
[{"$nulls":7},{"$f":"IFERROR(INDEX('Hlavní seznam měrných jednotek'!$B$4:$K$30,1+INT((ROW(A251)-1)/COLUMNS('Hlavní seznam měrných jednotek'!$B$4:$K$30)),MOD(ROW(A251)-1+COLUMNS('Hlavní seznam měrných jednotek'!$B$4:$K$30),COLUMNS('Hlavní seznam měrných jednotek'!$B$4:$K$30))+1),\"\")","v":" "},"",null,{"$f":"IFERROR(RANK(L258,AnalýzaDat!$L$8:$L$301)+SUMPRODUCT(--(L258=AnalýzaDat!$L$8:$L$301),--(O258<AnalýzaDat!$O$8:$O$301)),\"\")","v":""},{"$f":"IFERROR(IF(COUNTIF(AnalýzaDat!$I$8:$I$299,\"<=\"&AnalýzaDat!$I$8:$I$299)=0,\"\",COUNTIF(AnalýzaDat!$I$8:$I$299,\"<=\"&AnalýzaDat!$I$8:$I$299)),\"\")","v":""},{"$f":"IFERROR(IF(AND(poslední_položka-počáteční_řádek=0,LEN(INDEX(AnalýzaDat!$H$8:$I$299,1,1)=0)),\"\",IF(poslední_položka-počáteční_řádek=0,INDEX(AnalýzaDat!$H$8:$I$299,1,1),INDEX(AnalýzaDat!$H$8:$H$299,ROW(A251),1))),\"\")","v":" "},{"$f":"IFERROR(IF(AND(poslední_položka-počáteční_řádek=0,ISBLANK(INDEX(AnalýzaDat!$I$8:$I$299,1,1))),\"\",IF(poslední_položka-počáteční_řádek=0,INDEX(AnalýzaDat!$I$8:$I$299,1,1),INDEX(AnalýzaDat!$I$8:$I$299,ROW(A251),1))),\"\")","v":""},44,null,{"$f":"IFERROR(AnalýzaDat!$O258,\"\")","v":44},{"$f":"IFERROR(VLOOKUP(AnalýzaDat!$Q$8:$Q$301,AnalýzaDat!$K$8:$N$301,3,FALSE),\"\")","v":""},{"$f":"IFERROR(VLOOKUP(AnalýzaDat!$Q$8:$Q$301,AnalýzaDat!$K$8:$N$301,4,FALSE),\"\")","v":""},{"$f":"IF(S258=S257,T257,\"\")&REPT(AnalýzaDat!$R258&\", \",AnalýzaDat!$R258<>\"\")","v":""},{"$f":"IF(COUNTIF(S$8:S258,S258)=1,S258,\"\")","v":""},{"$f":"IFERROR(IF(LEN(AnalýzaDat!$S$8:$S$301)=0,\"\",COUNTIF(AnalýzaDat!$S$8:$S$301,S258)),\"\")","v":""},{"$f":"IFERROR(IF(LEN($U258)>0,LEFT(INDIRECT(\"AnalýzaDat!T\"&ROW(AnalýzaDat!$U258)+AnalýzaDat!$V258-1),LEN(INDIRECT(\"AnalýzaDat!T\"&ROW(AnalýzaDat!$U258)+AnalýzaDat!$V258-1))-2),\"\"),\"\")","v":""}]
[{"$nulls":7},{"$f":"IFERROR(INDEX('Hlavní seznam měrných jednotek'!$B$4:$K$30,1+INT((ROW(A252)-1)/COLUMNS('Hlavní seznam měrných jednotek'!$B$4:$K$30)),MOD(ROW(A252)-1+COLUMNS('Hlavní seznam měrných jednotek'!$B$4:$K$30),COLUMNS('Hlavní seznam měrných jednotek'!$B$4:$K$30))+1),\"\")","v":" "},"",null,{"$f":"IFERROR(RANK(L259,AnalýzaDat!$L$8:$L$301)+SUMPRODUCT(--(L259=AnalýzaDat!$L$8:$L$301),--(O259<AnalýzaDat!$O$8:$O$301)),\"\")","v":""},{"$f":"IFERROR(IF(COUNTIF(AnalýzaDat!$I$8:$I$299,\"<=\"&AnalýzaDat!$I$8:$I$299)=0,\"\",COUNTIF(AnalýzaDat!$I$8:$I$299,\"<=\"&AnalýzaDat!$I$8:$I$299)),\"\")","v":""},{"$f":"IFERROR(IF(AND(poslední_položka-počáteční_řádek=0,LEN(INDEX(AnalýzaDat!$H$8:$I$299,1,1)=0)),\"\",IF(poslední_položka-počáteční_řádek=0,INDEX(AnalýzaDat!$H$8:$I$299,1,1),INDEX(AnalýzaDat!$H$8:$H$299,ROW(A252),1))),\"\")","v":" "},{"$f":"IFERROR(IF(AND(poslední_položka-počáteční_řádek=0,ISBLANK(INDEX(AnalýzaDat!$I$8:$I$299,1,1))),\"\",IF(poslední_položka-počáteční_řádek=0,INDEX(AnalýzaDat!$I$8:$I$299,1,1),INDEX(AnalýzaDat!$I$8:$I$299,ROW(A252),1))),\"\")","v":""},43,null,{"$f":"IFERROR(AnalýzaDat!$O259,\"\")","v":43},{"$f":"IFERROR(VLOOKUP(AnalýzaDat!$Q$8:$Q$301,AnalýzaDat!$K$8:$N$301,3,FALSE),\"\")","v":""},{"$f":"IFERROR(VLOOKUP(AnalýzaDat!$Q$8:$Q$301,AnalýzaDat!$K$8:$N$301,4,FALSE),\"\")","v":""},{"$f":"IF(S259=S258,T258,\"\")&REPT(AnalýzaDat!$R259&\", \",AnalýzaDat!$R259<>\"\")","v":""},{"$f":"IF(COUNTIF(S$8:S259,S259)=1,S259,\"\")","v":""},{"$f":"IFERROR(IF(LEN(AnalýzaDat!$S$8:$S$301)=0,\"\",COUNTIF(AnalýzaDat!$S$8:$S$301,S259)),\"\")","v":""},{"$f":"IFERROR(IF(LEN($U259)>0,LEFT(INDIRECT(\"AnalýzaDat!T\"&ROW(AnalýzaDat!$U259)+AnalýzaDat!$V259-1),LEN(INDIRECT(\"AnalýzaDat!T\"&ROW(AnalýzaDat!$U259)+AnalýzaDat!$V259-1))-2),\"\"),\"\")","v":""}]
[{"$nulls":7},{"$f":"IFERROR(INDEX('Hlavní seznam měrných jednotek'!$B$4:$K$30,1+INT((ROW(A253)-1)/COLUMNS('Hlavní seznam měrných jednotek'!$B$4:$K$30)),MOD(ROW(A253)-1+COLUMNS('Hlavní seznam měrných jednotek'!$B$4:$K$30),COLUMNS('Hlavní seznam měrných jednotek'!$B$4:$K$30))+1),\"\")","v":""},"",null,{"$f":"IFERROR(RANK(L260,AnalýzaDat!$L$8:$L$301)+SUMPRODUCT(--(L260=AnalýzaDat!$L$8:$L$301),--(O260<AnalýzaDat!$O$8:$O$301)),\"\")","v":""},{"$f":"IFERROR(IF(COUNTIF(AnalýzaDat!$I$8:$I$299,\"<=\"&AnalýzaDat!$I$8:$I$299)=0,\"\",COUNTIF(AnalýzaDat!$I$8:$I$299,\"<=\"&AnalýzaDat!$I$8:$I$299)),\"\")","v":""},{"$f":"IFERROR(IF(AND(poslední_položka-počáteční_řádek=0,LEN(INDEX(AnalýzaDat!$H$8:$I$299,1,1)=0)),\"\",IF(poslední_položka-počáteční_řádek=0,INDEX(AnalýzaDat!$H$8:$I$299,1,1),INDEX(AnalýzaDat!$H$8:$H$299,ROW(A253),1))),\"\")","v":""},{"$f":"IFERROR(IF(AND(poslední_položka-počáteční_řádek=0,ISBLANK(INDEX(AnalýzaDat!$I$8:$I$299,1,1))),\"\",IF(poslední_položka-počáteční_řádek=0,INDEX(AnalýzaDat!$I$8:$I$299,1,1),INDEX(AnalýzaDat!$I$8:$I$299,ROW(A253),1))),\"\")","v":""},42,null,{"$f":"IFERROR(AnalýzaDat!$O260,\"\")","v":42},{"$f":"IFERROR(VLOOKUP(AnalýzaDat!$Q$8:$Q$301,AnalýzaDat!$K$8:$N$301,3,FALSE),\"\")","v":""},{"$f":"IFERROR(VLOOKUP(AnalýzaDat!$Q$8:$Q$301,AnalýzaDat!$K$8:$N$301,4,FALSE),\"\")","v":""},{"$f":"IF(S260=S259,T259,\"\")&REPT(AnalýzaDat!$R260&\", \",AnalýzaDat!$R260<>\"\")","v":""},{"$f":"IF(COUNTIF(S$8:S260,S260)=1,S260,\"\")","v":""},{"$f":"IFERROR(IF(LEN(AnalýzaDat!$S$8:$S$301)=0,\"\",COUNTIF(AnalýzaDat!$S$8:$S$301,S260)),\"\")","v":""},{"$f":"IFERROR(IF(LEN($U260)>0,LEFT(INDIRECT(\"AnalýzaDat!T\"&ROW(AnalýzaDat!$U260)+AnalýzaDat!$V260-1),LEN(INDIRECT(\"AnalýzaDat!T\"&ROW(AnalýzaDat!$U260)+AnalýzaDat!$V260-1))-2),\"\"),\"\")","v":""}]
[{"$nulls":7},{"$f":"IFERROR(INDEX('Hlavní seznam měrných jednotek'!$B$4:$K$30,1+INT((ROW(A254)-1)/COLUMNS('Hlavní seznam měrných jednotek'!$B$4:$K$30)),MOD(ROW(A254)-1+COLUMNS('Hlavní seznam měrných jednotek'!$B$4:$K$30),COLUMNS('Hlavní seznam měrných jednotek'!$B$4:$K$30))+1),\"\")","v":""},"",null,{"$f":"IFERROR(RANK(L261,AnalýzaDat!$L$8:$L$301)+SUMPRODUCT(--(L261=AnalýzaDat!$L$8:$L$301),--(O261<AnalýzaDat!$O$8:$O$301)),\"\")","v":""},{"$f":"IFERROR(IF(COUNTIF(AnalýzaDat!$I$8:$I$299,\"<=\"&AnalýzaDat!$I$8:$I$299)=0,\"\",COUNTIF(AnalýzaDat!$I$8:$I$299,\"<=\"&AnalýzaDat!$I$8:$I$299)),\"\")","v":""},{"$f":"IFERROR(IF(AND(poslední_položka-počáteční_řádek=0,LEN(INDEX(AnalýzaDat!$H$8:$I$299,1,1)=0)),\"\",IF(poslední_položka-počáteční_řádek=0,INDEX(AnalýzaDat!$H$8:$I$299,1,1),INDEX(AnalýzaDat!$H$8:$H$299,ROW(A254),1))),\"\")","v":""},{"$f":"IFERROR(IF(AND(poslední_položka-počáteční_řádek=0,ISBLANK(INDEX(AnalýzaDat!$I$8:$I$299,1,1))),\"\",IF(poslední_položka-počáteční_řádek=0,INDEX(AnalýzaDat!$I$8:$I$299,1,1),INDEX(AnalýzaDat!$I$8:$I$299,ROW(A254),1))),\"\")","v":""},41,null,{"$f":"IFERROR(AnalýzaDat!$O261,\"\")","v":41},{"$f":"IFERROR(VLOOKUP(AnalýzaDat!$Q$8:$Q$301,AnalýzaDat!$K$8:$N$301,3,FALSE),\"\")","v":""},{"$f":"IFERROR(VLOOKUP(AnalýzaDat!$Q$8:$Q$301,AnalýzaDat!$K$8:$N$301,4,FALSE),\"\")","v":""},{"$f":"IF(S261=S260,T260,\"\")&REPT(AnalýzaDat!$R261&\", \",AnalýzaDat!$R261<>\"\")","v":""},{"$f":"IF(COUNTIF(S$8:S261,S261)=1,S261,\"\")","v":""},{"$f":"IFERROR(IF(LEN(AnalýzaDat!$S$8:$S$301)=0,\"\",COUNTIF(AnalýzaDat!$S$8:$S$301,S261)),\"\")","v":""},{"$f":"IFERROR(IF(LEN($U261)>0,LEFT(INDIRECT(\"AnalýzaDat!T\"&ROW(AnalýzaDat!$U261)+AnalýzaDat!$V261-1),LEN(INDIRECT(\"AnalýzaDat!T\"&ROW(AnalýzaDat!$U261)+AnalýzaDat!$V261-1))-2),\"\"),\"\")","v":""}]
[{"$nulls":7},{"$f":"IFERROR(INDEX('Hlavní seznam měrných jednotek'!$B$4:$K$30,1+INT((ROW(A255)-1)/COLUMNS('Hlavní seznam měrných jednotek'!$B$4:$K$30)),MOD(ROW(A255)-1+COLUMNS('Hlavní seznam měrných jednotek'!$B$4:$K$30),COLUMNS('Hlavní seznam měrných jednotek'!$B$4:$K$30))+1),\"\")","v":""},"",null,{"$f":"IFERROR(RANK(L262,AnalýzaDat!$L$8:$L$301)+SUMPRODUCT(--(L262=AnalýzaDat!$L$8:$L$301),--(O262<AnalýzaDat!$O$8:$O$301)),\"\")","v":""},{"$f":"IFERROR(IF(COUNTIF(AnalýzaDat!$I$8:$I$299,\"<=\"&AnalýzaDat!$I$8:$I$299)=0,\"\",COUNTIF(AnalýzaDat!$I$8:$I$299,\"<=\"&AnalýzaDat!$I$8:$I$299)),\"\")","v":""},{"$f":"IFERROR(IF(AND(poslední_položka-počáteční_řádek=0,LEN(INDEX(AnalýzaDat!$H$8:$I$299,1,1)=0)),\"\",IF(poslední_položka-počáteční_řádek=0,INDEX(AnalýzaDat!$H$8:$I$299,1,1),INDEX(AnalýzaDat!$H$8:$H$299,ROW(A255),1))),\"\")","v":""},{"$f":"IFERROR(IF(AND(poslední_položka-počáteční_řádek=0,ISBLANK(INDEX(AnalýzaDat!$I$8:$I$299,1,1))),\"\",IF(poslední_položka-počáteční_řádek=0,INDEX(AnalýzaDat!$I$8:$I$299,1,1),INDEX(AnalýzaDat!$I$8:$I$299,ROW(A255),1))),\"\")","v":""},40,null,{"$f":"IFERROR(AnalýzaDat!$O262,\"\")","v":40},{"$f":"IFERROR(VLOOKUP(AnalýzaDat!$Q$8:$Q$301,AnalýzaDat!$K$8:$N$301,3,FALSE),\"\")","v":""},{"$f":"IFERROR(VLOOKUP(AnalýzaDat!$Q$8:$Q$301,AnalýzaDat!$K$8:$N$301,4,FALSE),\"\")","v":""},{"$f":"IF(S262=S261,T261,\"\")&REPT(AnalýzaDat!$R262&\", \",AnalýzaDat!$R262<>\"\")","v":""},{"$f":"IF(COUNTIF(S$8:S262,S262)=1,S262,\"\")","v":""},{"$f":"IFERROR(IF(LEN(AnalýzaDat!$S$8:$S$301)=0,\"\",COUNTIF(AnalýzaDat!$S$8:$S$301,S262)),\"\")","v":""},{"$f":"IFERROR(IF(LEN($U262)>0,LEFT(INDIRECT(\"AnalýzaDat!T\"&ROW(AnalýzaDat!$U262)+AnalýzaDat!$V262-1),LEN(INDIRECT(\"AnalýzaDat!T\"&ROW(AnalýzaDat!$U262)+AnalýzaDat!$V262-1))-2),\"\"),\"\")","v":""}]
[{"$nulls":7},{"$f":"IFERROR(INDEX('Hlavní seznam měrných jednotek'!$B$4:$K$30,1+INT((ROW(A256)-1)/COLUMNS('Hlavní seznam měrných jednotek'!$B$4:$K$30)),MOD(ROW(A256)-1+COLUMNS('Hlavní seznam měrných jednotek'!$B$4:$K$30),COLUMNS('Hlavní seznam měrných jednotek'!$B$4:$K$30))+1),\"\")","v":""},"",null,{"$f":"IFERROR(RANK(L263,AnalýzaDat!$L$8:$L$301)+SUMPRODUCT(--(L263=AnalýzaDat!$L$8:$L$301),--(O263<AnalýzaDat!$O$8:$O$301)),\"\")","v":""},{"$f":"IFERROR(IF(COUNTIF(AnalýzaDat!$I$8:$I$299,\"<=\"&AnalýzaDat!$I$8:$I$299)=0,\"\",COUNTIF(AnalýzaDat!$I$8:$I$299,\"<=\"&AnalýzaDat!$I$8:$I$299)),\"\")","v":""},{"$f":"IFERROR(IF(AND(poslední_položka-počáteční_řádek=0,LEN(INDEX(AnalýzaDat!$H$8:$I$299,1,1)=0)),\"\",IF(poslední_položka-počáteční_řádek=0,INDEX(AnalýzaDat!$H$8:$I$299,1,1),INDEX(AnalýzaDat!$H$8:$H$299,ROW(A256),1))),\"\")","v":""},{"$f":"IFERROR(IF(AND(poslední_položka-počáteční_řádek=0,ISBLANK(INDEX(AnalýzaDat!$I$8:$I$299,1,1))),\"\",IF(poslední_položka-počáteční_řádek=0,INDEX(AnalýzaDat!$I$8:$I$299,1,1),INDEX(AnalýzaDat!$I$8:$I$299,ROW(A256),1))),\"\")","v":""},39,null,{"$f":"IFERROR(AnalýzaDat!$O263,\"\")","v":39},{"$f":"IFERROR(VLOOKUP(AnalýzaDat!$Q$8:$Q$301,AnalýzaDat!$K$8:$N$301,3,FALSE),\"\")","v":""},{"$f":"IFERROR(VLOOKUP(AnalýzaDat!$Q$8:$Q$301,AnalýzaDat!$K$8:$N$301,4,FALSE),\"\")","v":""},{"$f":"IF(S263=S262,T262,\"\")&REPT(AnalýzaDat!$R263&\", \",AnalýzaDat!$R263<>\"\")","v":""},{"$f":"IF(COUNTIF(S$8:S263,S263)=1,S263,\"\")","v":""},{"$f":"IFERROR(IF(LEN(AnalýzaDat!$S$8:$S$301)=0,\"\",COUNTIF(AnalýzaDat!$S$8:$S$301,S263)),\"\")","v":""},{"$f":"IFERROR(IF(LEN($U263)>0,LEFT(INDIRECT(\"AnalýzaDat!T\"&ROW(AnalýzaDat!$U263)+AnalýzaDat!$V263-1),LEN(INDIRECT(\"AnalýzaDat!T\"&ROW(AnalýzaDat!$U263)+AnalýzaDat!$V263-1))-2),\"\"),\"\")","v":""}]
[{"$nulls":7},{"$f":"IFERROR(INDEX('Hlavní seznam měrných jednotek'!$B$4:$K$30,1+INT((ROW(A257)-1)/COLUMNS('Hlavní seznam měrných jednotek'!$B$4:$K$30)),MOD(ROW(A257)-1+COLUMNS('Hlavní seznam měrných jednotek'!$B$4:$K$30),COLUMNS('Hlavní seznam měrných jednotek'!$B$4:$K$30))+1),\"\")","v":""},{"$f":"IFERROR(INDEX(HlavníSeznamIngrediencí,1+INT((ROW(A257)-1)/COLUMNS(HlavníSeznamIngrediencí)),MOD(ROW(A257)-1+COLUMNS(HlavníSeznamIngrediencí),COLUMNS(HlavníSeznamIngrediencí))+1),\"\")","v":""},null,{"$f":"IFERROR(RANK(L264,AnalýzaDat!$L$8:$L$301)+SUMPRODUCT(--(L264=AnalýzaDat!$L$8:$L$301),--(O264<AnalýzaDat!$O$8:$O$301)),\"\")","v":""},{"$f":"IFERROR(IF(COUNTIF(AnalýzaDat!$I$8:$I$299,\"<=\"&AnalýzaDat!$I$8:$I$299)=0,\"\",COUNTIF(AnalýzaDat!$I$8:$I$299,\"<=\"&AnalýzaDat!$I$8:$I$299)),\"\")","v":""},{"$f":"IFERROR(IF(AND(poslední_položka-počáteční_řádek=0,LEN(INDEX(AnalýzaDat!$H$8:$I$299,1,1)=0)),\"\",IF(poslední_položka-počáteční_řádek=0,INDEX(AnalýzaDat!$H$8:$I$299,1,1),INDEX(AnalýzaDat!$H$8:$H$299,ROW(A257),1))),\"\")","v":""},{"$f":"IFERROR(IF(AND(poslední_položka-počáteční_řádek=0,ISBLANK(INDEX(AnalýzaDat!$I$8:$I$299,1,1))),\"\",IF(poslední_položka-počáteční_řádek=0,INDEX(AnalýzaDat!$I$8:$I$299,1,1),INDEX(AnalýzaDat!$I$8:$I$299,ROW(A257),1))),\"\")","v":""},38,null,{"$f":"IFERROR(AnalýzaDat!$O264,\"\")","v":38},{"$f":"IFERROR(VLOOKUP(AnalýzaDat!$Q$8:$Q$301,AnalýzaDat!$K$8:$N$301,3,FALSE),\"\")","v":""},{"$f":"IFERROR(VLOOKUP(AnalýzaDat!$Q$8:$Q$301,AnalýzaDat!$K$8:$N$301,4,FALSE),\"\")","v":""},{"$f":"IF(S264=S263,T263,\"\")&REPT(AnalýzaDat!$R264&\", \",AnalýzaDat!$R264<>\"\")","v":""},{"$f":"IF(COUNTIF(S$8:S264,S264)=1,S264,\"\")","v":""},{"$f":"IFERROR(IF(LEN(AnalýzaDat!$S$8:$S$301)=0,\"\",COUNTIF(AnalýzaDat!$S$8:$S$301,S264)),\"\")","v":""},{"$f":"IFERROR(IF(LEN($U264)>0,LEFT(INDIRECT(\"AnalýzaDat!T\"&ROW(AnalýzaDat!$U264)+AnalýzaDat!$V264-1),LEN(INDIRECT(\"AnalýzaDat!T\"&ROW(AnalýzaDat!$U264)+AnalýzaDat!$V264-1))-2),\"\"),\"\")","v":""}]
[{"$nulls":7},{"$f":"IFERROR(INDEX('Hlavní seznam měrných jednotek'!$B$4:$K$30,1+INT((ROW(A258)-1)/COLUMNS('Hlavní seznam měrných jednotek'!$B$4:$K$30)),MOD(ROW(A258)-1+COLUMNS('Hlavní seznam měrných jednotek'!$B$4:$K$30),COLUMNS('Hlavní seznam měrných jednotek'!$B$4:$K$30))+1),\"\")","v":""},"",null,{"$f":"IFERROR(RANK(L265,AnalýzaDat!$L$8:$L$301)+SUMPRODUCT(--(L265=AnalýzaDat!$L$8:$L$301),--(O265<AnalýzaDat!$O$8:$O$301)),\"\")","v":""},{"$f":"IFERROR(IF(COUNTIF(AnalýzaDat!$I$8:$I$299,\"<=\"&AnalýzaDat!$I$8:$I$299)=0,\"\",COUNTIF(AnalýzaDat!$I$8:$I$299,\"<=\"&AnalýzaDat!$I$8:$I$299)),\"\")","v":""},{"$f":"IFERROR(IF(AND(poslední_položka-počáteční_řádek=0,LEN(INDEX(AnalýzaDat!$H$8:$I$299,1,1)=0)),\"\",IF(poslední_položka-počáteční_řádek=0,INDEX(AnalýzaDat!$H$8:$I$299,1,1),INDEX(AnalýzaDat!$H$8:$H$299,ROW(A258),1))),\"\")","v":""},{"$f":"IFERROR(IF(AND(poslední_položka-počáteční_řádek=0,ISBLANK(INDEX(AnalýzaDat!$I$8:$I$299,1,1))),\"\",IF(poslední_položka-počáteční_řádek=0,INDEX(AnalýzaDat!$I$8:$I$299,1,1),INDEX(AnalýzaDat!$I$8:$I$299,ROW(A258),1))),\"\")","v":""},37,null,{"$f":"IFERROR(AnalýzaDat!$O265,\"\")","v":37},{"$f":"IFERROR(VLOOKUP(AnalýzaDat!$Q$8:$Q$301,AnalýzaDat!$K$8:$N$301,3,FALSE),\"\")","v":""},{"$f":"IFERROR(VLOOKUP(AnalýzaDat!$Q$8:$Q$301,AnalýzaDat!$K$8:$N$301,4,FALSE),\"\")","v":""},{"$f":"IF(S265=S264,T264,\"\")&REPT(AnalýzaDat!$R265&\", \",AnalýzaDat!$R265<>\"\")","v":""},{"$f":"IF(COUNTIF(S$8:S265,S265)=1,S265,\"\")","v":""},{"$f":"IFERROR(IF(LEN(AnalýzaDat!$S$8:$S$301)=0,\"\",COUNTIF(AnalýzaDat!$S$8:$S$301,S265)),\"\")","v":""},{"$f":"IFERROR(IF(LEN($U265)>0,LEFT(INDIRECT(\"AnalýzaDat!T\"&ROW(AnalýzaDat!$U265)+AnalýzaDat!$V265-1),LEN(INDIRECT(\"AnalýzaDat!T\"&ROW(AnalýzaDat!$U265)+AnalýzaDat!$V265-1))-2),\"\"),\"\")","v":""}]
[{"$nulls":7},{"$f":"IFERROR(INDEX('Hlavní seznam měrných jednotek'!$B$4:$K$30,1+INT((ROW(A259)-1)/COLUMNS('Hlavní seznam měrných jednotek'!$B$4:$K$30)),MOD(ROW(A259)-1+COLUMNS('Hlavní seznam měrných jednotek'!$B$4:$K$30),COLUMNS('Hlavní seznam měrných jednotek'!$B$4:$K$30))+1),\"\")","v":""},"",null,{"$f":"IFERROR(RANK(L266,AnalýzaDat!$L$8:$L$301)+SUMPRODUCT(--(L266=AnalýzaDat!$L$8:$L$301),--(O266<AnalýzaDat!$O$8:$O$301)),\"\")","v":""},{"$f":"IFERROR(IF(COUNTIF(AnalýzaDat!$I$8:$I$299,\"<=\"&AnalýzaDat!$I$8:$I$299)=0,\"\",COUNTIF(AnalýzaDat!$I$8:$I$299,\"<=\"&AnalýzaDat!$I$8:$I$299)),\"\")","v":""},{"$f":"IFERROR(IF(AND(poslední_položka-počáteční_řádek=0,LEN(INDEX(AnalýzaDat!$H$8:$I$299,1,1)=0)),\"\",IF(poslední_položka-počáteční_řádek=0,INDEX(AnalýzaDat!$H$8:$I$299,1,1),INDEX(AnalýzaDat!$H$8:$H$299,ROW(A259),1))),\"\")","v":""},{"$f":"IFERROR(IF(AND(poslední_položka-počáteční_řádek=0,ISBLANK(INDEX(AnalýzaDat!$I$8:$I$299,1,1))),\"\",IF(poslední_položka-počáteční_řádek=0,INDEX(AnalýzaDat!$I$8:$I$299,1,1),INDEX(AnalýzaDat!$I$8:$I$299,ROW(A259),1))),\"\")","v":""},{"$f":"O265-1","v":36},null,{"$f":"IFERROR(AnalýzaDat!$O266,\"\")","v":36},{"$f":"IFERROR(VLOOKUP(AnalýzaDat!$Q$8:$Q$301,AnalýzaDat!$K$8:$N$301,3,FALSE),\"\")","v":""},{"$f":"IFERROR(VLOOKUP(AnalýzaDat!$Q$8:$Q$301,AnalýzaDat!$K$8:$N$301,4,FALSE),\"\")","v":""},{"$f":"IF(S266=S265,T265,\"\")&REPT(AnalýzaDat!$R266&\", \",AnalýzaDat!$R266<>\"\")","v":""},{"$f":"IF(COUNTIF(S$8:S266,S266)=1,S266,\"\")","v":""},{"$f":"IFERROR(IF(LEN(AnalýzaDat!$S$8:$S$301)=0,\"\",COUNTIF(AnalýzaDat!$S$8:$S$301,S266)),\"\")","v":""},{"$f":"IFERROR(IF(LEN($U266)>0,LEFT(INDIRECT(\"AnalýzaDat!T\"&ROW(AnalýzaDat!$U266)+AnalýzaDat!$V266-1),LEN(INDIRECT(\"AnalýzaDat!T\"&ROW(AnalýzaDat!$U266)+AnalýzaDat!$V266-1))-2),\"\"),\"\")","v":""}]
[{"$nulls":7},{"$f":"IFERROR(INDEX('Hlavní seznam měrných jednotek'!$B$4:$K$30,1+INT((ROW(A260)-1)/COLUMNS('Hlavní seznam měrných jednotek'!$B$4:$K$30)),MOD(ROW(A260)-1+COLUMNS('Hlavní seznam měrných jednotek'!$B$4:$K$30),COLUMNS('Hlavní seznam měrných jednotek'!$B$4:$K$30))+1),\"\")","v":""},"",null,{"$f":"IFERROR(RANK(L267,AnalýzaDat!$L$8:$L$301)+SUMPRODUCT(--(L267=AnalýzaDat!$L$8:$L$301),--(O267<AnalýzaDat!$O$8:$O$301)),\"\")","v":""},{"$f":"IFERROR(IF(COUNTIF(AnalýzaDat!$I$8:$I$299,\"<=\"&AnalýzaDat!$I$8:$I$299)=0,\"\",COUNTIF(AnalýzaDat!$I$8:$I$299,\"<=\"&AnalýzaDat!$I$8:$I$299)),\"\")","v":""},{"$f":"IFERROR(IF(AND(poslední_položka-počáteční_řádek=0,LEN(INDEX(AnalýzaDat!$H$8:$I$299,1,1)=0)),\"\",IF(poslední_položka-počáteční_řádek=0,INDEX(AnalýzaDat!$H$8:$I$299,1,1),INDEX(AnalýzaDat!$H$8:$H$299,ROW(A260),1))),\"\")","v":""},{"$f":"IFERROR(IF(AND(poslední_položka-počáteční_řádek=0,ISBLANK(INDEX(AnalýzaDat!$I$8:$I$299,1,1))),\"\",IF(poslední_položka-počáteční_řádek=0,INDEX(AnalýzaDat!$I$8:$I$299,1,1),INDEX(AnalýzaDat!$I$8:$I$299,ROW(A260),1))),\"\")","v":""},35,null,{"$f":"IFERROR(AnalýzaDat!$O267,\"\")","v":35},{"$f":"IFERROR(VLOOKUP(AnalýzaDat!$Q$8:$Q$301,AnalýzaDat!$K$8:$N$301,3,FALSE),\"\")","v":""},{"$f":"IFERROR(VLOOKUP(AnalýzaDat!$Q$8:$Q$301,AnalýzaDat!$K$8:$N$301,4,FALSE),\"\")","v":""},{"$f":"IF(S267=S266,T266,\"\")&REPT(AnalýzaDat!$R267&\", \",AnalýzaDat!$R267<>\"\")","v":""},{"$f":"IF(COUNTIF(S$8:S267,S267)=1,S267,\"\")","v":""},{"$f":"IFERROR(IF(LEN(AnalýzaDat!$S$8:$S$301)=0,\"\",COUNTIF(AnalýzaDat!$S$8:$S$301,S267)),\"\")","v":""},{"$f":"IFERROR(IF(LEN($U267)>0,LEFT(INDIRECT(\"AnalýzaDat!T\"&ROW(AnalýzaDat!$U267)+AnalýzaDat!$V267-1),LEN(INDIRECT(\"AnalýzaDat!T\"&ROW(AnalýzaDat!$U267)+AnalýzaDat!$V267-1))-2),\"\"),\"\")","v":""}]
[{"$nulls":7},{"$f":"IFERROR(INDEX('Hlavní seznam měrných jednotek'!$B$4:$K$30,1+INT((ROW(A261)-1)/COLUMNS('Hlavní seznam měrných jednotek'!$B$4:$K$30)),MOD(ROW(A261)-1+COLUMNS('Hlavní seznam měrných jednotek'!$B$4:$K$30),COLUMNS('Hlavní seznam měrných jednotek'!$B$4:$K$30))+1),\"\")","v":" "},"",null,{"$f":"IFERROR(RANK(L268,AnalýzaDat!$L$8:$L$301)+SUMPRODUCT(--(L268=AnalýzaDat!$L$8:$L$301),--(O268<AnalýzaDat!$O$8:$O$301)),\"\")","v":""},{"$f":"IFERROR(IF(COUNTIF(AnalýzaDat!$I$8:$I$299,\"<=\"&AnalýzaDat!$I$8:$I$299)=0,\"\",COUNTIF(AnalýzaDat!$I$8:$I$299,\"<=\"&AnalýzaDat!$I$8:$I$299)),\"\")","v":""},{"$f":"IFERROR(IF(AND(poslední_položka-počáteční_řádek=0,LEN(INDEX(AnalýzaDat!$H$8:$I$299,1,1)=0)),\"\",IF(poslední_položka-počáteční_řádek=0,INDEX(AnalýzaDat!$H$8:$I$299,1,1),INDEX(AnalýzaDat!$H$8:$H$299,ROW(A261),1))),\"\")","v":" "},{"$f":"IFERROR(IF(AND(poslední_položka-počáteční_řádek=0,ISBLANK(INDEX(AnalýzaDat!$I$8:$I$299,1,1))),\"\",IF(poslední_položka-počáteční_řádek=0,INDEX(AnalýzaDat!$I$8:$I$299,1,1),INDEX(AnalýzaDat!$I$8:$I$299,ROW(A261),1))),\"\")","v":""},34,null,{"$f":"IFERROR(AnalýzaDat!$O268,\"\")","v":34},{"$f":"IFERROR(VLOOKUP(AnalýzaDat!$Q$8:$Q$301,AnalýzaDat!$K$8:$N$301,3,FALSE),\"\")","v":""},{"$f":"IFERROR(VLOOKUP(AnalýzaDat!$Q$8:$Q$301,AnalýzaDat!$K$8:$N$301,4,FALSE),\"\")","v":""},{"$f":"IF(S268=S267,T267,\"\")&REPT(AnalýzaDat!$R268&\", \",AnalýzaDat!$R268<>\"\")","v":""},{"$f":"IF(COUNTIF(S$8:S268,S268)=1,S268,\"\")","v":""},{"$f":"IFERROR(IF(LEN(AnalýzaDat!$S$8:$S$301)=0,\"\",COUNTIF(AnalýzaDat!$S$8:$S$301,S268)),\"\")","v":""},{"$f":"IFERROR(IF(LEN($U268)>0,LEFT(INDIRECT(\"AnalýzaDat!T\"&ROW(AnalýzaDat!$U268)+AnalýzaDat!$V268-1),LEN(INDIRECT(\"AnalýzaDat!T\"&ROW(AnalýzaDat!$U268)+AnalýzaDat!$V268-1))-2),\"\"),\"\")","v":""}]
[{"$nulls":7},{"$f":"IFERROR(INDEX('Hlavní seznam měrných jednotek'!$B$4:$K$30,1+INT((ROW(A262)-1)/COLUMNS('Hlavní seznam měrných jednotek'!$B$4:$K$30)),MOD(ROW(A262)-1+COLUMNS('Hlavní seznam měrných jednotek'!$B$4:$K$30),COLUMNS('Hlavní seznam měrných jednotek'!$B$4:$K$30))+1),\"\")","v":" "},"",null,{"$f":"IFERROR(RANK(L269,AnalýzaDat!$L$8:$L$301)+SUMPRODUCT(--(L269=AnalýzaDat!$L$8:$L$301),--(O269<AnalýzaDat!$O$8:$O$301)),\"\")","v":""},{"$f":"IFERROR(IF(COUNTIF(AnalýzaDat!$I$8:$I$299,\"<=\"&AnalýzaDat!$I$8:$I$299)=0,\"\",COUNTIF(AnalýzaDat!$I$8:$I$299,\"<=\"&AnalýzaDat!$I$8:$I$299)),\"\")","v":""},{"$f":"IFERROR(IF(AND(poslední_položka-počáteční_řádek=0,LEN(INDEX(AnalýzaDat!$H$8:$I$299,1,1)=0)),\"\",IF(poslední_položka-počáteční_řádek=0,INDEX(AnalýzaDat!$H$8:$I$299,1,1),INDEX(AnalýzaDat!$H$8:$H$299,ROW(A262),1))),\"\")","v":" "},{"$f":"IFERROR(IF(AND(poslední_položka-počáteční_řádek=0,ISBLANK(INDEX(AnalýzaDat!$I$8:$I$299,1,1))),\"\",IF(poslední_položka-počáteční_řádek=0,INDEX(AnalýzaDat!$I$8:$I$299,1,1),INDEX(AnalýzaDat!$I$8:$I$299,ROW(A262),1))),\"\")","v":""},33,null,{"$f":"IFERROR(AnalýzaDat!$O269,\"\")","v":33},{"$f":"IFERROR(VLOOKUP(AnalýzaDat!$Q$8:$Q$301,AnalýzaDat!$K$8:$N$301,3,FALSE),\"\")","v":""},{"$f":"IFERROR(VLOOKUP(AnalýzaDat!$Q$8:$Q$301,AnalýzaDat!$K$8:$N$301,4,FALSE),\"\")","v":""},{"$f":"IF(S269=S268,T268,\"\")&REPT(AnalýzaDat!$R269&\", \",AnalýzaDat!$R269<>\"\")","v":""},{"$f":"IF(COUNTIF(S$8:S269,S269)=1,S269,\"\")","v":""},{"$f":"IFERROR(IF(LEN(AnalýzaDat!$S$8:$S$301)=0,\"\",COUNTIF(AnalýzaDat!$S$8:$S$301,S269)),\"\")","v":""},{"$f":"IFERROR(IF(LEN($U269)>0,LEFT(INDIRECT(\"AnalýzaDat!T\"&ROW(AnalýzaDat!$U269)+AnalýzaDat!$V269-1),LEN(INDIRECT(\"AnalýzaDat!T\"&ROW(AnalýzaDat!$U269)+AnalýzaDat!$V269-1))-2),\"\"),\"\")","v":""}]
[{"$nulls":7},{"$f":"IFERROR(INDEX('Hlavní seznam měrných jednotek'!$B$4:$K$30,1+INT((ROW(A263)-1)/COLUMNS('Hlavní seznam měrných jednotek'!$B$4:$K$30)),MOD(ROW(A263)-1+COLUMNS('Hlavní seznam měrných jednotek'!$B$4:$K$30),COLUMNS('Hlavní seznam měrných jednotek'!$B$4:$K$30))+1),\"\")","v":""},"",null,{"$f":"IFERROR(RANK(L270,AnalýzaDat!$L$8:$L$301)+SUMPRODUCT(--(L270=AnalýzaDat!$L$8:$L$301),--(O270<AnalýzaDat!$O$8:$O$301)),\"\")","v":""},{"$f":"IFERROR(IF(COUNTIF(AnalýzaDat!$I$8:$I$299,\"<=\"&AnalýzaDat!$I$8:$I$299)=0,\"\",COUNTIF(AnalýzaDat!$I$8:$I$299,\"<=\"&AnalýzaDat!$I$8:$I$299)),\"\")","v":""},{"$f":"IFERROR(IF(AND(poslední_položka-počáteční_řádek=0,LEN(INDEX(AnalýzaDat!$H$8:$I$299,1,1)=0)),\"\",IF(poslední_položka-počáteční_řádek=0,INDEX(AnalýzaDat!$H$8:$I$299,1,1),INDEX(AnalýzaDat!$H$8:$H$299,ROW(A263),1))),\"\")","v":""},{"$f":"IFERROR(IF(AND(poslední_položka-počáteční_řádek=0,ISBLANK(INDEX(AnalýzaDat!$I$8:$I$299,1,1))),\"\",IF(poslední_položka-počáteční_řádek=0,INDEX(AnalýzaDat!$I$8:$I$299,1,1),INDEX(AnalýzaDat!$I$8:$I$299,ROW(A263),1))),\"\")","v":""},32,null,{"$f":"IFERROR(AnalýzaDat!$O270,\"\")","v":32},{"$f":"IFERROR(VLOOKUP(AnalýzaDat!$Q$8:$Q$301,AnalýzaDat!$K$8:$N$301,3,FALSE),\"\")","v":""},{"$f":"IFERROR(VLOOKUP(AnalýzaDat!$Q$8:$Q$301,AnalýzaDat!$K$8:$N$301,4,FALSE),\"\")","v":""},{"$f":"IF(S270=S269,T269,\"\")&REPT(AnalýzaDat!$R270&\", \",AnalýzaDat!$R270<>\"\")","v":""},{"$f":"IF(COUNTIF(S$8:S270,S270)=1,S270,\"\")","v":""},{"$f":"IFERROR(IF(LEN(AnalýzaDat!$S$8:$S$301)=0,\"\",COUNTIF(AnalýzaDat!$S$8:$S$301,S270)),\"\")","v":""},{"$f":"IFERROR(IF(LEN($U270)>0,LEFT(INDIRECT(\"AnalýzaDat!T\"&ROW(AnalýzaDat!$U270)+AnalýzaDat!$V270-1),LEN(INDIRECT(\"AnalýzaDat!T\"&ROW(AnalýzaDat!$U270)+AnalýzaDat!$V270-1))-2),\"\"),\"\")","v":""}]
[{"$nulls":7},{"$f":"IFERROR(INDEX('Hlavní seznam měrných jednotek'!$B$4:$K$30,1+INT((ROW(A264)-1)/COLUMNS('Hlavní seznam měrných jednotek'!$B$4:$K$30)),MOD(ROW(A264)-1+COLUMNS('Hlavní seznam měrných jednotek'!$B$4:$K$30),COLUMNS('Hlavní seznam měrných jednotek'!$B$4:$K$30))+1),\"\")","v":""},"",null,{"$f":"IFERROR(RANK(L271,AnalýzaDat!$L$8:$L$301)+SUMPRODUCT(--(L271=AnalýzaDat!$L$8:$L$301),--(O271<AnalýzaDat!$O$8:$O$301)),\"\")","v":""},{"$f":"IFERROR(IF(COUNTIF(AnalýzaDat!$I$8:$I$299,\"<=\"&AnalýzaDat!$I$8:$I$299)=0,\"\",COUNTIF(AnalýzaDat!$I$8:$I$299,\"<=\"&AnalýzaDat!$I$8:$I$299)),\"\")","v":""},{"$f":"IFERROR(IF(AND(poslední_položka-počáteční_řádek=0,LEN(INDEX(AnalýzaDat!$H$8:$I$299,1,1)=0)),\"\",IF(poslední_položka-počáteční_řádek=0,INDEX(AnalýzaDat!$H$8:$I$299,1,1),INDEX(AnalýzaDat!$H$8:$H$299,ROW(A264),1))),\"\")","v":""},{"$f":"IFERROR(IF(AND(poslední_položka-počáteční_řádek=0,ISBLANK(INDEX(AnalýzaDat!$I$8:$I$299,1,1))),\"\",IF(poslední_položka-počáteční_řádek=0,INDEX(AnalýzaDat!$I$8:$I$299,1,1),INDEX(AnalýzaDat!$I$8:$I$299,ROW(A264),1))),\"\")","v":""},31,null,{"$f":"IFERROR(AnalýzaDat!$O271,\"\")","v":31},{"$f":"IFERROR(VLOOKUP(AnalýzaDat!$Q$8:$Q$301,AnalýzaDat!$K$8:$N$301,3,FALSE),\"\")","v":""},{"$f":"IFERROR(VLOOKUP(AnalýzaDat!$Q$8:$Q$301,AnalýzaDat!$K$8:$N$301,4,FALSE),\"\")","v":""},{"$f":"IF(S271=S270,T270,\"\")&REPT(AnalýzaDat!$R271&\", \",AnalýzaDat!$R271<>\"\")","v":""},{"$f":"IF(COUNTIF(S$8:S271,S271)=1,S271,\"\")","v":""},{"$f":"IFERROR(IF(LEN(AnalýzaDat!$S$8:$S$301)=0,\"\",COUNTIF(AnalýzaDat!$S$8:$S$301,S271)),\"\")","v":""},{"$f":"IFERROR(IF(LEN($U271)>0,LEFT(INDIRECT(\"AnalýzaDat!T\"&ROW(AnalýzaDat!$U271)+AnalýzaDat!$V271-1),LEN(INDIRECT(\"AnalýzaDat!T\"&ROW(AnalýzaDat!$U271)+AnalýzaDat!$V271-1))-2),\"\"),\"\")","v":""}]
[{"$nulls":7},{"$f":"IFERROR(INDEX('Hlavní seznam měrných jednotek'!$B$4:$K$30,1+INT((ROW(A265)-1)/COLUMNS('Hlavní seznam měrných jednotek'!$B$4:$K$30)),MOD(ROW(A265)-1+COLUMNS('Hlavní seznam měrných jednotek'!$B$4:$K$30),COLUMNS('Hlavní seznam měrných jednotek'!$B$4:$K$30))+1),\"\")","v":""},"",null,{"$f":"IFERROR(RANK(L272,AnalýzaDat!$L$8:$L$301)+SUMPRODUCT(--(L272=AnalýzaDat!$L$8:$L$301),--(O272<AnalýzaDat!$O$8:$O$301)),\"\")","v":""},{"$f":"IFERROR(IF(COUNTIF(AnalýzaDat!$I$8:$I$299,\"<=\"&AnalýzaDat!$I$8:$I$299)=0,\"\",COUNTIF(AnalýzaDat!$I$8:$I$299,\"<=\"&AnalýzaDat!$I$8:$I$299)),\"\")","v":""},{"$f":"IFERROR(IF(AND(poslední_položka-počáteční_řádek=0,LEN(INDEX(AnalýzaDat!$H$8:$I$299,1,1)=0)),\"\",IF(poslední_položka-počáteční_řádek=0,INDEX(AnalýzaDat!$H$8:$I$299,1,1),INDEX(AnalýzaDat!$H$8:$H$299,ROW(A265),1))),\"\")","v":""},{"$f":"IFERROR(IF(AND(poslední_položka-počáteční_řádek=0,ISBLANK(INDEX(AnalýzaDat!$I$8:$I$299,1,1))),\"\",IF(poslední_položka-počáteční_řádek=0,INDEX(AnalýzaDat!$I$8:$I$299,1,1),INDEX(AnalýzaDat!$I$8:$I$299,ROW(A265),1))),\"\")","v":""},30,null,{"$f":"IFERROR(AnalýzaDat!$O272,\"\")","v":30},{"$f":"IFERROR(VLOOKUP(AnalýzaDat!$Q$8:$Q$301,AnalýzaDat!$K$8:$N$301,3,FALSE),\"\")","v":""},{"$f":"IFERROR(VLOOKUP(AnalýzaDat!$Q$8:$Q$301,AnalýzaDat!$K$8:$N$301,4,FALSE),\"\")","v":""},{"$f":"IF(S272=S271,T271,\"\")&REPT(AnalýzaDat!$R272&\", \",AnalýzaDat!$R272<>\"\")","v":""},{"$f":"IF(COUNTIF(S$8:S272,S272)=1,S272,\"\")","v":""},{"$f":"IFERROR(IF(LEN(AnalýzaDat!$S$8:$S$301)=0,\"\",COUNTIF(AnalýzaDat!$S$8:$S$301,S272)),\"\")","v":""},{"$f":"IFERROR(IF(LEN($U272)>0,LEFT(INDIRECT(\"AnalýzaDat!T\"&ROW(AnalýzaDat!$U272)+AnalýzaDat!$V272-1),LEN(INDIRECT(\"AnalýzaDat!T\"&ROW(AnalýzaDat!$U272)+AnalýzaDat!$V272-1))-2),\"\"),\"\")","v":""}]
[{"$nulls":7},{"$f":"IFERROR(INDEX('Hlavní seznam měrných jednotek'!$B$4:$K$30,1+INT((ROW(A266)-1)/COLUMNS('Hlavní seznam měrných jednotek'!$B$4:$K$30)),MOD(ROW(A266)-1+COLUMNS('Hlavní seznam měrných jednotek'!$B$4:$K$30),COLUMNS('Hlavní seznam měrných jednotek'!$B$4:$K$30))+1),\"\")","v":""},"",null,{"$f":"IFERROR(RANK(L273,AnalýzaDat!$L$8:$L$301)+SUMPRODUCT(--(L273=AnalýzaDat!$L$8:$L$301),--(O273<AnalýzaDat!$O$8:$O$301)),\"\")","v":""},{"$f":"IFERROR(IF(COUNTIF(AnalýzaDat!$I$8:$I$299,\"<=\"&AnalýzaDat!$I$8:$I$299)=0,\"\",COUNTIF(AnalýzaDat!$I$8:$I$299,\"<=\"&AnalýzaDat!$I$8:$I$299)),\"\")","v":""},{"$f":"IFERROR(IF(AND(poslední_položka-počáteční_řádek=0,LEN(INDEX(AnalýzaDat!$H$8:$I$299,1,1)=0)),\"\",IF(poslední_položka-počáteční_řádek=0,INDEX(AnalýzaDat!$H$8:$I$299,1,1),INDEX(AnalýzaDat!$H$8:$H$299,ROW(A266),1))),\"\")","v":""},{"$f":"IFERROR(IF(AND(poslední_položka-počáteční_řádek=0,ISBLANK(INDEX(AnalýzaDat!$I$8:$I$299,1,1))),\"\",IF(poslední_položka-počáteční_řádek=0,INDEX(AnalýzaDat!$I$8:$I$299,1,1),INDEX(AnalýzaDat!$I$8:$I$299,ROW(A266),1))),\"\")","v":""},29,null,{"$f":"IFERROR(AnalýzaDat!$O273,\"\")","v":29},{"$f":"IFERROR(VLOOKUP(AnalýzaDat!$Q$8:$Q$301,AnalýzaDat!$K$8:$N$301,3,FALSE),\"\")","v":""},{"$f":"IFERROR(VLOOKUP(AnalýzaDat!$Q$8:$Q$301,AnalýzaDat!$K$8:$N$301,4,FALSE),\"\")","v":""},{"$f":"IF(S273=S272,T272,\"\")&REPT(AnalýzaDat!$R273&\", \",AnalýzaDat!$R273<>\"\")","v":""},{"$f":"IF(COUNTIF(S$8:S273,S273)=1,S273,\"\")","v":""},{"$f":"IFERROR(IF(LEN(AnalýzaDat!$S$8:$S$301)=0,\"\",COUNTIF(AnalýzaDat!$S$8:$S$301,S273)),\"\")","v":""},{"$f":"IFERROR(IF(LEN($U273)>0,LEFT(INDIRECT(\"AnalýzaDat!T\"&ROW(AnalýzaDat!$U273)+AnalýzaDat!$V273-1),LEN(INDIRECT(\"AnalýzaDat!T\"&ROW(AnalýzaDat!$U273)+AnalýzaDat!$V273-1))-2),\"\"),\"\")","v":""}]
[{"$nulls":7},{"$f":"IFERROR(INDEX('Hlavní seznam měrných jednotek'!$B$4:$K$30,1+INT((ROW(A267)-1)/COLUMNS('Hlavní seznam měrných jednotek'!$B$4:$K$30)),MOD(ROW(A267)-1+COLUMNS('Hlavní seznam měrných jednotek'!$B$4:$K$30),COLUMNS('Hlavní seznam měrných jednotek'!$B$4:$K$30))+1),\"\")","v":""},"",null,{"$f":"IFERROR(RANK(L274,AnalýzaDat!$L$8:$L$301)+SUMPRODUCT(--(L274=AnalýzaDat!$L$8:$L$301),--(O274<AnalýzaDat!$O$8:$O$301)),\"\")","v":""},{"$f":"IFERROR(IF(COUNTIF(AnalýzaDat!$I$8:$I$299,\"<=\"&AnalýzaDat!$I$8:$I$299)=0,\"\",COUNTIF(AnalýzaDat!$I$8:$I$299,\"<=\"&AnalýzaDat!$I$8:$I$299)),\"\")","v":""},{"$f":"IFERROR(IF(AND(poslední_položka-počáteční_řádek=0,LEN(INDEX(AnalýzaDat!$H$8:$I$299,1,1)=0)),\"\",IF(poslední_položka-počáteční_řádek=0,INDEX(AnalýzaDat!$H$8:$I$299,1,1),INDEX(AnalýzaDat!$H$8:$H$299,ROW(A267),1))),\"\")","v":""},{"$f":"IFERROR(IF(AND(poslední_položka-počáteční_řádek=0,ISBLANK(INDEX(AnalýzaDat!$I$8:$I$299,1,1))),\"\",IF(poslední_položka-počáteční_řádek=0,INDEX(AnalýzaDat!$I$8:$I$299,1,1),INDEX(AnalýzaDat!$I$8:$I$299,ROW(A267),1))),\"\")","v":""},28,null,{"$f":"IFERROR(AnalýzaDat!$O274,\"\")","v":28},{"$f":"IFERROR(VLOOKUP(AnalýzaDat!$Q$8:$Q$301,AnalýzaDat!$K$8:$N$301,3,FALSE),\"\")","v":""},{"$f":"IFERROR(VLOOKUP(AnalýzaDat!$Q$8:$Q$301,AnalýzaDat!$K$8:$N$301,4,FALSE),\"\")","v":""},{"$f":"IF(S274=S273,T273,\"\")&REPT(AnalýzaDat!$R274&\", \",AnalýzaDat!$R274<>\"\")","v":""},{"$f":"IF(COUNTIF(S$8:S274,S274)=1,S274,\"\")","v":""},{"$f":"IFERROR(IF(LEN(AnalýzaDat!$S$8:$S$301)=0,\"\",COUNTIF(AnalýzaDat!$S$8:$S$301,S274)),\"\")","v":""},{"$f":"IFERROR(IF(LEN($U274)>0,LEFT(INDIRECT(\"AnalýzaDat!T\"&ROW(AnalýzaDat!$U274)+AnalýzaDat!$V274-1),LEN(INDIRECT(\"AnalýzaDat!T\"&ROW(AnalýzaDat!$U274)+AnalýzaDat!$V274-1))-2),\"\"),\"\")","v":""}]
[{"$nulls":7},{"$f":"IFERROR(INDEX('Hlavní seznam měrných jednotek'!$B$4:$K$30,1+INT((ROW(A268)-1)/COLUMNS('Hlavní seznam měrných jednotek'!$B$4:$K$30)),MOD(ROW(A268)-1+COLUMNS('Hlavní seznam měrných jednotek'!$B$4:$K$30),COLUMNS('Hlavní seznam měrných jednotek'!$B$4:$K$30))+1),\"\")","v":""},"",null,{"$f":"IFERROR(RANK(L275,AnalýzaDat!$L$8:$L$301)+SUMPRODUCT(--(L275=AnalýzaDat!$L$8:$L$301),--(O275<AnalýzaDat!$O$8:$O$301)),\"\")","v":""},{"$f":"IFERROR(IF(COUNTIF(AnalýzaDat!$I$8:$I$299,\"<=\"&AnalýzaDat!$I$8:$I$299)=0,\"\",COUNTIF(AnalýzaDat!$I$8:$I$299,\"<=\"&AnalýzaDat!$I$8:$I$299)),\"\")","v":""},{"$f":"IFERROR(IF(AND(poslední_položka-počáteční_řádek=0,LEN(INDEX(AnalýzaDat!$H$8:$I$299,1,1)=0)),\"\",IF(poslední_položka-počáteční_řádek=0,INDEX(AnalýzaDat!$H$8:$I$299,1,1),INDEX(AnalýzaDat!$H$8:$H$299,ROW(A268),1))),\"\")","v":""},{"$f":"IFERROR(IF(AND(poslední_položka-počáteční_řádek=0,ISBLANK(INDEX(AnalýzaDat!$I$8:$I$299,1,1))),\"\",IF(poslední_položka-počáteční_řádek=0,INDEX(AnalýzaDat!$I$8:$I$299,1,1),INDEX(AnalýzaDat!$I$8:$I$299,ROW(A268),1))),\"\")","v":""},27,null,{"$f":"IFERROR(AnalýzaDat!$O275,\"\")","v":27},{"$f":"IFERROR(VLOOKUP(AnalýzaDat!$Q$8:$Q$301,AnalýzaDat!$K$8:$N$301,3,FALSE),\"\")","v":""},{"$f":"IFERROR(VLOOKUP(AnalýzaDat!$Q$8:$Q$301,AnalýzaDat!$K$8:$N$301,4,FALSE),\"\")","v":""},{"$f":"IF(S275=S274,T274,\"\")&REPT(AnalýzaDat!$R275&\", \",AnalýzaDat!$R275<>\"\")","v":""},{"$f":"IF(COUNTIF(S$8:S275,S275)=1,S275,\"\")","v":""},{"$f":"IFERROR(IF(LEN(AnalýzaDat!$S$8:$S$301)=0,\"\",COUNTIF(AnalýzaDat!$S$8:$S$301,S275)),\"\")","v":""},{"$f":"IFERROR(IF(LEN($U275)>0,LEFT(INDIRECT(\"AnalýzaDat!T\"&ROW(AnalýzaDat!$U275)+AnalýzaDat!$V275-1),LEN(INDIRECT(\"AnalýzaDat!T\"&ROW(AnalýzaDat!$U275)+AnalýzaDat!$V275-1))-2),\"\"),\"\")","v":""}]
[{"$nulls":7},{"$f":"IFERROR(INDEX('Hlavní seznam měrných jednotek'!$B$4:$K$30,1+INT((ROW(A269)-1)/COLUMNS('Hlavní seznam měrných jednotek'!$B$4:$K$30)),MOD(ROW(A269)-1+COLUMNS('Hlavní seznam měrných jednotek'!$B$4:$K$30),COLUMNS('Hlavní seznam měrných jednotek'!$B$4:$K$30))+1),\"\")","v":""},"",null,{"$f":"IFERROR(RANK(L276,AnalýzaDat!$L$8:$L$301)+SUMPRODUCT(--(L276=AnalýzaDat!$L$8:$L$301),--(O276<AnalýzaDat!$O$8:$O$301)),\"\")","v":""},{"$f":"IFERROR(IF(COUNTIF(AnalýzaDat!$I$8:$I$299,\"<=\"&AnalýzaDat!$I$8:$I$299)=0,\"\",COUNTIF(AnalýzaDat!$I$8:$I$299,\"<=\"&AnalýzaDat!$I$8:$I$299)),\"\")","v":""},{"$f":"IFERROR(IF(AND(poslední_položka-počáteční_řádek=0,LEN(INDEX(AnalýzaDat!$H$8:$I$299,1,1)=0)),\"\",IF(poslední_položka-počáteční_řádek=0,INDEX(AnalýzaDat!$H$8:$I$299,1,1),INDEX(AnalýzaDat!$H$8:$H$299,ROW(A269),1))),\"\")","v":""},{"$f":"IFERROR(IF(AND(poslední_položka-počáteční_řádek=0,ISBLANK(INDEX(AnalýzaDat!$I$8:$I$299,1,1))),\"\",IF(poslední_položka-počáteční_řádek=0,INDEX(AnalýzaDat!$I$8:$I$299,1,1),INDEX(AnalýzaDat!$I$8:$I$299,ROW(A269),1))),\"\")","v":""},26,null,{"$f":"IFERROR(AnalýzaDat!$O276,\"\")","v":26},{"$f":"IFERROR(VLOOKUP(AnalýzaDat!$Q$8:$Q$301,AnalýzaDat!$K$8:$N$301,3,FALSE),\"\")","v":""},{"$f":"IFERROR(VLOOKUP(AnalýzaDat!$Q$8:$Q$301,AnalýzaDat!$K$8:$N$301,4,FALSE),\"\")","v":""},{"$f":"IF(S276=S275,T275,\"\")&REPT(AnalýzaDat!$R276&\", \",AnalýzaDat!$R276<>\"\")","v":""},{"$f":"IF(COUNTIF(S$8:S276,S276)=1,S276,\"\")","v":""},{"$f":"IFERROR(IF(LEN(AnalýzaDat!$S$8:$S$301)=0,\"\",COUNTIF(AnalýzaDat!$S$8:$S$301,S276)),\"\")","v":""},{"$f":"IFERROR(IF(LEN($U276)>0,LEFT(INDIRECT(\"AnalýzaDat!T\"&ROW(AnalýzaDat!$U276)+AnalýzaDat!$V276-1),LEN(INDIRECT(\"AnalýzaDat!T\"&ROW(AnalýzaDat!$U276)+AnalýzaDat!$V276-1))-2),\"\"),\"\")","v":""}]
[{"$nulls":7},{"$f":"IFERROR(INDEX('Hlavní seznam měrných jednotek'!$B$4:$K$30,1+INT((ROW(A270)-1)/COLUMNS('Hlavní seznam měrných jednotek'!$B$4:$K$30)),MOD(ROW(A270)-1+COLUMNS('Hlavní seznam měrných jednotek'!$B$4:$K$30),COLUMNS('Hlavní seznam měrných jednotek'!$B$4:$K$30))+1),\"\")","v":""},"",null,{"$f":"IFERROR(RANK(L277,AnalýzaDat!$L$8:$L$301)+SUMPRODUCT(--(L277=AnalýzaDat!$L$8:$L$301),--(O277<AnalýzaDat!$O$8:$O$301)),\"\")","v":""},{"$f":"IFERROR(IF(COUNTIF(AnalýzaDat!$I$8:$I$299,\"<=\"&AnalýzaDat!$I$8:$I$299)=0,\"\",COUNTIF(AnalýzaDat!$I$8:$I$299,\"<=\"&AnalýzaDat!$I$8:$I$299)),\"\")","v":""},{"$f":"IFERROR(IF(AND(poslední_položka-počáteční_řádek=0,LEN(INDEX(AnalýzaDat!$H$8:$I$299,1,1)=0)),\"\",IF(poslední_položka-počáteční_řádek=0,INDEX(AnalýzaDat!$H$8:$I$299,1,1),INDEX(AnalýzaDat!$H$8:$H$299,ROW(A270),1))),\"\")","v":""},{"$f":"IFERROR(IF(AND(poslední_položka-počáteční_řádek=0,ISBLANK(INDEX(AnalýzaDat!$I$8:$I$299,1,1))),\"\",IF(poslední_položka-počáteční_řádek=0,INDEX(AnalýzaDat!$I$8:$I$299,1,1),INDEX(AnalýzaDat!$I$8:$I$299,ROW(A270),1))),\"\")","v":""},25,null,{"$f":"IFERROR(AnalýzaDat!$O277,\"\")","v":25},{"$f":"IFERROR(VLOOKUP(AnalýzaDat!$Q$8:$Q$301,AnalýzaDat!$K$8:$N$301,3,FALSE),\"\")","v":""},{"$f":"IFERROR(VLOOKUP(AnalýzaDat!$Q$8:$Q$301,AnalýzaDat!$K$8:$N$301,4,FALSE),\"\")","v":""},{"$f":"IF(S277=S276,T276,\"\")&REPT(AnalýzaDat!$R277&\", \",AnalýzaDat!$R277<>\"\")","v":""},{"$f":"IF(COUNTIF(S$8:S277,S277)=1,S277,\"\")","v":""},{"$f":"IFERROR(IF(LEN(AnalýzaDat!$S$8:$S$301)=0,\"\",COUNTIF(AnalýzaDat!$S$8:$S$301,S277)),\"\")","v":""},{"$f":"IFERROR(IF(LEN($U277)>0,LEFT(INDIRECT(\"AnalýzaDat!T\"&ROW(AnalýzaDat!$U277)+AnalýzaDat!$V277-1),LEN(INDIRECT(\"AnalýzaDat!T\"&ROW(AnalýzaDat!$U277)+AnalýzaDat!$V277-1))-2),\"\"),\"\")","v":""}]
[{"$nulls":7},{"$f":"IFERROR(INDEX('Hlavní seznam měrných jednotek'!$B$4:$K$30,1+INT((ROW(A271)-1)/COLUMNS('Hlavní seznam měrných jednotek'!$B$4:$K$30)),MOD(ROW(A271)-1+COLUMNS('Hlavní seznam měrných jednotek'!$B$4:$K$30),COLUMNS('Hlavní seznam měrných jednotek'!$B$4:$K$30))+1),\"\")","v":""},"",null,{"$f":"IFERROR(RANK(L278,AnalýzaDat!$L$8:$L$301)+SUMPRODUCT(--(L278=AnalýzaDat!$L$8:$L$301),--(O278<AnalýzaDat!$O$8:$O$301)),\"\")","v":""},{"$f":"IFERROR(IF(COUNTIF(AnalýzaDat!$I$8:$I$299,\"<=\"&AnalýzaDat!$I$8:$I$299)=0,\"\",COUNTIF(AnalýzaDat!$I$8:$I$299,\"<=\"&AnalýzaDat!$I$8:$I$299)),\"\")","v":""},{"$f":"IFERROR(IF(AND(poslední_položka-počáteční_řádek=0,LEN(INDEX(AnalýzaDat!$H$8:$I$299,1,1)=0)),\"\",IF(poslední_položka-počáteční_řádek=0,INDEX(AnalýzaDat!$H$8:$I$299,1,1),INDEX(AnalýzaDat!$H$8:$H$299,ROW(A271),1))),\"\")","v":""},{"$f":"IFERROR(IF(AND(poslední_položka-počáteční_řádek=0,ISBLANK(INDEX(AnalýzaDat!$I$8:$I$299,1,1))),\"\",IF(poslední_položka-počáteční_řádek=0,INDEX(AnalýzaDat!$I$8:$I$299,1,1),INDEX(AnalýzaDat!$I$8:$I$299,ROW(A271),1))),\"\")","v":""},24,null,{"$f":"IFERROR(AnalýzaDat!$O278,\"\")","v":24},{"$f":"IFERROR(VLOOKUP(AnalýzaDat!$Q$8:$Q$301,AnalýzaDat!$K$8:$N$301,3,FALSE),\"\")","v":""},{"$f":"IFERROR(VLOOKUP(AnalýzaDat!$Q$8:$Q$301,AnalýzaDat!$K$8:$N$301,4,FALSE),\"\")","v":""},{"$f":"IF(S278=S277,T277,\"\")&REPT(AnalýzaDat!$R278&\", \",AnalýzaDat!$R278<>\"\")","v":""},{"$f":"IF(COUNTIF(S$8:S278,S278)=1,S278,\"\")","v":""},{"$f":"IFERROR(IF(LEN(AnalýzaDat!$S$8:$S$301)=0,\"\",COUNTIF(AnalýzaDat!$S$8:$S$301,S278)),\"\")","v":""},{"$f":"IFERROR(IF(LEN($U278)>0,LEFT(INDIRECT(\"AnalýzaDat!T\"&ROW(AnalýzaDat!$U278)+AnalýzaDat!$V278-1),LEN(INDIRECT(\"AnalýzaDat!T\"&ROW(AnalýzaDat!$U278)+AnalýzaDat!$V278-1))-2),\"\"),\"\")","v":""}]
[{"$nulls":7},{"$f":"IFERROR(INDEX('Hlavní seznam měrných jednotek'!$B$4:$K$30,1+INT((ROW(A272)-1)/COLUMNS('Hlavní seznam měrných jednotek'!$B$4:$K$30)),MOD(ROW(A272)-1+COLUMNS('Hlavní seznam měrných jednotek'!$B$4:$K$30),COLUMNS('Hlavní seznam měrných jednotek'!$B$4:$K$30))+1),\"\")","v":""},"",null,{"$f":"IFERROR(RANK(L279,AnalýzaDat!$L$8:$L$301)+SUMPRODUCT(--(L279=AnalýzaDat!$L$8:$L$301),--(O279<AnalýzaDat!$O$8:$O$301)),\"\")","v":""},{"$f":"IFERROR(IF(COUNTIF(AnalýzaDat!$I$8:$I$299,\"<=\"&AnalýzaDat!$I$8:$I$299)=0,\"\",COUNTIF(AnalýzaDat!$I$8:$I$299,\"<=\"&AnalýzaDat!$I$8:$I$299)),\"\")","v":""},{"$f":"IFERROR(IF(AND(poslední_položka-počáteční_řádek=0,LEN(INDEX(AnalýzaDat!$H$8:$I$299,1,1)=0)),\"\",IF(poslední_položka-počáteční_řádek=0,INDEX(AnalýzaDat!$H$8:$I$299,1,1),INDEX(AnalýzaDat!$H$8:$H$299,ROW(A272),1))),\"\")","v":""},{"$f":"IFERROR(IF(AND(poslední_položka-počáteční_řádek=0,ISBLANK(INDEX(AnalýzaDat!$I$8:$I$299,1,1))),\"\",IF(poslední_položka-počáteční_řádek=0,INDEX(AnalýzaDat!$I$8:$I$299,1,1),INDEX(AnalýzaDat!$I$8:$I$299,ROW(A272),1))),\"\")","v":""},23,null,{"$f":"IFERROR(AnalýzaDat!$O279,\"\")","v":23},{"$f":"IFERROR(VLOOKUP(AnalýzaDat!$Q$8:$Q$301,AnalýzaDat!$K$8:$N$301,3,FALSE),\"\")","v":""},{"$f":"IFERROR(VLOOKUP(AnalýzaDat!$Q$8:$Q$301,AnalýzaDat!$K$8:$N$301,4,FALSE),\"\")","v":""},{"$f":"IF(S279=S278,T278,\"\")&REPT(AnalýzaDat!$R279&\", \",AnalýzaDat!$R279<>\"\")","v":""},{"$f":"IF(COUNTIF(S$8:S279,S279)=1,S279,\"\")","v":""},{"$f":"IFERROR(IF(LEN(AnalýzaDat!$S$8:$S$301)=0,\"\",COUNTIF(AnalýzaDat!$S$8:$S$301,S279)),\"\")","v":""},{"$f":"IFERROR(IF(LEN($U279)>0,LEFT(INDIRECT(\"AnalýzaDat!T\"&ROW(AnalýzaDat!$U279)+AnalýzaDat!$V279-1),LEN(INDIRECT(\"AnalýzaDat!T\"&ROW(AnalýzaDat!$U279)+AnalýzaDat!$V279-1))-2),\"\"),\"\")","v":""}]
[{"$nulls":7},{"$f":"IFERROR(INDEX('Hlavní seznam měrných jednotek'!$B$4:$K$30,1+INT((ROW(A273)-1)/COLUMNS('Hlavní seznam měrných jednotek'!$B$4:$K$30)),MOD(ROW(A273)-1+COLUMNS('Hlavní seznam měrných jednotek'!$B$4:$K$30),COLUMNS('Hlavní seznam měrných jednotek'!$B$4:$K$30))+1),\"\")","v":""},"",null,{"$f":"IFERROR(RANK(L280,AnalýzaDat!$L$8:$L$301)+SUMPRODUCT(--(L280=AnalýzaDat!$L$8:$L$301),--(O280<AnalýzaDat!$O$8:$O$301)),\"\")","v":""},{"$f":"IFERROR(IF(COUNTIF(AnalýzaDat!$I$8:$I$299,\"<=\"&AnalýzaDat!$I$8:$I$299)=0,\"\",COUNTIF(AnalýzaDat!$I$8:$I$299,\"<=\"&AnalýzaDat!$I$8:$I$299)),\"\")","v":""},{"$f":"IFERROR(IF(AND(poslední_položka-počáteční_řádek=0,LEN(INDEX(AnalýzaDat!$H$8:$I$299,1,1)=0)),\"\",IF(poslední_položka-počáteční_řádek=0,INDEX(AnalýzaDat!$H$8:$I$299,1,1),INDEX(AnalýzaDat!$H$8:$H$299,ROW(A273),1))),\"\")","v":""},{"$f":"IFERROR(IF(AND(poslední_položka-počáteční_řádek=0,ISBLANK(INDEX(AnalýzaDat!$I$8:$I$299,1,1))),\"\",IF(poslední_položka-počáteční_řádek=0,INDEX(AnalýzaDat!$I$8:$I$299,1,1),INDEX(AnalýzaDat!$I$8:$I$299,ROW(A273),1))),\"\")","v":""},22,null,{"$f":"IFERROR(AnalýzaDat!$O280,\"\")","v":22},{"$f":"IFERROR(VLOOKUP(AnalýzaDat!$Q$8:$Q$301,AnalýzaDat!$K$8:$N$301,3,FALSE),\"\")","v":""},{"$f":"IFERROR(VLOOKUP(AnalýzaDat!$Q$8:$Q$301,AnalýzaDat!$K$8:$N$301,4,FALSE),\"\")","v":""},{"$f":"IF(S280=S279,T279,\"\")&REPT(AnalýzaDat!$R280&\", \",AnalýzaDat!$R280<>\"\")","v":""},{"$f":"IF(COUNTIF(S$8:S280,S280)=1,S280,\"\")","v":""},{"$f":"IFERROR(IF(LEN(AnalýzaDat!$S$8:$S$301)=0,\"\",COUNTIF(AnalýzaDat!$S$8:$S$301,S280)),\"\")","v":""},{"$f":"IFERROR(IF(LEN($U280)>0,LEFT(INDIRECT(\"AnalýzaDat!T\"&ROW(AnalýzaDat!$U280)+AnalýzaDat!$V280-1),LEN(INDIRECT(\"AnalýzaDat!T\"&ROW(AnalýzaDat!$U280)+AnalýzaDat!$V280-1))-2),\"\"),\"\")","v":""}]
[{"$nulls":7},{"$f":"IFERROR(INDEX('Hlavní seznam měrných jednotek'!$B$4:$K$30,1+INT((ROW(A274)-1)/COLUMNS('Hlavní seznam měrných jednotek'!$B$4:$K$30)),MOD(ROW(A274)-1+COLUMNS('Hlavní seznam měrných jednotek'!$B$4:$K$30),COLUMNS('Hlavní seznam měrných jednotek'!$B$4:$K$30))+1),\"\")","v":""},"",null,{"$f":"IFERROR(RANK(L281,AnalýzaDat!$L$8:$L$301)+SUMPRODUCT(--(L281=AnalýzaDat!$L$8:$L$301),--(O281<AnalýzaDat!$O$8:$O$301)),\"\")","v":""},{"$f":"IFERROR(IF(COUNTIF(AnalýzaDat!$I$8:$I$299,\"<=\"&AnalýzaDat!$I$8:$I$299)=0,\"\",COUNTIF(AnalýzaDat!$I$8:$I$299,\"<=\"&AnalýzaDat!$I$8:$I$299)),\"\")","v":""},{"$f":"IFERROR(IF(AND(poslední_položka-počáteční_řádek=0,LEN(INDEX(AnalýzaDat!$H$8:$I$299,1,1)=0)),\"\",IF(poslední_položka-počáteční_řádek=0,INDEX(AnalýzaDat!$H$8:$I$299,1,1),INDEX(AnalýzaDat!$H$8:$H$299,ROW(A274),1))),\"\")","v":""},{"$f":"IFERROR(IF(AND(poslední_položka-počáteční_řádek=0,ISBLANK(INDEX(AnalýzaDat!$I$8:$I$299,1,1))),\"\",IF(poslední_položka-počáteční_řádek=0,INDEX(AnalýzaDat!$I$8:$I$299,1,1),INDEX(AnalýzaDat!$I$8:$I$299,ROW(A274),1))),\"\")","v":""},21,null,{"$f":"IFERROR(AnalýzaDat!$O281,\"\")","v":21},{"$f":"IFERROR(VLOOKUP(AnalýzaDat!$Q$8:$Q$301,AnalýzaDat!$K$8:$N$301,3,FALSE),\"\")","v":""},{"$f":"IFERROR(VLOOKUP(AnalýzaDat!$Q$8:$Q$301,AnalýzaDat!$K$8:$N$301,4,FALSE),\"\")","v":""},{"$f":"IF(S281=S280,T280,\"\")&REPT(AnalýzaDat!$R281&\", \",AnalýzaDat!$R281<>\"\")","v":""},{"$f":"IF(COUNTIF(S$8:S281,S281)=1,S281,\"\")","v":""},{"$f":"IFERROR(IF(LEN(AnalýzaDat!$S$8:$S$301)=0,\"\",COUNTIF(AnalýzaDat!$S$8:$S$301,S281)),\"\")","v":""},{"$f":"IFERROR(IF(LEN($U281)>0,LEFT(INDIRECT(\"AnalýzaDat!T\"&ROW(AnalýzaDat!$U281)+AnalýzaDat!$V281-1),LEN(INDIRECT(\"AnalýzaDat!T\"&ROW(AnalýzaDat!$U281)+AnalýzaDat!$V281-1))-2),\"\"),\"\")","v":""}]
[{"$nulls":7},{"$f":"IFERROR(INDEX('Hlavní seznam měrných jednotek'!$B$4:$K$30,1+INT((ROW(A275)-1)/COLUMNS('Hlavní seznam měrných jednotek'!$B$4:$K$30)),MOD(ROW(A275)-1+COLUMNS('Hlavní seznam měrných jednotek'!$B$4:$K$30),COLUMNS('Hlavní seznam měrných jednotek'!$B$4:$K$30))+1),\"\")","v":""},"",null,{"$f":"IFERROR(RANK(L282,AnalýzaDat!$L$8:$L$301)+SUMPRODUCT(--(L282=AnalýzaDat!$L$8:$L$301),--(O282<AnalýzaDat!$O$8:$O$301)),\"\")","v":""},{"$f":"IFERROR(IF(COUNTIF(AnalýzaDat!$I$8:$I$299,\"<=\"&AnalýzaDat!$I$8:$I$299)=0,\"\",COUNTIF(AnalýzaDat!$I$8:$I$299,\"<=\"&AnalýzaDat!$I$8:$I$299)),\"\")","v":""},{"$f":"IFERROR(IF(AND(poslední_položka-počáteční_řádek=0,LEN(INDEX(AnalýzaDat!$H$8:$I$299,1,1)=0)),\"\",IF(poslední_položka-počáteční_řádek=0,INDEX(AnalýzaDat!$H$8:$I$299,1,1),INDEX(AnalýzaDat!$H$8:$H$299,ROW(A275),1))),\"\")","v":""},{"$f":"IFERROR(IF(AND(poslední_položka-počáteční_řádek=0,ISBLANK(INDEX(AnalýzaDat!$I$8:$I$299,1,1))),\"\",IF(poslední_položka-počáteční_řádek=0,INDEX(AnalýzaDat!$I$8:$I$299,1,1),INDEX(AnalýzaDat!$I$8:$I$299,ROW(A275),1))),\"\")","v":""},20,null,{"$f":"IFERROR(AnalýzaDat!$O282,\"\")","v":20},{"$f":"IFERROR(VLOOKUP(AnalýzaDat!$Q$8:$Q$301,AnalýzaDat!$K$8:$N$301,3,FALSE),\"\")","v":""},{"$f":"IFERROR(VLOOKUP(AnalýzaDat!$Q$8:$Q$301,AnalýzaDat!$K$8:$N$301,4,FALSE),\"\")","v":""},{"$f":"IF(S282=S281,T281,\"\")&REPT(AnalýzaDat!$R282&\", \",AnalýzaDat!$R282<>\"\")","v":""},{"$f":"IF(COUNTIF(S$8:S282,S282)=1,S282,\"\")","v":""},{"$f":"IFERROR(IF(LEN(AnalýzaDat!$S$8:$S$301)=0,\"\",COUNTIF(AnalýzaDat!$S$8:$S$301,S282)),\"\")","v":""},{"$f":"IFERROR(IF(LEN($U282)>0,LEFT(INDIRECT(\"AnalýzaDat!T\"&ROW(AnalýzaDat!$U282)+AnalýzaDat!$V282-1),LEN(INDIRECT(\"AnalýzaDat!T\"&ROW(AnalýzaDat!$U282)+AnalýzaDat!$V282-1))-2),\"\"),\"\")","v":""}]
[{"$nulls":7},{"$f":"IFERROR(INDEX('Hlavní seznam měrných jednotek'!$B$4:$K$30,1+INT((ROW(A276)-1)/COLUMNS('Hlavní seznam měrných jednotek'!$B$4:$K$30)),MOD(ROW(A276)-1+COLUMNS('Hlavní seznam měrných jednotek'!$B$4:$K$30),COLUMNS('Hlavní seznam měrných jednotek'!$B$4:$K$30))+1),\"\")","v":""},"",null,{"$f":"IFERROR(RANK(L283,AnalýzaDat!$L$8:$L$301)+SUMPRODUCT(--(L283=AnalýzaDat!$L$8:$L$301),--(O283<AnalýzaDat!$O$8:$O$301)),\"\")","v":""},{"$f":"IFERROR(IF(COUNTIF(AnalýzaDat!$I$8:$I$299,\"<=\"&AnalýzaDat!$I$8:$I$299)=0,\"\",COUNTIF(AnalýzaDat!$I$8:$I$299,\"<=\"&AnalýzaDat!$I$8:$I$299)),\"\")","v":""},{"$f":"IFERROR(IF(AND(poslední_položka-počáteční_řádek=0,LEN(INDEX(AnalýzaDat!$H$8:$I$299,1,1)=0)),\"\",IF(poslední_položka-počáteční_řádek=0,INDEX(AnalýzaDat!$H$8:$I$299,1,1),INDEX(AnalýzaDat!$H$8:$H$299,ROW(A276),1))),\"\")","v":""},{"$f":"IFERROR(IF(AND(poslední_položka-počáteční_řádek=0,ISBLANK(INDEX(AnalýzaDat!$I$8:$I$299,1,1))),\"\",IF(poslední_položka-počáteční_řádek=0,INDEX(AnalýzaDat!$I$8:$I$299,1,1),INDEX(AnalýzaDat!$I$8:$I$299,ROW(A276),1))),\"\")","v":""},19,null,{"$f":"IFERROR(AnalýzaDat!$O283,\"\")","v":19},{"$f":"IFERROR(VLOOKUP(AnalýzaDat!$Q$8:$Q$301,AnalýzaDat!$K$8:$N$301,3,FALSE),\"\")","v":""},{"$f":"IFERROR(VLOOKUP(AnalýzaDat!$Q$8:$Q$301,AnalýzaDat!$K$8:$N$301,4,FALSE),\"\")","v":""},{"$f":"IF(S283=S282,T282,\"\")&REPT(AnalýzaDat!$R283&\", \",AnalýzaDat!$R283<>\"\")","v":""},{"$f":"IF(COUNTIF(S$8:S283,S283)=1,S283,\"\")","v":""},{"$f":"IFERROR(IF(LEN(AnalýzaDat!$S$8:$S$301)=0,\"\",COUNTIF(AnalýzaDat!$S$8:$S$301,S283)),\"\")","v":""},{"$f":"IFERROR(IF(LEN($U283)>0,LEFT(INDIRECT(\"AnalýzaDat!T\"&ROW(AnalýzaDat!$U283)+AnalýzaDat!$V283-1),LEN(INDIRECT(\"AnalýzaDat!T\"&ROW(AnalýzaDat!$U283)+AnalýzaDat!$V283-1))-2),\"\"),\"\")","v":""}]
[{"$nulls":7},{"$f":"IFERROR(INDEX('Hlavní seznam měrných jednotek'!$B$4:$K$30,1+INT((ROW(A277)-1)/COLUMNS('Hlavní seznam měrných jednotek'!$B$4:$K$30)),MOD(ROW(A277)-1+COLUMNS('Hlavní seznam měrných jednotek'!$B$4:$K$30),COLUMNS('Hlavní seznam měrných jednotek'!$B$4:$K$30))+1),\"\")","v":""},"",null,{"$f":"IFERROR(RANK(L284,AnalýzaDat!$L$8:$L$301)+SUMPRODUCT(--(L284=AnalýzaDat!$L$8:$L$301),--(O284<AnalýzaDat!$O$8:$O$301)),\"\")","v":""},{"$f":"IFERROR(IF(COUNTIF(AnalýzaDat!$I$8:$I$299,\"<=\"&AnalýzaDat!$I$8:$I$299)=0,\"\",COUNTIF(AnalýzaDat!$I$8:$I$299,\"<=\"&AnalýzaDat!$I$8:$I$299)),\"\")","v":""},{"$f":"IFERROR(IF(AND(poslední_položka-počáteční_řádek=0,LEN(INDEX(AnalýzaDat!$H$8:$I$299,1,1)=0)),\"\",IF(poslední_položka-počáteční_řádek=0,INDEX(AnalýzaDat!$H$8:$I$299,1,1),INDEX(AnalýzaDat!$H$8:$H$299,ROW(A277),1))),\"\")","v":""},{"$f":"IFERROR(IF(AND(poslední_položka-počáteční_řádek=0,ISBLANK(INDEX(AnalýzaDat!$I$8:$I$299,1,1))),\"\",IF(poslední_položka-počáteční_řádek=0,INDEX(AnalýzaDat!$I$8:$I$299,1,1),INDEX(AnalýzaDat!$I$8:$I$299,ROW(A277),1))),\"\")","v":""},18,null,{"$f":"IFERROR(AnalýzaDat!$O284,\"\")","v":18},{"$f":"IFERROR(VLOOKUP(AnalýzaDat!$Q$8:$Q$301,AnalýzaDat!$K$8:$N$301,3,FALSE),\"\")","v":"2 čajové lžičky"},{"$f":"IFERROR(VLOOKUP(AnalýzaDat!$Q$8:$Q$301,AnalýzaDat!$K$8:$N$301,4,FALSE),\"\")","v":"aktivní sušené kvasnice"},{"$f":"IF(S284=S283,T283,\"\")&REPT(AnalýzaDat!$R284&\", \",AnalýzaDat!$R284<>\"\")","v":"2 čajové lžičky, "},{"$f":"IF(COUNTIF(S$8:S284,S284)=1,S284,\"\")","v":"aktivní sušené kvasnice"},{"$f":"IFERROR(IF(LEN(AnalýzaDat!$S$8:$S$301)=0,\"\",COUNTIF(AnalýzaDat!$S$8:$S$301,S284)),\"\")","v":1},{"$f":"IFERROR(IF(LEN($U284)>0,LEFT(INDIRECT(\"AnalýzaDat!T\"&ROW(AnalýzaDat!$U284)+AnalýzaDat!$V284-1),LEN(INDIRECT(\"AnalýzaDat!T\"&ROW(AnalýzaDat!$U284)+AnalýzaDat!$V284-1))-2),\"\"),\"\")","v":"2 čajové lžičky"}]
[{"$nulls":7},{"$f":"IFERROR(INDEX('Hlavní seznam měrných jednotek'!$B$4:$K$30,1+INT((ROW(A278)-1)/COLUMNS('Hlavní seznam měrných jednotek'!$B$4:$K$30)),MOD(ROW(A278)-1+COLUMNS('Hlavní seznam měrných jednotek'!$B$4:$K$30),COLUMNS('Hlavní seznam měrných jednotek'!$B$4:$K$30))+1),\"\")","v":""},"",null,{"$f":"IFERROR(RANK(L285,AnalýzaDat!$L$8:$L$301)+SUMPRODUCT(--(L285=AnalýzaDat!$L$8:$L$301),--(O285<AnalýzaDat!$O$8:$O$301)),\"\")","v":""},{"$f":"IFERROR(IF(COUNTIF(AnalýzaDat!$I$8:$I$299,\"<=\"&AnalýzaDat!$I$8:$I$299)=0,\"\",COUNTIF(AnalýzaDat!$I$8:$I$299,\"<=\"&AnalýzaDat!$I$8:$I$299)),\"\")","v":""},{"$f":"IFERROR(IF(AND(poslední_položka-počáteční_řádek=0,LEN(INDEX(AnalýzaDat!$H$8:$I$299,1,1)=0)),\"\",IF(poslední_položka-počáteční_řádek=0,INDEX(AnalýzaDat!$H$8:$I$299,1,1),INDEX(AnalýzaDat!$H$8:$H$299,ROW(A278),1))),\"\")","v":""},{"$f":"IFERROR(IF(AND(poslední_položka-počáteční_řádek=0,ISBLANK(INDEX(AnalýzaDat!$I$8:$I$299,1,1))),\"\",IF(poslední_položka-počáteční_řádek=0,INDEX(AnalýzaDat!$I$8:$I$299,1,1),INDEX(AnalýzaDat!$I$8:$I$299,ROW(A278),1))),\"\")","v":""},17,null,{"$f":"IFERROR(AnalýzaDat!$O285,\"\")","v":17},{"$f":"IFERROR(VLOOKUP(AnalýzaDat!$Q$8:$Q$301,AnalýzaDat!$K$8:$N$301,3,FALSE),\"\")","v":"5 snítka"},{"$f":"IFERROR(VLOOKUP(AnalýzaDat!$Q$8:$Q$301,AnalýzaDat!$K$8:$N$301,4,FALSE),\"\")","v":"Čerstvý kopr"},{"$f":"IF(S285=S284,T284,\"\")&REPT(AnalýzaDat!$R285&\", \",AnalýzaDat!$R285<>\"\")","v":"5 snítka, "},{"$f":"IF(COUNTIF(S$8:S285,S285)=1,S285,\"\")","v":"Čerstvý kopr"},{"$f":"IFERROR(IF(LEN(AnalýzaDat!$S$8:$S$301)=0,\"\",COUNTIF(AnalýzaDat!$S$8:$S$301,S285)),\"\")","v":1},{"$f":"IFERROR(IF(LEN($U285)>0,LEFT(INDIRECT(\"AnalýzaDat!T\"&ROW(AnalýzaDat!$U285)+AnalýzaDat!$V285-1),LEN(INDIRECT(\"AnalýzaDat!T\"&ROW(AnalýzaDat!$U285)+AnalýzaDat!$V285-1))-2),\"\"),\"\")","v":"5 snítka"}]
[{"$nulls":7},{"$f":"IFERROR(INDEX('Hlavní seznam měrných jednotek'!$B$4:$K$30,1+INT((ROW(A279)-1)/COLUMNS('Hlavní seznam měrných jednotek'!$B$4:$K$30)),MOD(ROW(A279)-1+COLUMNS('Hlavní seznam měrných jednotek'!$B$4:$K$30),COLUMNS('Hlavní seznam měrných jednotek'!$B$4:$K$30))+1),\"\")","v":""},"",null,{"$f":"IFERROR(RANK(L286,AnalýzaDat!$L$8:$L$301)+SUMPRODUCT(--(L286=AnalýzaDat!$L$8:$L$301),--(O286<AnalýzaDat!$O$8:$O$301)),\"\")","v":""},{"$f":"IFERROR(IF(COUNTIF(AnalýzaDat!$I$8:$I$299,\"<=\"&AnalýzaDat!$I$8:$I$299)=0,\"\",COUNTIF(AnalýzaDat!$I$8:$I$299,\"<=\"&AnalýzaDat!$I$8:$I$299)),\"\")","v":""},{"$f":"IFERROR(IF(AND(poslední_položka-počáteční_řádek=0,LEN(INDEX(AnalýzaDat!$H$8:$I$299,1,1)=0)),\"\",IF(poslední_položka-počáteční_řádek=0,INDEX(AnalýzaDat!$H$8:$I$299,1,1),INDEX(AnalýzaDat!$H$8:$H$299,ROW(A279),1))),\"\")","v":""},{"$f":"IFERROR(IF(AND(poslední_položka-počáteční_řádek=0,ISBLANK(INDEX(AnalýzaDat!$I$8:$I$299,1,1))),\"\",IF(poslední_položka-počáteční_řádek=0,INDEX(AnalýzaDat!$I$8:$I$299,1,1),INDEX(AnalýzaDat!$I$8:$I$299,ROW(A279),1))),\"\")","v":""},16,null,{"$f":"IFERROR(AnalýzaDat!$O286,\"\")","v":16},{"$f":"IFERROR(VLOOKUP(AnalýzaDat!$Q$8:$Q$301,AnalýzaDat!$K$8:$N$301,3,FALSE),\"\")","v":"1 malé"},{"$f":"IFERROR(VLOOKUP(AnalýzaDat!$Q$8:$Q$301,AnalýzaDat!$K$8:$N$301,4,FALSE),\"\")","v":"červená cibule"},{"$f":"IF(S286=S285,T285,\"\")&REPT(AnalýzaDat!$R286&\", \",AnalýzaDat!$R286<>\"\")","v":"1 malé, "},{"$f":"IF(COUNTIF(S$8:S286,S286)=1,S286,\"\")","v":"červená cibule"},{"$f":"IFERROR(IF(LEN(AnalýzaDat!$S$8:$S$301)=0,\"\",COUNTIF(AnalýzaDat!$S$8:$S$301,S286)),\"\")","v":1},{"$f":"IFERROR(IF(LEN($U286)>0,LEFT(INDIRECT(\"AnalýzaDat!T\"&ROW(AnalýzaDat!$U286)+AnalýzaDat!$V286-1),LEN(INDIRECT(\"AnalýzaDat!T\"&ROW(AnalýzaDat!$U286)+AnalýzaDat!$V286-1))-2),\"\"),\"\")","v":"1 malé"}]
[{"$nulls":7},{"$f":"IFERROR(INDEX('Hlavní seznam měrných jednotek'!$B$4:$K$30,1+INT((ROW(A280)-1)/COLUMNS('Hlavní seznam měrných jednotek'!$B$4:$K$30)),MOD(ROW(A280)-1+COLUMNS('Hlavní seznam měrných jednotek'!$B$4:$K$30),COLUMNS('Hlavní seznam měrných jednotek'!$B$4:$K$30))+1),\"\")","v":""},"",null,{"$f":"IFERROR(RANK(L287,AnalýzaDat!$L$8:$L$301)+SUMPRODUCT(--(L287=AnalýzaDat!$L$8:$L$301),--(O287<AnalýzaDat!$O$8:$O$301)),\"\")","v":""},{"$f":"IFERROR(IF(COUNTIF(AnalýzaDat!$I$8:$I$299,\"<=\"&AnalýzaDat!$I$8:$I$299)=0,\"\",COUNTIF(AnalýzaDat!$I$8:$I$299,\"<=\"&AnalýzaDat!$I$8:$I$299)),\"\")","v":""},{"$f":"IFERROR(IF(AND(poslední_položka-počáteční_řádek=0,LEN(INDEX(AnalýzaDat!$H$8:$I$299,1,1)=0)),\"\",IF(poslední_položka-počáteční_řádek=0,INDEX(AnalýzaDat!$H$8:$I$299,1,1),INDEX(AnalýzaDat!$H$8:$H$299,ROW(A280),1))),\"\")","v":""},{"$f":"IFERROR(IF(AND(poslední_položka-počáteční_řádek=0,ISBLANK(INDEX(AnalýzaDat!$I$8:$I$299,1,1))),\"\",IF(poslední_položka-počáteční_řádek=0,INDEX(AnalýzaDat!$I$8:$I$299,1,1),INDEX(AnalýzaDat!$I$8:$I$299,ROW(A280),1))),\"\")","v":""},15,null,{"$f":"IFERROR(AnalýzaDat!$O287,\"\")","v":15},{"$f":"IFERROR(VLOOKUP(AnalýzaDat!$Q$8:$Q$301,AnalýzaDat!$K$8:$N$301,3,FALSE),\"\")","v":"1/8 čajová lžička"},{"$f":"IFERROR(VLOOKUP(AnalýzaDat!$Q$8:$Q$301,AnalýzaDat!$K$8:$N$301,4,FALSE),\"\")","v":"česneková sůl"},{"$f":"IF(S287=S286,T286,\"\")&REPT(AnalýzaDat!$R287&\", \",AnalýzaDat!$R287<>\"\")","v":"1/8 čajová lžička, "},{"$f":"IF(COUNTIF(S$8:S287,S287)=1,S287,\"\")","v":"česneková sůl"},{"$f":"IFERROR(IF(LEN(AnalýzaDat!$S$8:$S$301)=0,\"\",COUNTIF(AnalýzaDat!$S$8:$S$301,S287)),\"\")","v":1},{"$f":"IFERROR(IF(LEN($U287)>0,LEFT(INDIRECT(\"AnalýzaDat!T\"&ROW(AnalýzaDat!$U287)+AnalýzaDat!$V287-1),LEN(INDIRECT(\"AnalýzaDat!T\"&ROW(AnalýzaDat!$U287)+AnalýzaDat!$V287-1))-2),\"\"),\"\")","v":"1/8 čajová lžička"}]
[{"$nulls":7},{"$f":"IFERROR(INDEX('Hlavní seznam měrných jednotek'!$B$4:$K$30,1+INT((ROW(A281)-1)/COLUMNS('Hlavní seznam měrných jednotek'!$B$4:$K$30)),MOD(ROW(A281)-1+COLUMNS('Hlavní seznam měrných jednotek'!$B$4:$K$30),COLUMNS('Hlavní seznam měrných jednotek'!$B$4:$K$30))+1),\"\")","v":""},"",null,{"$f":"IFERROR(RANK(L288,AnalýzaDat!$L$8:$L$301)+SUMPRODUCT(--(L288=AnalýzaDat!$L$8:$L$301),--(O288<AnalýzaDat!$O$8:$O$301)),\"\")","v":""},{"$f":"IFERROR(IF(COUNTIF(AnalýzaDat!$I$8:$I$299,\"<=\"&AnalýzaDat!$I$8:$I$299)=0,\"\",COUNTIF(AnalýzaDat!$I$8:$I$299,\"<=\"&AnalýzaDat!$I$8:$I$299)),\"\")","v":""},{"$f":"IFERROR(IF(AND(poslední_položka-počáteční_řádek=0,LEN(INDEX(AnalýzaDat!$H$8:$I$299,1,1)=0)),\"\",IF(poslední_položka-počáteční_řádek=0,INDEX(AnalýzaDat!$H$8:$I$299,1,1),INDEX(AnalýzaDat!$H$8:$H$299,ROW(A281),1))),\"\")","v":""},{"$f":"IFERROR(IF(AND(poslední_položka-počáteční_řádek=0,ISBLANK(INDEX(AnalýzaDat!$I$8:$I$299,1,1))),\"\",IF(poslední_položka-počáteční_řádek=0,INDEX(AnalýzaDat!$I$8:$I$299,1,1),INDEX(AnalýzaDat!$I$8:$I$299,ROW(A281),1))),\"\")","v":""},14,null,{"$f":"IFERROR(AnalýzaDat!$O288,\"\")","v":14},{"$f":"IFERROR(VLOOKUP(AnalýzaDat!$Q$8:$Q$301,AnalýzaDat!$K$8:$N$301,3,FALSE),\"\")","v":"2 šálky"},{"$f":"IFERROR(VLOOKUP(AnalýzaDat!$Q$8:$Q$301,AnalýzaDat!$K$8:$N$301,4,FALSE),\"\")","v":"chlebová mouka"},{"$f":"IF(S288=S287,T287,\"\")&REPT(AnalýzaDat!$R288&\", \",AnalýzaDat!$R288<>\"\")","v":"2 šálky, "},{"$f":"IF(COUNTIF(S$8:S288,S288)=1,S288,\"\")","v":"chlebová mouka"},{"$f":"IFERROR(IF(LEN(AnalýzaDat!$S$8:$S$301)=0,\"\",COUNTIF(AnalýzaDat!$S$8:$S$301,S288)),\"\")","v":1},{"$f":"IFERROR(IF(LEN($U288)>0,LEFT(INDIRECT(\"AnalýzaDat!T\"&ROW(AnalýzaDat!$U288)+AnalýzaDat!$V288-1),LEN(INDIRECT(\"AnalýzaDat!T\"&ROW(AnalýzaDat!$U288)+AnalýzaDat!$V288-1))-2),\"\"),\"\")","v":"2 šálky"}]
[{"$nulls":7},{"$f":"IFERROR(INDEX('Hlavní seznam měrných jednotek'!$B$4:$K$30,1+INT((ROW(A282)-1)/COLUMNS('Hlavní seznam měrných jednotek'!$B$4:$K$30)),MOD(ROW(A282)-1+COLUMNS('Hlavní seznam měrných jednotek'!$B$4:$K$30),COLUMNS('Hlavní seznam měrných jednotek'!$B$4:$K$30))+1),\"\")","v":""},"",null,{"$f":"IFERROR(RANK(L289,AnalýzaDat!$L$8:$L$301)+SUMPRODUCT(--(L289=AnalýzaDat!$L$8:$L$301),--(O289<AnalýzaDat!$O$8:$O$301)),\"\")","v":""},{"$f":"IFERROR(IF(COUNTIF(AnalýzaDat!$I$8:$I$299,\"<=\"&AnalýzaDat!$I$8:$I$299)=0,\"\",COUNTIF(AnalýzaDat!$I$8:$I$299,\"<=\"&AnalýzaDat!$I$8:$I$299)),\"\")","v":""},{"$f":"IFERROR(IF(AND(poslední_položka-počáteční_řádek=0,LEN(INDEX(AnalýzaDat!$H$8:$I$299,1,1)=0)),\"\",IF(poslední_položka-počáteční_řádek=0,INDEX(AnalýzaDat!$H$8:$I$299,1,1),INDEX(AnalýzaDat!$H$8:$H$299,ROW(A282),1))),\"\")","v":""},{"$f":"IFERROR(IF(AND(poslední_položka-počáteční_řádek=0,ISBLANK(INDEX(AnalýzaDat!$I$8:$I$299,1,1))),\"\",IF(poslední_položka-počáteční_řádek=0,INDEX(AnalýzaDat!$I$8:$I$299,1,1),INDEX(AnalýzaDat!$I$8:$I$299,ROW(A282),1))),\"\")","v":""},13,null,{"$f":"IFERROR(AnalýzaDat!$O289,\"\")","v":13},{"$f":"IFERROR(VLOOKUP(AnalýzaDat!$Q$8:$Q$301,AnalýzaDat!$K$8:$N$301,3,FALSE),\"\")","v":"1 krabička"},{"$f":"IFERROR(VLOOKUP(AnalýzaDat!$Q$8:$Q$301,AnalýzaDat!$K$8:$N$301,4,FALSE),\"\")","v":"Krekry"},{"$f":"IF(S289=S288,T288,\"\")&REPT(AnalýzaDat!$R289&\", \",AnalýzaDat!$R289<>\"\")","v":"1 krabička, "},{"$f":"IF(COUNTIF(S$8:S289,S289)=1,S289,\"\")","v":"Krekry"},{"$f":"IFERROR(IF(LEN(AnalýzaDat!$S$8:$S$301)=0,\"\",COUNTIF(AnalýzaDat!$S$8:$S$301,S289)),\"\")","v":1},{"$f":"IFERROR(IF(LEN($U289)>0,LEFT(INDIRECT(\"AnalýzaDat!T\"&ROW(AnalýzaDat!$U289)+AnalýzaDat!$V289-1),LEN(INDIRECT(\"AnalýzaDat!T\"&ROW(AnalýzaDat!$U289)+AnalýzaDat!$V289-1))-2),\"\"),\"\")","v":"1 krabička"}]
[{"$nulls":7},{"$f":"IFERROR(INDEX('Hlavní seznam měrných jednotek'!$B$4:$K$30,1+INT((ROW(A283)-1)/COLUMNS('Hlavní seznam měrných jednotek'!$B$4:$K$30)),MOD(ROW(A283)-1+COLUMNS('Hlavní seznam měrných jednotek'!$B$4:$K$30),COLUMNS('Hlavní seznam měrných jednotek'!$B$4:$K$30))+1),\"\")","v":""},"",null,{"$f":"IFERROR(RANK(L290,AnalýzaDat!$L$8:$L$301)+SUMPRODUCT(--(L290=AnalýzaDat!$L$8:$L$301),--(O290<AnalýzaDat!$O$8:$O$301)),\"\")","v":""},{"$f":"IFERROR(IF(COUNTIF(AnalýzaDat!$I$8:$I$299,\"<=\"&AnalýzaDat!$I$8:$I$299)=0,\"\",COUNTIF(AnalýzaDat!$I$8:$I$299,\"<=\"&AnalýzaDat!$I$8:$I$299)),\"\")","v":""},{"$f":"IFERROR(IF(AND(poslední_položka-počáteční_řádek=0,LEN(INDEX(AnalýzaDat!$H$8:$I$299,1,1)=0)),\"\",IF(poslední_položka-počáteční_řádek=0,INDEX(AnalýzaDat!$H$8:$I$299,1,1),INDEX(AnalýzaDat!$H$8:$H$299,ROW(A283),1))),\"\")","v":""},{"$f":"IFERROR(IF(AND(poslední_položka-počáteční_řádek=0,ISBLANK(INDEX(AnalýzaDat!$I$8:$I$299,1,1))),\"\",IF(poslední_položka-počáteční_řádek=0,INDEX(AnalýzaDat!$I$8:$I$299,1,1),INDEX(AnalýzaDat!$I$8:$I$299,ROW(A283),1))),\"\")","v":""},12,null,{"$f":"IFERROR(AnalýzaDat!$O290,\"\")","v":12},{"$f":"IFERROR(VLOOKUP(AnalýzaDat!$Q$8:$Q$301,AnalýzaDat!$K$8:$N$301,3,FALSE),\"\")","v":"1 polévková lžíce"},{"$f":"IFERROR(VLOOKUP(AnalýzaDat!$Q$8:$Q$301,AnalýzaDat!$K$8:$N$301,4,FALSE),\"\")","v":"Medová omáčka s hořčicí a koprem"},{"$f":"IF(S290=S289,T289,\"\")&REPT(AnalýzaDat!$R290&\", \",AnalýzaDat!$R290<>\"\")","v":"1 polévková lžíce, "},{"$f":"IF(COUNTIF(S$8:S290,S290)=1,S290,\"\")","v":"Medová omáčka s hořčicí a koprem"},{"$f":"IFERROR(IF(LEN(AnalýzaDat!$S$8:$S$301)=0,\"\",COUNTIF(AnalýzaDat!$S$8:$S$301,S290)),\"\")","v":1},{"$f":"IFERROR(IF(LEN($U290)>0,LEFT(INDIRECT(\"AnalýzaDat!T\"&ROW(AnalýzaDat!$U290)+AnalýzaDat!$V290-1),LEN(INDIRECT(\"AnalýzaDat!T\"&ROW(AnalýzaDat!$U290)+AnalýzaDat!$V290-1))-2),\"\"),\"\")","v":"1 polévková lžíce"}]
[{"$nulls":7},{"$f":"IFERROR(INDEX('Hlavní seznam měrných jednotek'!$B$4:$K$30,1+INT((ROW(A284)-1)/COLUMNS('Hlavní seznam měrných jednotek'!$B$4:$K$30)),MOD(ROW(A284)-1+COLUMNS('Hlavní seznam měrných jednotek'!$B$4:$K$30),COLUMNS('Hlavní seznam měrných jednotek'!$B$4:$K$30))+1),\"\")","v":""},"",null,{"$f":"IFERROR(RANK(L291,AnalýzaDat!$L$8:$L$301)+SUMPRODUCT(--(L291=AnalýzaDat!$L$8:$L$301),--(O291<AnalýzaDat!$O$8:$O$301)),\"\")","v":""},{"$f":"IFERROR(IF(COUNTIF(AnalýzaDat!$I$8:$I$299,\"<=\"&AnalýzaDat!$I$8:$I$299)=0,\"\",COUNTIF(AnalýzaDat!$I$8:$I$299,\"<=\"&AnalýzaDat!$I$8:$I$299)),\"\")","v":""},{"$f":"IFERROR(IF(AND(poslední_položka-počáteční_řádek=0,LEN(INDEX(AnalýzaDat!$H$8:$I$299,1,1)=0)),\"\",IF(poslední_položka-počáteční_řádek=0,INDEX(AnalýzaDat!$H$8:$I$299,1,1),INDEX(AnalýzaDat!$H$8:$H$299,ROW(A284),1))),\"\")","v":""},{"$f":"IFERROR(IF(AND(poslední_položka-počáteční_řádek=0,ISBLANK(INDEX(AnalýzaDat!$I$8:$I$299,1,1))),\"\",IF(poslední_položka-počáteční_řádek=0,INDEX(AnalýzaDat!$I$8:$I$299,1,1),INDEX(AnalýzaDat!$I$8:$I$299,ROW(A284),1))),\"\")","v":""},11,null,{"$f":"IFERROR(AnalýzaDat!$O291,\"\")","v":11},{"$f":"IFERROR(VLOOKUP(AnalýzaDat!$Q$8:$Q$301,AnalýzaDat!$K$8:$N$301,3,FALSE),\"\")","v":"1 stroužek"},{"$f":"IFERROR(VLOOKUP(AnalýzaDat!$Q$8:$Q$301,AnalýzaDat!$K$8:$N$301,4,FALSE),\"\")","v":"mletý česnek"},{"$f":"IF(S291=S290,T290,\"\")&REPT(AnalýzaDat!$R291&\", \",AnalýzaDat!$R291<>\"\")","v":"1 stroužek, "},{"$f":"IF(COUNTIF(S$8:S291,S291)=1,S291,\"\")","v":"mletý česnek"},{"$f":"IFERROR(IF(LEN(AnalýzaDat!$S$8:$S$301)=0,\"\",COUNTIF(AnalýzaDat!$S$8:$S$301,S291)),\"\")","v":1},{"$f":"IFERROR(IF(LEN($U291)>0,LEFT(INDIRECT(\"AnalýzaDat!T\"&ROW(AnalýzaDat!$U291)+AnalýzaDat!$V291-1),LEN(INDIRECT(\"AnalýzaDat!T\"&ROW(AnalýzaDat!$U291)+AnalýzaDat!$V291-1))-2),\"\"),\"\")","v":"1 stroužek"}]
[{"$nulls":7},{"$f":"IFERROR(INDEX('Hlavní seznam měrných jednotek'!$B$4:$K$30,1+INT((ROW(A285)-1)/COLUMNS('Hlavní seznam měrných jednotek'!$B$4:$K$30)),MOD(ROW(A285)-1+COLUMNS('Hlavní seznam měrných jednotek'!$B$4:$K$30),COLUMNS('Hlavní seznam měrných jednotek'!$B$4:$K$30))+1),\"\")","v":""},"",null,{"$f":"IFERROR(RANK(L292,AnalýzaDat!$L$8:$L$301)+SUMPRODUCT(--(L292=AnalýzaDat!$L$8:$L$301),--(O292<AnalýzaDat!$O$8:$O$301)),\"\")","v":""},{"$f":"IFERROR(IF(COUNTIF(AnalýzaDat!$I$8:$I$299,\"<=\"&AnalýzaDat!$I$8:$I$299)=0,\"\",COUNTIF(AnalýzaDat!$I$8:$I$299,\"<=\"&AnalýzaDat!$I$8:$I$299)),\"\")","v":""},{"$f":"IFERROR(IF(AND(poslední_položka-počáteční_řádek=0,LEN(INDEX(AnalýzaDat!$H$8:$I$299,1,1)=0)),\"\",IF(poslední_položka-počáteční_řádek=0,INDEX(AnalýzaDat!$H$8:$I$299,1,1),INDEX(AnalýzaDat!$H$8:$H$299,ROW(A285),1))),\"\")","v":""},{"$f":"IFERROR(IF(AND(poslední_položka-počáteční_řádek=0,ISBLANK(INDEX(AnalýzaDat!$I$8:$I$299,1,1))),\"\",IF(poslední_položka-počáteční_řádek=0,INDEX(AnalýzaDat!$I$8:$I$299,1,1),INDEX(AnalýzaDat!$I$8:$I$299,ROW(A285),1))),\"\")","v":""},10,null,{"$f":"IFERROR(AnalýzaDat!$O292,\"\")","v":10},{"$f":"IFERROR(VLOOKUP(AnalýzaDat!$Q$8:$Q$301,AnalýzaDat!$K$8:$N$301,3,FALSE),\"\")","v":"1/4 šálek"},{"$f":"IFERROR(VLOOKUP(AnalýzaDat!$Q$8:$Q$301,AnalýzaDat!$K$8:$N$301,4,FALSE),\"\")","v":"nadrobený sýr feta"},{"$f":"IF(S292=S291,T291,\"\")&REPT(AnalýzaDat!$R292&\", \",AnalýzaDat!$R292<>\"\")","v":"1/4 šálek, "},{"$f":"IF(COUNTIF(S$8:S292,S292)=1,S292,\"\")","v":"nadrobený sýr feta"},{"$f":"IFERROR(IF(LEN(AnalýzaDat!$S$8:$S$301)=0,\"\",COUNTIF(AnalýzaDat!$S$8:$S$301,S292)),\"\")","v":1},{"$f":"IFERROR(IF(LEN($U292)>0,LEFT(INDIRECT(\"AnalýzaDat!T\"&ROW(AnalýzaDat!$U292)+AnalýzaDat!$V292-1),LEN(INDIRECT(\"AnalýzaDat!T\"&ROW(AnalýzaDat!$U292)+AnalýzaDat!$V292-1))-2),\"\"),\"\")","v":"1/4 šálek"}]
[{"$nulls":7},{"$f":"IFERROR(INDEX('Hlavní seznam měrných jednotek'!$B$4:$K$30,1+INT((ROW(A286)-1)/COLUMNS('Hlavní seznam měrných jednotek'!$B$4:$K$30)),MOD(ROW(A286)-1+COLUMNS('Hlavní seznam měrných jednotek'!$B$4:$K$30),COLUMNS('Hlavní seznam měrných jednotek'!$B$4:$K$30))+1),\"\")","v":""},"",null,{"$f":"IFERROR(RANK(L293,AnalýzaDat!$L$8:$L$301)+SUMPRODUCT(--(L293=AnalýzaDat!$L$8:$L$301),--(O293<AnalýzaDat!$O$8:$O$301)),\"\")","v":""},{"$f":"IFERROR(IF(COUNTIF(AnalýzaDat!$I$8:$I$299,\"<=\"&AnalýzaDat!$I$8:$I$299)=0,\"\",COUNTIF(AnalýzaDat!$I$8:$I$299,\"<=\"&AnalýzaDat!$I$8:$I$299)),\"\")","v":""},{"$f":"IFERROR(IF(AND(poslední_položka-počáteční_řádek=0,LEN(INDEX(AnalýzaDat!$H$8:$I$299,1,1)=0)),\"\",IF(poslední_položka-počáteční_řádek=0,INDEX(AnalýzaDat!$H$8:$I$299,1,1),INDEX(AnalýzaDat!$H$8:$H$299,ROW(A286),1))),\"\")","v":""},{"$f":"IFERROR(IF(AND(poslední_položka-počáteční_řádek=0,ISBLANK(INDEX(AnalýzaDat!$I$8:$I$299,1,1))),\"\",IF(poslední_položka-počáteční_řádek=0,INDEX(AnalýzaDat!$I$8:$I$299,1,1),INDEX(AnalýzaDat!$I$8:$I$299,ROW(A286),1))),\"\")","v":""},9,null,{"$f":"IFERROR(AnalýzaDat!$O293,\"\")","v":9},{"$f":"IFERROR(VLOOKUP(AnalýzaDat!$Q$8:$Q$301,AnalýzaDat!$K$8:$N$301,3,FALSE),\"\")","v":"2 šálky"},{"$f":"IFERROR(VLOOKUP(AnalýzaDat!$Q$8:$Q$301,AnalýzaDat!$K$8:$N$301,4,FALSE),\"\")","v":"nakrájený čerstvý špenát"},{"$f":"IF(S293=S292,T292,\"\")&REPT(AnalýzaDat!$R293&\", \",AnalýzaDat!$R293<>\"\")","v":"2 šálky, "},{"$f":"IF(COUNTIF(S$8:S293,S293)=1,S293,\"\")","v":"nakrájený čerstvý špenát"},{"$f":"IFERROR(IF(LEN(AnalýzaDat!$S$8:$S$301)=0,\"\",COUNTIF(AnalýzaDat!$S$8:$S$301,S293)),\"\")","v":1},{"$f":"IFERROR(IF(LEN($U293)>0,LEFT(INDIRECT(\"AnalýzaDat!T\"&ROW(AnalýzaDat!$U293)+AnalýzaDat!$V293-1),LEN(INDIRECT(\"AnalýzaDat!T\"&ROW(AnalýzaDat!$U293)+AnalýzaDat!$V293-1))-2),\"\"),\"\")","v":"2 šálky"}]
[{"$nulls":7},{"$f":"IFERROR(INDEX('Hlavní seznam měrných jednotek'!$B$4:$K$30,1+INT((ROW(A287)-1)/COLUMNS('Hlavní seznam měrných jednotek'!$B$4:$K$30)),MOD(ROW(A287)-1+COLUMNS('Hlavní seznam měrných jednotek'!$B$4:$K$30),COLUMNS('Hlavní seznam měrných jednotek'!$B$4:$K$30))+1),\"\")","v":""},"",null,{"$f":"IFERROR(RANK(L294,AnalýzaDat!$L$8:$L$301)+SUMPRODUCT(--(L294=AnalýzaDat!$L$8:$L$301),--(O294<AnalýzaDat!$O$8:$O$301)),\"\")","v":""},{"$f":"IFERROR(IF(COUNTIF(AnalýzaDat!$I$8:$I$299,\"<=\"&AnalýzaDat!$I$8:$I$299)=0,\"\",COUNTIF(AnalýzaDat!$I$8:$I$299,\"<=\"&AnalýzaDat!$I$8:$I$299)),\"\")","v":""},{"$f":"IFERROR(IF(AND(poslední_položka-počáteční_řádek=0,LEN(INDEX(AnalýzaDat!$H$8:$I$299,1,1)=0)),\"\",IF(poslední_položka-počáteční_řádek=0,INDEX(AnalýzaDat!$H$8:$I$299,1,1),INDEX(AnalýzaDat!$H$8:$H$299,ROW(A287),1))),\"\")","v":""},{"$f":"IFERROR(IF(AND(poslední_položka-počáteční_řádek=0,ISBLANK(INDEX(AnalýzaDat!$I$8:$I$299,1,1))),\"\",IF(poslední_položka-počáteční_řádek=0,INDEX(AnalýzaDat!$I$8:$I$299,1,1),INDEX(AnalýzaDat!$I$8:$I$299,ROW(A287),1))),\"\")","v":""},8,null,{"$f":"IFERROR(AnalýzaDat!$O294,\"\")","v":8},{"$f":"IFERROR(VLOOKUP(AnalýzaDat!$Q$8:$Q$301,AnalýzaDat!$K$8:$N$301,3,FALSE),\"\")","v":"1 šálek"},{"$f":"IFERROR(VLOOKUP(AnalýzaDat!$Q$8:$Q$301,AnalýzaDat!$K$8:$N$301,4,FALSE),\"\")","v":"nakrájený sýr mozzarella"},{"$f":"IF(S294=S293,T293,\"\")&REPT(AnalýzaDat!$R294&\", \",AnalýzaDat!$R294<>\"\")","v":"1 šálek, "},{"$f":"IF(COUNTIF(S$8:S294,S294)=1,S294,\"\")","v":"nakrájený sýr mozzarella"},{"$f":"IFERROR(IF(LEN(AnalýzaDat!$S$8:$S$301)=0,\"\",COUNTIF(AnalýzaDat!$S$8:$S$301,S294)),\"\")","v":1},{"$f":"IFERROR(IF(LEN($U294)>0,LEFT(INDIRECT(\"AnalýzaDat!T\"&ROW(AnalýzaDat!$U294)+AnalýzaDat!$V294-1),LEN(INDIRECT(\"AnalýzaDat!T\"&ROW(AnalýzaDat!$U294)+AnalýzaDat!$V294-1))-2),\"\"),\"\")","v":"1 šálek"}]
[{"$nulls":7},{"$f":"IFERROR(INDEX('Hlavní seznam měrných jednotek'!$B$4:$K$30,1+INT((ROW(A288)-1)/COLUMNS('Hlavní seznam měrných jednotek'!$B$4:$K$30)),MOD(ROW(A288)-1+COLUMNS('Hlavní seznam měrných jednotek'!$B$4:$K$30),COLUMNS('Hlavní seznam měrných jednotek'!$B$4:$K$30))+1),\"\")","v":""},"",null,{"$f":"IFERROR(RANK(L295,AnalýzaDat!$L$8:$L$301)+SUMPRODUCT(--(L295=AnalýzaDat!$L$8:$L$301),--(O295<AnalýzaDat!$O$8:$O$301)),\"\")","v":""},{"$f":"IFERROR(IF(COUNTIF(AnalýzaDat!$I$8:$I$299,\"<=\"&AnalýzaDat!$I$8:$I$299)=0,\"\",COUNTIF(AnalýzaDat!$I$8:$I$299,\"<=\"&AnalýzaDat!$I$8:$I$299)),\"\")","v":""},{"$f":"IFERROR(IF(AND(poslední_položka-počáteční_řádek=0,LEN(INDEX(AnalýzaDat!$H$8:$I$299,1,1)=0)),\"\",IF(poslední_položka-počáteční_řádek=0,INDEX(AnalýzaDat!$H$8:$I$299,1,1),INDEX(AnalýzaDat!$H$8:$H$299,ROW(A288),1))),\"\")","v":""},{"$f":"IFERROR(IF(AND(poslední_položka-počáteční_řádek=0,ISBLANK(INDEX(AnalýzaDat!$I$8:$I$299,1,1))),\"\",IF(poslední_položka-počáteční_řádek=0,INDEX(AnalýzaDat!$I$8:$I$299,1,1),INDEX(AnalýzaDat!$I$8:$I$299,ROW(A288),1))),\"\")","v":""},7,null,{"$f":"IFERROR(AnalýzaDat!$O295,\"\")","v":7},{"$f":"IFERROR(VLOOKUP(AnalýzaDat!$Q$8:$Q$301,AnalýzaDat!$K$8:$N$301,3,FALSE),\"\")","v":"2 polévkové lžíce"},{"$f":"IFERROR(VLOOKUP(AnalýzaDat!$Q$8:$Q$301,AnalýzaDat!$K$8:$N$301,4,FALSE),\"\")","v":"olivový nebo kanolový olej"},{"$f":"IF(S295=S294,T294,\"\")&REPT(AnalýzaDat!$R295&\", \",AnalýzaDat!$R295<>\"\")","v":"2 polévkové lžíce, "},{"$f":"IF(COUNTIF(S$8:S295,S295)=1,S295,\"\")","v":"olivový nebo kanolový olej"},{"$f":"IFERROR(IF(LEN(AnalýzaDat!$S$8:$S$301)=0,\"\",COUNTIF(AnalýzaDat!$S$8:$S$301,S295)),\"\")","v":1},{"$f":"IFERROR(IF(LEN($U295)>0,LEFT(INDIRECT(\"AnalýzaDat!T\"&ROW(AnalýzaDat!$U295)+AnalýzaDat!$V295-1),LEN(INDIRECT(\"AnalýzaDat!T\"&ROW(AnalýzaDat!$U295)+AnalýzaDat!$V295-1))-2),\"\"),\"\")","v":"2 polévkové lžíce"}]
[{"$nulls":7},{"$f":"IFERROR(INDEX('Hlavní seznam měrných jednotek'!$B$4:$K$30,1+INT((ROW(A289)-1)/COLUMNS('Hlavní seznam měrných jednotek'!$B$4:$K$30)),MOD(ROW(A289)-1+COLUMNS('Hlavní seznam měrných jednotek'!$B$4:$K$30),COLUMNS('Hlavní seznam měrných jednotek'!$B$4:$K$30))+1),\"\")","v":""},"",null,{"$f":"IFERROR(RANK(L296,AnalýzaDat!$L$8:$L$301)+SUMPRODUCT(--(L296=AnalýzaDat!$L$8:$L$301),--(O296<AnalýzaDat!$O$8:$O$301)),\"\")","v":""},{"$f":"IFERROR(IF(COUNTIF(AnalýzaDat!$I$8:$I$299,\"<=\"&AnalýzaDat!$I$8:$I$299)=0,\"\",COUNTIF(AnalýzaDat!$I$8:$I$299,\"<=\"&AnalýzaDat!$I$8:$I$299)),\"\")","v":""},{"$f":"IFERROR(IF(AND(poslední_položka-počáteční_řádek=0,LEN(INDEX(AnalýzaDat!$H$8:$I$299,1,1)=0)),\"\",IF(poslední_položka-počáteční_řádek=0,INDEX(AnalýzaDat!$H$8:$I$299,1,1),INDEX(AnalýzaDat!$H$8:$H$299,ROW(A289),1))),\"\")","v":""},{"$f":"IFERROR(IF(AND(poslední_položka-počáteční_řádek=0,ISBLANK(INDEX(AnalýzaDat!$I$8:$I$299,1,1))),\"\",IF(poslední_položka-počáteční_řádek=0,INDEX(AnalýzaDat!$I$8:$I$299,1,1),INDEX(AnalýzaDat!$I$8:$I$299,ROW(A289),1))),\"\")","v":""},6,null,{"$f":"IFERROR(AnalýzaDat!$O296,\"\")","v":6},{"$f":"IFERROR(VLOOKUP(AnalýzaDat!$Q$8:$Q$301,AnalýzaDat!$K$8:$N$301,3,FALSE),\"\")","v":"1 šálek"},{"$f":"IFERROR(VLOOKUP(AnalýzaDat!$Q$8:$Q$301,AnalýzaDat!$K$8:$N$301,4,FALSE),\"\")","v":"plátky čerstvých hub"},{"$f":"IF(S296=S295,T295,\"\")&REPT(AnalýzaDat!$R296&\", \",AnalýzaDat!$R296<>\"\")","v":"1 šálek, "},{"$f":"IF(COUNTIF(S$8:S296,S296)=1,S296,\"\")","v":"plátky čerstvých hub"},{"$f":"IFERROR(IF(LEN(AnalýzaDat!$S$8:$S$301)=0,\"\",COUNTIF(AnalýzaDat!$S$8:$S$301,S296)),\"\")","v":1},{"$f":"IFERROR(IF(LEN($U296)>0,LEFT(INDIRECT(\"AnalýzaDat!T\"&ROW(AnalýzaDat!$U296)+AnalýzaDat!$V296-1),LEN(INDIRECT(\"AnalýzaDat!T\"&ROW(AnalýzaDat!$U296)+AnalýzaDat!$V296-1))-2),\"\"),\"\")","v":"1 šálek"}]
[{"$nulls":7},{"$f":"IFERROR(INDEX('Hlavní seznam měrných jednotek'!$B$4:$K$30,1+INT((ROW(A290)-1)/COLUMNS('Hlavní seznam měrných jednotek'!$B$4:$K$30)),MOD(ROW(A290)-1+COLUMNS('Hlavní seznam měrných jednotek'!$B$4:$K$30),COLUMNS('Hlavní seznam měrných jednotek'!$B$4:$K$30))+1),\"\")","v":""},"",null,{"$f":"IFERROR(RANK(L297,AnalýzaDat!$L$8:$L$301)+SUMPRODUCT(--(L297=AnalýzaDat!$L$8:$L$301),--(O297<AnalýzaDat!$O$8:$O$301)),\"\")","v":""},{"$f":"IFERROR(IF(COUNTIF(AnalýzaDat!$I$8:$I$299,\"<=\"&AnalýzaDat!$I$8:$I$299)=0,\"\",COUNTIF(AnalýzaDat!$I$8:$I$299,\"<=\"&AnalýzaDat!$I$8:$I$299)),\"\")","v":""},{"$f":"IFERROR(IF(AND(poslední_položka-počáteční_řádek=0,LEN(INDEX(AnalýzaDat!$H$8:$I$299,1,1)=0)),\"\",IF(poslední_položka-počáteční_řádek=0,INDEX(AnalýzaDat!$H$8:$I$299,1,1),INDEX(AnalýzaDat!$H$8:$H$299,ROW(A290),1))),\"\")","v":""},{"$f":"IFERROR(IF(AND(poslední_položka-počáteční_řádek=0,ISBLANK(INDEX(AnalýzaDat!$I$8:$I$299,1,1))),\"\",IF(poslední_položka-počáteční_řádek=0,INDEX(AnalýzaDat!$I$8:$I$299,1,1),INDEX(AnalýzaDat!$I$8:$I$299,ROW(A290),1))),\"\")","v":""},5,null,{"$f":"IFERROR(AnalýzaDat!$O297,\"\")","v":5},{"$f":"IFERROR(VLOOKUP(AnalýzaDat!$Q$8:$Q$301,AnalýzaDat!$K$8:$N$301,3,FALSE),\"\")","v":"1 balení"},{"$f":"IFERROR(VLOOKUP(AnalýzaDat!$Q$8:$Q$301,AnalýzaDat!$K$8:$N$301,4,FALSE),\"\")","v":"Smetanový sýr"},{"$f":"IF(S297=S296,T296,\"\")&REPT(AnalýzaDat!$R297&\", \",AnalýzaDat!$R297<>\"\")","v":"1 balení, "},{"$f":"IF(COUNTIF(S$8:S297,S297)=1,S297,\"\")","v":"Smetanový sýr"},{"$f":"IFERROR(IF(LEN(AnalýzaDat!$S$8:$S$301)=0,\"\",COUNTIF(AnalýzaDat!$S$8:$S$301,S297)),\"\")","v":1},{"$f":"IFERROR(IF(LEN($U297)>0,LEFT(INDIRECT(\"AnalýzaDat!T\"&ROW(AnalýzaDat!$U297)+AnalýzaDat!$V297-1),LEN(INDIRECT(\"AnalýzaDat!T\"&ROW(AnalýzaDat!$U297)+AnalýzaDat!$V297-1))-2),\"\"),\"\")","v":"1 balení"}]
[{"$nulls":7},{"$f":"IFERROR(INDEX('Hlavní seznam měrných jednotek'!$B$4:$K$30,1+INT((ROW(A291)-1)/COLUMNS('Hlavní seznam měrných jednotek'!$B$4:$K$30)),MOD(ROW(A291)-1+COLUMNS('Hlavní seznam měrných jednotek'!$B$4:$K$30),COLUMNS('Hlavní seznam měrných jednotek'!$B$4:$K$30))+1),\"\")","v":""},"",null,{"$f":"IFERROR(RANK(L298,AnalýzaDat!$L$8:$L$301)+SUMPRODUCT(--(L298=AnalýzaDat!$L$8:$L$301),--(O298<AnalýzaDat!$O$8:$O$301)),\"\")","v":""},{"$f":"IFERROR(IF(COUNTIF(AnalýzaDat!$I$8:$I$299,\"<=\"&AnalýzaDat!$I$8:$I$299)=0,\"\",COUNTIF(AnalýzaDat!$I$8:$I$299,\"<=\"&AnalýzaDat!$I$8:$I$299)),\"\")","v":""},{"$f":"IFERROR(IF(AND(poslední_položka-počáteční_řádek=0,LEN(INDEX(AnalýzaDat!$H$8:$I$299,1,1)=0)),\"\",IF(poslední_položka-počáteční_řádek=0,INDEX(AnalýzaDat!$H$8:$I$299,1,1),INDEX(AnalýzaDat!$H$8:$H$299,ROW(A291),1))),\"\")","v":""},{"$f":"IFERROR(IF(AND(poslední_položka-počáteční_řádek=0,ISBLANK(INDEX(AnalýzaDat!$I$8:$I$299,1,1))),\"\",IF(poslední_položka-počáteční_řádek=0,INDEX(AnalýzaDat!$I$8:$I$299,1,1),INDEX(AnalýzaDat!$I$8:$I$299,ROW(A291),1))),\"\")","v":""},4,null,{"$f":"IFERROR(AnalýzaDat!$O298,\"\")","v":4},{"$f":"IFERROR(VLOOKUP(AnalýzaDat!$Q$8:$Q$301,AnalýzaDat!$K$8:$N$301,3,FALSE),\"\")","v":"1/2 čajová lžička"},{"$f":"IFERROR(VLOOKUP(AnalýzaDat!$Q$8:$Q$301,AnalýzaDat!$K$8:$N$301,4,FALSE),\"\")","v":"sůl"},{"$f":"IF(S298=S297,T297,\"\")&REPT(AnalýzaDat!$R298&\", \",AnalýzaDat!$R298<>\"\")","v":"1/2 čajová lžička, "},{"$f":"IF(COUNTIF(S$8:S298,S298)=1,S298,\"\")","v":"sůl"},{"$f":"IFERROR(IF(LEN(AnalýzaDat!$S$8:$S$301)=0,\"\",COUNTIF(AnalýzaDat!$S$8:$S$301,S298)),\"\")","v":1},{"$f":"IFERROR(IF(LEN($U298)>0,LEFT(INDIRECT(\"AnalýzaDat!T\"&ROW(AnalýzaDat!$U298)+AnalýzaDat!$V298-1),LEN(INDIRECT(\"AnalýzaDat!T\"&ROW(AnalýzaDat!$U298)+AnalýzaDat!$V298-1))-2),\"\"),\"\")","v":"1/2 čajová lžička"}]
[{"$nulls":7},{"$f":"IFERROR(INDEX('Hlavní seznam měrných jednotek'!$B$4:$K$30,1+INT((ROW(A292)-1)/COLUMNS('Hlavní seznam měrných jednotek'!$B$4:$K$30)),MOD(ROW(A292)-1+COLUMNS('Hlavní seznam měrných jednotek'!$B$4:$K$30),COLUMNS('Hlavní seznam měrných jednotek'!$B$4:$K$30))+1),\"\")","v":""},"",null,{"$f":"IFERROR(RANK(L299,AnalýzaDat!$L$8:$L$301)+SUMPRODUCT(--(L299=AnalýzaDat!$L$8:$L$301),--(O299<AnalýzaDat!$O$8:$O$301)),\"\")","v":""},{"$f":"IFERROR(IF(COUNTIF(AnalýzaDat!$I$8:$I$299,\"<=\"&AnalýzaDat!$I$8:$I$299)=0,\"\",COUNTIF(AnalýzaDat!$I$8:$I$299,\"<=\"&AnalýzaDat!$I$8:$I$299)),\"\")","v":""},{"$f":"IFERROR(IF(AND(poslední_položka-počáteční_řádek=0,LEN(INDEX(AnalýzaDat!$H$8:$I$299,1,1)=0)),\"\",IF(poslední_položka-počáteční_řádek=0,INDEX(AnalýzaDat!$H$8:$I$299,1,1),INDEX(AnalýzaDat!$H$8:$H$299,ROW(A292),1))),\"\")","v":""},{"$f":"IFERROR(IF(AND(poslední_položka-počáteční_řádek=0,ISBLANK(INDEX(AnalýzaDat!$I$8:$I$299,1,1))),\"\",IF(poslední_položka-počáteční_řádek=0,INDEX(AnalýzaDat!$I$8:$I$299,1,1),INDEX(AnalýzaDat!$I$8:$I$299,ROW(A292),1))),\"\")","v":""},3,null,{"$f":"IFERROR(AnalýzaDat!$O299,\"\")","v":3},{"$f":"IFERROR(VLOOKUP(AnalýzaDat!$Q$8:$Q$301,AnalýzaDat!$K$8:$N$301,3,FALSE),\"\")","v":"1/2 čajová lžička"},{"$f":"IFERROR(VLOOKUP(AnalýzaDat!$Q$8:$Q$301,AnalýzaDat!$K$8:$N$301,4,FALSE),\"\")","v":"sušená bazalka"},{"$f":"IF(S299=S298,T298,\"\")&REPT(AnalýzaDat!$R299&\", \",AnalýzaDat!$R299<>\"\")","v":"1/2 čajová lžička, "},{"$f":"IF(COUNTIF(S$8:S299,S299)=1,S299,\"\")","v":"sušená bazalka"},{"$f":"IFERROR(IF(LEN(AnalýzaDat!$S$8:$S$301)=0,\"\",COUNTIF(AnalýzaDat!$S$8:$S$301,S299)),\"\")","v":1},{"$f":"IFERROR(IF(LEN($U299)>0,LEFT(INDIRECT(\"AnalýzaDat!T\"&ROW(AnalýzaDat!$U299)+AnalýzaDat!$V299-1),LEN(INDIRECT(\"AnalýzaDat!T\"&ROW(AnalýzaDat!$U299)+AnalýzaDat!$V299-1))-2),\"\"),\"\")","v":"1/2 čajová lžička"}]
[{"$nulls":10},{"$f":"IFERROR(RANK(L300,AnalýzaDat!$L$8:$L$301)+SUMPRODUCT(--(L300=AnalýzaDat!$L$8:$L$301),--(O300<AnalýzaDat!$O$8:$O$301)),\"\")","v":""},{"$f":"IFERROR(IF(COUNTIF(AnalýzaDat!$I$8:$I$299,\"<=\"&AnalýzaDat!$I$8:$I$299)=0,\"\",COUNTIF(AnalýzaDat!$I$8:$I$299,\"<=\"&AnalýzaDat!$I$8:$I$299)),\"\")","v":""},{"$f":"IFERROR(IF(AND(poslední_položka-počáteční_řádek=0,LEN(INDEX(AnalýzaDat!$H$8:$I$299,1,1)=0)),\"\",IF(poslední_položka-počáteční_řádek=0,INDEX(AnalýzaDat!$H$8:$I$299,1,1),INDEX(AnalýzaDat!$H$8:$H$299,ROW(A293),1))),\"\")","v":""},{"$f":"IFERROR(IF(AND(poslední_položka-počáteční_řádek=0,ISBLANK(INDEX(AnalýzaDat!$I$8:$I$299,1,1))),\"\",IF(poslední_položka-počáteční_řádek=0,INDEX(AnalýzaDat!$I$8:$I$299,1,1),INDEX(AnalýzaDat!$I$8:$I$299,ROW(A293),1))),\"\")","v":""},2,null,{"$f":"IFERROR(AnalýzaDat!$O300,\"\")","v":2},{"$f":"IFERROR(VLOOKUP(AnalýzaDat!$Q$8:$Q$301,AnalýzaDat!$K$8:$N$301,3,FALSE),\"\")","v":"3/4 šálek"},{"$f":"IFERROR(VLOOKUP(AnalýzaDat!$Q$8:$Q$301,AnalýzaDat!$K$8:$N$301,4,FALSE),\"\")","v":"teplá voda"},{"$f":"IF(S300=S299,T299,\"\")&REPT(AnalýzaDat!$R300&\", \",AnalýzaDat!$R300<>\"\")","v":"3/4 šálek, "},{"$f":"IF(COUNTIF(S$8:S300,S300)=1,S300,\"\")","v":"teplá voda"},{"$f":"IFERROR(IF(LEN(AnalýzaDat!$S$8:$S$301)=0,\"\",COUNTIF(AnalýzaDat!$S$8:$S$301,S300)),\"\")","v":1},{"$f":"IFERROR(IF(LEN($U300)>0,LEFT(INDIRECT(\"AnalýzaDat!T\"&ROW(AnalýzaDat!$U300)+AnalýzaDat!$V300-1),LEN(INDIRECT(\"AnalýzaDat!T\"&ROW(AnalýzaDat!$U300)+AnalýzaDat!$V300-1))-2),\"\"),\"\")","v":"3/4 šálek"}]
[{"$nulls":10},{"$f":"IFERROR(RANK(L301,AnalýzaDat!$L$8:$L$301)+SUMPRODUCT(--(L301=AnalýzaDat!$L$8:$L$301),--(O301<AnalýzaDat!$O$8:$O$301)),\"\")","v":""},{"$f":"IFERROR(IF(COUNTIF(AnalýzaDat!$I$8:$I$299,\"<=\"&AnalýzaDat!$I$8:$I$299)=0,\"\",COUNTIF(AnalýzaDat!$I$8:$I$299,\"<=\"&AnalýzaDat!$I$8:$I$299)),\"\")","v":""},{"$f":"IFERROR(IF(AND(poslední_položka-počáteční_řádek=0,LEN(INDEX(AnalýzaDat!$H$8:$I$299,1,1)=0)),\"\",IF(poslední_položka-počáteční_řádek=0,INDEX(AnalýzaDat!$H$8:$I$299,1,1),INDEX(AnalýzaDat!$H$8:$H$299,ROW(A294),1))),\"\")","v":""},{"$f":"IFERROR(IF(AND(poslední_položka-počáteční_řádek=0,ISBLANK(INDEX(AnalýzaDat!$I$8:$I$299,1,1))),\"\",IF(poslední_položka-počáteční_řádek=0,INDEX(AnalýzaDat!$I$8:$I$299,1,1),INDEX(AnalýzaDat!$I$8:$I$299,ROW(A294),1))),\"\")","v":""},1,null,{"$f":"IFERROR(AnalýzaDat!$O301,\"\")","v":1},{"$f":"IFERROR(VLOOKUP(AnalýzaDat!$Q$8:$Q$301,AnalýzaDat!$K$8:$N$301,3,FALSE),\"\")","v":"1 balení"},{"$f":"IFERROR(VLOOKUP(AnalýzaDat!$Q$8:$Q$301,AnalýzaDat!$K$8:$N$301,4,FALSE),\"\")","v":"Uzený losos"},{"$f":"IF(S301=S300,T300,\"\")&REPT(AnalýzaDat!$R301&\", \",AnalýzaDat!$R301<>\"\")","v":"1 balení, "},{"$f":"IF(COUNTIF(S$8:S301,S301)=1,S301,\"\")","v":"Uzený losos"},{"$f":"IFERROR(IF(LEN(AnalýzaDat!$S$8:$S$301)=0,\"\",COUNTIF(AnalýzaDat!$S$8:$S$301,S301)),\"\")","v":1},{"$f":"IFERROR(IF(LEN($U301)>0,LEFT(INDIRECT(\"AnalýzaDat!T\"&ROW(AnalýzaDat!$U301)+AnalýzaDat!$V301-1),LEN(INDIRECT(\"AnalýzaDat!T\"&ROW(AnalýzaDat!$U301)+AnalýzaDat!$V301-1))-2),\"\"),\"\")","v":"1 balení"}]

{"sheet":"Kategorie receptů","index":7,"n_rows":18,"n_cols":3,"rows_kept":18}
[null,"Kategorie receptů","Seznam receptů"]
[null,"Typ kategorie","Typ měrné jednotky"]
[null,"Předkrm","krabička"]
[null,"Nápoje","svazek"]
[null,"Chléb","stroužek"]
[null,"Dušené maso/zelenina","šálek"]
[null,"Dezert","šálky"]
[null,"Dětská kuchyně","velké"]
[null,"Hlavní chod","střední"]
[null,"Salát","gramy"]
[null,"Sendvič","balení"]
[null,"Příloha","špetka"]
[null,null,"malé"]
[null,null,"snítka"]
[null,null,"polévková lžíce"]
[null,null,"polévkové lžíce"]
[null,null,"čajová lžička"]
[null,null,"čajové lžičky"]

{"sheet":"Seznam sdílení","index":8,"n_rows":5,"n_cols":5,"rows_kept":5}
[null,"Seznam sdílení",null,"Seznam receptů","Tento seznam můžete sdílet s dalšími lidmi, aby do něj mohli přispívat. Použijte tlačítko Sdílet v pravém horním rohu nebo stiskněte klávesu ALT a pak CS. Uložte si soubor na OneDrive a pošlete odkaz členům rodiny nebo přátelům."]
[null,"Jméno","E-mail","Sdílí se?","Tento seznam můžete sdílet s dalšími lidmi, aby do něj mohli přispívat. Použijte tlačítko Sdílet v pravém horním rohu nebo stiskněte klávesu ALT a pak CS. Uložte si soubor na OneDrive a pošlete odkaz členům rodiny nebo přátelům."]
[null,"Osoba 1","adresa@example.com","Ano"]
[null,"Osoba 2","adresa@example.com","Ne"]
[null,"Osoba 3","adresa@example.com"]

{"sheet":"Prázdný recept","index":9,"n_rows":12,"n_cols":7,"rows_kept":12,"merged":[[0,1,3,1],[0,2,0,4],[2,5,14,5],[2,6,4,6],[5,1,6,1],[6,6,8,6],[8,1,9,1],[10,6,12,6],[11,1,14,1]]}
[null,null,"Prázdný recept",null,null,"Typ jídla","Seznam receptů"]
[null,null,"Množství","Měrná jednotka","Ingredience","Pokyny","Doba přípravy"]
[{"$nulls":5},"Pokud chcete zadat nový recept, zkopírujte tento list. Přejmenujte list na stejný název, jako použijete na listu Seznam receptů. \n\nDo této buňky zadejte pokyny k receptu. Do buněk nalevo zadejte ingredience, měrné jednotky a množství. Stisknutím ALT+ENTER můžete do této buňky přidat nový odstavec.\n\nDo buněk napravo zadejte dobu přípravy, dobu vaření a počet porcí. Namísto ukázkové fotky ve sloupci B vložte fotku svého receptu a potom do buněk níže zadejte kalorie, značky receptu a komentáře. \n\nZnačky receptu vám pomůžou vyhledat recept se specifickými vlastnostmi na listu Seznam receptů. \n\nVýběrem receptu na listu s nákupním seznamem můžete zobrazit ingredience, které možná budete muset koupit.","Do této buňky zadejte dobu přípravy."]
[]
[null,"Kalorie"]
[null,"Do této buňky zadejte kalorie pro tento recept.",{"$nulls":4},"Doba vaření"]
[{"$nulls":6},"Do této buňky zadejte dobu vaření."]
[null,"Značky receptu"]
[null,"Značka 1, Značka 2 atd."]
[{"$nulls":6},"Počet porcí"]
[null,"Komentáře",{"$nulls":4},"Do této buňky zadejte počet porcí."]
[null,"Neodstraňujte tento list s receptem."]

{"sheet":"Pizza se špenátem a fetou","index":10,"n_rows":15,"n_cols":7,"rows_kept":15,"merged":[[0,1,3,1],[0,2,0,4],[2,5,14,5],[2,6,4,6],[5,1,6,1],[6,6,8,6],[8,1,9,1],[10,6,12,6],[11,1,14,1]]}
[null,null,"Pizza se špenátem a fetou",null,null,"Hlavní chod","Seznam receptů"]
[null,null,"Množství","Měrná jednotka","Ingredience","Pokyny","Doba přípravy"]
[null,null,2,"polévkové lžíce","olivový nebo kanolový olej","Do stroje na výrobu chleba vložte prvních pět ingrediencí v pořadí doporučovaném výrobcem. \n\nVyberte nastavení těsta. Zkontrolujte těsto po 5 minutách mísení a v případě potřeby přidejte 1 až 2 polévkové lžíce vody nebo mouky. \n\nPo dokončení cyklu vyndejte těsto na podložku mírně posypanou moukou. Válejte těsto 1 minutu. \n\nZakryjte těsto a nechejte ho 15 minut ležet. \n\nRozválejte těsto na pekáč na pizzu o průměru 30 cm. Zakryjte a nechejte kynout na teplém místě po dobu asi 20 minut. \n\nPosypejte česnekem a česnekovou solí. Nahoru dejte špenát, cibuli, houby, sýry a bazalku. \n\nPečte při teplotě 200 stupňů Celsia po dobu 35–40 minut, dokud se kůrka nezbarví dozlatova a sýry neroztopí. \n\nPřed nařezáním nechejte 5 minut vychladnout. ","45 minut"]
[null,null,"1/2","čajová lžička","sůl"]
[null,"Kalorie","2","šálky","chlebová mouka"]
[null,287,"2","čajové lžičky","aktivní sušené kvasnice",null,"Doba vaření"]
[null,null,"3/4","šálek","teplá voda",null,"15 minut"]
[null,"Značky receptu","1","stroužek","mletý česnek"]
[null,"pizza, špenát, feta, sýr","1/8","čajová lžička","česneková sůl"]
[null,null,"2","šálky","nakrájený čerstvý špenát",null,"Počet porcí"]
[null,"Komentáře","1","malé","červená cibule",null,"6 porcí"]
[null,"Rodina si na tomto receptu pochutnala. Musíme si to někdy udělat znovu.","1","šálek","plátky čerstvých hub"]
[null,null,"1","šálek","nakrájený sýr mozzarella"]
[null,null,"1/4","šálek","nadrobený sýr feta"]
[null,null,"1/2","čajová lžička","sušená bazalka"]

{"sheet":"Můj nový recept","index":11,"n_rows":12,"n_cols":7,"rows_kept":12,"merged":[[0,1,3,1],[0,2,0,4],[2,5,14,5],[2,6,4,6],[5,1,6,1],[6,6,8,6],[8,1,9,1],[10,6,12,6],[11,1,14,1]]}
[null,null,"Můj nový recept",null,null,"Předkrm","Seznam receptů"]
[null,null,"Množství","Měrná jednotka","Ingredience","Pokyny","Doba přípravy"]
[null,null,"1","krabička","Krekry","Nožem natřete požadované množství smetanového sýra na jednu stranu krekru. \n\nNa sýr položte malý plátek uzeného lososa.\n\nNa lososa přidejte několik kapek medové omáčky s hořčicí a koprem.\n\nOzdobte malým kouskem kopru.","5 minut"]
[null,null,"1","balení","Smetanový sýr"]
[null,"Kalorie","1","balení","Uzený losos"]
[null,60,"1","polévková lžíce","Medová omáčka s hořčicí a koprem",null,"Doba vaření"]
[null,null,"5","snítka","Čerstvý kopr",null,"0 minut"]
[null,"Značky receptu"]
[null,"losos, krekry, smetanový sýr"]
[{"$nulls":6},"Počet porcí"]
[null,"Komentáře",{"$nulls":4},"12 porcí"]
[null,"Rozpracovaný recept"]