{"text_format":"3","workbook":"xlsx","n_sheets":2,"sheets":["Анализ на рентабилност","Диаграма с общи метрики"],"not_rendered":{"charts":1,"defined_names":2},"read":"whole","date_system":"1900"}

{"sheet":"Анализ на рентабилност","index":0,"n_rows":36,"n_cols":8,"rows_kept":36,"merged":[[2,3,2,7],[10,1,10,5],[14,1,14,5],[21,1,21,5],[27,1,27,5],[30,1,30,5]]}
[]
[null,"Анализ на рентабилност на клиенти"]
[null,"20 ЯНУАРИ 2013",null,"ИМЕ НА ФИРМА"]
[]
[]
[null,"Дейност на клиент","Клиент 1","Клиент 2","Клиент 3","Общо",null," "]
[null,"Брой активни клиенти — начало на периода",5,8,8,{"$f":"SUM(C7:E7)","v":21}]
[null,"Брой добавени клиенти",2,4,4,{"$f":"SUM(C8:E8)","v":10}]
[null,"Брой загубени/прекратени клиенти",{"v":-1,"d":"-1 "},{"v":-2,"d":"-2 "},{"v":-2,"d":"-2 "},{"v":-5,"d":"-5 "}]
[null,"Брой активни клиенти — край на периода",{"$f":"SUBTOTAL(109,'Анализ на рентабилност'!$C$7:$C$9)","v":6},{"$f":"SUBTOTAL(109,'Анализ на рентабилност'!$D$7:$D$9)","v":10},{"$f":"SUBTOTAL(109,'Анализ на рентабилност'!$E$7:$E$9)","v":10},26]
[]
[null,"Анализ на рентабилност"," ","  ","   ","    "]
[null,"Приходи по сегмент",{"v":1500000,"d":"1,500,000 лв."},{"v":1800000,"d":"1,800,000 лв."},{"v":2500000,"d":"2,500,000 лв."},{"$f":"SUM('Анализ на рентабилност'!$C13:$E13)","v":{"v":5800000,"d":"5,800,000 лв."}}]
[null,"Тегло",{"$f":"C13/$F$13","v":{"v":0.25862068965517243,"d":"25.9%"}},{"$f":"D13/$F$13","v":{"v":0.3103448275862069,"d":"31.0%"}},{"v":0.43103448275862066,"d":"43.1%"},{"$f":"SUM(C14:E14)","v":{"v":1,"d":"100.0%"}}]
[]
[null,"Себестойност на продажбите"," ","  ","   ","    "]
[null,"Разходи за продължаващо обслужване и поддръжка",{"v":1000000,"d":"1,000,000 лв."},{"v":1400000,"d":"1,400,000 лв."},{"v":1400000,"d":"1,400,000 лв."},{"$f":"SUM('Анализ на рентабилност'!$C17:$E17)","v":{"v":3800000,"d":"3,800,000 лв."}}]
[null,"Други преки разходи за клиенти",{"v":200000,"d":"200,000"},{"v":100000,"d":"100,000"},{"v":100000,"d":"100,000"},{"$f":"SUM('Анализ на рентабилност'!$C18:$E18)","v":{"v":400000,"d":"400,000"}}]
[null,"Обща себестойност на продажбите",{"$f":"SUBTOTAL(109,'Анализ на рентабилност'!$C$17:$C$18)","v":{"v":1200000,"d":"1,200,000"}},{"$f":"SUBTOTAL(109,'Анализ на рентабилност'!$D$17:$D$18)","v":{"v":1500000,"d":"1,500,000"}},{"$f":"SUBTOTAL(109,'Анализ на рентабилност'!$E$17:$E$18)","v":{"v":1500000,"d":"1,500,000"}},{"$f":"SUBTOTAL(109,'Анализ на рентабилност'!$F$17:$F$18)","v":{"v":4200000,"d":"4,200,000"}}]
[null,"Брутен марж",{"$f":"C13-'Анализ на рентабилност'!$C$19","v":{"v":300000,"d":"300,000 лв."}},{"$f":"D13-'Анализ на рентабилност'!$D$19","v":{"v":300000,"d":"300,000 лв."}},{"$f":"E13-'Анализ на рентабилност'!$E$19","v":{"v":1000000,"d":"1,000,000 лв."}},{"$f":"F13-'Анализ на рентабилност'!$F$19","v":{"v":1600000,"d":"1,600,000 лв."}}]
[null,"Тегло",{"$f":"MAX(0,MIN(1,C20/$F$20))","v":{"v":0.1875,"d":"18.8%"}},{"$f":"MAX(0,MIN(1,D20/$F$20))","v":{"v":0.1875,"d":"18.8%"}},{"v":0.625,"d":"62.5%"},{"$f":"SUM('Анализ на рентабилност'!$C21:$E21)","v":{"v":1,"d":"100.0%"}}]
[]
[null,"Други разходи"," ","  ","   ","    "]
[null,"Придобиване на клиенти",{"v":105000,"d":"105,000 лв."},{"v":120000,"d":"120,000 лв."},{"v":235000,"d":"235,000 лв."},{"$f":"SUM('Анализ на рентабилност'!$C24:$E24)","v":{"v":460000,"d":"460,000 лв."}}]
[null,"Маркетинг за клиенти",{"v":150000,"d":"150,000"},{"v":125000,"d":"125,000"},{"v":275000,"d":"275,000"},{"$f":"SUM('Анализ на рентабилност'!$C25:$E25)","v":{"v":550000,"d":"550,000 лв."}}]
[null,"Прекратяване на клиенти",{"v":80000,"d":"80,000"},{"v":190000,"d":"190,000"},{"v":140000,"d":"140,000"},{"$f":"SUM('Анализ на рентабилност'!$C26:$E26)","v":{"v":410000,"d":"410,000 лв."}}]
[null,"Общо други разходи за клиенти",{"$f":"SUBTOTAL(109,'Анализ на рентабилност'!$C$24:$C$26)","v":{"v":335000,"d":"335,000"}},{"$f":"SUBTOTAL(109,'Анализ на рентабилност'!$D$24:$D$26)","v":{"v":435000,"d":"435,000"}},{"$f":"SUBTOTAL(109,'Анализ на рентабилност'!$E$24:$E$26)","v":{"v":650000,"d":"650,000"}},{"$f":"SUBTOTAL(109,'Анализ на рентабилност'!$F$24:$F$26)","v":{"v":1420000,"d":"1,420,000"}}]
[]
[null,"Печалба от клиенти по сегмент",{"$f":"C20-C27","v":{"v":-35000,"d":"-35,000 лв."}},{"$f":"D20-D27","v":{"v":-135000,"d":"-135,000 лв."}},{"$f":"E20-E27","v":{"v":350000,"d":"350,000 лв."}},{"$f":"F20-'Анализ на рентабилност'!$F$27","v":{"v":180000,"d":"180,000 лв."}}]
[null,"Тегло",{"$f":"MAX(0,MIN(1,C29/$F$29))","v":{"v":0,"d":"0.0%"}},{"$f":"MAX(0,MIN(1,D29/$F$29))","v":{"v":0,"d":"0.0%"}},{"v":1,"d":"100.0%"},{"$f":"SUM('Анализ на рентабилност'!$C30:$E30)","v":{"v":1,"d":"100.0%"}}]
[]
[null,"Общи метрики"]
[null,"Среден разход за придобит клиент",{"$f":"C24/C8","v":{"v":52500,"d":"52,500 лв."}},{"$f":"D24/D8","v":{"v":30000,"d":"30,000 лв."}},{"$f":"E24/E8","v":{"v":58750,"d":"58,750 лв."}}]
[null,"Среден разход за прекратен клиент",{"$f":"-C26/C9","v":{"v":80000,"d":"80,000 лв."}},{"$f":"-D26/D9","v":{"v":95000,"d":"95,000 лв."}},{"$f":"-E26/E9","v":{"v":70000,"d":"70,000 лв."}}]
[null,"Среден разход за маркетинг за активен клиент",{"$f":"C25/'Анализ на рентабилност'!$C$10","v":{"v":25000,"d":"25,000 лв."}},{"$f":"D25/'Анализ на рентабилност'!$D$10","v":{"v":12500,"d":"12,500 лв."}},{"$f":"E25/'Анализ на рентабилност'!$E$10","v":{"v":27500,"d":"27,500 лв."}}]
[null,"Средна печалба или загуба за клиент",{"$f":"C29/'Анализ на рентабилност'!$C$10","v":{"v":-5833.333333333333,"d":"-5,833.33 лв."}},{"$f":"D29/'Анализ на рентабилност'!$D$10","v":{"v":-13500,"d":"-13,500.00 лв."}},{"$f":"E29/'Анализ на рентабилност'!$E$10","v":{"v":35000,"d":"35,000.00 лв."}}]

{"sheet":"Диаграма с общи метрики","index":1,"n_rows":3,"n_cols":18,"rows_kept":3}
[]
[null,"Диаграма с общи метрики за клиент",{"$nulls":13}," "]
[null,{"$f":"ДатаОтчет","v":"20 ЯНУАРИ 2013"},{"$nulls":15},{"$f":"ИмеHафирма","v":"ИМЕ НА ФИРМА"}]